{"text_format":"3","workbook":"xlsx","n_sheets":15,"sheets":["Conseils","Engag Pre","Engag Pou","Engag Pup","Engag Ben","Engag Min","Etat de Résultat","Res Pre","Res Pou","Res Pup","Res Ben","Res Min","Calcul PE","Résultat PE","Observations"],"not_rendered":{"macros":1,"defined_names":13,"comments":1},"read":"whole","date_system":"1900"}

{"sheet":"Conseils","index":0,"n_rows":10,"n_cols":1,"rows_kept":10,"merged":[[3,0,4,6],[5,0,8,6],[9,0,9,6]]}
[]
[]
[]
["Ce programme peut être utilisé, que les catégories soient séparées ou non par âges. \nOn peut insérer des lignes, mais ce n'est pas conseillé, en raison des macros."]
[]
["Feuillet Engagement :\nSaisir les noms des clubs de façon strictement identique pour toutes les catégories (attention aux engagements sur place).\nBien cocher les partants (\"X\" dans la colonne présents)"]
[]
[]
[]
["Feuillet PE :\nLe Prix d'équipe est calculé automatiquement, que l'épreuve soit séparé par âges ou non. Il suffit, pour en avoir le résultat, de cliquer sur la macro \"CLASSEMENT\" en haut de la page PE."]

{"sheet":"Engag Pre","index":1,"n_rows":26,"n_cols":8,"rows_kept":26,"merged":[[0,3,0,4],[1,3,1,4],[2,3,2,4],[3,5,3,6],[7,0,7,1]]}
[null,null,"Nom de l'épreuve :"]
[null,null,"Ville :","AULNAY SOUS BOIS",null,"Département :",93]
[null,null,"Organisateur (s) :","EC AULNAY"]
[null,null,"Date :","2015-03-08","Epreuve :","ROUTE"]
[null,null,"Catégories :","Prélicenciés"]
[null,null,"Engagés :",{"$f":"COUNTA(C10:C109)","v":12},"Partants :",{"$f":"COUNTIF(B10:B109,\"x\")","v":11}]
[]
[]
["Doss","Prés.","Nom","Prénom","Club","Catégorie","N° licence","Code UCI"]
[101,"x","PANOR","Océane","TEAM 94 VILLENEUVOISE","Prélicencié ","1294601037","FRA20090609"]
[102,"x","BROCHEREUX","Raphaël","PEDALE COMBS LA VILLAISE","Prélicencié ","1277104101","FRA20090224"]
[103,"x","FRAGNOLI","Louane","PEDALE COMBS LA VILLAISE","Prélicencié ","1277104111","FRA20090510"]
[104,"x","BREBANT","Alex","VC CLICHY SOUS BOIS","Prélicencié ","1293527032","FRA20090923"]
[105,"x","MICHEL","Ornela","VC CLICHY SOUS BOIS","Prélicencié ","1293527025","FRA20090319"]
[106,null,"JULIEN","Ethan","ES STAINS","Prélicencié ","1293533054","FRA20100203"]
[107,"x","LIONETON","Maël","CSM PUTEAUX","Prélicencié ","1292401068","FRA20090311"]
[108,"x","BENAHMEDA","Mohamed","CS VILLETANEUSE","Prélicencié ","1293524054","FRA20100806"]
[109,"x","HABI","Louisa","CS VILLETANEUSE","Prélicencié ","1293524123","FRA20100813"]
[110,"x","DELAMARRE","Casey","LES BLEUS DE FRANCE","Prélicencié ","1292402046","FRA20090111"]
[111,"x","RIFFLET","Josef","AC AILLY SUR SOMME","Prélicencié ","1980080027","FRA20100711"]
[112,"x","CABANES","Gustave","CSM EPINAY SUR SEINE","Prélicencié ","1293502036","FRA20090424"]
[113]
[114]
[115]
[116]
[117]

{"sheet":"Engag Pou","index":2,"n_rows":109,"n_cols":9,"rows_kept":109,"merged":[[0,3,0,4],[1,3,1,4],[2,3,2,4],[3,5,3,6]]}
[null,null,"Nom de l'épreuve :",{"$f":"'Engag Pre'!D1:E1","v":0}]
[null,null,"Ville :",{"$f":"'Engag Pre'!D2:E2","v":"AULNAY SOUS BOIS"},null,"Département :",{"$f":"'Engag Pre'!G2","v":93}]
[null,null,"Organisateur (s) :",{"$f":"'Engag Pre'!D3:E3","v":"EC AULNAY"}]
[null,null,"Date :",{"$f":"'Engag Pre'!D4","v":"2015-03-08"},"Epreuve :",{"$f":"'Engag Pre'!F4:G4","v":"ROUTE"}]
[null,null,"Catégories :","Poussins"]
[null,null,"Engagés :",{"$f":"SUM(D7:D8)","v":57},"Partants :",{"$f":"SUM(F7:F8)","v":36}]
[null,null,"Poussins 1 :",{"$f":"COUNTIF($F$10:$F$109,\"Poussin 1\")","v":27},"Poussins 1 :",{"$f":"COUNTIFS($F$10:$F$109,\"Poussin 1\",$B$10:$B$109,\"x\")","v":17}]
[null,null,"Poussins 2 :",{"$f":"COUNTIF($F$10:$F$109,\"Poussin 2\")","v":30},"Poussins 2 :",{"$f":"COUNTIFS($F$10:$F$109,\"Poussin 2\",$B$10:$B$109,\"x\")","v":19}]
["Doss","Prés.","Nom","Prénom","Club","Catégorie","N° licence","Code UCI"]
[71,null,"MELLAL","Yanis","EC AULNAY","Poussin 1","1293515063","FRA20080916",{"$f":"IF(F10=\"\",,IF(OR(F10=\"Poussin 1\",F10=\"Poussin 2\"),,\"Ecrire Poussin 1 ou Poussin 2\"))","v":0}]
[98,"x","OUADAH","Ryan","EC AULNAY","Poussin 1","1293515071","FRA20080219",{"$f":"IF(F11=\"\",,IF(OR(F11=\"Poussin 1\",F11=\"Poussin 2\"),,\"Ecrire Poussin 1 ou Poussin 2\"))","v":0}]
[73,"x","ADAMSKI","Yanis","PEDALE COMBS LA VILLAISE","Poussin 1","1277104085","FRA20080611",0]
[74,"x","THEVENET","Nolan","PEDALE COMBS LA VILLAISE","Poussin 1","1277104037","FRA20080904",0]
[75,"x","ROYER","Kyrian","VC CLICHY SOUS BOIS","Poussin 1","1293527026","FRA20080408",0]
[76,"x","DE OLIVEIRA","Antonin","ES STAINS","Poussin 1","1293533050","FRA20080207",0]
[77,"x","GHANDOUR","Naïm","ES STAINS","Poussin 1","1293533041","FRA20080412",0]
[78,"x","LAMY","Aidan","ES STAINS","Poussin 1","1293533016","FRA20080918",0]
[79,"x","CHAMMOUGON","Jaeden","CS VILLETANEUSE","Poussin 1","1293524046","FRA20081129",0]
[80,"x","HABI","Enzo","CS VILLETANEUSE","Poussin 1","1293524009","FRA20080629",0]
[81,"x","LONDAS","Matys","CS VILLETANEUSE","Poussin 1","1293524078","FRA20080819",0]
[82,null,"SAIR GODEAU","Salmane","CS VILLETANEUSE","Poussin 1","1293524047","FRA20080731",0]
[83,null,"SAIR GODEAU","Zaccharia","CS VILLETANEUSE","Poussin 1","1293524025","FRA20080731",0]
[84,"x","BELLET","Noa","ESC MEAUX","Poussin 1","1277101013","FRA20080511",0]
[85,"x","PREVOTEAUX","Jules","ARGENTEUIL VAL DE SEINE 95","Poussin 1","1295708119","FRA20080818",0]
[86,"x","BRISPOT","Mathis","ES PERSANAISE","Poussin 1","1295717025","FRA20080322",0]
[87,"x","SEDDIK","Magda","ES PERSANAISE","Poussin 1","1295717045","FRA20081014",0]
[88,null,"CORDEIRO","Arthur","A. SOISY ENGHIEN LA BARRE","Poussin 1","1295713095","FRA20080610",0]
[89,null,"HACHMI","Anouar","A. SOISY ENGHIEN LA BARRE","Poussin 1","1295713084","FRA20080408",0]
[90,null,"KONCZYK","Paul","A. SOISY ENGHIEN LA BARRE","Poussin 1","1295713090","FRA20081109",0]
[91,null,"MARTIN","Antoine","A. SOISY ENGHIEN LA BARRE","Poussin 1","1295713104","FRA20081226",0]
[92,"x","MATTONET","Anton Mario","A. SOISY ENGHIEN LA BARRE","Poussin 1","1295713108","FRA20081016",0]
[93,null,"RIVALLIN","Lorenzo","A. SOISY ENGHIEN LA BARRE","Poussin 1","1295713087","FRA20080902",0]
[94,null,"MEVEL","Olivier","CSM VILLENEUVE GARENNE","Poussin 1","1292420049","FRA20080427",0]
[95,null,"LEMAIRE","Lorrys","SCA 2000 EVRY","Poussin 1","1291318037","FRA20081027",0]
[96,"x","TONY","Keyran","SCA 2000 EVRY","Poussin 1","1291318024","FRA20081231",0]
[97,"x","REIS","Ryan","CSM EPINAY SUR SEINE","Poussin 1","1293502004","FRA20080328",0]
[98,{"$nulls":7},0]
[99,"x","SANTANA BRIOSO","Amaurys","EC AULNAY",{"$nulls":3},0]
[100,{"$nulls":7},0]
[64,{"$nulls":7},0]
[65,"X","MALOUM","Willan","EC AULNAY","Poussin 2","1293515084","FRA20070626",0]
[66,"X","DA COSTA","Paul","PEDALE COMBS LA VILLAISE","Poussin 2","1277104071","FRA20070718",0]
[67,"X","JACQ","Mélaine","PEDALE COMBS LA VILLAISE","Poussin 2","1277104056","FRA20070624",0]
[68,"X","LOMBART COLRAS","Valentine","PEDALE COMBS LA VILLAISE","Poussin 2","1277104116","FRA20070212",0]
[69,null,"MORIN","Timéo","PEDALE COMBS LA VILLAISE","Poussin 2","1277104127","FRA20070906",0]
[70,"X","RICHE","Keelly","VC MERUVIEN","Poussin 2","1960034013","FRA20070225",0]
[71,"X","BARDEY","Mathys","VC CLICHY SOUS BOIS","Poussin 2","1293527042","FRA20070915",0]
[72,"X","BREBANT","Anaelle","VC CLICHY SOUS BOIS","Poussin 2","1293527003","FRA20070527",0]
[73,null,"PERROCHON","Thomas","USM GAGNY","Poussin 2","1293513045","FRA20070725",0]
[74,null,"PINTO FERREIRA","Léandro","USM GAGNY","Poussin 2","1293513048","FRA20071104",0]
[75,null,"DELARUE","Clovis","ES STAINS","Poussin 2","1293533063","FRA20070926",0]
[76,null,"SABARDIN","Kylian","ES STAINS","Poussin 2","1293533060","FRA20070904",0]
[77,null,"SELLALI","Trent Nolan","ES STAINS","Poussin 2","1293533055","FRA20070324",0]
[78,"X","VEZIAN BRISSOT","Blanche","ES STAINS","Poussin 2","1293533053","FRA20070601",0]
[79,null,"RAUBER","Alex","CSM PUTEAUX","Poussin 2","1292401157","FRA20071202",0]
[80,"X","CHAMMOUGON","Maëly","CS VILLETANEUSE","Poussin 2","1293524034","FRA20070202",0]
[81,"X","SAINT ANGE","Maeva","CS VILLETANEUSE","Poussin 2","1293524021","FRA20070504",0]
[82,"X","KARPP","Romane","EC MONTGERON VIGNEUX","Poussin 2","1291307028","FRA20071012",0]
[83,null,"BARKAT","Badis","ARGENTEUIL VAL DE SEINE 95","Poussin 2","1295708022","FRA20070731",0]
[84,"X","JEUDY","Léo","ARGENTEUIL VAL DE SEINE 95","Poussin 2","1295708066","FRA20070405",0]
[85,"X","SOYER","Mathéo","ES PERSANAISE","Poussin 2","1295717038","FRA20071010",0]
[86,null,"BINTEIN","Maël","A. SOISY ENGHIEN LA BARRE","Poussin 2","1295713079","FRA20070601",0]
[87,null,"CANEJA LUCAS","Fabio","A. SOISY ENGHIEN LA BARRE","Poussin 2","1295713102","FRA20070920",0]
[88,"X","DONNAES","Noah","A. SOISY ENGHIEN LA BARRE","Poussin 2","1295713030","FRA20070321",0]
[89,null,"MEALHA","Hugo","A. SOISY ENGHIEN LA BARRE","Poussin 2","1295713088","FRA20070420",0]
[90,"X","BRIDE","Maxime","CSM VILLENEUVE GARENNE","Poussin 2","1292420039","FRA20070129",0]
[91,"X","GIRARD","Enora","CSM VILLENEUVE GARENNE","Poussin 2","1292420047","FRA20070107",0]
[92,"X","ARGELLIES","Théo","US CRETEIL","Poussin 2","1294604120","FRA20070427",0]
[93,"X","PERLEMOINE MOCQUOT","Gauthier","US CRETEIL","Poussin 2","1294604061","FRA20070326",0]
[94,"X","BIKOUMOU","Jaeden","ES STAINS","Poussin 2","o",null,0]
[{"$nulls":8},0]
[{"$nulls":8},0]
[{"$nulls":8},0]
[{"$nulls":8},0]
[{"$nulls":8},{"$f":"IF(F75=\"\",,IF(OR(F75=\"Poussin 1\",F75=\"Poussin 2\"),,\"Ecrire Poussin 1 ou Poussin 2\"))","v":0}]
[{"$nulls":8},0]
[{"$nulls":8},0]
[{"$nulls":8},0]
[{"$nulls":8},0]
[{"$nulls":8},0]
[{"$nulls":8},0]
[{"$nulls":8},0]
[{"$nulls":8},0]
[{"$nulls":8},0]
[{"$nulls":8},0]
[{"$nulls":8},0]
[{"$nulls":8},0]
[{"$nulls":8},0]
[{"$nulls":8},0]
[{"$nulls":8},0]
[{"$nulls":8},0]
[{"$nulls":8},0]
[{"$nulls":8},0]
[{"$nulls":8},0]
[{"$nulls":8},0]
[{"$nulls":8},0]
[{"$nulls":8},0]
[{"$nulls":8},0]
[{"$nulls":8},0]
[{"$nulls":8},0]
[{"$nulls":8},0]
[{"$nulls":8},0]
[{"$nulls":8},0]
[{"$nulls":8},0]
[{"$nulls":8},0]
[{"$nulls":8},0]
[{"$nulls":8},0]
[{"$nulls":8},0]
[{"$nulls":8},0]

{"sheet":"Engag Pup","index":3,"n_rows":109,"n_cols":9,"rows_kept":109,"merged":[[0,3,0,4],[1,3,1,4],[2,3,2,4],[3,5,3,6]]}
[null,null,"Nom de l'épreuve :",{"$f":"'Engag Pre'!D1:E1","v":0}]
[null,null,"Ville :",{"$f":"'Engag Pre'!D2:E2","v":"AULNAY SOUS BOIS"},null,"Département :",{"$f":"'Engag Pre'!G2","v":93}]
[null,null,"Organisateur (s) :",{"$f":"'Engag Pre'!D3:E3","v":"EC AULNAY"}]
[null,null,"Date :",{"$f":"'Engag Pre'!D4","v":"2015-03-08"},"Epreuve :",{"$f":"'Engag Pre'!F4:G4","v":"ROUTE"}]
[null,null,"Catégories :","Pupilles"]
[null,null,"Engagés :",{"$f":"SUM(D7:D8)","v":55},"Partants :",{"$f":"SUM(F7:F8)","v":43}]
[null,null,"Pupilles 1 :",{"$f":"COUNTIF($F$10:$F$109,\"Pupille 1\")","v":26},"Pupilles 1 :",{"$f":"COUNTIFS($F$10:$F$109,\"Pupille 1\",$B$10:$B$109,\"x\")","v":17}]
[null,null,"Pupilles 2 :",{"$f":"COUNTIF($F$10:$F$109,\"Pupille 2\")","v":29},"Pupilles 2 :",{"$f":"COUNTIFS($F$10:$F$109,\"Pupille 2\",$B$10:$B$109,\"x\")","v":26}]
["Doss","Prés.","Nom","Prénom","Club","Catégorie","N° licence","Code UCI"]
[1,"X","DJELLID","Mohamed","EC AULNAY","Pupille 1","1293515062","FRA20060201",{"$f":"IF(F10=\"\",,IF(OR(F10=\"Pupille 1\",F10=\"Pupille 2\"),,\"Ecrire Pupille 1 ou Pupille 2\"))","v":0}]
[2,"X","RIOU","Lucas","PEDALE COMBS LA VILLAISE","Pupille 1","1277104033","FRA20060912",{"$f":"IF(F11=\"\",,IF(OR(F11=\"Pupille 1\",F11=\"Pupille 2\"),,\"Ecrire Pupille 1 ou Pupille 2\"))","v":0}]
[3,"X","BENTALEB","Naël","ES GERVAIS LILAS","Pupille 1","1293516030","FRA20060410",0]
[4,null,"CHEMINANT","Steven","VC MERUVIEN","Pupille 1","1960034026","FRA20060611",0]
[5,"X","BARZEZOWSKI","Aaron","VC CLICHY SOUS BOIS","Pupille 1","1293527114","FRA20060727",0]
[6,"X","BASTOGNE","Clément","VC CLICHY SOUS BOIS","Pupille 1","1293527029","FRA20060401",0]
[7,"X","LAMY","Nielsen","ES STAINS","Pupille 1","1293533052","FRA20060828",0]
[8,null,"MAYA NKOUNKOU","Promesse","ES STAINS","Pupille 1","1293533059","CGO20060214",0]
[9,"X","LONDAS","Curtis","CS VILLETANEUSE","Pupille 1","1293524072","FRA20060422",0]
[10,"X","LUBIN","Yllan","CS VILLETANEUSE","Pupille 1","1293524090","FRA20060517",0]
[11,"X","GOMOT","Ethan","ARGENTEUIL VAL DE SEINE 95","Pupille 1","1295708101","FRA20060813",0]
[12,null,"LAGARRUE","Johan","ARGENTEUIL VAL DE SEINE 95","Pupille 1","1295708120","FRA20061226",0]
[13,"X","LAUDE","Nathan","EC VALLEE DE L'AISNE","Pupille 1","1902069019","FRA20060323",0]
[14,"X","RIFFLET","Matis","AC AILLY SUR SOMME","Pupille 1","1980080032","FRA20061009",0]
[15,"X","SEDDIK","Aymen","ES PERSANAISE","Pupille 1","1295717011","FRA20060305",0]
[16,null,"DA GLORIA","Hugo","A. SOISY ENGHIEN LA BARRE","Pupille 1","1295713009","FRA20060405",0]
[17,null,"GONZALEZ","Inès","A. SOISY ENGHIEN LA BARRE","Pupille 1","1295713091","FRA20060107",0]
[18,"X","MOSLEH","Adam","A. SOISY ENGHIEN LA BARRE","Pupille 1","1295713096","FRA20060723",0]
[19,null,"PRIMAULT","Ruben","A. SOISY ENGHIEN LA BARRE","Pupille 1","1295713092","FRA20061007",0]
[20,null,"SEBAG","Raphaël","A. SOISY ENGHIEN LA BARRE","Pupille 1","1295713078","FRA20060318",0]
[21,null,"HAMEL","Iliana","US CRETEIL","Pupille 1","1294604133","FRA20060104",0]
[22,null,"OUMESSAD","Syriane","US CRETEIL","Pupille 1","1294604054","FRA20060508",0]
[23,"X","BREDECHE","Marius","CSM EPINAY SUR SEINE","Pupille 1","1293502008","FRA20060517",0]
[24,"X","SI HASSEN","Abderaouf","CSM EPINAY SUR SEINE","Pupille 1","1293502044","FRA20060829",0]
[25,"X","TULIC","Antoine","CSM EPINAY SUR SEINE","Pupille 1","1293502007","FRA20060720",0]
[26,"X","TULIC","Lucas","CSM EPINAY SUR SEINE","Pupille 1","1293502030","FRA20060720",0]
[27,{"$nulls":7},0]
[28,{"$nulls":7},0]
[29,{"$nulls":7},0]
[30,{"$nulls":7},0]
[31,{"$nulls":7},0]
[32,"X","CORBEL","Louis","EC AULNAY","Pupille 2","1293515021","FRA20050911",0]
[33,null,"PRISO NJAKA","Emilie","TEAM 94 VILLENEUVOISE","Pupille 2","1294601090","FRA20050816",0]
[34,"X","VALADE","Alexandra","TEAM 94 VILLENEUVOISE","Pupille 2","1294601044","FRA20050430",0]
[35,"X","FRAGNOLI","Giovany","PEDALE COMBS LA VILLAISE","Pupille 2","1277104061","FRA20051219",0]
[36,"X","THEVENET","Mathys","PEDALE COMBS LA VILLAISE","Pupille 2","1277104036","FRA20050826",0]
[37,"X","BARGUE","Owen","ES GERVAIS LILAS","Pupille 2","1293516029","FRA20050326",0]
[38,null,"TARDIVEL","Antoine","ES GERVAIS LILAS","Pupille 2","1293516034","FRA20050131",0]
[39,"X","PRIGENT","Gaël","VC CLICHY SOUS BOIS","Pupille 2","1293527112","FRA20050302",0]
[40,"X","TONNA","Giani","VC CLICHY SOUS BOIS","Pupille 2","1293527038","FRA20050429",0]
[41,"X","CLEMENT","Christiano","ES STAINS","Pupille 2","1293533175","FRA20050522",0]
[42,"X","BENAHMED","Chaîma","CS VILLETANEUSE","Pupille 2","1293524102","FRA20051205",0]
[43,"X","PETROVIC","Milan","CS VILLETANEUSE","Pupille 2","1293524029","FRA20050701",0]
[44,"X","RUIZ","Shayma","CS VILLETANEUSE","Pupille 2","1293524103","FRA20050828",0]
[45,"X","SAIR GODEAU","Oumeima","CS VILLETANEUSE","Pupille 2","1293524043","FRA20051031",0]
[46,"X","DERVELLOIS","Robin","SC VAL D'ARRE","Pupille 2","1960105058","FRA20050212",0]
[47,"X","KARPP","Gwendal","EC MONTGERON VIGNEUX","Pupille 2","1291307018","FRA20050305",0]
[48,"X","LUXEUIL","Chrislyn","ARGENTEUIL VAL DE SEINE 95","Pupille 2","1295708253","FRA20050421",0]
[49,"X","PERIGOIS","Valentin","OLYMPIQUE C.V.O.","Pupille 2","1295712065","FRA20050523",0]
[50,"X","GONZALEZ","Mathis","ASPTT AUXERRE","Pupille 2","0589004017","FRA20050224",0]
[51,"X","MAURICE","Valentin","A. SOISY ENGHIEN LA BARRE","Pupille 2","1295713101","FRA20050514",0]
[52,"X","MEKHNECHE","Kylian","A. SOISY ENGHIEN LA BARRE","Pupille 2","1295713070","FRA20051123",0]
[53,"X","DEREBERGUE","Victor","CC NOGENT / OISE","Pupille 2","1960037008","FRA20050612",0]
[54,null,"DUMAY","Martin","CSM VILLENEUVE GARENNE","Pupille 2","1292420014","FRA20050523",0]
[55,"X","GIRARD","Nolhann","CSM VILLENEUVE GARENNE","Pupille 2","1292420017","FRA20050717",0]
[56,"X","LAMOURI","Bilel","CSM VILLENEUVE GARENNE","Pupille 2","1292420159","FRA20051204",0]
[57,"X","BEZELGA","Pablo","CSM EPINAY SUR SEINE","Pupille 2","1293502035","FRA20051112",0]
[58,"X","EL MAGROUD","Sofiane","CSM EPINAY SUR SEINE","Pupille 2","1293502040","FRA20051026",0]
[59,"X","DUBREIL","Ivy","VC ETAMPES","Pupille 2","1291311186","FRA20050921",0]
[60,"X","PODESTA","Léo","VC ETAMPES","Pupille 2","1291311014","FRA20051009",0]
[61,"X","DAVID","Stella","ES GERVAIS LILAS",{"$nulls":3},0]
[{"$nulls":8},0]
[{"$nulls":8},0]
[{"$nulls":8},0]
[{"$nulls":8},0]
[{"$nulls":8},{"$f":"IF(F75=\"\",,IF(OR(F75=\"Pupille 1\",F75=\"Pupille 2\"),,\"Ecrire Pupille 1 ou Pupille 2\"))","v":0}]
[{"$nulls":8},0]
[{"$nulls":8},0]
[{"$nulls":8},0]
[{"$nulls":8},0]
[{"$nulls":8},0]
[{"$nulls":8},0]
[{"$nulls":8},0]
[{"$nulls":8},0]
[{"$nulls":8},0]
[{"$nulls":8},0]
[{"$nulls":8},0]
[{"$nulls":8},0]
[{"$nulls":8},0]
[{"$nulls":8},0]
[{"$nulls":8},0]
[{"$nulls":8},0]
[{"$nulls":8},0]
[{"$nulls":8},0]
[{"$nulls":8},0]
[{"$nulls":8},0]
[{"$nulls":8},0]
[{"$nulls":8},0]
[{"$nulls":8},0]
[{"$nulls":8},0]
[{"$nulls":8},0]
[{"$nulls":8},0]
[{"$nulls":8},0]
[{"$nulls":8},0]
[{"$nulls":8},0]
[{"$nulls":8},0]
[{"$nulls":8},0]
[{"$nulls":8},0]
[{"$nulls":8},0]
[{"$nulls":8},0]

{"sheet":"Engag Ben","index":4,"n_rows":109,"n_cols":9,"rows_kept":109,"merged":[[0,3,0,4],[1,3,1,4],[2,3,2,4],[3,5,3,6]]}
[null,null,"Nom de l'épreuve :",{"$f":"'Engag Pre'!D1:E1","v":0}]
[null,null,"Ville :",{"$f":"'Engag Pre'!D2:E2","v":"AULNAY SOUS BOIS"},null,"Département :",{"$f":"'Engag Pre'!G2","v":93}]
[null,null,"Organisateur (s) :",{"$f":"'Engag Pre'!D3:E3","v":"EC AULNAY"}]
[null,null,"Date :",{"$f":"'Engag Pre'!D4","v":"2015-03-08"},"Epreuve :",{"$f":"'Engag Pre'!F4:G4","v":"ROUTE"}]
[null,null,"Catégories :","Benjamins"]
[null,null,"Engagés :",{"$f":"SUM(D7:D8)","v":69},"Partants :",{"$f":"SUM(F7:F8)","v":51}]
[null,null,"Benjamins 1 :",{"$f":"COUNTIF($F$10:$F$109,\"Benjamin 1\")","v":33},"Benjamins 1 :",{"$f":"COUNTIFS($F$10:$F$109,\"Benjamin 1\",$B$10:$B$109,\"x\")","v":23}]
[null,null,"Benjamins 2 :",{"$f":"COUNTIF($F$10:$F$109,\"Benjamin 2\")","v":36},"Benjamins 2 :",{"$f":"COUNTIFS($F$10:$F$109,\"Benjamin 2\",$B$10:$B$109,\"x\")","v":28}]
["Doss","Prés.","Nom","Prénom","Club","Catégorie","N° licence","Code UCI"]
[1,"X","LINVAL","Florian","EC AULNAY","Benjamin 1","1293515075","FRA20040311",{"$f":"IF(F10=\"\",,IF(OR(F10=\"Benjamin 1\",F10=\"Benjamin 2\"),,\"Ecrire Benjamin 1 ou Benjamin 2\"))","v":0}]
[2,"X","MALOUM","Mélina","EC AULNAY","Benjamin 1","1293515083","FRA20040506",{"$f":"IF(F11=\"\",,IF(OR(F11=\"Benjamin 1\",F11=\"Benjamin 2\"),,\"Ecrire Benjamin 1 ou Benjamin 2\"))","v":0}]
[3,"X","PANOR","Enzo","TEAM 94 VILLENEUVOISE","Benjamin 1","1294601064","FRA20040702",0]
[4,"X","PRUDENT","Farrah","TEAM 94 VILLENEUVOISE","Benjamin 1","1294601078","FRA20040810",0]
[5,"X","RIGOT","Kimberly","TEAM 94 VILLENEUVOISE","Benjamin 1","1294601076","FRA20040627",0]
[6,"X","CHAVANAT","Julien","VC MERUVIEN","Benjamin 1","1960034080","FRA20041023",0]
[7,"X","RICHE","Tony","VC MERUVIEN","Benjamin 1","1960034012","FRA20040617",0]
[8,"X","BOURDEAU","Lucas","USM GAGNY","Benjamin 1","1293513033","FRA20040330",0]
[9,null,"BOUTOUBA","Mohamed Najib","USM GAGNY","Benjamin 1","1293513006","FRA20040329",0]
[10,null,"SHARMA","Abhey","ES STAINS","Benjamin 1","1293533057","IND20041030",0]
[11,null,"VIEIRA RODRIGUES","Nicolas","ES STAINS","Benjamin 1","1293533058","FRA20040210",0]
[12,"X","MERGUIN","Sacha","CSM PUTEAUX","Benjamin 1","1292401303","FRA20041124",0]
[13,null,"VALIDIRE","Tidiane","CSM PUTEAUX","Benjamin 1","1292401071","FRA20040423",0]
[14,"X","GAJIC","Kristian","CS VILLETANEUSE","Benjamin 1","1293524092","FRA20040506",0]
[15,"X","HABI","Wassim","CS VILLETANEUSE","Benjamin 1","1293524017","FRA20040225",0]
[16,null,"MOUTAIROU","Régis Samy","CS VILLETANEUSE","Benjamin 1","1293524116","FRA20040430",0]
[17,"X","RODRIGUES","Emilie","UC BORDS DE MARNE","Benjamin 1","1294616042","FRA20041105",0]
[18,"X","DROLON","Mathis","ESC MEAUX","Benjamin 1","1277101113","FRA20040812",0]
[19,"X","LETAILLEUR","Shirine","US METRO TRANSPORTS","Benjamin 1","1275024136","FRA20041025",0]
[20,"X","GRIGNON","Alexandre","EC OSNY PONTOISE","Benjamin 1","1295729016","FRA20040701",0]
[21,null,"JEANNEAU","Lina","EC OSNY PONTOISE","Benjamin 1","1295729012","FRA20041126",0]
[22,null,"LEMAHIEU","Alexandre","ARGENTEUIL VAL DE SEINE 95","Benjamin 1","1295708121","FRA20040730",0]
[23,"X","SLIWINSKI","Antoni","ARGENTEUIL VAL DE SEINE 95","Benjamin 1","1295708067","FRA20040923",0]
[24,"X","KAROUIA","Sonia","CM AUBERVILLIERS 93","Benjamin 1","1293505008","FRA20041203",0]
[25,"X","MANIKON","Lynsha","EC GOUSSAINVILLE PUISEUX","Benjamin 1","1295732080","FRA20040226",0]
[26,"X","DONNAES","Timéo","A. SOISY ENGHIEN LA BARRE","Benjamin 1","1295713015","FRA20040922",0]
[27,null,"FROIDURE","Thomas","A. SOISY ENGHIEN LA BARRE","Benjamin 1","1295713076","FRA20040825",0]
[28,"X","L`HOTELLIER","Tom","CSM VILLENEUVE GARENNE","Benjamin 1","1292420038","FRA20040609",0]
[29,"X","COUHE","Enzo","US CRETEIL","Benjamin 1","1294604040","FRA20040820",0]
[30,null,"DIAGOURAGA","Ismael","SCA 2000 EVRY","Benjamin 1","1291318056","FRA20040616",0]
[31,null,"DAOUAOU","Manuel","CSM EPINAY SUR SEINE","Benjamin 1","1293502037","FRA20040209",0]
[32,"X","LEBRETON","Louis","CSM EPINAY SUR SEINE","Benjamin 1","1293502058","FRA20040309",0]
[33,"X","TAYAR","Yildiz","CSM EPINAY SUR SEINE","Benjamin 1","1293502251","TUR20040508",0]
[34,"X","PANCE","Octave","CSM PUTEAUX",{"$nulls":3},0]
[35,"X","BREGERE","Léa","ES STAINS",{"$nulls":3},0]
[36,{"$nulls":7},0]
[37,{"$nulls":7},0]
[38,"x","CORBEL","Paul","EC AULNAY","Benjamin 2","1293515003","FRA20030801",0]
[39,"x","KANDISSOUNON","Arthur","EC AULNAY","Benjamin 2","1293515073","FRA20030216",0]
[40,null,"BENHAMMA","Safia","TEAM 94 VILLENEUVOISE","Benjamin 2","1294601079","FRA20031026",0]
[41,null,"DEMONMEROT","Thibaut","PEDALE COMBS LA VILLAISE","Benjamin 2","1277104161","FRA20030111",0]
[42,"x","JACQ","Ghislain","PEDALE COMBS LA VILLAISE","Benjamin 2","1277104021","FRA20030827",0]
[43,"x","LEGROS","Christopher","PEDALE COMBS LA VILLAISE","Benjamin 2","1277104177","FRA20030411",0]
[44,"x","MEZIERES","Hugo","PEDALE COMBS LA VILLAISE","Benjamin 2","1277104180","FRA20031028",0]
[45,"x","MOREIRA","Théo","PEDALE COMBS LA VILLAISE","Benjamin 2","1277104163","FRA20030423",0]
[46,"x","BREBANT","Anaïs","VC CLICHY SOUS BOIS","Benjamin 2","1293527020","FRA20030616",0]
[47,"x","LEMAITRE","Léo","VC CLICHY SOUS BOIS","Benjamin 2","1293527041","FRA20030513",0]
[48,"x","PRIGENT","Killian","VC CLICHY SOUS BOIS","Benjamin 2","1293527106","FRA20030531",0]
[49,"x","JACQUIN","Anthony","USM GAGNY","Benjamin 2","1293513179","FRA20030629",0]
[50,"x","LE POUL","Erwan","ES STAINS","Benjamin 2","1293533179","FRA20031106",0]
[51,null,"LE POUL","Loïck","ES STAINS","Benjamin 2","1293533181","FRA20031106",0]
[52,null,"CRISOSTO","Jordan","CSM PUTEAUX","Benjamin 2","1292401084","FRA20030426",0]
[53,"x","DINELLI","Hugo","CSM PUTEAUX","Benjamin 2","1292401241","FRA20030719",0]
[54,"x","COLSY","Noé","PARIS CYCLISTE OLYMPIQUE","Benjamin 2","1275016123","FRA20031225",0]
[55,"x","DELABRE","Axel","PARIS CYCLISTE OLYMPIQUE","Benjamin 2","1275016025","FRA20031226",0]
[56,null,"DELILLE","Matthis","SC VAL D'ARRE","Benjamin 2","1960105062","FRA20030216",0]
[57,"x","FARDEAU","Robin","EC MONTGERON VIGNEUX","Benjamin 2","1291307181","FRA20030510",0]
[58,"x","RODRIGUES","Tom","UC BORDS DE MARNE","Benjamin 2","1294616027","FRA20030926",0]
[59,null,"CRAMETTE","Noé","EC OSNY PONTOISE","Benjamin 2","1295729005","FRA20030617",0]
[60,"x","GESNOUIN","Killian","ARGENTEUIL VAL DE SEINE 95","Benjamin 2","1295708453","FRA20031022",0]
[61,"x","PICQUOT","Alissia","ARGENTEUIL VAL DE SEINE 95","Benjamin 2","1295708125","FRA20030405",0]
[62,"x","DELAMARRE","Cameron","LES BLEUS DE FRANCE","Benjamin 2","1292402095","FRA20030204",0]
[63,"x","ORDON","Nahil","EC GOUSSAINVILLE PUISEUX","Benjamin 2","1295732074","FRA20030730",0]
[64,"x","ORDON","Yanis","EC GOUSSAINVILLE PUISEUX","Benjamin 2","1295732076","FRA20030730",0]
[65,"x","LABICHE","Loan","UC PIERREFITTOISE","Benjamin 2","1293525027","FRA20031223",0]
[66,"x","MONTFORT","Dorian","UC PIERREFITTOISE","Benjamin 2","1293525013","FRA20030629",{"$f":"IF(F75=\"\",,IF(OR(F75=\"Benjamin 1\",F75=\"Benjamin 2\"),,\"Ecrire Benjamin 1 ou Benjamin 2\"))","v":0}]
[67,"x","RIFFLET","Théo","AC AILLY SUR SOMME","Benjamin 2","1980080031","FRA20030629",0]
[68,"x","ARZENS","Aaron","A. SOISY ENGHIEN LA BARRE","Benjamin 2","1295713113","FRA20031007",0]
[69,null,"HACHMI","Yassine","A. SOISY ENGHIEN LA BARRE","Benjamin 2","1295713001","FRA20030326",0]
[70,null,"MEVEL","Kevin","CSM VILLENEUVE GARENNE","Benjamin 2","1292420149","FRA20031125",0]
[71,"x","EL MAGROUD","Leïla","CSM EPINAY SUR SEINE","Benjamin 2","1293502038","FRA20030504",0]
[72,"x","FERAUD","Adam","CSM EPINAY SUR SEINE","Benjamin 2","1293502139","FRA20030720",0]
[73,"x","PIRES","Alessandro","VCA DU BOURGET","Benjamin 2","1293510105","FRA20030218",0]
[{"$nulls":8},0]
[{"$nulls":8},0]
[{"$nulls":8},0]
[{"$nulls":8},0]
[{"$nulls":8},0]
[{"$nulls":8},0]
[{"$nulls":8},0]
[{"$nulls":8},0]
[{"$nulls":8},0]
[{"$nulls":8},0]
[{"$nulls":8},0]
[{"$nulls":8},0]
[{"$nulls":8},0]
[{"$nulls":8},0]
[{"$nulls":8},0]
[{"$nulls":8},0]
[{"$nulls":8},0]
[{"$nulls":8},0]
[{"$nulls":8},0]
[{"$nulls":8},0]
[{"$nulls":8},0]
[{"$nulls":8},0]
[{"$nulls":8},0]
[{"$nulls":8},0]
[{"$nulls":8},0]
[{"$nulls":8},0]
[{"$nulls":8},0]

{"sheet":"Engag Min","index":5,"n_rows":109,"n_cols":9,"rows_kept":109,"merged":[[0,3,0,4],[1,3,1,4],[2,3,2,4],[3,5,3,6]]}
[null,null,"Nom de l'épreuve :",{"$f":"'Engag Pre'!D1:E1","v":0}]
[null,null,"Ville :",{"$f":"'Engag Pre'!D2:E2","v":"AULNAY SOUS BOIS"},null,"Département :",{"$f":"'Engag Pre'!G2","v":93}]
[null,null,"Organisateur (s) :",{"$f":"'Engag Pre'!D3:E3","v":"EC AULNAY"}]
[null,null,"Date :",{"$f":"'Engag Pre'!D4","v":"2015-03-08"},"Epreuve :",{"$f":"'Engag Pre'!F4:G4","v":"ROUTE"}]
[null,null,"Catégories :","Minimes"]
[null,null,"Engagés :",{"$f":"SUM(D7:D8)","v":0},"Partants :",{"$f":"SUM(F7:F8)","v":0}]
[null,null,"Minimes 1 :",{"$f":"COUNTIF($F$10:$F$109,\"Minime 1\")","v":0},"Minimes 1 :",{"$f":"COUNTIFS($F$10:$F$109,\"Minime 1\",$B$10:$B$109,\"x\")","v":0}]
[null,null,"Minimes 2 :",{"$f":"COUNTIF($F$10:$F$109,\"Minime 2\")","v":0},"Minimes 2 :",{"$f":"COUNTIFS($F$10:$F$109,\"Minime 2\",$B$10:$B$109,\"x\")","v":0}]
["Doss","Prés.","Nom","Prénom","Club","Catégorie","N° licence","Code UCI"]
[{"$nulls":8},{"$f":"IF(F10=\"\",,IF(OR(F10=\"Minime 1\",F10=\"Minime 2\"),,\"Ecrire Minime 1 ou Minime 2\"))","v":0}]
[{"$nulls":8},{"$f":"IF(F11=\"\",,IF(OR(F11=\"Minime 1\",F11=\"Minime 2\"),,\"Ecrire Minime 1 ou Minime 2\"))","v":0}]
[{"$nulls":8},0]
[{"$nulls":8},0]
[{"$nulls":8},0]
[{"$nulls":8},0]
[{"$nulls":8},0]
[{"$nulls":8},0]
[{"$nulls":8},0]
[{"$nulls":8},0]
[{"$nulls":8},0]
[{"$nulls":8},0]
[{"$nulls":8},0]
[{"$nulls":8},0]
[{"$nulls":8},0]
[{"$nulls":8},0]
[{"$nulls":8},0]
[{"$nulls":8},0]
[{"$nulls":8},0]
[{"$nulls":8},0]
[{"$nulls":8},0]
[{"$nulls":8},0]
[{"$nulls":8},0]
[{"$nulls":8},0]
[{"$nulls":8},0]
[{"$nulls":8},0]
[{"$nulls":8},0]
[{"$nulls":8},0]
[{"$nulls":8},0]
[{"$nulls":8},0]
[{"$nulls":8},0]
[{"$nulls":8},0]
[{"$nulls":8},0]
[{"$nulls":8},0]
[{"$nulls":8},0]
[{"$nulls":8},0]
[{"$nulls":8},0]
[{"$nulls":8},0]
[{"$nulls":8},0]
[{"$nulls":8},0]
[{"$nulls":8},0]
[{"$nulls":8},0]
[{"$nulls":8},0]
[{"$nulls":8},0]
[{"$nulls":8},0]
[{"$nulls":8},0]
[{"$nulls":8},0]
[{"$nulls":8},0]
[{"$nulls":8},0]
[{"$nulls":8},0]
[{"$nulls":8},0]
[{"$nulls":8},0]
[{"$nulls":8},0]
[{"$nulls":8},0]
[{"$nulls":8},0]
[{"$nulls":8},0]
[{"$nulls":8},0]
[{"$nulls":8},0]
[{"$nulls":8},0]
[{"$nulls":8},0]
[{"$nulls":8},0]
[{"$nulls":8},0]
[{"$nulls":8},0]
[{"$nulls":8},0]
[{"$nulls":8},0]
[{"$nulls":8},{"$f":"IF(F75=\"\",,IF(OR(F75=\"Minime 1\",F75=\"Minime 2\"),,\"Ecrire Minime 1 ou Minime 2\"))","v":0}]
[{"$nulls":8},0]
[{"$nulls":8},0]
[{"$nulls":8},0]
[{"$nulls":8},0]
[{"$nulls":8},0]
[{"$nulls":8},0]
[{"$nulls":8},0]
[{"$nulls":8},0]
[{"$nulls":8},0]
[{"$nulls":8},0]
[{"$nulls":8},0]
[{"$nulls":8},0]
[{"$nulls":8},0]
[{"$nulls":8},0]
[{"$nulls":8},0]
[{"$nulls":8},0]
[{"$nulls":8},0]
[{"$nulls":8},0]
[{"$nulls":8},0]
[{"$nulls":8},0]
[{"$nulls":8},0]
[{"$nulls":8},0]
[{"$nulls":8},0]
[{"$nulls":8},0]
[{"$nulls":8},0]
[{"$nulls":8},0]
[{"$nulls":8},0]
[{"$nulls":8},0]
[{"$nulls":8},0]
[{"$nulls":8},0]
[{"$nulls":8},0]
[{"$nulls":8},0]
[{"$nulls":8},0]
[{"$nulls":8},0]

{"sheet":"Etat de Résultat","index":6,"n_rows":47,"n_cols":21,"rows_kept":47,"merged":[[0,0,0,27],[1,0,1,27],[2,0,2,27],[3,0,3,27],[5,0,5,27],[6,0,6,27],[7,0,7,27],[8,0,8,27],[9,0,9,27],[12,6,12,8],[12,9,12,18],[12,19,12,21],[14,3,14,11],[14,13,14,24],[15,4,15,14],[15,15,15,20],[15,22,15,26],[16,4,16,16],[16,17,16,18],[16,22,16,26],[18,11,18,15],[19,8,19,24],[20,8,20,24],[21,8,21,24],[25,0,25,27],[26,0,26,27],[27,6,27,8],[27,10,27,12],[27,14,27,16],[27,18,27,20],[33,2,33,6],[34,3,34,11],[34,13,34,18],[34,20,34,25],[35,3,35,11],[35,13,35,18],[35,20,35,25],[36,3,36,11],[36,13,36,18],[36,20,36,25],[37,3,37,11],[37,13,37,18],[37,20,37,25],[38,3,38,11],[38,13,38,18],[38,20,38,25],[41,3,41,6],[41,7,41,8],[41,11,41,14],[41,15,41,16],[41,19,41,22],[41,23,41,24],[52,10,52,12],[52,24,52,27],[54,24,54,27]]}
["FEDERATION   FRANCAISE   DE   CYCLISME"]
["COMITE  D'ILE  DE  FRANCE"]
["1, rue Laurent Fignon 78180 MONTIGNY LE BRETONNEUX"]
["Tél. : 01.81.88.08.36"]
[]
["ECOLE   DE   CYCLISME"]
["ETAT  DE  RESULTATS"]
["à transmettre dans les 48 heures qui suivent l'épreuve,"]
["pour HOMOLOGATION à la Commission des Jeunes du C.I.F."]
["ou par email à jf.maillet@cif-ffc.org"]
[]
[]
[{"$nulls":6},"DATE  :",null,null,{"$f":"'Engag Pre'!D4","v":"2015-03-08"}]
[]
[]
[{"$nulls":4},"VILLE",{"$nulls":10},"DEPARTEMENT"]
[{"$nulls":4},{"$f":"'Engag Pre'!D2","v":"AULNAY SOUS BOIS"},{"$nulls":12},{"$f":"'Engag Pre'!G2","v":93}]
[]
[{"$nulls":17}," "]
[{"$nulls":6},"Nom de l'épreuve :",null,{"$f":"'Engag Pre'!D1","v":0}]
[{"$nulls":6},"Organisateur (s) :",null,{"$f":"'Engag Pre'!D3","v":"EC AULNAY"}]
[{"$nulls":6},"Epreuve :",null,{"$f":"'Engag Pre'!F4","v":"ROUTE"}]
[]
[]
[]
["CHOIX  DES  CATEGORIES"]
["(mettre une croix dans la case)"]
[null,null,"Prélicenciés",{"$nulls":3},"Poussins",{"$nulls":3},"Pupilles",{"$nulls":3},"Benjamins",{"$nulls":3},"Minimes"]
[]
[]
[]
[]
[]
[null,null,"ARBITRES"]
[{"$nulls":3},"NOM - PRENOM",{"$nulls":9},"CLUB",{"$nulls":6},"SIGNATURE"]
[null,null,"1 -"]
[null,null,"2 -"]
[null,null,"3 -"]
[null,null,"4 -"]
[]
[]
[{"$nulls":3},"ENGAGES :",{"$nulls":3},{"$f":"'Engag Pre'!D6+'Engag Pou'!D6+'Engag Pup'!D6+'Engag Ben'!D6+'Engag Min'!D6","v":193},{"$nulls":3},"PARTANTS :",{"$nulls":3},{"$f":"'Engag Pre'!F6+'Engag Pou'!F6+'Engag Pup'!F6+'Engag Ben'!F6+'Engag Min'!F6","v":141},{"$nulls":3},"CLASSES :"]
[]
[null,"AVIS IMPORTANT  :"]
[null,null," - Cet ETAT DE RESULTAT doit être rempli intégralement, le nom, le prénom usuel, le N° de Club et le nom de"]
[null,null,"l'association du coureur doivent être indiqués en entier."]
[null,null," - Commissaires : ne pas omettre de signer "]

{"sheet":"Res Pre","index":7,"n_rows":109,"n_cols":17,"rows_kept":109,"merged":[[0,4,0,5],[0,7,0,8],[1,4,1,5],[2,4,2,7],[7,0,7,9]]}
[{"$nulls":3},"Nom de l'épreuve :",{"$f":"'Etat de Résultat'!I20","v":0},null,"Catégories :",{"$f":"'Engag Pre'!D5","v":"Prélicenciés"}]
[{"$nulls":3},"Ville :",{"$f":"'Etat de Résultat'!E17","v":"AULNAY SOUS BOIS"},null,"Département :",{"$f":"'Etat de Résultat'!R17","v":93}]
[{"$nulls":3},"Organisateur (s) :",{"$f":"'Etat de Résultat'!I21","v":"EC AULNAY"}]
[{"$nulls":5},"N° /Catégorie Epreuve :"]
[{"$nulls":3},"Engagés :",{"$f":"'Engag Pre'!D6","v":12},"Date :",{"$f":"'Engag Pre'!D4","v":"2015-03-08"}]
[{"$nulls":3},"Partants :",{"$f":"'Engag Pre'!F6","v":11},"Discipline :",{"$f":"'Engag Pre'!F4","v":"ROUTE"}]
[{"$nulls":3},"Classés :",{"$f":"COUNTA(B10:B109)","v":11},"Grille :"]
["CLASSEMENT"]
["Rang","Doss","Code UCI","Licence","Nom","Prénom","Club","Catégorie","Temps","Ecart"]
[1,107,{"$f":"IF(A10>0,(VLOOKUP($A10,'Engag Pre'!$A$10:$G$74,3,FALSE)),\" \")","v":{"$error":"#N/A"}},{"$f":"IF(B10>0,(VLOOKUP($B10,'Engag Pre'!$A$10:$G$109,7,FALSE)),\" \")","v":"1292401068"},{"$f":"IF(B10>0,(VLOOKUP($B10,'Engag Pre'!$A$10:$G$109,3,FALSE)),\" \")","v":"LIONETON"},{"$f":"IF(B10>0,(VLOOKUP($B10,'Engag Pre'!$A$10:$G$109,4,FALSE)),\" \")","v":"Maël"},{"$f":"IF(B10>0,(VLOOKUP($B10,'Engag Pre'!$A$10:$G$109,5,FALSE)),\" \")","v":"CSM PUTEAUX"},{"$f":"IF(B10>0,(VLOOKUP($B10,'Engag Pre'!$A$10:$G$109,6,FALSE)),\" \")","v":"Prélicencié "},null,null,{"$f":"IF(COUNTIF($B$10:$B$109,B10)>1,\"Déjà classé\",\" \")","v":" "},{"$f":"IF(COUNTIF($G$10:$G10,G10)<2,$G10,\" \")","v":"CSM PUTEAUX"},{"$f":"IF($E$6<5,1000,(IF(L10=G10,A10,\"\")))","v":1},{"$f":"IF(COUNTIF($G$10:$G10,G10)<3,$G10,\" \")","v":"CSM PUTEAUX"},{"$f":"IF(N10=$G10,$A10,\"\")","v":1},{"$f":"IF(N10=L10,\"\",N10)","v":""},{"$f":"IF($E$6<5,1000,(IF(P10=$G10,$A10,1000)))","v":1000}]
[2,104,{"$f":"IF(A11>0,(VLOOKUP($A11,'Engag Pre'!$A$10:$G$74,3,FALSE)),\" \")","v":{"$error":"#N/A"}},{"$f":"IF(B11>0,(VLOOKUP($B11,'Engag Pre'!$A$10:$G$109,7,FALSE)),\" \")","v":"1293527032"},{"$f":"IF(B11>0,(VLOOKUP($B11,'Engag Pre'!$A$10:$G$109,3,FALSE)),\" \")","v":"BREBANT"},{"$f":"IF(B11>0,(VLOOKUP($B11,'Engag Pre'!$A$10:$G$109,4,FALSE)),\" \")","v":"Alex"},{"$f":"IF(B11>0,(VLOOKUP($B11,'Engag Pre'!$A$10:$G$109,5,FALSE)),\" \")","v":"VC CLICHY SOUS BOIS"},{"$f":"IF(B11>0,(VLOOKUP($B11,'Engag Pre'!$A$10:$G$109,6,FALSE)),\" \")","v":"Prélicencié "},null,null,{"$f":"IF(COUNTIF($B$10:$B$109,B11)>1,\"Déjà classé\",\" \")","v":" "},{"$f":"IF(COUNTIF($G$10:$G11,G11)<2,$G11,\" \")","v":"VC CLICHY SOUS BOIS"},{"$f":"IF($E$6<5,1000,(IF(L11=G11,A11,\"\")))","v":2},{"$f":"IF(COUNTIF($G$10:$G11,G11)<3,$G11,\" \")","v":"VC CLICHY SOUS BOIS"},{"$f":"IF(N11=$G11,$A11,\"\")","v":2},{"$f":"IF(N11=L11,\"\",N11)","v":""},{"$f":"IF($E$6<5,1000,(IF(P11=$G11,$A11,1000)))","v":1000}]
[3,101,{"$f":"IF(A12>0,(VLOOKUP($A12,'Engag Pre'!$A$10:$G$74,3,FALSE)),\" \")","v":{"$error":"#N/A"}},{"$f":"IF(B12>0,(VLOOKUP($B12,'Engag Pre'!$A$10:$G$109,7,FALSE)),\" \")","v":"1294601037"},{"$f":"IF(B12>0,(VLOOKUP($B12,'Engag Pre'!$A$10:$G$109,3,FALSE)),\" \")","v":"PANOR"},{"$f":"IF(B12>0,(VLOOKUP($B12,'Engag Pre'!$A$10:$G$109,4,FALSE)),\" \")","v":"Océane"},{"$f":"IF(B12>0,(VLOOKUP($B12,'Engag Pre'!$A$10:$G$109,5,FALSE)),\" \")","v":"TEAM 94 VILLENEUVOISE"},{"$f":"IF(B12>0,(VLOOKUP($B12,'Engag Pre'!$A$10:$G$109,6,FALSE)),\" \")","v":"Prélicencié "},null,null," ",{"$f":"IF(COUNTIF($G$10:$G12,G12)<2,$G12,\" \")","v":"TEAM 94 VILLENEUVOISE"},3,{"$f":"IF(COUNTIF($G$10:$G12,G12)<3,$G12,\" \")","v":"TEAM 94 VILLENEUVOISE"},3,"",1000]
[4,102,{"$f":"IF(A13>0,(VLOOKUP($A13,'Engag Pre'!$A$10:$G$74,3,FALSE)),\" \")","v":{"$error":"#N/A"}},{"$f":"IF(B13>0,(VLOOKUP($B13,'Engag Pre'!$A$10:$G$109,7,FALSE)),\" \")","v":"1277104101"},{"$f":"IF(B13>0,(VLOOKUP($B13,'Engag Pre'!$A$10:$G$109,3,FALSE)),\" \")","v":"BROCHEREUX"},{"$f":"IF(B13>0,(VLOOKUP($B13,'Engag Pre'!$A$10:$G$109,4,FALSE)),\" \")","v":"Raphaël"},{"$f":"IF(B13>0,(VLOOKUP($B13,'Engag Pre'!$A$10:$G$109,5,FALSE)),\" \")","v":"PEDALE COMBS LA VILLAISE"},{"$f":"IF(B13>0,(VLOOKUP($B13,'Engag Pre'!$A$10:$G$109,6,FALSE)),\" \")","v":"Prélicencié "},null,null," ",{"$f":"IF(COUNTIF($G$10:$G13,G13)<2,$G13,\" \")","v":"PEDALE COMBS LA VILLAISE"},4,{"$f":"IF(COUNTIF($G$10:$G13,G13)<3,$G13,\" \")","v":"PEDALE COMBS LA VILLAISE"},4,"",1000]
[5,103,{"$f":"IF(A14>0,(VLOOKUP($A14,'Engag Pre'!$A$10:$G$74,3,FALSE)),\" \")","v":{"$error":"#N/A"}},{"$f":"IF(B14>0,(VLOOKUP($B14,'Engag Pre'!$A$10:$G$109,7,FALSE)),\" \")","v":"1277104111"},{"$f":"IF(B14>0,(VLOOKUP($B14,'Engag Pre'!$A$10:$G$109,3,FALSE)),\" \")","v":"FRAGNOLI"},{"$f":"IF(B14>0,(VLOOKUP($B14,'Engag Pre'!$A$10:$G$109,4,FALSE)),\" \")","v":"Louane"},{"$f":"IF(B14>0,(VLOOKUP($B14,'Engag Pre'!$A$10:$G$109,5,FALSE)),\" \")","v":"PEDALE COMBS LA VILLAISE"},{"$f":"IF(B14>0,(VLOOKUP($B14,'Engag Pre'!$A$10:$G$109,6,FALSE)),\" \")","v":"Prélicencié "},null,null," ",{"$f":"IF(COUNTIF($G$10:$G14,G14)<2,$G14,\" \")","v":" "},"",{"$f":"IF(COUNTIF($G$10:$G14,G14)<3,$G14,\" \")","v":"PEDALE COMBS LA VILLAISE"},5,"PEDALE COMBS LA VILLAISE",5]
[6,105,{"$f":"IF(A15>0,(VLOOKUP($A15,'Engag Pre'!$A$10:$G$74,3,FALSE)),\" \")","v":{"$error":"#N/A"}},{"$f":"IF(B15>0,(VLOOKUP($B15,'Engag Pre'!$A$10:$G$109,7,FALSE)),\" \")","v":"1293527025"},{"$f":"IF(B15>0,(VLOOKUP($B15,'Engag Pre'!$A$10:$G$109,3,FALSE)),\" \")","v":"MICHEL"},{"$f":"IF(B15>0,(VLOOKUP($B15,'Engag Pre'!$A$10:$G$109,4,FALSE)),\" \")","v":"Ornela"},{"$f":"IF(B15>0,(VLOOKUP($B15,'Engag Pre'!$A$10:$G$109,5,FALSE)),\" \")","v":"VC CLICHY SOUS BOIS"},{"$f":"IF(B15>0,(VLOOKUP($B15,'Engag Pre'!$A$10:$G$109,6,FALSE)),\" \")","v":"Prélicencié "},null,null," ",{"$f":"IF(COUNTIF($G$10:$G15,G15)<2,$G15,\" \")","v":" "},"",{"$f":"IF(COUNTIF($G$10:$G15,G15)<3,$G15,\" \")","v":"VC CLICHY SOUS BOIS"},6,"VC CLICHY SOUS BOIS",6]
[7,112,{"$f":"IF(A16>0,(VLOOKUP($A16,'Engag Pre'!$A$10:$G$74,3,FALSE)),\" \")","v":{"$error":"#N/A"}},{"$f":"IF(B16>0,(VLOOKUP($B16,'Engag Pre'!$A$10:$G$109,7,FALSE)),\" \")","v":"1293502036"},{"$f":"IF(B16>0,(VLOOKUP($B16,'Engag Pre'!$A$10:$G$109,3,FALSE)),\" \")","v":"CABANES"},{"$f":"IF(B16>0,(VLOOKUP($B16,'Engag Pre'!$A$10:$G$109,4,FALSE)),\" \")","v":"Gustave"},{"$f":"IF(B16>0,(VLOOKUP($B16,'Engag Pre'!$A$10:$G$109,5,FALSE)),\" \")","v":"CSM EPINAY SUR SEINE"},{"$f":"IF(B16>0,(VLOOKUP($B16,'Engag Pre'!$A$10:$G$109,6,FALSE)),\" \")","v":"Prélicencié "},null,null," ",{"$f":"IF(COUNTIF($G$10:$G16,G16)<2,$G16,\" \")","v":"CSM EPINAY SUR SEINE"},7,{"$f":"IF(COUNTIF($G$10:$G16,G16)<3,$G16,\" \")","v":"CSM EPINAY SUR SEINE"},7,"",1000]
[8,109,{"$f":"IF(A17>0,(VLOOKUP($A17,'Engag Pre'!$A$10:$G$74,3,FALSE)),\" \")","v":{"$error":"#N/A"}},{"$f":"IF(B17>0,(VLOOKUP($B17,'Engag Pre'!$A$10:$G$109,7,FALSE)),\" \")","v":"1293524123"},{"$f":"IF(B17>0,(VLOOKUP($B17,'Engag Pre'!$A$10:$G$109,3,FALSE)),\" \")","v":"HABI"},{"$f":"IF(B17>0,(VLOOKUP($B17,'Engag Pre'!$A$10:$G$109,4,FALSE)),\" \")","v":"Louisa"},{"$f":"IF(B17>0,(VLOOKUP($B17,'Engag Pre'!$A$10:$G$109,5,FALSE)),\" \")","v":"CS VILLETANEUSE"},{"$f":"IF(B17>0,(VLOOKUP($B17,'Engag Pre'!$A$10:$G$109,6,FALSE)),\" \")","v":"Prélicencié "},null,null," ",{"$f":"IF(COUNTIF($G$10:$G17,G17)<2,$G17,\" \")","v":"CS VILLETANEUSE"},8,{"$f":"IF(COUNTIF($G$10:$G17,G17)<3,$G17,\" \")","v":"CS VILLETANEUSE"},8,"",1000]
[9,108,{"$f":"IF(A18>0,(VLOOKUP($A18,'Engag Pre'!$A$10:$G$74,3,FALSE)),\" \")","v":{"$error":"#N/A"}},{"$f":"IF(B18>0,(VLOOKUP($B18,'Engag Pre'!$A$10:$G$109,7,FALSE)),\" \")","v":"1293524054"},{"$f":"IF(B18>0,(VLOOKUP($B18,'Engag Pre'!$A$10:$G$109,3,FALSE)),\" \")","v":"BENAHMEDA"},{"$f":"IF(B18>0,(VLOOKUP($B18,'Engag Pre'!$A$10:$G$109,4,FALSE)),\" \")","v":"Mohamed"},{"$f":"IF(B18>0,(VLOOKUP($B18,'Engag Pre'!$A$10:$G$109,5,FALSE)),\" \")","v":"CS VILLETANEUSE"},{"$f":"IF(B18>0,(VLOOKUP($B18,'Engag Pre'!$A$10:$G$109,6,FALSE)),\" \")","v":"Prélicencié "},null,null," ",{"$f":"IF(COUNTIF($G$10:$G18,G18)<2,$G18,\" \")","v":" "},"",{"$f":"IF(COUNTIF($G$10:$G18,G18)<3,$G18,\" \")","v":"CS VILLETANEUSE"},9,"CS VILLETANEUSE",9]
[10,111,{"$f":"IF(A19>0,(VLOOKUP($A19,'Engag Pre'!$A$10:$G$74,3,FALSE)),\" \")","v":{"$error":"#N/A"}},{"$f":"IF(B19>0,(VLOOKUP($B19,'Engag Pre'!$A$10:$G$109,7,FALSE)),\" \")","v":"1980080027"},{"$f":"IF(B19>0,(VLOOKUP($B19,'Engag Pre'!$A$10:$G$109,3,FALSE)),\" \")","v":"RIFFLET"},{"$f":"IF(B19>0,(VLOOKUP($B19,'Engag Pre'!$A$10:$G$109,4,FALSE)),\" \")","v":"Josef"},{"$f":"IF(B19>0,(VLOOKUP($B19,'Engag Pre'!$A$10:$G$109,5,FALSE)),\" \")","v":"AC AILLY SUR SOMME"},{"$f":"IF(B19>0,(VLOOKUP($B19,'Engag Pre'!$A$10:$G$109,6,FALSE)),\" \")","v":"Prélicencié "},null,null," ",{"$f":"IF(COUNTIF($G$10:$G19,G19)<2,$G19,\" \")","v":"AC AILLY SUR SOMME"},10,{"$f":"IF(COUNTIF($G$10:$G19,G19)<3,$G19,\" \")","v":"AC AILLY SUR SOMME"},10,"",1000]
[11,110,{"$f":"IF(A20>0,(VLOOKUP($A20,'Engag Pre'!$A$10:$G$74,3,FALSE)),\" \")","v":{"$error":"#N/A"}},{"$f":"IF(B20>0,(VLOOKUP($B20,'Engag Pre'!$A$10:$G$109,7,FALSE)),\" \")","v":"1292402046"},{"$f":"IF(B20>0,(VLOOKUP($B20,'Engag Pre'!$A$10:$G$109,3,FALSE)),\" \")","v":"DELAMARRE"},{"$f":"IF(B20>0,(VLOOKUP($B20,'Engag Pre'!$A$10:$G$109,4,FALSE)),\" \")","v":"Casey"},{"$f":"IF(B20>0,(VLOOKUP($B20,'Engag Pre'!$A$10:$G$109,5,FALSE)),\" \")","v":"LES BLEUS DE FRANCE"},{"$f":"IF(B20>0,(VLOOKUP($B20,'Engag Pre'!$A$10:$G$109,6,FALSE)),\" \")","v":"Prélicencié "},null,null," ",{"$f":"IF(COUNTIF($G$10:$G20,G20)<2,$G20,\" \")","v":"LES BLEUS DE FRANCE"},11,{"$f":"IF(COUNTIF($G$10:$G20,G20)<3,$G20,\" \")","v":"LES BLEUS DE FRANCE"},11,"",1000]
[12,null,{"$f":"IF(A21>0,(VLOOKUP($A21,'Engag Pre'!$A$10:$G$74,3,FALSE)),\" \")","v":{"$error":"#N/A"}},{"$f":"IF(B21>0,(VLOOKUP($B21,'Engag Pre'!$A$10:$G$109,7,FALSE)),\" \")","v":" "},{"$f":"IF(B21>0,(VLOOKUP($B21,'Engag Pre'!$A$10:$G$109,3,FALSE)),\" \")","v":" "},{"$f":"IF(B21>0,(VLOOKUP($B21,'Engag Pre'!$A$10:$G$109,4,FALSE)),\" \")","v":" "},{"$f":"IF(B21>0,(VLOOKUP($B21,'Engag Pre'!$A$10:$G$109,5,FALSE)),\" \")","v":" "},{"$f":"IF(B21>0,(VLOOKUP($B21,'Engag Pre'!$A$10:$G$109,6,FALSE)),\" \")","v":" "},null,null," ",{"$f":"IF(COUNTIF($G$10:$G21,G21)<2,$G21,\" \")","v":" "},12,{"$f":"IF(COUNTIF($G$10:$G21,G21)<3,$G21,\" \")","v":" "},12,"",1000]
[13,null,{"$f":"IF(A22>0,(VLOOKUP($A22,'Engag Pre'!$A$10:$G$74,3,FALSE)),\" \")","v":{"$error":"#N/A"}},{"$f":"IF(B22>0,(VLOOKUP($B22,'Engag Pre'!$A$10:$G$109,7,FALSE)),\" \")","v":" "},{"$f":"IF(B22>0,(VLOOKUP($B22,'Engag Pre'!$A$10:$G$109,3,FALSE)),\" \")","v":" "},{"$f":"IF(B22>0,(VLOOKUP($B22,'Engag Pre'!$A$10:$G$109,4,FALSE)),\" \")","v":" "},{"$f":"IF(B22>0,(VLOOKUP($B22,'Engag Pre'!$A$10:$G$109,5,FALSE)),\" \")","v":" "},{"$f":"IF(B22>0,(VLOOKUP($B22,'Engag Pre'!$A$10:$G$109,6,FALSE)),\" \")","v":" "},null,null," ",{"$f":"IF(COUNTIF($G$10:$G22,G22)<2,$G22,\" \")","v":" "},13,{"$f":"IF(COUNTIF($G$10:$G22,G22)<3,$G22,\" \")","v":" "},13,"",1000]
[14,null,{"$f":"IF(A23>0,(VLOOKUP($A23,'Engag Pre'!$A$10:$G$74,3,FALSE)),\" \")","v":{"$error":"#N/A"}},{"$f":"IF(B23>0,(VLOOKUP($B23,'Engag Pre'!$A$10:$G$109,7,FALSE)),\" \")","v":" "},{"$f":"IF(B23>0,(VLOOKUP($B23,'Engag Pre'!$A$10:$G$109,3,FALSE)),\" \")","v":" "},{"$f":"IF(B23>0,(VLOOKUP($B23,'Engag Pre'!$A$10:$G$109,4,FALSE)),\" \")","v":" "},{"$f":"IF(B23>0,(VLOOKUP($B23,'Engag Pre'!$A$10:$G$109,5,FALSE)),\" \")","v":" "},{"$f":"IF(B23>0,(VLOOKUP($B23,'Engag Pre'!$A$10:$G$109,6,FALSE)),\" \")","v":" "},null,null," ",{"$f":"IF(COUNTIF($G$10:$G23,G23)<2,$G23,\" \")","v":" "},14,{"$f":"IF(COUNTIF($G$10:$G23,G23)<3,$G23,\" \")","v":" "},14,"",1000]
[15,null,{"$f":"IF(A24>0,(VLOOKUP($A24,'Engag Pre'!$A$10:$G$74,3,FALSE)),\" \")","v":{"$error":"#N/A"}},{"$f":"IF(B24>0,(VLOOKUP($B24,'Engag Pre'!$A$10:$G$109,7,FALSE)),\" \")","v":" "},{"$f":"IF(B24>0,(VLOOKUP($B24,'Engag Pre'!$A$10:$G$109,3,FALSE)),\" \")","v":" "},{"$f":"IF(B24>0,(VLOOKUP($B24,'Engag Pre'!$A$10:$G$109,4,FALSE)),\" \")","v":" "},{"$f":"IF(B24>0,(VLOOKUP($B24,'Engag Pre'!$A$10:$G$109,5,FALSE)),\" \")","v":" "},{"$f":"IF(B24>0,(VLOOKUP($B24,'Engag Pre'!$A$10:$G$109,6,FALSE)),\" \")","v":" "},null,null," ",{"$f":"IF(COUNTIF($G$10:$G24,G24)<2,$G24,\" \")","v":" "},15,{"$f":"IF(COUNTIF($G$10:$G24,G24)<3,$G24,\" \")","v":" "},15,"",1000]
[16,null,{"$f":"IF(A25>0,(VLOOKUP($A25,'Engag Pre'!$A$10:$G$74,3,FALSE)),\" \")","v":{"$error":"#N/A"}},{"$f":"IF(B25>0,(VLOOKUP($B25,'Engag Pre'!$A$10:$G$109,7,FALSE)),\" \")","v":" "},{"$f":"IF(B25>0,(VLOOKUP($B25,'Engag Pre'!$A$10:$G$109,3,FALSE)),\" \")","v":" "},{"$f":"IF(B25>0,(VLOOKUP($B25,'Engag Pre'!$A$10:$G$109,4,FALSE)),\" \")","v":" "},{"$f":"IF(B25>0,(VLOOKUP($B25,'Engag Pre'!$A$10:$G$109,5,FALSE)),\" \")","v":" "},{"$f":"IF(B25>0,(VLOOKUP($B25,'Engag Pre'!$A$10:$G$109,6,FALSE)),\" \")","v":" "},null,null," ",{"$f":"IF(COUNTIF($G$10:$G25,G25)<2,$G25,\" \")","v":" "},16,{"$f":"IF(COUNTIF($G$10:$G25,G25)<3,$G25,\" \")","v":" "},16,"",1000]
[17,null,{"$f":"IF(A26>0,(VLOOKUP($A26,'Engag Pre'!$A$10:$G$74,3,FALSE)),\" \")","v":{"$error":"#N/A"}},{"$f":"IF(B26>0,(VLOOKUP($B26,'Engag Pre'!$A$10:$G$109,7,FALSE)),\" \")","v":" "},{"$f":"IF(B26>0,(VLOOKUP($B26,'Engag Pre'!$A$10:$G$109,3,FALSE)),\" \")","v":" "},{"$f":"IF(B26>0,(VLOOKUP($B26,'Engag Pre'!$A$10:$G$109,4,FALSE)),\" \")","v":" "},{"$f":"IF(B26>0,(VLOOKUP($B26,'Engag Pre'!$A$10:$G$109,5,FALSE)),\" \")","v":" "},{"$f":"IF(B26>0,(VLOOKUP($B26,'Engag Pre'!$A$10:$G$109,6,FALSE)),\" \")","v":" "},null,null," ",{"$f":"IF(COUNTIF($G$10:$G26,G26)<2,$G26,\" \")","v":" "},17,{"$f":"IF(COUNTIF($G$10:$G26,G26)<3,$G26,\" \")","v":" "},17,"",1000]
[18,null,{"$f":"IF(A27>0,(VLOOKUP($A27,'Engag Pre'!$A$10:$G$74,3,FALSE)),\" \")","v":{"$error":"#N/A"}},{"$f":"IF(B27>0,(VLOOKUP($B27,'Engag Pre'!$A$10:$G$109,7,FALSE)),\" \")","v":" "},{"$f":"IF(B27>0,(VLOOKUP($B27,'Engag Pre'!$A$10:$G$109,3,FALSE)),\" \")","v":" "},{"$f":"IF(B27>0,(VLOOKUP($B27,'Engag Pre'!$A$10:$G$109,4,FALSE)),\" \")","v":" "},{"$f":"IF(B27>0,(VLOOKUP($B27,'Engag Pre'!$A$10:$G$109,5,FALSE)),\" \")","v":" "},{"$f":"IF(B27>0,(VLOOKUP($B27,'Engag Pre'!$A$10:$G$109,6,FALSE)),\" \")","v":" "},null,null," ",{"$f":"IF(COUNTIF($G$10:$G27,G27)<2,$G27,\" \")","v":" "},18,{"$f":"IF(COUNTIF($G$10:$G27,G27)<3,$G27,\" \")","v":" "},18,"",1000]
[19,null,{"$f":"IF(A28>0,(VLOOKUP($A28,'Engag Pre'!$A$10:$G$74,3,FALSE)),\" \")","v":{"$error":"#N/A"}},{"$f":"IF(B28>0,(VLOOKUP($B28,'Engag Pre'!$A$10:$G$109,7,FALSE)),\" \")","v":" "},{"$f":"IF(B28>0,(VLOOKUP($B28,'Engag Pre'!$A$10:$G$109,3,FALSE)),\" \")","v":" "},{"$f":"IF(B28>0,(VLOOKUP($B28,'Engag Pre'!$A$10:$G$109,4,FALSE)),\" \")","v":" "},{"$f":"IF(B28>0,(VLOOKUP($B28,'Engag Pre'!$A$10:$G$109,5,FALSE)),\" \")","v":" "},{"$f":"IF(B28>0,(VLOOKUP($B28,'Engag Pre'!$A$10:$G$109,6,FALSE)),\" \")","v":" "},null,null," ",{"$f":"IF(COUNTIF($G$10:$G28,G28)<2,$G28,\" \")","v":" "},19,{"$f":"IF(COUNTIF($G$10:$G28,G28)<3,$G28,\" \")","v":" "},19,"",1000]
[20,null,{"$f":"IF(A29>0,(VLOOKUP($A29,'Engag Pre'!$A$10:$G$74,3,FALSE)),\" \")","v":{"$error":"#N/A"}},{"$f":"IF(B29>0,(VLOOKUP($B29,'Engag Pre'!$A$10:$G$109,7,FALSE)),\" \")","v":" "},{"$f":"IF(B29>0,(VLOOKUP($B29,'Engag Pre'!$A$10:$G$109,3,FALSE)),\" \")","v":" "},{"$f":"IF(B29>0,(VLOOKUP($B29,'Engag Pre'!$A$10:$G$109,4,FALSE)),\" \")","v":" "},{"$f":"IF(B29>0,(VLOOKUP($B29,'Engag Pre'!$A$10:$G$109,5,FALSE)),\" \")","v":" "},{"$f":"IF(B29>0,(VLOOKUP($B29,'Engag Pre'!$A$10:$G$109,6,FALSE)),\" \")","v":" "},null,null," ",{"$f":"IF(COUNTIF($G$10:$G29,G29)<2,$G29,\" \")","v":" "},20,{"$f":"IF(COUNTIF($G$10:$G29,G29)<3,$G29,\" \")","v":" "},20,"",1000]
[21,null,{"$f":"IF(A30>0,(VLOOKUP($A30,'Engag Pre'!$A$10:$G$74,3,FALSE)),\" \")","v":{"$error":"#N/A"}},{"$f":"IF(B30>0,(VLOOKUP($B30,'Engag Pre'!$A$10:$G$109,7,FALSE)),\" \")","v":" "},{"$f":"IF(B30>0,(VLOOKUP($B30,'Engag Pre'!$A$10:$G$109,3,FALSE)),\" \")","v":" "},{"$f":"IF(B30>0,(VLOOKUP($B30,'Engag Pre'!$A$10:$G$109,4,FALSE)),\" \")","v":" "},{"$f":"IF(B30>0,(VLOOKUP($B30,'Engag Pre'!$A$10:$G$109,5,FALSE)),\" \")","v":" "},{"$f":"IF(B30>0,(VLOOKUP($B30,'Engag Pre'!$A$10:$G$109,6,FALSE)),\" \")","v":" "},null,null," ",{"$f":"IF(COUNTIF($G$10:$G30,G30)<2,$G30,\" \")","v":" "},21,{"$f":"IF(COUNTIF($G$10:$G30,G30)<3,$G30,\" \")","v":" "},21,"",1000]
[22,null,{"$f":"IF(A31>0,(VLOOKUP($A31,'Engag Pre'!$A$10:$G$74,3,FALSE)),\" \")","v":{"$error":"#N/A"}},{"$f":"IF(B31>0,(VLOOKUP($B31,'Engag Pre'!$A$10:$G$109,7,FALSE)),\" \")","v":" "},{"$f":"IF(B31>0,(VLOOKUP($B31,'Engag Pre'!$A$10:$G$109,3,FALSE)),\" \")","v":" "},{"$f":"IF(B31>0,(VLOOKUP($B31,'Engag Pre'!$A$10:$G$109,4,FALSE)),\" \")","v":" "},{"$f":"IF(B31>0,(VLOOKUP($B31,'Engag Pre'!$A$10:$G$109,5,FALSE)),\" \")","v":" "},{"$f":"IF(B31>0,(VLOOKUP($B31,'Engag Pre'!$A$10:$G$109,6,FALSE)),\" \")","v":" "},null,null," ",{"$f":"IF(COUNTIF($G$10:$G31,G31)<2,$G31,\" \")","v":" "},22,{"$f":"IF(COUNTIF($G$10:$G31,G31)<3,$G31,\" \")","v":" "},22,"",1000]
[23,null,{"$f":"IF(A32>0,(VLOOKUP($A32,'Engag Pre'!$A$10:$G$74,3,FALSE)),\" \")","v":{"$error":"#N/A"}},{"$f":"IF(B32>0,(VLOOKUP($B32,'Engag Pre'!$A$10:$G$109,7,FALSE)),\" \")","v":" "},{"$f":"IF(B32>0,(VLOOKUP($B32,'Engag Pre'!$A$10:$G$109,3,FALSE)),\" \")","v":" "},{"$f":"IF(B32>0,(VLOOKUP($B32,'Engag Pre'!$A$10:$G$109,4,FALSE)),\" \")","v":" "},{"$f":"IF(B32>0,(VLOOKUP($B32,'Engag Pre'!$A$10:$G$109,5,FALSE)),\" \")","v":" "},{"$f":"IF(B32>0,(VLOOKUP($B32,'Engag Pre'!$A$10:$G$109,6,FALSE)),\" \")","v":" "},null,null," ",{"$f":"IF(COUNTIF($G$10:$G32,G32)<2,$G32,\" \")","v":" "},23,{"$f":"IF(COUNTIF($G$10:$G32,G32)<3,$G32,\" \")","v":" "},23,"",1000]
[24,null,{"$f":"IF(A33>0,(VLOOKUP($A33,'Engag Pre'!$A$10:$G$74,3,FALSE)),\" \")","v":{"$error":"#N/A"}},{"$f":"IF(B33>0,(VLOOKUP($B33,'Engag Pre'!$A$10:$G$109,7,FALSE)),\" \")","v":" "},{"$f":"IF(B33>0,(VLOOKUP($B33,'Engag Pre'!$A$10:$G$109,3,FALSE)),\" \")","v":" "},{"$f":"IF(B33>0,(VLOOKUP($B33,'Engag Pre'!$A$10:$G$109,4,FALSE)),\" \")","v":" "},{"$f":"IF(B33>0,(VLOOKUP($B33,'Engag Pre'!$A$10:$G$109,5,FALSE)),\" \")","v":" "},{"$f":"IF(B33>0,(VLOOKUP($B33,'Engag Pre'!$A$10:$G$109,6,FALSE)),\" \")","v":" "},null,null," ",{"$f":"IF(COUNTIF($G$10:$G33,G33)<2,$G33,\" \")","v":" "},24,{"$f":"IF(COUNTIF($G$10:$G33,G33)<3,$G33,\" \")","v":" "},24,"",1000]
[25,null,{"$f":"IF(A34>0,(VLOOKUP($A34,'Engag Pre'!$A$10:$G$74,3,FALSE)),\" \")","v":{"$error":"#N/A"}},{"$f":"IF(B34>0,(VLOOKUP($B34,'Engag Pre'!$A$10:$G$109,7,FALSE)),\" \")","v":" "},{"$f":"IF(B34>0,(VLOOKUP($B34,'Engag Pre'!$A$10:$G$109,3,FALSE)),\" \")","v":" "},{"$f":"IF(B34>0,(VLOOKUP($B34,'Engag Pre'!$A$10:$G$109,4,FALSE)),\" \")","v":" "},{"$f":"IF(B34>0,(VLOOKUP($B34,'Engag Pre'!$A$10:$G$109,5,FALSE)),\" \")","v":" "},{"$f":"IF(B34>0,(VLOOKUP($B34,'Engag Pre'!$A$10:$G$109,6,FALSE)),\" \")","v":" "},null,null," ",{"$f":"IF(COUNTIF($G$10:$G34,G34)<2,$G34,\" \")","v":" "},25,{"$f":"IF(COUNTIF($G$10:$G34,G34)<3,$G34,\" \")","v":" "},25,"",1000]
[26,null,{"$f":"IF(A35>0,(VLOOKUP($A35,'Engag Pre'!$A$10:$G$74,3,FALSE)),\" \")","v":{"$error":"#N/A"}},{"$f":"IF(B35>0,(VLOOKUP($B35,'Engag Pre'!$A$10:$G$109,7,FALSE)),\" \")","v":" "},{"$f":"IF(B35>0,(VLOOKUP($B35,'Engag Pre'!$A$10:$G$109,3,FALSE)),\" \")","v":" "},{"$f":"IF(B35>0,(VLOOKUP($B35,'Engag Pre'!$A$10:$G$109,4,FALSE)),\" \")","v":" "},{"$f":"IF(B35>0,(VLOOKUP($B35,'Engag Pre'!$A$10:$G$109,5,FALSE)),\" \")","v":" "},{"$f":"IF(B35>0,(VLOOKUP($B35,'Engag Pre'!$A$10:$G$109,6,FALSE)),\" \")","v":" "},null,null," ",{"$f":"IF(COUNTIF($G$10:$G35,G35)<2,$G35,\" \")","v":" "},26,{"$f":"IF(COUNTIF($G$10:$G35,G35)<3,$G35,\" \")","v":" "},26,"",1000]
[27,null,{"$f":"IF(A36>0,(VLOOKUP($A36,'Engag Pre'!$A$10:$G$74,3,FALSE)),\" \")","v":{"$error":"#N/A"}},{"$f":"IF(B36>0,(VLOOKUP($B36,'Engag Pre'!$A$10:$G$109,7,FALSE)),\" \")","v":" "},{"$f":"IF(B36>0,(VLOOKUP($B36,'Engag Pre'!$A$10:$G$109,3,FALSE)),\" \")","v":" "},{"$f":"IF(B36>0,(VLOOKUP($B36,'Engag Pre'!$A$10:$G$109,4,FALSE)),\" \")","v":" "},{"$f":"IF(B36>0,(VLOOKUP($B36,'Engag Pre'!$A$10:$G$109,5,FALSE)),\" \")","v":" "},{"$f":"IF(B36>0,(VLOOKUP($B36,'Engag Pre'!$A$10:$G$109,6,FALSE)),\" \")","v":" "},null,null," ",{"$f":"IF(COUNTIF($G$10:$G36,G36)<2,$G36,\" \")","v":" "},27,{"$f":"IF(COUNTIF($G$10:$G36,G36)<3,$G36,\" \")","v":" "},27,"",1000]
[28,null,{"$f":"IF(A37>0,(VLOOKUP($A37,'Engag Pre'!$A$10:$G$74,3,FALSE)),\" \")","v":{"$error":"#N/A"}},{"$f":"IF(B37>0,(VLOOKUP($B37,'Engag Pre'!$A$10:$G$109,7,FALSE)),\" \")","v":" "},{"$f":"IF(B37>0,(VLOOKUP($B37,'Engag Pre'!$A$10:$G$109,3,FALSE)),\" \")","v":" "},{"$f":"IF(B37>0,(VLOOKUP($B37,'Engag Pre'!$A$10:$G$109,4,FALSE)),\" \")","v":" "},{"$f":"IF(B37>0,(VLOOKUP($B37,'Engag Pre'!$A$10:$G$109,5,FALSE)),\" \")","v":" "},{"$f":"IF(B37>0,(VLOOKUP($B37,'Engag Pre'!$A$10:$G$109,6,FALSE)),\" \")","v":" "},null,null," ",{"$f":"IF(COUNTIF($G$10:$G37,G37)<2,$G37,\" \")","v":" "},28,{"$f":"IF(COUNTIF($G$10:$G37,G37)<3,$G37,\" \")","v":" "},28,"",1000]
[29,null,{"$f":"IF(A38>0,(VLOOKUP($A38,'Engag Pre'!$A$10:$G$74,3,FALSE)),\" \")","v":{"$error":"#N/A"}},{"$f":"IF(B38>0,(VLOOKUP($B38,'Engag Pre'!$A$10:$G$109,7,FALSE)),\" \")","v":" "},{"$f":"IF(B38>0,(VLOOKUP($B38,'Engag Pre'!$A$10:$G$109,3,FALSE)),\" \")","v":" "},{"$f":"IF(B38>0,(VLOOKUP($B38,'Engag Pre'!$A$10:$G$109,4,FALSE)),\" \")","v":" "},{"$f":"IF(B38>0,(VLOOKUP($B38,'Engag Pre'!$A$10:$G$109,5,FALSE)),\" \")","v":" "},{"$f":"IF(B38>0,(VLOOKUP($B38,'Engag Pre'!$A$10:$G$109,6,FALSE)),\" \")","v":" "},null,null," ",{"$f":"IF(COUNTIF($G$10:$G38,G38)<2,$G38,\" \")","v":" "},29,{"$f":"IF(COUNTIF($G$10:$G38,G38)<3,$G38,\" \")","v":" "},29,"",1000]
[30,null,{"$f":"IF(A39>0,(VLOOKUP($A39,'Engag Pre'!$A$10:$G$74,3,FALSE)),\" \")","v":{"$error":"#N/A"}},{"$f":"IF(B39>0,(VLOOKUP($B39,'Engag Pre'!$A$10:$G$109,7,FALSE)),\" \")","v":" "},{"$f":"IF(B39>0,(VLOOKUP($B39,'Engag Pre'!$A$10:$G$109,3,FALSE)),\" \")","v":" "},{"$f":"IF(B39>0,(VLOOKUP($B39,'Engag Pre'!$A$10:$G$109,4,FALSE)),\" \")","v":" "},{"$f":"IF(B39>0,(VLOOKUP($B39,'Engag Pre'!$A$10:$G$109,5,FALSE)),\" \")","v":" "},{"$f":"IF(B39>0,(VLOOKUP($B39,'Engag Pre'!$A$10:$G$109,6,FALSE)),\" \")","v":" "},null,null," ",{"$f":"IF(COUNTIF($G$10:$G39,G39)<2,$G39,\" \")","v":" "},30,{"$f":"IF(COUNTIF($G$10:$G39,G39)<3,$G39,\" \")","v":" "},30,"",1000]
[31,null,{"$f":"IF(A40>0,(VLOOKUP($A40,'Engag Pre'!$A$10:$G$74,3,FALSE)),\" \")","v":{"$error":"#N/A"}},{"$f":"IF(B40>0,(VLOOKUP($B40,'Engag Pre'!$A$10:$G$109,7,FALSE)),\" \")","v":" "},{"$f":"IF(B40>0,(VLOOKUP($B40,'Engag Pre'!$A$10:$G$109,3,FALSE)),\" \")","v":" "},{"$f":"IF(B40>0,(VLOOKUP($B40,'Engag Pre'!$A$10:$G$109,4,FALSE)),\" \")","v":" "},{"$f":"IF(B40>0,(VLOOKUP($B40,'Engag Pre'!$A$10:$G$109,5,FALSE)),\" \")","v":" "},{"$f":"IF(B40>0,(VLOOKUP($B40,'Engag Pre'!$A$10:$G$109,6,FALSE)),\" \")","v":" "},null,null," ",{"$f":"IF(COUNTIF($G$10:$G40,G40)<2,$G40,\" \")","v":" "},31,{"$f":"IF(COUNTIF($G$10:$G40,G40)<3,$G40,\" \")","v":" "},31,"",1000]
[32,null,{"$f":"IF(A41>0,(VLOOKUP($A41,'Engag Pre'!$A$10:$G$74,3,FALSE)),\" \")","v":{"$error":"#N/A"}},{"$f":"IF(B41>0,(VLOOKUP($B41,'Engag Pre'!$A$10:$G$109,7,FALSE)),\" \")","v":" "},{"$f":"IF(B41>0,(VLOOKUP($B41,'Engag Pre'!$A$10:$G$109,3,FALSE)),\" \")","v":" "},{"$f":"IF(B41>0,(VLOOKUP($B41,'Engag Pre'!$A$10:$G$109,4,FALSE)),\" \")","v":" "},{"$f":"IF(B41>0,(VLOOKUP($B41,'Engag Pre'!$A$10:$G$109,5,FALSE)),\" \")","v":" "},{"$f":"IF(B41>0,(VLOOKUP($B41,'Engag Pre'!$A$10:$G$109,6,FALSE)),\" \")","v":" "},null,null," ",{"$f":"IF(COUNTIF($G$10:$G41,G41)<2,$G41,\" \")","v":" "},32,{"$f":"IF(COUNTIF($G$10:$G41,G41)<3,$G41,\" \")","v":" "},32,"",1000]
[33,null,{"$f":"IF(A42>0,(VLOOKUP($A42,'Engag Pre'!$A$10:$G$74,3,FALSE)),\" \")","v":{"$error":"#N/A"}},{"$f":"IF(B42>0,(VLOOKUP($B42,'Engag Pre'!$A$10:$G$109,7,FALSE)),\" \")","v":" "},{"$f":"IF(B42>0,(VLOOKUP($B42,'Engag Pre'!$A$10:$G$109,3,FALSE)),\" \")","v":" "},{"$f":"IF(B42>0,(VLOOKUP($B42,'Engag Pre'!$A$10:$G$109,4,FALSE)),\" \")","v":" "},{"$f":"IF(B42>0,(VLOOKUP($B42,'Engag Pre'!$A$10:$G$109,5,FALSE)),\" \")","v":" "},{"$f":"IF(B42>0,(VLOOKUP($B42,'Engag Pre'!$A$10:$G$109,6,FALSE)),\" \")","v":" "},null,null," ",{"$f":"IF(COUNTIF($G$10:$G42,G42)<2,$G42,\" \")","v":" "},33,{"$f":"IF(COUNTIF($G$10:$G42,G42)<3,$G42,\" \")","v":" "},33,"",1000]
[34,null,{"$f":"IF(A43>0,(VLOOKUP($A43,'Engag Pre'!$A$10:$G$74,3,FALSE)),\" \")","v":{"$error":"#N/A"}},{"$f":"IF(B43>0,(VLOOKUP($B43,'Engag Pre'!$A$10:$G$109,7,FALSE)),\" \")","v":" "},{"$f":"IF(B43>0,(VLOOKUP($B43,'Engag Pre'!$A$10:$G$109,3,FALSE)),\" \")","v":" "},{"$f":"IF(B43>0,(VLOOKUP($B43,'Engag Pre'!$A$10:$G$109,4,FALSE)),\" \")","v":" "},{"$f":"IF(B43>0,(VLOOKUP($B43,'Engag Pre'!$A$10:$G$109,5,FALSE)),\" \")","v":" "},{"$f":"IF(B43>0,(VLOOKUP($B43,'Engag Pre'!$A$10:$G$109,6,FALSE)),\" \")","v":" "},null,null," ",{"$f":"IF(COUNTIF($G$10:$G43,G43)<2,$G43,\" \")","v":" "},34,{"$f":"IF(COUNTIF($G$10:$G43,G43)<3,$G43,\" \")","v":" "},34,"",1000]
[35,null,{"$f":"IF(A44>0,(VLOOKUP($A44,'Engag Pre'!$A$10:$G$74,3,FALSE)),\" \")","v":{"$error":"#N/A"}},{"$f":"IF(B44>0,(VLOOKUP($B44,'Engag Pre'!$A$10:$G$109,7,FALSE)),\" \")","v":" "},{"$f":"IF(B44>0,(VLOOKUP($B44,'Engag Pre'!$A$10:$G$109,3,FALSE)),\" \")","v":" "},{"$f":"IF(B44>0,(VLOOKUP($B44,'Engag Pre'!$A$10:$G$109,4,FALSE)),\" \")","v":" "},{"$f":"IF(B44>0,(VLOOKUP($B44,'Engag Pre'!$A$10:$G$109,5,FALSE)),\" \")","v":" "},{"$f":"IF(B44>0,(VLOOKUP($B44,'Engag Pre'!$A$10:$G$109,6,FALSE)),\" \")","v":" "},null,null," ",{"$f":"IF(COUNTIF($G$10:$G44,G44)<2,$G44,\" \")","v":" "},35,{"$f":"IF(COUNTIF($G$10:$G44,G44)<3,$G44,\" \")","v":" "},35,"",1000]
[36,null,{"$f":"IF(A45>0,(VLOOKUP($A45,'Engag Pre'!$A$10:$G$74,3,FALSE)),\" \")","v":{"$error":"#N/A"}},{"$f":"IF(B45>0,(VLOOKUP($B45,'Engag Pre'!$A$10:$G$109,7,FALSE)),\" \")","v":" "},{"$f":"IF(B45>0,(VLOOKUP($B45,'Engag Pre'!$A$10:$G$109,3,FALSE)),\" \")","v":" "},{"$f":"IF(B45>0,(VLOOKUP($B45,'Engag Pre'!$A$10:$G$109,4,FALSE)),\" \")","v":" "},{"$f":"IF(B45>0,(VLOOKUP($B45,'Engag Pre'!$A$10:$G$109,5,FALSE)),\" \")","v":" "},{"$f":"IF(B45>0,(VLOOKUP($B45,'Engag Pre'!$A$10:$G$109,6,FALSE)),\" \")","v":" "},null,null," ",{"$f":"IF(COUNTIF($G$10:$G45,G45)<2,$G45,\" \")","v":" "},36,{"$f":"IF(COUNTIF($G$10:$G45,G45)<3,$G45,\" \")","v":" "},36,"",1000]
[37,null,{"$f":"IF(A46>0,(VLOOKUP($A46,'Engag Pre'!$A$10:$G$74,3,FALSE)),\" \")","v":{"$error":"#N/A"}},{"$f":"IF(B46>0,(VLOOKUP($B46,'Engag Pre'!$A$10:$G$109,7,FALSE)),\" \")","v":" "},{"$f":"IF(B46>0,(VLOOKUP($B46,'Engag Pre'!$A$10:$G$109,3,FALSE)),\" \")","v":" "},{"$f":"IF(B46>0,(VLOOKUP($B46,'Engag Pre'!$A$10:$G$109,4,FALSE)),\" \")","v":" "},{"$f":"IF(B46>0,(VLOOKUP($B46,'Engag Pre'!$A$10:$G$109,5,FALSE)),\" \")","v":" "},{"$f":"IF(B46>0,(VLOOKUP($B46,'Engag Pre'!$A$10:$G$109,6,FALSE)),\" \")","v":" "},null,null," ",{"$f":"IF(COUNTIF($G$10:$G46,G46)<2,$G46,\" \")","v":" "},37,{"$f":"IF(COUNTIF($G$10:$G46,G46)<3,$G46,\" \")","v":" "},37,"",1000]
[38,null,{"$f":"IF(A47>0,(VLOOKUP($A47,'Engag Pre'!$A$10:$G$74,3,FALSE)),\" \")","v":{"$error":"#N/A"}},{"$f":"IF(B47>0,(VLOOKUP($B47,'Engag Pre'!$A$10:$G$109,7,FALSE)),\" \")","v":" "},{"$f":"IF(B47>0,(VLOOKUP($B47,'Engag Pre'!$A$10:$G$109,3,FALSE)),\" \")","v":" "},{"$f":"IF(B47>0,(VLOOKUP($B47,'Engag Pre'!$A$10:$G$109,4,FALSE)),\" \")","v":" "},{"$f":"IF(B47>0,(VLOOKUP($B47,'Engag Pre'!$A$10:$G$109,5,FALSE)),\" \")","v":" "},{"$f":"IF(B47>0,(VLOOKUP($B47,'Engag Pre'!$A$10:$G$109,6,FALSE)),\" \")","v":" "},null,null," ",{"$f":"IF(COUNTIF($G$10:$G47,G47)<2,$G47,\" \")","v":" "},38,{"$f":"IF(COUNTIF($G$10:$G47,G47)<3,$G47,\" \")","v":" "},38,"",1000]
[39,null,{"$f":"IF(A48>0,(VLOOKUP($A48,'Engag Pre'!$A$10:$G$74,3,FALSE)),\" \")","v":{"$error":"#N/A"}},{"$f":"IF(B48>0,(VLOOKUP($B48,'Engag Pre'!$A$10:$G$109,7,FALSE)),\" \")","v":" "},{"$f":"IF(B48>0,(VLOOKUP($B48,'Engag Pre'!$A$10:$G$109,3,FALSE)),\" \")","v":" "},{"$f":"IF(B48>0,(VLOOKUP($B48,'Engag Pre'!$A$10:$G$109,4,FALSE)),\" \")","v":" "},{"$f":"IF(B48>0,(VLOOKUP($B48,'Engag Pre'!$A$10:$G$109,5,FALSE)),\" \")","v":" "},{"$f":"IF(B48>0,(VLOOKUP($B48,'Engag Pre'!$A$10:$G$109,6,FALSE)),\" \")","v":" "},null,null," ",{"$f":"IF(COUNTIF($G$10:$G48,G48)<2,$G48,\" \")","v":" "},39,{"$f":"IF(COUNTIF($G$10:$G48,G48)<3,$G48,\" \")","v":" "},39,"",1000]
[40,null,{"$f":"IF(A49>0,(VLOOKUP($A49,'Engag Pre'!$A$10:$G$74,3,FALSE)),\" \")","v":{"$error":"#N/A"}},{"$f":"IF(B49>0,(VLOOKUP($B49,'Engag Pre'!$A$10:$G$109,7,FALSE)),\" \")","v":" "},{"$f":"IF(B49>0,(VLOOKUP($B49,'Engag Pre'!$A$10:$G$109,3,FALSE)),\" \")","v":" "},{"$f":"IF(B49>0,(VLOOKUP($B49,'Engag Pre'!$A$10:$G$109,4,FALSE)),\" \")","v":" "},{"$f":"IF(B49>0,(VLOOKUP($B49,'Engag Pre'!$A$10:$G$109,5,FALSE)),\" \")","v":" "},{"$f":"IF(B49>0,(VLOOKUP($B49,'Engag Pre'!$A$10:$G$109,6,FALSE)),\" \")","v":" "},null,null," ",{"$f":"IF(COUNTIF($G$10:$G49,G49)<2,$G49,\" \")","v":" "},40,{"$f":"IF(COUNTIF($G$10:$G49,G49)<3,$G49,\" \")","v":" "},40,"",1000]
[41,null,{"$f":"IF(A50>0,(VLOOKUP($A50,'Engag Pre'!$A$10:$G$74,3,FALSE)),\" \")","v":{"$error":"#N/A"}},{"$f":"IF(B50>0,(VLOOKUP($B50,'Engag Pre'!$A$10:$G$109,7,FALSE)),\" \")","v":" "},{"$f":"IF(B50>0,(VLOOKUP($B50,'Engag Pre'!$A$10:$G$109,3,FALSE)),\" \")","v":" "},{"$f":"IF(B50>0,(VLOOKUP($B50,'Engag Pre'!$A$10:$G$109,4,FALSE)),\" \")","v":" "},{"$f":"IF(B50>0,(VLOOKUP($B50,'Engag Pre'!$A$10:$G$109,5,FALSE)),\" \")","v":" "},{"$f":"IF(B50>0,(VLOOKUP($B50,'Engag Pre'!$A$10:$G$109,6,FALSE)),\" \")","v":" "},null,null," ",{"$f":"IF(COUNTIF($G$10:$G50,G50)<2,$G50,\" \")","v":" "},41,{"$f":"IF(COUNTIF($G$10:$G50,G50)<3,$G50,\" \")","v":" "},41,"",1000]
[42,null,{"$f":"IF(A51>0,(VLOOKUP($A51,'Engag Pre'!$A$10:$G$74,3,FALSE)),\" \")","v":{"$error":"#N/A"}},{"$f":"IF(B51>0,(VLOOKUP($B51,'Engag Pre'!$A$10:$G$109,7,FALSE)),\" \")","v":" "},{"$f":"IF(B51>0,(VLOOKUP($B51,'Engag Pre'!$A$10:$G$109,3,FALSE)),\" \")","v":" "},{"$f":"IF(B51>0,(VLOOKUP($B51,'Engag Pre'!$A$10:$G$109,4,FALSE)),\" \")","v":" "},{"$f":"IF(B51>0,(VLOOKUP($B51,'Engag Pre'!$A$10:$G$109,5,FALSE)),\" \")","v":" "},{"$f":"IF(B51>0,(VLOOKUP($B51,'Engag Pre'!$A$10:$G$109,6,FALSE)),\" \")","v":" "},null,null," ",{"$f":"IF(COUNTIF($G$10:$G51,G51)<2,$G51,\" \")","v":" "},42,{"$f":"IF(COUNTIF($G$10:$G51,G51)<3,$G51,\" \")","v":" "},42,"",1000]
[43,null,{"$f":"IF(A52>0,(VLOOKUP($A52,'Engag Pre'!$A$10:$G$74,3,FALSE)),\" \")","v":{"$error":"#N/A"}},{"$f":"IF(B52>0,(VLOOKUP($B52,'Engag Pre'!$A$10:$G$109,7,FALSE)),\" \")","v":" "},{"$f":"IF(B52>0,(VLOOKUP($B52,'Engag Pre'!$A$10:$G$109,3,FALSE)),\" \")","v":" "},{"$f":"IF(B52>0,(VLOOKUP($B52,'Engag Pre'!$A$10:$G$109,4,FALSE)),\" \")","v":" "},{"$f":"IF(B52>0,(VLOOKUP($B52,'Engag Pre'!$A$10:$G$109,5,FALSE)),\" \")","v":" "},{"$f":"IF(B52>0,(VLOOKUP($B52,'Engag Pre'!$A$10:$G$109,6,FALSE)),\" \")","v":" "},null,null," ",{"$f":"IF(COUNTIF($G$10:$G52,G52)<2,$G52,\" \")","v":" "},43,{"$f":"IF(COUNTIF($G$10:$G52,G52)<3,$G52,\" \")","v":" "},43,"",1000]
[44,null,{"$f":"IF(A53>0,(VLOOKUP($A53,'Engag Pre'!$A$10:$G$74,3,FALSE)),\" \")","v":{"$error":"#N/A"}},{"$f":"IF(B53>0,(VLOOKUP($B53,'Engag Pre'!$A$10:$G$109,7,FALSE)),\" \")","v":" "},{"$f":"IF(B53>0,(VLOOKUP($B53,'Engag Pre'!$A$10:$G$109,3,FALSE)),\" \")","v":" "},{"$f":"IF(B53>0,(VLOOKUP($B53,'Engag Pre'!$A$10:$G$109,4,FALSE)),\" \")","v":" "},{"$f":"IF(B53>0,(VLOOKUP($B53,'Engag Pre'!$A$10:$G$109,5,FALSE)),\" \")","v":" "},{"$f":"IF(B53>0,(VLOOKUP($B53,'Engag Pre'!$A$10:$G$109,6,FALSE)),\" \")","v":" "},null,null," ",{"$f":"IF(COUNTIF($G$10:$G53,G53)<2,$G53,\" \")","v":" "},44,{"$f":"IF(COUNTIF($G$10:$G53,G53)<3,$G53,\" \")","v":" "},44,"",1000]
[45,null,{"$f":"IF(A54>0,(VLOOKUP($A54,'Engag Pre'!$A$10:$G$74,3,FALSE)),\" \")","v":{"$error":"#N/A"}},{"$f":"IF(B54>0,(VLOOKUP($B54,'Engag Pre'!$A$10:$G$109,7,FALSE)),\" \")","v":" "},{"$f":"IF(B54>0,(VLOOKUP($B54,'Engag Pre'!$A$10:$G$109,3,FALSE)),\" \")","v":" "},{"$f":"IF(B54>0,(VLOOKUP($B54,'Engag Pre'!$A$10:$G$109,4,FALSE)),\" \")","v":" "},{"$f":"IF(B54>0,(VLOOKUP($B54,'Engag Pre'!$A$10:$G$109,5,FALSE)),\" \")","v":" "},{"$f":"IF(B54>0,(VLOOKUP($B54,'Engag Pre'!$A$10:$G$109,6,FALSE)),\" \")","v":" "},null,null," ",{"$f":"IF(COUNTIF($G$10:$G54,G54)<2,$G54,\" \")","v":" "},45,{"$f":"IF(COUNTIF($G$10:$G54,G54)<3,$G54,\" \")","v":" "},45,"",1000]
[46,null,{"$f":"IF(A55>0,(VLOOKUP($A55,'Engag Pre'!$A$10:$G$74,3,FALSE)),\" \")","v":{"$error":"#N/A"}},{"$f":"IF(B55>0,(VLOOKUP($B55,'Engag Pre'!$A$10:$G$109,7,FALSE)),\" \")","v":" "},{"$f":"IF(B55>0,(VLOOKUP($B55,'Engag Pre'!$A$10:$G$109,3,FALSE)),\" \")","v":" "},{"$f":"IF(B55>0,(VLOOKUP($B55,'Engag Pre'!$A$10:$G$109,4,FALSE)),\" \")","v":" "},{"$f":"IF(B55>0,(VLOOKUP($B55,'Engag Pre'!$A$10:$G$109,5,FALSE)),\" \")","v":" "},{"$f":"IF(B55>0,(VLOOKUP($B55,'Engag Pre'!$A$10:$G$109,6,FALSE)),\" \")","v":" "},null,null," ",{"$f":"IF(COUNTIF($G$10:$G55,G55)<2,$G55,\" \")","v":" "},46,{"$f":"IF(COUNTIF($G$10:$G55,G55)<3,$G55,\" \")","v":" "},46,"",1000]
[47,null,{"$f":"IF(A56>0,(VLOOKUP($A56,'Engag Pre'!$A$10:$G$74,3,FALSE)),\" \")","v":{"$error":"#N/A"}},{"$f":"IF(B56>0,(VLOOKUP($B56,'Engag Pre'!$A$10:$G$109,7,FALSE)),\" \")","v":" "},{"$f":"IF(B56>0,(VLOOKUP($B56,'Engag Pre'!$A$10:$G$109,3,FALSE)),\" \")","v":" "},{"$f":"IF(B56>0,(VLOOKUP($B56,'Engag Pre'!$A$10:$G$109,4,FALSE)),\" \")","v":" "},{"$f":"IF(B56>0,(VLOOKUP($B56,'Engag Pre'!$A$10:$G$109,5,FALSE)),\" \")","v":" "},{"$f":"IF(B56>0,(VLOOKUP($B56,'Engag Pre'!$A$10:$G$109,6,FALSE)),\" \")","v":" "},null,null," ",{"$f":"IF(COUNTIF($G$10:$G56,G56)<2,$G56,\" \")","v":" "},47,{"$f":"IF(COUNTIF($G$10:$G56,G56)<3,$G56,\" \")","v":" "},47,"",1000]
[48,null,{"$f":"IF(A57>0,(VLOOKUP($A57,'Engag Pre'!$A$10:$G$74,3,FALSE)),\" \")","v":{"$error":"#N/A"}},{"$f":"IF(B57>0,(VLOOKUP($B57,'Engag Pre'!$A$10:$G$109,7,FALSE)),\" \")","v":" "},{"$f":"IF(B57>0,(VLOOKUP($B57,'Engag Pre'!$A$10:$G$109,3,FALSE)),\" \")","v":" "},{"$f":"IF(B57>0,(VLOOKUP($B57,'Engag Pre'!$A$10:$G$109,4,FALSE)),\" \")","v":" "},{"$f":"IF(B57>0,(VLOOKUP($B57,'Engag Pre'!$A$10:$G$109,5,FALSE)),\" \")","v":" "},{"$f":"IF(B57>0,(VLOOKUP($B57,'Engag Pre'!$A$10:$G$109,6,FALSE)),\" \")","v":" "},null,null," ",{"$f":"IF(COUNTIF($G$10:$G57,G57)<2,$G57,\" \")","v":" "},48,{"$f":"IF(COUNTIF($G$10:$G57,G57)<3,$G57,\" \")","v":" "},48,"",1000]
[49,null,{"$f":"IF(A58>0,(VLOOKUP($A58,'Engag Pre'!$A$10:$G$74,3,FALSE)),\" \")","v":{"$error":"#N/A"}},{"$f":"IF(B58>0,(VLOOKUP($B58,'Engag Pre'!$A$10:$G$109,7,FALSE)),\" \")","v":" "},{"$f":"IF(B58>0,(VLOOKUP($B58,'Engag Pre'!$A$10:$G$109,3,FALSE)),\" \")","v":" "},{"$f":"IF(B58>0,(VLOOKUP($B58,'Engag Pre'!$A$10:$G$109,4,FALSE)),\" \")","v":" "},{"$f":"IF(B58>0,(VLOOKUP($B58,'Engag Pre'!$A$10:$G$109,5,FALSE)),\" \")","v":" "},{"$f":"IF(B58>0,(VLOOKUP($B58,'Engag Pre'!$A$10:$G$109,6,FALSE)),\" \")","v":" "},null,null," ",{"$f":"IF(COUNTIF($G$10:$G58,G58)<2,$G58,\" \")","v":" "},49,{"$f":"IF(COUNTIF($G$10:$G58,G58)<3,$G58,\" \")","v":" "},49,"",1000]
[50,null,{"$f":"IF(A59>0,(VLOOKUP($A59,'Engag Pre'!$A$10:$G$74,3,FALSE)),\" \")","v":{"$error":"#N/A"}},{"$f":"IF(B59>0,(VLOOKUP($B59,'Engag Pre'!$A$10:$G$109,7,FALSE)),\" \")","v":" "},{"$f":"IF(B59>0,(VLOOKUP($B59,'Engag Pre'!$A$10:$G$109,3,FALSE)),\" \")","v":" "},{"$f":"IF(B59>0,(VLOOKUP($B59,'Engag Pre'!$A$10:$G$109,4,FALSE)),\" \")","v":" "},{"$f":"IF(B59>0,(VLOOKUP($B59,'Engag Pre'!$A$10:$G$109,5,FALSE)),\" \")","v":" "},{"$f":"IF(B59>0,(VLOOKUP($B59,'Engag Pre'!$A$10:$G$109,6,FALSE)),\" \")","v":" "},null,null," ",{"$f":"IF(COUNTIF($G$10:$G59,G59)<2,$G59,\" \")","v":" "},50,{"$f":"IF(COUNTIF($G$10:$G59,G59)<3,$G59,\" \")","v":" "},50,"",1000]
[51,null,{"$f":"IF(A60>0,(VLOOKUP($A60,'Engag Pre'!$A$10:$G$74,3,FALSE)),\" \")","v":{"$error":"#N/A"}},{"$f":"IF(B60>0,(VLOOKUP($B60,'Engag Pre'!$A$10:$G$109,7,FALSE)),\" \")","v":" "},{"$f":"IF(B60>0,(VLOOKUP($B60,'Engag Pre'!$A$10:$G$109,3,FALSE)),\" \")","v":" "},{"$f":"IF(B60>0,(VLOOKUP($B60,'Engag Pre'!$A$10:$G$109,4,FALSE)),\" \")","v":" "},{"$f":"IF(B60>0,(VLOOKUP($B60,'Engag Pre'!$A$10:$G$109,5,FALSE)),\" \")","v":" "},{"$f":"IF(B60>0,(VLOOKUP($B60,'Engag Pre'!$A$10:$G$109,6,FALSE)),\" \")","v":" "},null,null," ",{"$f":"IF(COUNTIF($G$10:$G60,G60)<2,$G60,\" \")","v":" "},51,{"$f":"IF(COUNTIF($G$10:$G60,G60)<3,$G60,\" \")","v":" "},51,"",1000]
[52,null,{"$f":"IF(A61>0,(VLOOKUP($A61,'Engag Pre'!$A$10:$G$74,3,FALSE)),\" \")","v":{"$error":"#N/A"}},{"$f":"IF(B61>0,(VLOOKUP($B61,'Engag Pre'!$A$10:$G$109,7,FALSE)),\" \")","v":" "},{"$f":"IF(B61>0,(VLOOKUP($B61,'Engag Pre'!$A$10:$G$109,3,FALSE)),\" \")","v":" "},{"$f":"IF(B61>0,(VLOOKUP($B61,'Engag Pre'!$A$10:$G$109,4,FALSE)),\" \")","v":" "},{"$f":"IF(B61>0,(VLOOKUP($B61,'Engag Pre'!$A$10:$G$109,5,FALSE)),\" \")","v":" "},{"$f":"IF(B61>0,(VLOOKUP($B61,'Engag Pre'!$A$10:$G$109,6,FALSE)),\" \")","v":" "},null,null," ",{"$f":"IF(COUNTIF($G$10:$G61,G61)<2,$G61,\" \")","v":" "},52,{"$f":"IF(COUNTIF($G$10:$G61,G61)<3,$G61,\" \")","v":" "},52,"",1000]
[53,null,{"$f":"IF(A62>0,(VLOOKUP($A62,'Engag Pre'!$A$10:$G$74,3,FALSE)),\" \")","v":{"$error":"#N/A"}},{"$f":"IF(B62>0,(VLOOKUP($B62,'Engag Pre'!$A$10:$G$109,7,FALSE)),\" \")","v":" "},{"$f":"IF(B62>0,(VLOOKUP($B62,'Engag Pre'!$A$10:$G$109,3,FALSE)),\" \")","v":" "},{"$f":"IF(B62>0,(VLOOKUP($B62,'Engag Pre'!$A$10:$G$109,4,FALSE)),\" \")","v":" "},{"$f":"IF(B62>0,(VLOOKUP($B62,'Engag Pre'!$A$10:$G$109,5,FALSE)),\" \")","v":" "},{"$f":"IF(B62>0,(VLOOKUP($B62,'Engag Pre'!$A$10:$G$109,6,FALSE)),\" \")","v":" "},null,null," ",{"$f":"IF(COUNTIF($G$10:$G62,G62)<2,$G62,\" \")","v":" "},53,{"$f":"IF(COUNTIF($G$10:$G62,G62)<3,$G62,\" \")","v":" "},53,"",1000]
[54,null,{"$f":"IF(A63>0,(VLOOKUP($A63,'Engag Pre'!$A$10:$G$74,3,FALSE)),\" \")","v":{"$error":"#N/A"}},{"$f":"IF(B63>0,(VLOOKUP($B63,'Engag Pre'!$A$10:$G$109,7,FALSE)),\" \")","v":" "},{"$f":"IF(B63>0,(VLOOKUP($B63,'Engag Pre'!$A$10:$G$109,3,FALSE)),\" \")","v":" "},{"$f":"IF(B63>0,(VLOOKUP($B63,'Engag Pre'!$A$10:$G$109,4,FALSE)),\" \")","v":" "},{"$f":"IF(B63>0,(VLOOKUP($B63,'Engag Pre'!$A$10:$G$109,5,FALSE)),\" \")","v":" "},{"$f":"IF(B63>0,(VLOOKUP($B63,'Engag Pre'!$A$10:$G$109,6,FALSE)),\" \")","v":" "},null,null," ",{"$f":"IF(COUNTIF($G$10:$G63,G63)<2,$G63,\" \")","v":" "},54,{"$f":"IF(COUNTIF($G$10:$G63,G63)<3,$G63,\" \")","v":" "},54,"",1000]
[55,null,{"$f":"IF(A64>0,(VLOOKUP($A64,'Engag Pre'!$A$10:$G$74,3,FALSE)),\" \")","v":{"$error":"#N/A"}},{"$f":"IF(B64>0,(VLOOKUP($B64,'Engag Pre'!$A$10:$G$109,7,FALSE)),\" \")","v":" "},{"$f":"IF(B64>0,(VLOOKUP($B64,'Engag Pre'!$A$10:$G$109,3,FALSE)),\" \")","v":" "},{"$f":"IF(B64>0,(VLOOKUP($B64,'Engag Pre'!$A$10:$G$109,4,FALSE)),\" \")","v":" "},{"$f":"IF(B64>0,(VLOOKUP($B64,'Engag Pre'!$A$10:$G$109,5,FALSE)),\" \")","v":" "},{"$f":"IF(B64>0,(VLOOKUP($B64,'Engag Pre'!$A$10:$G$109,6,FALSE)),\" \")","v":" "},null,null," ",{"$f":"IF(COUNTIF($G$10:$G64,G64)<2,$G64,\" \")","v":" "},55,{"$f":"IF(COUNTIF($G$10:$G64,G64)<3,$G64,\" \")","v":" "},55,"",1000]
[56,null,{"$f":"IF(A65>0,(VLOOKUP($A65,'Engag Pre'!$A$10:$G$74,3,FALSE)),\" \")","v":{"$error":"#N/A"}},{"$f":"IF(B65>0,(VLOOKUP($B65,'Engag Pre'!$A$10:$G$109,7,FALSE)),\" \")","v":" "},{"$f":"IF(B65>0,(VLOOKUP($B65,'Engag Pre'!$A$10:$G$109,3,FALSE)),\" \")","v":" "},{"$f":"IF(B65>0,(VLOOKUP($B65,'Engag Pre'!$A$10:$G$109,4,FALSE)),\" \")","v":" "},{"$f":"IF(B65>0,(VLOOKUP($B65,'Engag Pre'!$A$10:$G$109,5,FALSE)),\" \")","v":" "},{"$f":"IF(B65>0,(VLOOKUP($B65,'Engag Pre'!$A$10:$G$109,6,FALSE)),\" \")","v":" "},null,null," ",{"$f":"IF(COUNTIF($G$10:$G65,G65)<2,$G65,\" \")","v":" "},56,{"$f":"IF(COUNTIF($G$10:$G65,G65)<3,$G65,\" \")","v":" "},56,"",1000]
[57,null,{"$f":"IF(A66>0,(VLOOKUP($A66,'Engag Pre'!$A$10:$G$74,3,FALSE)),\" \")","v":{"$error":"#N/A"}},{"$f":"IF(B66>0,(VLOOKUP($B66,'Engag Pre'!$A$10:$G$109,7,FALSE)),\" \")","v":" "},{"$f":"IF(B66>0,(VLOOKUP($B66,'Engag Pre'!$A$10:$G$109,3,FALSE)),\" \")","v":" "},{"$f":"IF(B66>0,(VLOOKUP($B66,'Engag Pre'!$A$10:$G$109,4,FALSE)),\" \")","v":" "},{"$f":"IF(B66>0,(VLOOKUP($B66,'Engag Pre'!$A$10:$G$109,5,FALSE)),\" \")","v":" "},{"$f":"IF(B66>0,(VLOOKUP($B66,'Engag Pre'!$A$10:$G$109,6,FALSE)),\" \")","v":" "},null,null," ",{"$f":"IF(COUNTIF($G$10:$G66,G66)<2,$G66,\" \")","v":" "},57,{"$f":"IF(COUNTIF($G$10:$G66,G66)<3,$G66,\" \")","v":" "},57,"",1000]
[58,null,{"$f":"IF(A67>0,(VLOOKUP($A67,'Engag Pre'!$A$10:$G$74,3,FALSE)),\" \")","v":{"$error":"#N/A"}},{"$f":"IF(B67>0,(VLOOKUP($B67,'Engag Pre'!$A$10:$G$109,7,FALSE)),\" \")","v":" "},{"$f":"IF(B67>0,(VLOOKUP($B67,'Engag Pre'!$A$10:$G$109,3,FALSE)),\" \")","v":" "},{"$f":"IF(B67>0,(VLOOKUP($B67,'Engag Pre'!$A$10:$G$109,4,FALSE)),\" \")","v":" "},{"$f":"IF(B67>0,(VLOOKUP($B67,'Engag Pre'!$A$10:$G$109,5,FALSE)),\" \")","v":" "},{"$f":"IF(B67>0,(VLOOKUP($B67,'Engag Pre'!$A$10:$G$109,6,FALSE)),\" \")","v":" "},null,null," ",{"$f":"IF(COUNTIF($G$10:$G67,G67)<2,$G67,\" \")","v":" "},58,{"$f":"IF(COUNTIF($G$10:$G67,G67)<3,$G67,\" \")","v":" "},58,"",1000]
[59,null,{"$f":"IF(A68>0,(VLOOKUP($A68,'Engag Pre'!$A$10:$G$74,3,FALSE)),\" \")","v":{"$error":"#N/A"}},{"$f":"IF(B68>0,(VLOOKUP($B68,'Engag Pre'!$A$10:$G$109,7,FALSE)),\" \")","v":" "},{"$f":"IF(B68>0,(VLOOKUP($B68,'Engag Pre'!$A$10:$G$109,3,FALSE)),\" \")","v":" "},{"$f":"IF(B68>0,(VLOOKUP($B68,'Engag Pre'!$A$10:$G$109,4,FALSE)),\" \")","v":" "},{"$f":"IF(B68>0,(VLOOKUP($B68,'Engag Pre'!$A$10:$G$109,5,FALSE)),\" \")","v":" "},{"$f":"IF(B68>0,(VLOOKUP($B68,'Engag Pre'!$A$10:$G$109,6,FALSE)),\" \")","v":" "},null,null," ",{"$f":"IF(COUNTIF($G$10:$G68,G68)<2,$G68,\" \")","v":" "},59,{"$f":"IF(COUNTIF($G$10:$G68,G68)<3,$G68,\" \")","v":" "},59,"",1000]
[60,null,{"$f":"IF(A69>0,(VLOOKUP($A69,'Engag Pre'!$A$10:$G$74,3,FALSE)),\" \")","v":{"$error":"#N/A"}},{"$f":"IF(B69>0,(VLOOKUP($B69,'Engag Pre'!$A$10:$G$109,7,FALSE)),\" \")","v":" "},{"$f":"IF(B69>0,(VLOOKUP($B69,'Engag Pre'!$A$10:$G$109,3,FALSE)),\" \")","v":" "},{"$f":"IF(B69>0,(VLOOKUP($B69,'Engag Pre'!$A$10:$G$109,4,FALSE)),\" \")","v":" "},{"$f":"IF(B69>0,(VLOOKUP($B69,'Engag Pre'!$A$10:$G$109,5,FALSE)),\" \")","v":" "},{"$f":"IF(B69>0,(VLOOKUP($B69,'Engag Pre'!$A$10:$G$109,6,FALSE)),\" \")","v":" "},null,null," ",{"$f":"IF(COUNTIF($G$10:$G69,G69)<2,$G69,\" \")","v":" "},60,{"$f":"IF(COUNTIF($G$10:$G69,G69)<3,$G69,\" \")","v":" "},60,"",1000]
[61,null,{"$f":"IF(A70>0,(VLOOKUP($A70,'Engag Pre'!$A$10:$G$74,3,FALSE)),\" \")","v":{"$error":"#N/A"}},{"$f":"IF(B70>0,(VLOOKUP($B70,'Engag Pre'!$A$10:$G$109,7,FALSE)),\" \")","v":" "},{"$f":"IF(B70>0,(VLOOKUP($B70,'Engag Pre'!$A$10:$G$109,3,FALSE)),\" \")","v":" "},{"$f":"IF(B70>0,(VLOOKUP($B70,'Engag Pre'!$A$10:$G$109,4,FALSE)),\" \")","v":" "},{"$f":"IF(B70>0,(VLOOKUP($B70,'Engag Pre'!$A$10:$G$109,5,FALSE)),\" \")","v":" "},{"$f":"IF(B70>0,(VLOOKUP($B70,'Engag Pre'!$A$10:$G$109,6,FALSE)),\" \")","v":" "},null,null," ",{"$f":"IF(COUNTIF($G$10:$G70,G70)<2,$G70,\" \")","v":" "},61,{"$f":"IF(COUNTIF($G$10:$G70,G70)<3,$G70,\" \")","v":" "},61,"",1000]
[62,null,{"$f":"IF(A71>0,(VLOOKUP($A71,'Engag Pre'!$A$10:$G$74,3,FALSE)),\" \")","v":{"$error":"#N/A"}},{"$f":"IF(B71>0,(VLOOKUP($B71,'Engag Pre'!$A$10:$G$109,7,FALSE)),\" \")","v":" "},{"$f":"IF(B71>0,(VLOOKUP($B71,'Engag Pre'!$A$10:$G$109,3,FALSE)),\" \")","v":" "},{"$f":"IF(B71>0,(VLOOKUP($B71,'Engag Pre'!$A$10:$G$109,4,FALSE)),\" \")","v":" "},{"$f":"IF(B71>0,(VLOOKUP($B71,'Engag Pre'!$A$10:$G$109,5,FALSE)),\" \")","v":" "},{"$f":"IF(B71>0,(VLOOKUP($B71,'Engag Pre'!$A$10:$G$109,6,FALSE)),\" \")","v":" "},null,null," ",{"$f":"IF(COUNTIF($G$10:$G71,G71)<2,$G71,\" \")","v":" "},62,{"$f":"IF(COUNTIF($G$10:$G71,G71)<3,$G71,\" \")","v":" "},62,"",1000]
[63,null,{"$f":"IF(A72>0,(VLOOKUP($A72,'Engag Pre'!$A$10:$G$74,3,FALSE)),\" \")","v":{"$error":"#N/A"}},{"$f":"IF(B72>0,(VLOOKUP($B72,'Engag Pre'!$A$10:$G$109,7,FALSE)),\" \")","v":" "},{"$f":"IF(B72>0,(VLOOKUP($B72,'Engag Pre'!$A$10:$G$109,3,FALSE)),\" \")","v":" "},{"$f":"IF(B72>0,(VLOOKUP($B72,'Engag Pre'!$A$10:$G$109,4,FALSE)),\" \")","v":" "},{"$f":"IF(B72>0,(VLOOKUP($B72,'Engag Pre'!$A$10:$G$109,5,FALSE)),\" \")","v":" "},{"$f":"IF(B72>0,(VLOOKUP($B72,'Engag Pre'!$A$10:$G$109,6,FALSE)),\" \")","v":" "},null,null," ",{"$f":"IF(COUNTIF($G$10:$G72,G72)<2,$G72,\" \")","v":" "},63,{"$f":"IF(COUNTIF($G$10:$G72,G72)<3,$G72,\" \")","v":" "},63,"",1000]
[64,null,{"$f":"IF(A73>0,(VLOOKUP($A73,'Engag Pre'!$A$10:$G$74,3,FALSE)),\" \")","v":{"$error":"#N/A"}},{"$f":"IF(B73>0,(VLOOKUP($B73,'Engag Pre'!$A$10:$G$109,7,FALSE)),\" \")","v":" "},{"$f":"IF(B73>0,(VLOOKUP($B73,'Engag Pre'!$A$10:$G$109,3,FALSE)),\" \")","v":" "},{"$f":"IF(B73>0,(VLOOKUP($B73,'Engag Pre'!$A$10:$G$109,4,FALSE)),\" \")","v":" "},{"$f":"IF(B73>0,(VLOOKUP($B73,'Engag Pre'!$A$10:$G$109,5,FALSE)),\" \")","v":" "},{"$f":"IF(B73>0,(VLOOKUP($B73,'Engag Pre'!$A$10:$G$109,6,FALSE)),\" \")","v":" "},null,null," ",{"$f":"IF(COUNTIF($G$10:$G73,G73)<2,$G73,\" \")","v":" "},64,{"$f":"IF(COUNTIF($G$10:$G73,G73)<3,$G73,\" \")","v":" "},64,"",1000]
[65,null,{"$f":"IF(A74>0,(VLOOKUP($A74,'Engag Pre'!$A$10:$G$74,3,FALSE)),\" \")","v":{"$error":"#N/A"}},{"$f":"IF(B74>0,(VLOOKUP($B74,'Engag Pre'!$A$10:$G$109,7,FALSE)),\" \")","v":" "},{"$f":"IF(B74>0,(VLOOKUP($B74,'Engag Pre'!$A$10:$G$109,3,FALSE)),\" \")","v":" "},{"$f":"IF(B74>0,(VLOOKUP($B74,'Engag Pre'!$A$10:$G$109,4,FALSE)),\" \")","v":" "},{"$f":"IF(B74>0,(VLOOKUP($B74,'Engag Pre'!$A$10:$G$109,5,FALSE)),\" \")","v":" "},{"$f":"IF(B74>0,(VLOOKUP($B74,'Engag Pre'!$A$10:$G$109,6,FALSE)),\" \")","v":" "},null,null," ",{"$f":"IF(COUNTIF($G$10:$G74,G74)<2,$G74,\" \")","v":" "},65,{"$f":"IF(COUNTIF($G$10:$G74,G74)<3,$G74,\" \")","v":" "},65,"",1000]
[66,null,{"$f":"IF(A75>0,(VLOOKUP($A75,'Engag Pre'!$A$10:$G$74,3,FALSE)),\" \")","v":{"$error":"#N/A"}},{"$f":"IF(B75>0,(VLOOKUP($B75,'Engag Pre'!$A$10:$G$109,7,FALSE)),\" \")","v":" "},{"$f":"IF(B75>0,(VLOOKUP($B75,'Engag Pre'!$A$10:$G$109,3,FALSE)),\" \")","v":" "},{"$f":"IF(B75>0,(VLOOKUP($B75,'Engag Pre'!$A$10:$G$109,4,FALSE)),\" \")","v":" "},{"$f":"IF(B75>0,(VLOOKUP($B75,'Engag Pre'!$A$10:$G$109,5,FALSE)),\" \")","v":" "},{"$f":"IF(B75>0,(VLOOKUP($B75,'Engag Pre'!$A$10:$G$109,6,FALSE)),\" \")","v":" "},null,null,{"$f":"IF(COUNTIF($B$10:$B$109,B75)>1,\"Déjà classé\",\" \")","v":" "},{"$f":"IF(COUNTIF($G$10:$G75,G75)<2,$G75,\" \")","v":" "},{"$f":"IF($E$6<5,1000,(IF(L75=G75,A75,\"\")))","v":66},{"$f":"IF(COUNTIF($G$10:$G75,G75)<3,$G75,\" \")","v":" "},{"$f":"IF(N75=$G75,$A75,\"\")","v":66},{"$f":"IF(N75=L75,\"\",N75)","v":""},{"$f":"IF($E$6<5,1000,(IF(P75=$G75,$A75,1000)))","v":1000}]
[67,null,{"$f":"IF(A76>0,(VLOOKUP($A76,'Engag Pre'!$A$10:$G$74,3,FALSE)),\" \")","v":{"$error":"#N/A"}},{"$f":"IF(B76>0,(VLOOKUP($B76,'Engag Pre'!$A$10:$G$109,7,FALSE)),\" \")","v":" "},{"$f":"IF(B76>0,(VLOOKUP($B76,'Engag Pre'!$A$10:$G$109,3,FALSE)),\" \")","v":" "},{"$f":"IF(B76>0,(VLOOKUP($B76,'Engag Pre'!$A$10:$G$109,4,FALSE)),\" \")","v":" "},{"$f":"IF(B76>0,(VLOOKUP($B76,'Engag Pre'!$A$10:$G$109,5,FALSE)),\" \")","v":" "},{"$f":"IF(B76>0,(VLOOKUP($B76,'Engag Pre'!$A$10:$G$109,6,FALSE)),\" \")","v":" "},null,null," ",{"$f":"IF(COUNTIF($G$10:$G76,G76)<2,$G76,\" \")","v":" "},67,{"$f":"IF(COUNTIF($G$10:$G76,G76)<3,$G76,\" \")","v":" "},67,"",1000]
[68,null,{"$f":"IF(A77>0,(VLOOKUP($A77,'Engag Pre'!$A$10:$G$74,3,FALSE)),\" \")","v":{"$error":"#N/A"}},{"$f":"IF(B77>0,(VLOOKUP($B77,'Engag Pre'!$A$10:$G$109,7,FALSE)),\" \")","v":" "},{"$f":"IF(B77>0,(VLOOKUP($B77,'Engag Pre'!$A$10:$G$109,3,FALSE)),\" \")","v":" "},{"$f":"IF(B77>0,(VLOOKUP($B77,'Engag Pre'!$A$10:$G$109,4,FALSE)),\" \")","v":" "},{"$f":"IF(B77>0,(VLOOKUP($B77,'Engag Pre'!$A$10:$G$109,5,FALSE)),\" \")","v":" "},{"$f":"IF(B77>0,(VLOOKUP($B77,'Engag Pre'!$A$10:$G$109,6,FALSE)),\" \")","v":" "},null,null," ",{"$f":"IF(COUNTIF($G$10:$G77,G77)<2,$G77,\" \")","v":" "},68,{"$f":"IF(COUNTIF($G$10:$G77,G77)<3,$G77,\" \")","v":" "},68,"",1000]
[69,null,{"$f":"IF(A78>0,(VLOOKUP($A78,'Engag Pre'!$A$10:$G$74,3,FALSE)),\" \")","v":{"$error":"#N/A"}},{"$f":"IF(B78>0,(VLOOKUP($B78,'Engag Pre'!$A$10:$G$109,7,FALSE)),\" \")","v":" "},{"$f":"IF(B78>0,(VLOOKUP($B78,'Engag Pre'!$A$10:$G$109,3,FALSE)),\" \")","v":" "},{"$f":"IF(B78>0,(VLOOKUP($B78,'Engag Pre'!$A$10:$G$109,4,FALSE)),\" \")","v":" "},{"$f":"IF(B78>0,(VLOOKUP($B78,'Engag Pre'!$A$10:$G$109,5,FALSE)),\" \")","v":" "},{"$f":"IF(B78>0,(VLOOKUP($B78,'Engag Pre'!$A$10:$G$109,6,FALSE)),\" \")","v":" "},null,null," ",{"$f":"IF(COUNTIF($G$10:$G78,G78)<2,$G78,\" \")","v":" "},69,{"$f":"IF(COUNTIF($G$10:$G78,G78)<3,$G78,\" \")","v":" "},69,"",1000]
[70,null,{"$f":"IF(A79>0,(VLOOKUP($A79,'Engag Pre'!$A$10:$G$74,3,FALSE)),\" \")","v":{"$error":"#N/A"}},{"$f":"IF(B79>0,(VLOOKUP($B79,'Engag Pre'!$A$10:$G$109,7,FALSE)),\" \")","v":" "},{"$f":"IF(B79>0,(VLOOKUP($B79,'Engag Pre'!$A$10:$G$109,3,FALSE)),\" \")","v":" "},{"$f":"IF(B79>0,(VLOOKUP($B79,'Engag Pre'!$A$10:$G$109,4,FALSE)),\" \")","v":" "},{"$f":"IF(B79>0,(VLOOKUP($B79,'Engag Pre'!$A$10:$G$109,5,FALSE)),\" \")","v":" "},{"$f":"IF(B79>0,(VLOOKUP($B79,'Engag Pre'!$A$10:$G$109,6,FALSE)),\" \")","v":" "},null,null," ",{"$f":"IF(COUNTIF($G$10:$G79,G79)<2,$G79,\" \")","v":" "},70,{"$f":"IF(COUNTIF($G$10:$G79,G79)<3,$G79,\" \")","v":" "},70,"",1000]
[71,null,{"$f":"IF(A80>0,(VLOOKUP($A80,'Engag Pre'!$A$10:$G$74,3,FALSE)),\" \")","v":{"$error":"#N/A"}},{"$f":"IF(B80>0,(VLOOKUP($B80,'Engag Pre'!$A$10:$G$109,7,FALSE)),\" \")","v":" "},{"$f":"IF(B80>0,(VLOOKUP($B80,'Engag Pre'!$A$10:$G$109,3,FALSE)),\" \")","v":" "},{"$f":"IF(B80>0,(VLOOKUP($B80,'Engag Pre'!$A$10:$G$109,4,FALSE)),\" \")","v":" "},{"$f":"IF(B80>0,(VLOOKUP($B80,'Engag Pre'!$A$10:$G$109,5,FALSE)),\" \")","v":" "},{"$f":"IF(B80>0,(VLOOKUP($B80,'Engag Pre'!$A$10:$G$109,6,FALSE)),\" \")","v":" "},null,null," ",{"$f":"IF(COUNTIF($G$10:$G80,G80)<2,$G80,\" \")","v":" "},71,{"$f":"IF(COUNTIF($G$10:$G80,G80)<3,$G80,\" \")","v":" "},71,"",1000]
[72,null,{"$f":"IF(A81>0,(VLOOKUP($A81,'Engag Pre'!$A$10:$G$74,3,FALSE)),\" \")","v":{"$error":"#N/A"}},{"$f":"IF(B81>0,(VLOOKUP($B81,'Engag Pre'!$A$10:$G$109,7,FALSE)),\" \")","v":" "},{"$f":"IF(B81>0,(VLOOKUP($B81,'Engag Pre'!$A$10:$G$109,3,FALSE)),\" \")","v":" "},{"$f":"IF(B81>0,(VLOOKUP($B81,'Engag Pre'!$A$10:$G$109,4,FALSE)),\" \")","v":" "},{"$f":"IF(B81>0,(VLOOKUP($B81,'Engag Pre'!$A$10:$G$109,5,FALSE)),\" \")","v":" "},{"$f":"IF(B81>0,(VLOOKUP($B81,'Engag Pre'!$A$10:$G$109,6,FALSE)),\" \")","v":" "},null,null," ",{"$f":"IF(COUNTIF($G$10:$G81,G81)<2,$G81,\" \")","v":" "},72,{"$f":"IF(COUNTIF($G$10:$G81,G81)<3,$G81,\" \")","v":" "},72,"",1000]
[73,null,{"$f":"IF(A82>0,(VLOOKUP($A82,'Engag Pre'!$A$10:$G$74,3,FALSE)),\" \")","v":{"$error":"#N/A"}},{"$f":"IF(B82>0,(VLOOKUP($B82,'Engag Pre'!$A$10:$G$109,7,FALSE)),\" \")","v":" "},{"$f":"IF(B82>0,(VLOOKUP($B82,'Engag Pre'!$A$10:$G$109,3,FALSE)),\" \")","v":" "},{"$f":"IF(B82>0,(VLOOKUP($B82,'Engag Pre'!$A$10:$G$109,4,FALSE)),\" \")","v":" "},{"$f":"IF(B82>0,(VLOOKUP($B82,'Engag Pre'!$A$10:$G$109,5,FALSE)),\" \")","v":" "},{"$f":"IF(B82>0,(VLOOKUP($B82,'Engag Pre'!$A$10:$G$109,6,FALSE)),\" \")","v":" "},null,null," ",{"$f":"IF(COUNTIF($G$10:$G82,G82)<2,$G82,\" \")","v":" "},73,{"$f":"IF(COUNTIF($G$10:$G82,G82)<3,$G82,\" \")","v":" "},73,"",1000]
[74,null,{"$f":"IF(A83>0,(VLOOKUP($A83,'Engag Pre'!$A$10:$G$74,3,FALSE)),\" \")","v":{"$error":"#N/A"}},{"$f":"IF(B83>0,(VLOOKUP($B83,'Engag Pre'!$A$10:$G$109,7,FALSE)),\" \")","v":" "},{"$f":"IF(B83>0,(VLOOKUP($B83,'Engag Pre'!$A$10:$G$109,3,FALSE)),\" \")","v":" "},{"$f":"IF(B83>0,(VLOOKUP($B83,'Engag Pre'!$A$10:$G$109,4,FALSE)),\" \")","v":" "},{"$f":"IF(B83>0,(VLOOKUP($B83,'Engag Pre'!$A$10:$G$109,5,FALSE)),\" \")","v":" "},{"$f":"IF(B83>0,(VLOOKUP($B83,'Engag Pre'!$A$10:$G$109,6,FALSE)),\" \")","v":" "},null,null," ",{"$f":"IF(COUNTIF($G$10:$G83,G83)<2,$G83,\" \")","v":" "},74,{"$f":"IF(COUNTIF($G$10:$G83,G83)<3,$G83,\" \")","v":" "},74,"",1000]
[75,null,{"$f":"IF(A84>0,(VLOOKUP($A84,'Engag Pre'!$A$10:$G$74,3,FALSE)),\" \")","v":{"$error":"#N/A"}},{"$f":"IF(B84>0,(VLOOKUP($B84,'Engag Pre'!$A$10:$G$109,7,FALSE)),\" \")","v":" "},{"$f":"IF(B84>0,(VLOOKUP($B84,'Engag Pre'!$A$10:$G$109,3,FALSE)),\" \")","v":" "},{"$f":"IF(B84>0,(VLOOKUP($B84,'Engag Pre'!$A$10:$G$109,4,FALSE)),\" \")","v":" "},{"$f":"IF(B84>0,(VLOOKUP($B84,'Engag Pre'!$A$10:$G$109,5,FALSE)),\" \")","v":" "},{"$f":"IF(B84>0,(VLOOKUP($B84,'Engag Pre'!$A$10:$G$109,6,FALSE)),\" \")","v":" "},null,null," ",{"$f":"IF(COUNTIF($G$10:$G84,G84)<2,$G84,\" \")","v":" "},75,{"$f":"IF(COUNTIF($G$10:$G84,G84)<3,$G84,\" \")","v":" "},75,"",1000]
[76,null,{"$f":"IF(A85>0,(VLOOKUP($A85,'Engag Pre'!$A$10:$G$74,3,FALSE)),\" \")","v":{"$error":"#N/A"}},{"$f":"IF(B85>0,(VLOOKUP($B85,'Engag Pre'!$A$10:$G$109,7,FALSE)),\" \")","v":" "},{"$f":"IF(B85>0,(VLOOKUP($B85,'Engag Pre'!$A$10:$G$109,3,FALSE)),\" \")","v":" "},{"$f":"IF(B85>0,(VLOOKUP($B85,'Engag Pre'!$A$10:$G$109,4,FALSE)),\" \")","v":" "},{"$f":"IF(B85>0,(VLOOKUP($B85,'Engag Pre'!$A$10:$G$109,5,FALSE)),\" \")","v":" "},{"$f":"IF(B85>0,(VLOOKUP($B85,'Engag Pre'!$A$10:$G$109,6,FALSE)),\" \")","v":" "},null,null," ",{"$f":"IF(COUNTIF($G$10:$G85,G85)<2,$G85,\" \")","v":" "},76,{"$f":"IF(COUNTIF($G$10:$G85,G85)<3,$G85,\" \")","v":" "},76,"",1000]
[77,null,{"$f":"IF(A86>0,(VLOOKUP($A86,'Engag Pre'!$A$10:$G$74,3,FALSE)),\" \")","v":{"$error":"#N/A"}},{"$f":"IF(B86>0,(VLOOKUP($B86,'Engag Pre'!$A$10:$G$109,7,FALSE)),\" \")","v":" "},{"$f":"IF(B86>0,(VLOOKUP($B86,'Engag Pre'!$A$10:$G$109,3,FALSE)),\" \")","v":" "},{"$f":"IF(B86>0,(VLOOKUP($B86,'Engag Pre'!$A$10:$G$109,4,FALSE)),\" \")","v":" "},{"$f":"IF(B86>0,(VLOOKUP($B86,'Engag Pre'!$A$10:$G$109,5,FALSE)),\" \")","v":" "},{"$f":"IF(B86>0,(VLOOKUP($B86,'Engag Pre'!$A$10:$G$109,6,FALSE)),\" \")","v":" "},null,null," ",{"$f":"IF(COUNTIF($G$10:$G86,G86)<2,$G86,\" \")","v":" "},77,{"$f":"IF(COUNTIF($G$10:$G86,G86)<3,$G86,\" \")","v":" "},77,"",1000]
[78,null,{"$f":"IF(A87>0,(VLOOKUP($A87,'Engag Pre'!$A$10:$G$74,3,FALSE)),\" \")","v":{"$error":"#N/A"}},{"$f":"IF(B87>0,(VLOOKUP($B87,'Engag Pre'!$A$10:$G$109,7,FALSE)),\" \")","v":" "},{"$f":"IF(B87>0,(VLOOKUP($B87,'Engag Pre'!$A$10:$G$109,3,FALSE)),\" \")","v":" "},{"$f":"IF(B87>0,(VLOOKUP($B87,'Engag Pre'!$A$10:$G$109,4,FALSE)),\" \")","v":" "},{"$f":"IF(B87>0,(VLOOKUP($B87,'Engag Pre'!$A$10:$G$109,5,FALSE)),\" \")","v":" "},{"$f":"IF(B87>0,(VLOOKUP($B87,'Engag Pre'!$A$10:$G$109,6,FALSE)),\" \")","v":" "},null,null," ",{"$f":"IF(COUNTIF($G$10:$G87,G87)<2,$G87,\" \")","v":" "},78,{"$f":"IF(COUNTIF($G$10:$G87,G87)<3,$G87,\" \")","v":" "},78,"",1000]
[79,null,{"$f":"IF(A88>0,(VLOOKUP($A88,'Engag Pre'!$A$10:$G$74,3,FALSE)),\" \")","v":{"$error":"#N/A"}},{"$f":"IF(B88>0,(VLOOKUP($B88,'Engag Pre'!$A$10:$G$109,7,FALSE)),\" \")","v":" "},{"$f":"IF(B88>0,(VLOOKUP($B88,'Engag Pre'!$A$10:$G$109,3,FALSE)),\" \")","v":" "},{"$f":"IF(B88>0,(VLOOKUP($B88,'Engag Pre'!$A$10:$G$109,4,FALSE)),\" \")","v":" "},{"$f":"IF(B88>0,(VLOOKUP($B88,'Engag Pre'!$A$10:$G$109,5,FALSE)),\" \")","v":" "},{"$f":"IF(B88>0,(VLOOKUP($B88,'Engag Pre'!$A$10:$G$109,6,FALSE)),\" \")","v":" "},null,null," ",{"$f":"IF(COUNTIF($G$10:$G88,G88)<2,$G88,\" \")","v":" "},79,{"$f":"IF(COUNTIF($G$10:$G88,G88)<3,$G88,\" \")","v":" "},79,"",1000]
[80,null,{"$f":"IF(A89>0,(VLOOKUP($A89,'Engag Pre'!$A$10:$G$74,3,FALSE)),\" \")","v":{"$error":"#N/A"}},{"$f":"IF(B89>0,(VLOOKUP($B89,'Engag Pre'!$A$10:$G$109,7,FALSE)),\" \")","v":" "},{"$f":"IF(B89>0,(VLOOKUP($B89,'Engag Pre'!$A$10:$G$109,3,FALSE)),\" \")","v":" "},{"$f":"IF(B89>0,(VLOOKUP($B89,'Engag Pre'!$A$10:$G$109,4,FALSE)),\" \")","v":" "},{"$f":"IF(B89>0,(VLOOKUP($B89,'Engag Pre'!$A$10:$G$109,5,FALSE)),\" \")","v":" "},{"$f":"IF(B89>0,(VLOOKUP($B89,'Engag Pre'!$A$10:$G$109,6,FALSE)),\" \")","v":" "},null,null," ",{"$f":"IF(COUNTIF($G$10:$G89,G89)<2,$G89,\" \")","v":" "},80,{"$f":"IF(COUNTIF($G$10:$G89,G89)<3,$G89,\" \")","v":" "},80,"",1000]
[81,null,{"$f":"IF(A90>0,(VLOOKUP($A90,'Engag Pre'!$A$10:$G$74,3,FALSE)),\" \")","v":{"$error":"#N/A"}},{"$f":"IF(B90>0,(VLOOKUP($B90,'Engag Pre'!$A$10:$G$109,7,FALSE)),\" \")","v":" "},{"$f":"IF(B90>0,(VLOOKUP($B90,'Engag Pre'!$A$10:$G$109,3,FALSE)),\" \")","v":" "},{"$f":"IF(B90>0,(VLOOKUP($B90,'Engag Pre'!$A$10:$G$109,4,FALSE)),\" \")","v":" "},{"$f":"IF(B90>0,(VLOOKUP($B90,'Engag Pre'!$A$10:$G$109,5,FALSE)),\" \")","v":" "},{"$f":"IF(B90>0,(VLOOKUP($B90,'Engag Pre'!$A$10:$G$109,6,FALSE)),\" \")","v":" "},null,null," ",{"$f":"IF(COUNTIF($G$10:$G90,G90)<2,$G90,\" \")","v":" "},81,{"$f":"IF(COUNTIF($G$10:$G90,G90)<3,$G90,\" \")","v":" "},81,"",1000]
[82,null,{"$f":"IF(A91>0,(VLOOKUP($A91,'Engag Pre'!$A$10:$G$74,3,FALSE)),\" \")","v":{"$error":"#N/A"}},{"$f":"IF(B91>0,(VLOOKUP($B91,'Engag Pre'!$A$10:$G$109,7,FALSE)),\" \")","v":" "},{"$f":"IF(B91>0,(VLOOKUP($B91,'Engag Pre'!$A$10:$G$109,3,FALSE)),\" \")","v":" "},{"$f":"IF(B91>0,(VLOOKUP($B91,'Engag Pre'!$A$10:$G$109,4,FALSE)),\" \")","v":" "},{"$f":"IF(B91>0,(VLOOKUP($B91,'Engag Pre'!$A$10:$G$109,5,FALSE)),\" \")","v":" "},{"$f":"IF(B91>0,(VLOOKUP($B91,'Engag Pre'!$A$10:$G$109,6,FALSE)),\" \")","v":" "},null,null," ",{"$f":"IF(COUNTIF($G$10:$G91,G91)<2,$G91,\" \")","v":" "},82,{"$f":"IF(COUNTIF($G$10:$G91,G91)<3,$G91,\" \")","v":" "},82,"",1000]
[83,null,{"$f":"IF(A92>0,(VLOOKUP($A92,'Engag Pre'!$A$10:$G$74,3,FALSE)),\" \")","v":{"$error":"#N/A"}},{"$f":"IF(B92>0,(VLOOKUP($B92,'Engag Pre'!$A$10:$G$109,7,FALSE)),\" \")","v":" "},{"$f":"IF(B92>0,(VLOOKUP($B92,'Engag Pre'!$A$10:$G$109,3,FALSE)),\" \")","v":" "},{"$f":"IF(B92>0,(VLOOKUP($B92,'Engag Pre'!$A$10:$G$109,4,FALSE)),\" \")","v":" "},{"$f":"IF(B92>0,(VLOOKUP($B92,'Engag Pre'!$A$10:$G$109,5,FALSE)),\" \")","v":" "},{"$f":"IF(B92>0,(VLOOKUP($B92,'Engag Pre'!$A$10:$G$109,6,FALSE)),\" \")","v":" "},null,null," ",{"$f":"IF(COUNTIF($G$10:$G92,G92)<2,$G92,\" \")","v":" "},83,{"$f":"IF(COUNTIF($G$10:$G92,G92)<3,$G92,\" \")","v":" "},83,"",1000]
[84,null,{"$f":"IF(A93>0,(VLOOKUP($A93,'Engag Pre'!$A$10:$G$74,3,FALSE)),\" \")","v":{"$error":"#N/A"}},{"$f":"IF(B93>0,(VLOOKUP($B93,'Engag Pre'!$A$10:$G$109,7,FALSE)),\" \")","v":" "},{"$f":"IF(B93>0,(VLOOKUP($B93,'Engag Pre'!$A$10:$G$109,3,FALSE)),\" \")","v":" "},{"$f":"IF(B93>0,(VLOOKUP($B93,'Engag Pre'!$A$10:$G$109,4,FALSE)),\" \")","v":" "},{"$f":"IF(B93>0,(VLOOKUP($B93,'Engag Pre'!$A$10:$G$109,5,FALSE)),\" \")","v":" "},{"$f":"IF(B93>0,(VLOOKUP($B93,'Engag Pre'!$A$10:$G$109,6,FALSE)),\" \")","v":" "},null,null," ",{"$f":"IF(COUNTIF($G$10:$G93,G93)<2,$G93,\" \")","v":" "},84,{"$f":"IF(COUNTIF($G$10:$G93,G93)<3,$G93,\" \")","v":" "},84,"",1000]
[85,null,{"$f":"IF(A94>0,(VLOOKUP($A94,'Engag Pre'!$A$10:$G$74,3,FALSE)),\" \")","v":{"$error":"#N/A"}},{"$f":"IF(B94>0,(VLOOKUP($B94,'Engag Pre'!$A$10:$G$109,7,FALSE)),\" \")","v":" "},{"$f":"IF(B94>0,(VLOOKUP($B94,'Engag Pre'!$A$10:$G$109,3,FALSE)),\" \")","v":" "},{"$f":"IF(B94>0,(VLOOKUP($B94,'Engag Pre'!$A$10:$G$109,4,FALSE)),\" \")","v":" "},{"$f":"IF(B94>0,(VLOOKUP($B94,'Engag Pre'!$A$10:$G$109,5,FALSE)),\" \")","v":" "},{"$f":"IF(B94>0,(VLOOKUP($B94,'Engag Pre'!$A$10:$G$109,6,FALSE)),\" \")","v":" "},null,null," ",{"$f":"IF(COUNTIF($G$10:$G94,G94)<2,$G94,\" \")","v":" "},85,{"$f":"IF(COUNTIF($G$10:$G94,G94)<3,$G94,\" \")","v":" "},85,"",1000]
[86,null,{"$f":"IF(A95>0,(VLOOKUP($A95,'Engag Pre'!$A$10:$G$74,3,FALSE)),\" \")","v":{"$error":"#N/A"}},{"$f":"IF(B95>0,(VLOOKUP($B95,'Engag Pre'!$A$10:$G$109,7,FALSE)),\" \")","v":" "},{"$f":"IF(B95>0,(VLOOKUP($B95,'Engag Pre'!$A$10:$G$109,3,FALSE)),\" \")","v":" "},{"$f":"IF(B95>0,(VLOOKUP($B95,'Engag Pre'!$A$10:$G$109,4,FALSE)),\" \")","v":" "},{"$f":"IF(B95>0,(VLOOKUP($B95,'Engag Pre'!$A$10:$G$109,5,FALSE)),\" \")","v":" "},{"$f":"IF(B95>0,(VLOOKUP($B95,'Engag Pre'!$A$10:$G$109,6,FALSE)),\" \")","v":" "},null,null," ",{"$f":"IF(COUNTIF($G$10:$G95,G95)<2,$G95,\" \")","v":" "},86,{"$f":"IF(COUNTIF($G$10:$G95,G95)<3,$G95,\" \")","v":" "},86,"",1000]
[87,null,{"$f":"IF(A96>0,(VLOOKUP($A96,'Engag Pre'!$A$10:$G$74,3,FALSE)),\" \")","v":{"$error":"#N/A"}},{"$f":"IF(B96>0,(VLOOKUP($B96,'Engag Pre'!$A$10:$G$109,7,FALSE)),\" \")","v":" "},{"$f":"IF(B96>0,(VLOOKUP($B96,'Engag Pre'!$A$10:$G$109,3,FALSE)),\" \")","v":" "},{"$f":"IF(B96>0,(VLOOKUP($B96,'Engag Pre'!$A$10:$G$109,4,FALSE)),\" \")","v":" "},{"$f":"IF(B96>0,(VLOOKUP($B96,'Engag Pre'!$A$10:$G$109,5,FALSE)),\" \")","v":" "},{"$f":"IF(B96>0,(VLOOKUP($B96,'Engag Pre'!$A$10:$G$109,6,FALSE)),\" \")","v":" "},null,null," ",{"$f":"IF(COUNTIF($G$10:$G96,G96)<2,$G96,\" \")","v":" "},87,{"$f":"IF(COUNTIF($G$10:$G96,G96)<3,$G96,\" \")","v":" "},87,"",1000]
[88,null,{"$f":"IF(A97>0,(VLOOKUP($A97,'Engag Pre'!$A$10:$G$74,3,FALSE)),\" \")","v":{"$error":"#N/A"}},{"$f":"IF(B97>0,(VLOOKUP($B97,'Engag Pre'!$A$10:$G$109,7,FALSE)),\" \")","v":" "},{"$f":"IF(B97>0,(VLOOKUP($B97,'Engag Pre'!$A$10:$G$109,3,FALSE)),\" \")","v":" "},{"$f":"IF(B97>0,(VLOOKUP($B97,'Engag Pre'!$A$10:$G$109,4,FALSE)),\" \")","v":" "},{"$f":"IF(B97>0,(VLOOKUP($B97,'Engag Pre'!$A$10:$G$109,5,FALSE)),\" \")","v":" "},{"$f":"IF(B97>0,(VLOOKUP($B97,'Engag Pre'!$A$10:$G$109,6,FALSE)),\" \")","v":" "},null,null," ",{"$f":"IF(COUNTIF($G$10:$G97,G97)<2,$G97,\" \")","v":" "},88,{"$f":"IF(COUNTIF($G$10:$G97,G97)<3,$G97,\" \")","v":" "},88,"",1000]
[89,null,{"$f":"IF(A98>0,(VLOOKUP($A98,'Engag Pre'!$A$10:$G$74,3,FALSE)),\" \")","v":{"$error":"#N/A"}},{"$f":"IF(B98>0,(VLOOKUP($B98,'Engag Pre'!$A$10:$G$109,7,FALSE)),\" \")","v":" "},{"$f":"IF(B98>0,(VLOOKUP($B98,'Engag Pre'!$A$10:$G$109,3,FALSE)),\" \")","v":" "},{"$f":"IF(B98>0,(VLOOKUP($B98,'Engag Pre'!$A$10:$G$109,4,FALSE)),\" \")","v":" "},{"$f":"IF(B98>0,(VLOOKUP($B98,'Engag Pre'!$A$10:$G$109,5,FALSE)),\" \")","v":" "},{"$f":"IF(B98>0,(VLOOKUP($B98,'Engag Pre'!$A$10:$G$109,6,FALSE)),\" \")","v":" "},null,null," ",{"$f":"IF(COUNTIF($G$10:$G98,G98)<2,$G98,\" \")","v":" "},89,{"$f":"IF(COUNTIF($G$10:$G98,G98)<3,$G98,\" \")","v":" "},89,"",1000]
[90,null,{"$f":"IF(A99>0,(VLOOKUP($A99,'Engag Pre'!$A$10:$G$74,3,FALSE)),\" \")","v":{"$error":"#N/A"}},{"$f":"IF(B99>0,(VLOOKUP($B99,'Engag Pre'!$A$10:$G$109,7,FALSE)),\" \")","v":" "},{"$f":"IF(B99>0,(VLOOKUP($B99,'Engag Pre'!$A$10:$G$109,3,FALSE)),\" \")","v":" "},{"$f":"IF(B99>0,(VLOOKUP($B99,'Engag Pre'!$A$10:$G$109,4,FALSE)),\" \")","v":" "},{"$f":"IF(B99>0,(VLOOKUP($B99,'Engag Pre'!$A$10:$G$109,5,FALSE)),\" \")","v":" "},{"$f":"IF(B99>0,(VLOOKUP($B99,'Engag Pre'!$A$10:$G$109,6,FALSE)),\" \")","v":" "},null,null," ",{"$f":"IF(COUNTIF($G$10:$G99,G99)<2,$G99,\" \")","v":" "},90,{"$f":"IF(COUNTIF($G$10:$G99,G99)<3,$G99,\" \")","v":" "},90,"",1000]
[91,null,{"$f":"IF(A100>0,(VLOOKUP($A100,'Engag Pre'!$A$10:$G$74,3,FALSE)),\" \")","v":{"$error":"#N/A"}},{"$f":"IF(B100>0,(VLOOKUP($B100,'Engag Pre'!$A$10:$G$109,7,FALSE)),\" \")","v":" "},{"$f":"IF(B100>0,(VLOOKUP($B100,'Engag Pre'!$A$10:$G$109,3,FALSE)),\" \")","v":" "},{"$f":"IF(B100>0,(VLOOKUP($B100,'Engag Pre'!$A$10:$G$109,4,FALSE)),\" \")","v":" "},{"$f":"IF(B100>0,(VLOOKUP($B100,'Engag Pre'!$A$10:$G$109,5,FALSE)),\" \")","v":" "},{"$f":"IF(B100>0,(VLOOKUP($B100,'Engag Pre'!$A$10:$G$109,6,FALSE)),\" \")","v":" "},null,null," ",{"$f":"IF(COUNTIF($G$10:$G100,G100)<2,$G100,\" \")","v":" "},91,{"$f":"IF(COUNTIF($G$10:$G100,G100)<3,$G100,\" \")","v":" "},91,"",1000]
[92,null,{"$f":"IF(A101>0,(VLOOKUP($A101,'Engag Pre'!$A$10:$G$74,3,FALSE)),\" \")","v":{"$error":"#N/A"}},{"$f":"IF(B101>0,(VLOOKUP($B101,'Engag Pre'!$A$10:$G$109,7,FALSE)),\" \")","v":" "},{"$f":"IF(B101>0,(VLOOKUP($B101,'Engag Pre'!$A$10:$G$109,3,FALSE)),\" \")","v":" "},{"$f":"IF(B101>0,(VLOOKUP($B101,'Engag Pre'!$A$10:$G$109,4,FALSE)),\" \")","v":" "},{"$f":"IF(B101>0,(VLOOKUP($B101,'Engag Pre'!$A$10:$G$109,5,FALSE)),\" \")","v":" "},{"$f":"IF(B101>0,(VLOOKUP($B101,'Engag Pre'!$A$10:$G$109,6,FALSE)),\" \")","v":" "},null,null," ",{"$f":"IF(COUNTIF($G$10:$G101,G101)<2,$G101,\" \")","v":" "},92,{"$f":"IF(COUNTIF($G$10:$G101,G101)<3,$G101,\" \")","v":" "},92,"",1000]
[93,null,{"$f":"IF(A102>0,(VLOOKUP($A102,'Engag Pre'!$A$10:$G$74,3,FALSE)),\" \")","v":{"$error":"#N/A"}},{"$f":"IF(B102>0,(VLOOKUP($B102,'Engag Pre'!$A$10:$G$109,7,FALSE)),\" \")","v":" "},{"$f":"IF(B102>0,(VLOOKUP($B102,'Engag Pre'!$A$10:$G$109,3,FALSE)),\" \")","v":" "},{"$f":"IF(B102>0,(VLOOKUP($B102,'Engag Pre'!$A$10:$G$109,4,FALSE)),\" \")","v":" "},{"$f":"IF(B102>0,(VLOOKUP($B102,'Engag Pre'!$A$10:$G$109,5,FALSE)),\" \")","v":" "},{"$f":"IF(B102>0,(VLOOKUP($B102,'Engag Pre'!$A$10:$G$109,6,FALSE)),\" \")","v":" "},null,null," ",{"$f":"IF(COUNTIF($G$10:$G102,G102)<2,$G102,\" \")","v":" "},93,{"$f":"IF(COUNTIF($G$10:$G102,G102)<3,$G102,\" \")","v":" "},93,"",1000]
[94,null,{"$f":"IF(A103>0,(VLOOKUP($A103,'Engag Pre'!$A$10:$G$74,3,FALSE)),\" \")","v":{"$error":"#N/A"}},{"$f":"IF(B103>0,(VLOOKUP($B103,'Engag Pre'!$A$10:$G$109,7,FALSE)),\" \")","v":" "},{"$f":"IF(B103>0,(VLOOKUP($B103,'Engag Pre'!$A$10:$G$109,3,FALSE)),\" \")","v":" "},{"$f":"IF(B103>0,(VLOOKUP($B103,'Engag Pre'!$A$10:$G$109,4,FALSE)),\" \")","v":" "},{"$f":"IF(B103>0,(VLOOKUP($B103,'Engag Pre'!$A$10:$G$109,5,FALSE)),\" \")","v":" "},{"$f":"IF(B103>0,(VLOOKUP($B103,'Engag Pre'!$A$10:$G$109,6,FALSE)),\" \")","v":" "},null,null," ",{"$f":"IF(COUNTIF($G$10:$G103,G103)<2,$G103,\" \")","v":" "},94,{"$f":"IF(COUNTIF($G$10:$G103,G103)<3,$G103,\" \")","v":" "},94,"",1000]
[95,null,{"$f":"IF(A104>0,(VLOOKUP($A104,'Engag Pre'!$A$10:$G$74,3,FALSE)),\" \")","v":{"$error":"#N/A"}},{"$f":"IF(B104>0,(VLOOKUP($B104,'Engag Pre'!$A$10:$G$109,7,FALSE)),\" \")","v":" "},{"$f":"IF(B104>0,(VLOOKUP($B104,'Engag Pre'!$A$10:$G$109,3,FALSE)),\" \")","v":" "},{"$f":"IF(B104>0,(VLOOKUP($B104,'Engag Pre'!$A$10:$G$109,4,FALSE)),\" \")","v":" "},{"$f":"IF(B104>0,(VLOOKUP($B104,'Engag Pre'!$A$10:$G$109,5,FALSE)),\" \")","v":" "},{"$f":"IF(B104>0,(VLOOKUP($B104,'Engag Pre'!$A$10:$G$109,6,FALSE)),\" \")","v":" "},null,null," ",{"$f":"IF(COUNTIF($G$10:$G104,G104)<2,$G104,\" \")","v":" "},95,{"$f":"IF(COUNTIF($G$10:$G104,G104)<3,$G104,\" \")","v":" "},95,"",1000]
[96,null,{"$f":"IF(A105>0,(VLOOKUP($A105,'Engag Pre'!$A$10:$G$74,3,FALSE)),\" \")","v":{"$error":"#N/A"}},{"$f":"IF(B105>0,(VLOOKUP($B105,'Engag Pre'!$A$10:$G$109,7,FALSE)),\" \")","v":" "},{"$f":"IF(B105>0,(VLOOKUP($B105,'Engag Pre'!$A$10:$G$109,3,FALSE)),\" \")","v":" "},{"$f":"IF(B105>0,(VLOOKUP($B105,'Engag Pre'!$A$10:$G$109,4,FALSE)),\" \")","v":" "},{"$f":"IF(B105>0,(VLOOKUP($B105,'Engag Pre'!$A$10:$G$109,5,FALSE)),\" \")","v":" "},{"$f":"IF(B105>0,(VLOOKUP($B105,'Engag Pre'!$A$10:$G$109,6,FALSE)),\" \")","v":" "},null,null," ",{"$f":"IF(COUNTIF($G$10:$G105,G105)<2,$G105,\" \")","v":" "},96,{"$f":"IF(COUNTIF($G$10:$G105,G105)<3,$G105,\" \")","v":" "},96,"",1000]
[97,null,{"$f":"IF(A106>0,(VLOOKUP($A106,'Engag Pre'!$A$10:$G$74,3,FALSE)),\" \")","v":{"$error":"#N/A"}},{"$f":"IF(B106>0,(VLOOKUP($B106,'Engag Pre'!$A$10:$G$109,7,FALSE)),\" \")","v":" "},{"$f":"IF(B106>0,(VLOOKUP($B106,'Engag Pre'!$A$10:$G$109,3,FALSE)),\" \")","v":" "},{"$f":"IF(B106>0,(VLOOKUP($B106,'Engag Pre'!$A$10:$G$109,4,FALSE)),\" \")","v":" "},{"$f":"IF(B106>0,(VLOOKUP($B106,'Engag Pre'!$A$10:$G$109,5,FALSE)),\" \")","v":" "},{"$f":"IF(B106>0,(VLOOKUP($B106,'Engag Pre'!$A$10:$G$109,6,FALSE)),\" \")","v":" "},null,null," ",{"$f":"IF(COUNTIF($G$10:$G106,G106)<2,$G106,\" \")","v":" "},97,{"$f":"IF(COUNTIF($G$10:$G106,G106)<3,$G106,\" \")","v":" "},97,"",1000]
[98,null,{"$f":"IF(A107>0,(VLOOKUP($A107,'Engag Pre'!$A$10:$G$74,3,FALSE)),\" \")","v":{"$error":"#N/A"}},{"$f":"IF(B107>0,(VLOOKUP($B107,'Engag Pre'!$A$10:$G$109,7,FALSE)),\" \")","v":" "},{"$f":"IF(B107>0,(VLOOKUP($B107,'Engag Pre'!$A$10:$G$109,3,FALSE)),\" \")","v":" "},{"$f":"IF(B107>0,(VLOOKUP($B107,'Engag Pre'!$A$10:$G$109,4,FALSE)),\" \")","v":" "},{"$f":"IF(B107>0,(VLOOKUP($B107,'Engag Pre'!$A$10:$G$109,5,FALSE)),\" \")","v":" "},{"$f":"IF(B107>0,(VLOOKUP($B107,'Engag Pre'!$A$10:$G$109,6,FALSE)),\" \")","v":" "},null,null," ",{"$f":"IF(COUNTIF($G$10:$G107,G107)<2,$G107,\" \")","v":" "},98,{"$f":"IF(COUNTIF($G$10:$G107,G107)<3,$G107,\" \")","v":" "},98,"",1000]
[99,null,{"$f":"IF(A108>0,(VLOOKUP($A108,'Engag Pre'!$A$10:$G$74,3,FALSE)),\" \")","v":{"$error":"#N/A"}},{"$f":"IF(B108>0,(VLOOKUP($B108,'Engag Pre'!$A$10:$G$109,7,FALSE)),\" \")","v":" "},{"$f":"IF(B108>0,(VLOOKUP($B108,'Engag Pre'!$A$10:$G$109,3,FALSE)),\" \")","v":" "},{"$f":"IF(B108>0,(VLOOKUP($B108,'Engag Pre'!$A$10:$G$109,4,FALSE)),\" \")","v":" "},{"$f":"IF(B108>0,(VLOOKUP($B108,'Engag Pre'!$A$10:$G$109,5,FALSE)),\" \")","v":" "},{"$f":"IF(B108>0,(VLOOKUP($B108,'Engag Pre'!$A$10:$G$109,6,FALSE)),\" \")","v":" "},null,null," ",{"$f":"IF(COUNTIF($G$10:$G108,G108)<2,$G108,\" \")","v":" "},99,{"$f":"IF(COUNTIF($G$10:$G108,G108)<3,$G108,\" \")","v":" "},99,"",1000]
[100,null,{"$f":"IF(A109>0,(VLOOKUP($A109,'Engag Pre'!$A$10:$G$74,3,FALSE)),\" \")","v":{"$error":"#N/A"}},{"$f":"IF(B109>0,(VLOOKUP($B109,'Engag Pre'!$A$10:$G$109,7,FALSE)),\" \")","v":" "},{"$f":"IF(B109>0,(VLOOKUP($B109,'Engag Pre'!$A$10:$G$109,3,FALSE)),\" \")","v":" "},{"$f":"IF(B109>0,(VLOOKUP($B109,'Engag Pre'!$A$10:$G$109,4,FALSE)),\" \")","v":" "},{"$f":"IF(B109>0,(VLOOKUP($B109,'Engag Pre'!$A$10:$G$109,5,FALSE)),\" \")","v":" "},{"$f":"IF(B109>0,(VLOOKUP($B109,'Engag Pre'!$A$10:$G$109,6,FALSE)),\" \")","v":" "},null,null," ",{"$f":"IF(COUNTIF($G$10:$G109,G109)<2,$G109,\" \")","v":" "},100,{"$f":"IF(COUNTIF($G$10:$G109,G109)<3,$G109,\" \")","v":" "},100,"",1000]

{"sheet":"Res Pou","index":8,"n_rows":211,"n_cols":17,"rows_kept":211,"merged":[[0,4,0,5],[0,7,0,8],[1,4,1,5],[2,4,2,7],[7,0,7,9],[109,0,109,9]]}
[{"$nulls":3},"Nom de l'épreuve :",{"$f":"'Etat de Résultat'!I20","v":0},null,"Catégories :",{"$f":"'Engag Pou'!D5","v":"Poussins"}]
[{"$nulls":3},"Ville :",{"$f":"'Etat de Résultat'!E17","v":"AULNAY SOUS BOIS"},null,"Département :",{"$f":"'Etat de Résultat'!R17","v":93}]
[{"$nulls":3},"Organisateur (s) :",{"$f":"'Etat de Résultat'!I21","v":"EC AULNAY"}]
[{"$nulls":5},"N° /Catégorie Epreuve :"]
[{"$nulls":3},"Engagés :",{"$f":"'Engag Pou'!D6","v":57},"Partants :",{"$f":"'Engag Pou'!F6","v":36},"Classés :",{"$f":"SUM(I6:I7)","v":37}]
[{"$nulls":3},"Poussins 1 :",{"$f":"'Engag Pou'!D7","v":27},"Poussins 1 :",{"$f":"'Engag Pou'!F7","v":17},"Poussins 1 :",{"$f":"COUNTA(B10:B109)","v":17}]
[{"$nulls":3},"Poussins 2 :",{"$f":"'Engag Pou'!D8","v":30},"Poussins 2 :",{"$f":"'Engag Pou'!F8","v":19},"Poussins 2 :",{"$f":"COUNTA(B112:B211)","v":20}]
["CLASSEMENT POUSSINS 1"]
["Rang","Doss","Code UCI","Licence","Nom","Prénom","Club","Catégorie","Temps","Ecart"]
[1,86,{"$f":"IF(A10>0,(VLOOKUP($A10,'Engag Pre'!$A$10:$G$74,3,FALSE)),\" \")","v":{"$error":"#N/A"}},{"$f":"IF(B10>0,(VLOOKUP($B10,'Engag Pou'!$A$10:$G$109,7,FALSE)),\" \")","v":"1295717025"},{"$f":"IF(B10>0,(VLOOKUP($B10,'Engag Pou'!$A$10:$G$109,3,FALSE)),\" \")","v":"BRISPOT"},{"$f":"IF(B10>0,(VLOOKUP($B10,'Engag Pou'!$A$10:$G$109,4,FALSE)),\" \")","v":"Mathis"},{"$f":"IF(B10>0,(VLOOKUP($B10,'Engag Pou'!$A$10:$G$109,5,FALSE)),\" \")","v":"ES PERSANAISE"},{"$f":"IF(B10>0,(VLOOKUP($B10,'Engag Pou'!$A$10:$G$109,6,FALSE)),\" \")","v":"Poussin 1"},null,null,{"$f":"IF(COUNTIF($B$10:$B$109,B10)>1,\"Déjà classé\",\" \")","v":" "},{"$f":"IF(COUNTIF($G$10:$G10,G10)<2,$G10,\" \")","v":"ES PERSANAISE"},{"$f":"IF($G$6<5,1000,(IF(L10=G10,A10,\"\")))","v":1},{"$f":"IF(COUNTIF($G$10:$G10,I10)<3,$G10,\" \")","v":"ES PERSANAISE"},{"$f":"IF(N10=$G10,$A10,\"\")","v":1},{"$f":"IF(N10=L10,\"\",N10)","v":""},{"$f":"IF($G$6<5,1000,(IF(P10=$G10,$A10,1000)))","v":1000}]
[2,97,{"$f":"IF(A11>0,(VLOOKUP($A11,'Engag Pre'!$A$10:$G$74,3,FALSE)),\" \")","v":{"$error":"#N/A"}},{"$f":"IF(B11>0,(VLOOKUP($B11,'Engag Pou'!$A$10:$G$109,7,FALSE)),\" \")","v":"1293502004"},{"$f":"IF(B11>0,(VLOOKUP($B11,'Engag Pou'!$A$10:$G$109,3,FALSE)),\" \")","v":"REIS"},{"$f":"IF(B11>0,(VLOOKUP($B11,'Engag Pou'!$A$10:$G$109,4,FALSE)),\" \")","v":"Ryan"},{"$f":"IF(B11>0,(VLOOKUP($B11,'Engag Pou'!$A$10:$G$109,5,FALSE)),\" \")","v":"CSM EPINAY SUR SEINE"},{"$f":"IF(B11>0,(VLOOKUP($B11,'Engag Pou'!$A$10:$G$109,6,FALSE)),\" \")","v":"Poussin 1"},null,null,{"$f":"IF(COUNTIF($B$10:$B$109,B11)>1,\"Déjà classé\",\" \")","v":" "},{"$f":"IF(COUNTIF($G$10:$G11,G11)<2,$G11,\" \")","v":"CSM EPINAY SUR SEINE"},{"$f":"IF($G$6<5,1000,(IF(L11=G11,A11,\"\")))","v":2},{"$f":"IF(COUNTIF($G$10:$G11,I11)<3,$G11,\" \")","v":"CSM EPINAY SUR SEINE"},{"$f":"IF(N11=$G11,$A11,\"\")","v":2},{"$f":"IF(N11=L11,\"\",N11)","v":""},{"$f":"IF($G$6<5,1000,(IF(P11=$G11,$A11,1000)))","v":1000}]
[3,74,{"$f":"IF(A12>0,(VLOOKUP($A12,'Engag Pre'!$A$10:$G$74,3,FALSE)),\" \")","v":{"$error":"#N/A"}},{"$f":"IF(B12>0,(VLOOKUP($B12,'Engag Pou'!$A$10:$G$109,7,FALSE)),\" \")","v":"1277104037"},{"$f":"IF(B12>0,(VLOOKUP($B12,'Engag Pou'!$A$10:$G$109,3,FALSE)),\" \")","v":"THEVENET"},{"$f":"IF(B12>0,(VLOOKUP($B12,'Engag Pou'!$A$10:$G$109,4,FALSE)),\" \")","v":"Nolan"},{"$f":"IF(B12>0,(VLOOKUP($B12,'Engag Pou'!$A$10:$G$109,5,FALSE)),\" \")","v":"PEDALE COMBS LA VILLAISE"},{"$f":"IF(B12>0,(VLOOKUP($B12,'Engag Pou'!$A$10:$G$109,6,FALSE)),\" \")","v":"Poussin 1"},null,null," ",{"$f":"IF(COUNTIF($G$10:$G12,G12)<2,$G12,\" \")","v":"PEDALE COMBS LA VILLAISE"},3,{"$f":"IF(COUNTIF($G$10:$G12,I12)<3,$G12,\" \")","v":"PEDALE COMBS LA VILLAISE"},3,"",1000]
[4,79,{"$f":"IF(A13>0,(VLOOKUP($A13,'Engag Pre'!$A$10:$G$74,3,FALSE)),\" \")","v":{"$error":"#N/A"}},{"$f":"IF(B13>0,(VLOOKUP($B13,'Engag Pou'!$A$10:$G$109,7,FALSE)),\" \")","v":"1293524046"},{"$f":"IF(B13>0,(VLOOKUP($B13,'Engag Pou'!$A$10:$G$109,3,FALSE)),\" \")","v":"CHAMMOUGON"},{"$f":"IF(B13>0,(VLOOKUP($B13,'Engag Pou'!$A$10:$G$109,4,FALSE)),\" \")","v":"Jaeden"},{"$f":"IF(B13>0,(VLOOKUP($B13,'Engag Pou'!$A$10:$G$109,5,FALSE)),\" \")","v":"CS VILLETANEUSE"},{"$f":"IF(B13>0,(VLOOKUP($B13,'Engag Pou'!$A$10:$G$109,6,FALSE)),\" \")","v":"Poussin 1"},null,null," ",{"$f":"IF(COUNTIF($G$10:$G13,G13)<2,$G13,\" \")","v":"CS VILLETANEUSE"},4,{"$f":"IF(COUNTIF($G$10:$G13,I13)<3,$G13,\" \")","v":"CS VILLETANEUSE"},4,"",1000]
[5,96,{"$f":"IF(A14>0,(VLOOKUP($A14,'Engag Pre'!$A$10:$G$74,3,FALSE)),\" \")","v":{"$error":"#N/A"}},{"$f":"IF(B14>0,(VLOOKUP($B14,'Engag Pou'!$A$10:$G$109,7,FALSE)),\" \")","v":"1291318024"},{"$f":"IF(B14>0,(VLOOKUP($B14,'Engag Pou'!$A$10:$G$109,3,FALSE)),\" \")","v":"TONY"},{"$f":"IF(B14>0,(VLOOKUP($B14,'Engag Pou'!$A$10:$G$109,4,FALSE)),\" \")","v":"Keyran"},{"$f":"IF(B14>0,(VLOOKUP($B14,'Engag Pou'!$A$10:$G$109,5,FALSE)),\" \")","v":"SCA 2000 EVRY"},{"$f":"IF(B14>0,(VLOOKUP($B14,'Engag Pou'!$A$10:$G$109,6,FALSE)),\" \")","v":"Poussin 1"},null,null," ",{"$f":"IF(COUNTIF($G$10:$G14,G14)<2,$G14,\" \")","v":"SCA 2000 EVRY"},5,{"$f":"IF(COUNTIF($G$10:$G14,I14)<3,$G14,\" \")","v":"SCA 2000 EVRY"},5,"",1000]
[6,78,{"$f":"IF(A15>0,(VLOOKUP($A15,'Engag Pre'!$A$10:$G$74,3,FALSE)),\" \")","v":{"$error":"#N/A"}},{"$f":"IF(B15>0,(VLOOKUP($B15,'Engag Pou'!$A$10:$G$109,7,FALSE)),\" \")","v":"1293533016"},{"$f":"IF(B15>0,(VLOOKUP($B15,'Engag Pou'!$A$10:$G$109,3,FALSE)),\" \")","v":"LAMY"},{"$f":"IF(B15>0,(VLOOKUP($B15,'Engag Pou'!$A$10:$G$109,4,FALSE)),\" \")","v":"Aidan"},{"$f":"IF(B15>0,(VLOOKUP($B15,'Engag Pou'!$A$10:$G$109,5,FALSE)),\" \")","v":"ES STAINS"},{"$f":"IF(B15>0,(VLOOKUP($B15,'Engag Pou'!$A$10:$G$109,6,FALSE)),\" \")","v":"Poussin 1"},null,null," ",{"$f":"IF(COUNTIF($G$10:$G15,G15)<2,$G15,\" \")","v":"ES STAINS"},6,{"$f":"IF(COUNTIF($G$10:$G15,I15)<3,$G15,\" \")","v":"ES STAINS"},6,"",1000]
[7,77,{"$f":"IF(A16>0,(VLOOKUP($A16,'Engag Pre'!$A$10:$G$74,3,FALSE)),\" \")","v":{"$error":"#N/A"}},{"$f":"IF(B16>0,(VLOOKUP($B16,'Engag Pou'!$A$10:$G$109,7,FALSE)),\" \")","v":"1293533041"},{"$f":"IF(B16>0,(VLOOKUP($B16,'Engag Pou'!$A$10:$G$109,3,FALSE)),\" \")","v":"GHANDOUR"},{"$f":"IF(B16>0,(VLOOKUP($B16,'Engag Pou'!$A$10:$G$109,4,FALSE)),\" \")","v":"Naïm"},{"$f":"IF(B16>0,(VLOOKUP($B16,'Engag Pou'!$A$10:$G$109,5,FALSE)),\" \")","v":"ES STAINS"},{"$f":"IF(B16>0,(VLOOKUP($B16,'Engag Pou'!$A$10:$G$109,6,FALSE)),\" \")","v":"Poussin 1"},null,null," ",{"$f":"IF(COUNTIF($G$10:$G16,G16)<2,$G16,\" \")","v":" "},"",{"$f":"IF(COUNTIF($G$10:$G16,I16)<3,$G16,\" \")","v":"ES STAINS"},7,"ES STAINS",7]
[8,81,{"$f":"IF(A17>0,(VLOOKUP($A17,'Engag Pre'!$A$10:$G$74,3,FALSE)),\" \")","v":{"$error":"#N/A"}},{"$f":"IF(B17>0,(VLOOKUP($B17,'Engag Pou'!$A$10:$G$109,7,FALSE)),\" \")","v":"1293524078"},{"$f":"IF(B17>0,(VLOOKUP($B17,'Engag Pou'!$A$10:$G$109,3,FALSE)),\" \")","v":"LONDAS"},{"$f":"IF(B17>0,(VLOOKUP($B17,'Engag Pou'!$A$10:$G$109,4,FALSE)),\" \")","v":"Matys"},{"$f":"IF(B17>0,(VLOOKUP($B17,'Engag Pou'!$A$10:$G$109,5,FALSE)),\" \")","v":"CS VILLETANEUSE"},{"$f":"IF(B17>0,(VLOOKUP($B17,'Engag Pou'!$A$10:$G$109,6,FALSE)),\" \")","v":"Poussin 1"},null,null," ",{"$f":"IF(COUNTIF($G$10:$G17,G17)<2,$G17,\" \")","v":" "},"",{"$f":"IF(COUNTIF($G$10:$G17,I17)<3,$G17,\" \")","v":"CS VILLETANEUSE"},8,"CS VILLETANEUSE",8]
[9,87,{"$f":"IF(A18>0,(VLOOKUP($A18,'Engag Pre'!$A$10:$G$74,3,FALSE)),\" \")","v":{"$error":"#N/A"}},{"$f":"IF(B18>0,(VLOOKUP($B18,'Engag Pou'!$A$10:$G$109,7,FALSE)),\" \")","v":"1295717045"},{"$f":"IF(B18>0,(VLOOKUP($B18,'Engag Pou'!$A$10:$G$109,3,FALSE)),\" \")","v":"SEDDIK"},{"$f":"IF(B18>0,(VLOOKUP($B18,'Engag Pou'!$A$10:$G$109,4,FALSE)),\" \")","v":"Magda"},{"$f":"IF(B18>0,(VLOOKUP($B18,'Engag Pou'!$A$10:$G$109,5,FALSE)),\" \")","v":"ES PERSANAISE"},{"$f":"IF(B18>0,(VLOOKUP($B18,'Engag Pou'!$A$10:$G$109,6,FALSE)),\" \")","v":"Poussin 1"},null,null," ",{"$f":"IF(COUNTIF($G$10:$G18,G18)<2,$G18,\" \")","v":" "},"",{"$f":"IF(COUNTIF($G$10:$G18,I18)<3,$G18,\" \")","v":"ES PERSANAISE"},9,"ES PERSANAISE",9]
[10,75,{"$f":"IF(A19>0,(VLOOKUP($A19,'Engag Pre'!$A$10:$G$74,3,FALSE)),\" \")","v":{"$error":"#N/A"}},{"$f":"IF(B19>0,(VLOOKUP($B19,'Engag Pou'!$A$10:$G$109,7,FALSE)),\" \")","v":"1293527026"},{"$f":"IF(B19>0,(VLOOKUP($B19,'Engag Pou'!$A$10:$G$109,3,FALSE)),\" \")","v":"ROYER"},{"$f":"IF(B19>0,(VLOOKUP($B19,'Engag Pou'!$A$10:$G$109,4,FALSE)),\" \")","v":"Kyrian"},{"$f":"IF(B19>0,(VLOOKUP($B19,'Engag Pou'!$A$10:$G$109,5,FALSE)),\" \")","v":"VC CLICHY SOUS BOIS"},{"$f":"IF(B19>0,(VLOOKUP($B19,'Engag Pou'!$A$10:$G$109,6,FALSE)),\" \")","v":"Poussin 1"},null,null," ",{"$f":"IF(COUNTIF($G$10:$G19,G19)<2,$G19,\" \")","v":"VC CLICHY SOUS BOIS"},10,{"$f":"IF(COUNTIF($G$10:$G19,I19)<3,$G19,\" \")","v":"VC CLICHY SOUS BOIS"},10,"",1000]
[11,92,{"$f":"IF(A20>0,(VLOOKUP($A20,'Engag Pre'!$A$10:$G$74,3,FALSE)),\" \")","v":{"$error":"#N/A"}},{"$f":"IF(B20>0,(VLOOKUP($B20,'Engag Pou'!$A$10:$G$109,7,FALSE)),\" \")","v":"1295713108"},{"$f":"IF(B20>0,(VLOOKUP($B20,'Engag Pou'!$A$10:$G$109,3,FALSE)),\" \")","v":"MATTONET"},{"$f":"IF(B20>0,(VLOOKUP($B20,'Engag Pou'!$A$10:$G$109,4,FALSE)),\" \")","v":"Anton Mario"},{"$f":"IF(B20>0,(VLOOKUP($B20,'Engag Pou'!$A$10:$G$109,5,FALSE)),\" \")","v":"A. SOISY ENGHIEN LA BARRE"},{"$f":"IF(B20>0,(VLOOKUP($B20,'Engag Pou'!$A$10:$G$109,6,FALSE)),\" \")","v":"Poussin 1"},null,null," ",{"$f":"IF(COUNTIF($G$10:$G20,G20)<2,$G20,\" \")","v":"A. SOISY ENGHIEN LA BARRE"},11,{"$f":"IF(COUNTIF($G$10:$G20,I20)<3,$G20,\" \")","v":"A. SOISY ENGHIEN LA BARRE"},11,"",1000]
[12,99,{"$f":"IF(A21>0,(VLOOKUP($A21,'Engag Pre'!$A$10:$G$74,3,FALSE)),\" \")","v":{"$error":"#N/A"}},{"$f":"IF(B21>0,(VLOOKUP($B21,'Engag Pou'!$A$10:$G$109,7,FALSE)),\" \")","v":0},{"$f":"IF(B21>0,(VLOOKUP($B21,'Engag Pou'!$A$10:$G$109,3,FALSE)),\" \")","v":"SANTANA BRIOSO"},{"$f":"IF(B21>0,(VLOOKUP($B21,'Engag Pou'!$A$10:$G$109,4,FALSE)),\" \")","v":"Amaurys"},{"$f":"IF(B21>0,(VLOOKUP($B21,'Engag Pou'!$A$10:$G$109,5,FALSE)),\" \")","v":"EC AULNAY"},{"$f":"IF(B21>0,(VLOOKUP($B21,'Engag Pou'!$A$10:$G$109,6,FALSE)),\" \")","v":0},null,null," ",{"$f":"IF(COUNTIF($G$10:$G21,G21)<2,$G21,\" \")","v":"EC AULNAY"},12,{"$f":"IF(COUNTIF($G$10:$G21,I21)<3,$G21,\" \")","v":"EC AULNAY"},12,"",1000]
[13,85,{"$f":"IF(A22>0,(VLOOKUP($A22,'Engag Pre'!$A$10:$G$74,3,FALSE)),\" \")","v":{"$error":"#N/A"}},{"$f":"IF(B22>0,(VLOOKUP($B22,'Engag Pou'!$A$10:$G$109,7,FALSE)),\" \")","v":"1295708119"},{"$f":"IF(B22>0,(VLOOKUP($B22,'Engag Pou'!$A$10:$G$109,3,FALSE)),\" \")","v":"PREVOTEAUX"},{"$f":"IF(B22>0,(VLOOKUP($B22,'Engag Pou'!$A$10:$G$109,4,FALSE)),\" \")","v":"Jules"},{"$f":"IF(B22>0,(VLOOKUP($B22,'Engag Pou'!$A$10:$G$109,5,FALSE)),\" \")","v":"ARGENTEUIL VAL DE SEINE 95"},{"$f":"IF(B22>0,(VLOOKUP($B22,'Engag Pou'!$A$10:$G$109,6,FALSE)),\" \")","v":"Poussin 1"},null,null," ",{"$f":"IF(COUNTIF($G$10:$G22,G22)<2,$G22,\" \")","v":"ARGENTEUIL VAL DE SEINE 95"},13,{"$f":"IF(COUNTIF($G$10:$G22,I22)<3,$G22,\" \")","v":"ARGENTEUIL VAL DE SEINE 95"},13,"",1000]
[14,80,{"$f":"IF(A23>0,(VLOOKUP($A23,'Engag Pre'!$A$10:$G$74,3,FALSE)),\" \")","v":{"$error":"#N/A"}},{"$f":"IF(B23>0,(VLOOKUP($B23,'Engag Pou'!$A$10:$G$109,7,FALSE)),\" \")","v":"1293524009"},{"$f":"IF(B23>0,(VLOOKUP($B23,'Engag Pou'!$A$10:$G$109,3,FALSE)),\" \")","v":"HABI"},{"$f":"IF(B23>0,(VLOOKUP($B23,'Engag Pou'!$A$10:$G$109,4,FALSE)),\" \")","v":"Enzo"},{"$f":"IF(B23>0,(VLOOKUP($B23,'Engag Pou'!$A$10:$G$109,5,FALSE)),\" \")","v":"CS VILLETANEUSE"},{"$f":"IF(B23>0,(VLOOKUP($B23,'Engag Pou'!$A$10:$G$109,6,FALSE)),\" \")","v":"Poussin 1"},null,null," ",{"$f":"IF(COUNTIF($G$10:$G23,G23)<2,$G23,\" \")","v":" "},"",{"$f":"IF(COUNTIF($G$10:$G23,I23)<3,$G23,\" \")","v":"CS VILLETANEUSE"},14,"CS VILLETANEUSE",14]
[15,76,{"$f":"IF(A24>0,(VLOOKUP($A24,'Engag Pre'!$A$10:$G$74,3,FALSE)),\" \")","v":{"$error":"#N/A"}},{"$f":"IF(B24>0,(VLOOKUP($B24,'Engag Pou'!$A$10:$G$109,7,FALSE)),\" \")","v":"1293533050"},{"$f":"IF(B24>0,(VLOOKUP($B24,'Engag Pou'!$A$10:$G$109,3,FALSE)),\" \")","v":"DE OLIVEIRA"},{"$f":"IF(B24>0,(VLOOKUP($B24,'Engag Pou'!$A$10:$G$109,4,FALSE)),\" \")","v":"Antonin"},{"$f":"IF(B24>0,(VLOOKUP($B24,'Engag Pou'!$A$10:$G$109,5,FALSE)),\" \")","v":"ES STAINS"},{"$f":"IF(B24>0,(VLOOKUP($B24,'Engag Pou'!$A$10:$G$109,6,FALSE)),\" \")","v":"Poussin 1"},null,null," ",{"$f":"IF(COUNTIF($G$10:$G24,G24)<2,$G24,\" \")","v":" "},"",{"$f":"IF(COUNTIF($G$10:$G24,I24)<3,$G24,\" \")","v":"ES STAINS"},15,"ES STAINS",15]
[16,73,{"$f":"IF(A25>0,(VLOOKUP($A25,'Engag Pre'!$A$10:$G$74,3,FALSE)),\" \")","v":{"$error":"#N/A"}},{"$f":"IF(B25>0,(VLOOKUP($B25,'Engag Pou'!$A$10:$G$109,7,FALSE)),\" \")","v":"1277104085"},{"$f":"IF(B25>0,(VLOOKUP($B25,'Engag Pou'!$A$10:$G$109,3,FALSE)),\" \")","v":"ADAMSKI"},{"$f":"IF(B25>0,(VLOOKUP($B25,'Engag Pou'!$A$10:$G$109,4,FALSE)),\" \")","v":"Yanis"},{"$f":"IF(B25>0,(VLOOKUP($B25,'Engag Pou'!$A$10:$G$109,5,FALSE)),\" \")","v":"PEDALE COMBS LA VILLAISE"},{"$f":"IF(B25>0,(VLOOKUP($B25,'Engag Pou'!$A$10:$G$109,6,FALSE)),\" \")","v":"Poussin 1"},null,null," ",{"$f":"IF(COUNTIF($G$10:$G25,G25)<2,$G25,\" \")","v":" "},"",{"$f":"IF(COUNTIF($G$10:$G25,I25)<3,$G25,\" \")","v":"PEDALE COMBS LA VILLAISE"},16,"PEDALE COMBS LA VILLAISE",16]
[17,98,{"$f":"IF(A26>0,(VLOOKUP($A26,'Engag Pre'!$A$10:$G$74,3,FALSE)),\" \")","v":{"$error":"#N/A"}},{"$f":"IF(B26>0,(VLOOKUP($B26,'Engag Pou'!$A$10:$G$109,7,FALSE)),\" \")","v":"1293515071"},{"$f":"IF(B26>0,(VLOOKUP($B26,'Engag Pou'!$A$10:$G$109,3,FALSE)),\" \")","v":"OUADAH"},{"$f":"IF(B26>0,(VLOOKUP($B26,'Engag Pou'!$A$10:$G$109,4,FALSE)),\" \")","v":"Ryan"},{"$f":"IF(B26>0,(VLOOKUP($B26,'Engag Pou'!$A$10:$G$109,5,FALSE)),\" \")","v":"EC AULNAY"},{"$f":"IF(B26>0,(VLOOKUP($B26,'Engag Pou'!$A$10:$G$109,6,FALSE)),\" \")","v":"Poussin 1"},null,null," ",{"$f":"IF(COUNTIF($G$10:$G26,G26)<2,$G26,\" \")","v":" "},"",{"$f":"IF(COUNTIF($G$10:$G26,I26)<3,$G26,\" \")","v":"EC AULNAY"},17,"EC AULNAY",17]
[18,null,{"$f":"IF(A27>0,(VLOOKUP($A27,'Engag Pre'!$A$10:$G$74,3,FALSE)),\" \")","v":{"$error":"#N/A"}},{"$f":"IF(B27>0,(VLOOKUP($B27,'Engag Pou'!$A$10:$G$109,7,FALSE)),\" \")","v":" "},{"$f":"IF(B27>0,(VLOOKUP($B27,'Engag Pou'!$A$10:$G$109,3,FALSE)),\" \")","v":" "},{"$f":"IF(B27>0,(VLOOKUP($B27,'Engag Pou'!$A$10:$G$109,4,FALSE)),\" \")","v":" "},{"$f":"IF(B27>0,(VLOOKUP($B27,'Engag Pou'!$A$10:$G$109,5,FALSE)),\" \")","v":" "},{"$f":"IF(B27>0,(VLOOKUP($B27,'Engag Pou'!$A$10:$G$109,6,FALSE)),\" \")","v":" "},null,null," ",{"$f":"IF(COUNTIF($G$10:$G27,G27)<2,$G27,\" \")","v":" "},18,{"$f":"IF(COUNTIF($G$10:$G27,I27)<3,$G27,\" \")","v":" "},18,"",1000]
[19,null,{"$f":"IF(A28>0,(VLOOKUP($A28,'Engag Pre'!$A$10:$G$74,3,FALSE)),\" \")","v":{"$error":"#N/A"}},{"$f":"IF(B28>0,(VLOOKUP($B28,'Engag Pou'!$A$10:$G$109,7,FALSE)),\" \")","v":" "},{"$f":"IF(B28>0,(VLOOKUP($B28,'Engag Pou'!$A$10:$G$109,3,FALSE)),\" \")","v":" "},{"$f":"IF(B28>0,(VLOOKUP($B28,'Engag Pou'!$A$10:$G$109,4,FALSE)),\" \")","v":" "},{"$f":"IF(B28>0,(VLOOKUP($B28,'Engag Pou'!$A$10:$G$109,5,FALSE)),\" \")","v":" "},{"$f":"IF(B28>0,(VLOOKUP($B28,'Engag Pou'!$A$10:$G$109,6,FALSE)),\" \")","v":" "},null,null," ",{"$f":"IF(COUNTIF($G$10:$G28,G28)<2,$G28,\" \")","v":" "},19,{"$f":"IF(COUNTIF($G$10:$G28,I28)<3,$G28,\" \")","v":" "},19,"",1000]
[20,null,{"$f":"IF(A29>0,(VLOOKUP($A29,'Engag Pre'!$A$10:$G$74,3,FALSE)),\" \")","v":{"$error":"#N/A"}},{"$f":"IF(B29>0,(VLOOKUP($B29,'Engag Pou'!$A$10:$G$109,7,FALSE)),\" \")","v":" "},{"$f":"IF(B29>0,(VLOOKUP($B29,'Engag Pou'!$A$10:$G$109,3,FALSE)),\" \")","v":" "},{"$f":"IF(B29>0,(VLOOKUP($B29,'Engag Pou'!$A$10:$G$109,4,FALSE)),\" \")","v":" "},{"$f":"IF(B29>0,(VLOOKUP($B29,'Engag Pou'!$A$10:$G$109,5,FALSE)),\" \")","v":" "},{"$f":"IF(B29>0,(VLOOKUP($B29,'Engag Pou'!$A$10:$G$109,6,FALSE)),\" \")","v":" "},null,null," ",{"$f":"IF(COUNTIF($G$10:$G29,G29)<2,$G29,\" \")","v":" "},20,{"$f":"IF(COUNTIF($G$10:$G29,I29)<3,$G29,\" \")","v":" "},20,"",1000]
[21,null,{"$f":"IF(A30>0,(VLOOKUP($A30,'Engag Pre'!$A$10:$G$74,3,FALSE)),\" \")","v":{"$error":"#N/A"}},{"$f":"IF(B30>0,(VLOOKUP($B30,'Engag Pou'!$A$10:$G$109,7,FALSE)),\" \")","v":" "},{"$f":"IF(B30>0,(VLOOKUP($B30,'Engag Pou'!$A$10:$G$109,3,FALSE)),\" \")","v":" "},{"$f":"IF(B30>0,(VLOOKUP($B30,'Engag Pou'!$A$10:$G$109,4,FALSE)),\" \")","v":" "},{"$f":"IF(B30>0,(VLOOKUP($B30,'Engag Pou'!$A$10:$G$109,5,FALSE)),\" \")","v":" "},{"$f":"IF(B30>0,(VLOOKUP($B30,'Engag Pou'!$A$10:$G$109,6,FALSE)),\" \")","v":" "},null,null," ",{"$f":"IF(COUNTIF($G$10:$G30,G30)<2,$G30,\" \")","v":" "},21,{"$f":"IF(COUNTIF($G$10:$G30,I30)<3,$G30,\" \")","v":" "},21,"",1000]
[22,null,{"$f":"IF(A31>0,(VLOOKUP($A31,'Engag Pre'!$A$10:$G$74,3,FALSE)),\" \")","v":{"$error":"#N/A"}},{"$f":"IF(B31>0,(VLOOKUP($B31,'Engag Pou'!$A$10:$G$109,7,FALSE)),\" \")","v":" "},{"$f":"IF(B31>0,(VLOOKUP($B31,'Engag Pou'!$A$10:$G$109,3,FALSE)),\" \")","v":" "},{"$f":"IF(B31>0,(VLOOKUP($B31,'Engag Pou'!$A$10:$G$109,4,FALSE)),\" \")","v":" "},{"$f":"IF(B31>0,(VLOOKUP($B31,'Engag Pou'!$A$10:$G$109,5,FALSE)),\" \")","v":" "},{"$f":"IF(B31>0,(VLOOKUP($B31,'Engag Pou'!$A$10:$G$109,6,FALSE)),\" \")","v":" "},null,null," ",{"$f":"IF(COUNTIF($G$10:$G31,G31)<2,$G31,\" \")","v":" "},22,{"$f":"IF(COUNTIF($G$10:$G31,I31)<3,$G31,\" \")","v":" "},22,"",1000]
[23,null,{"$f":"IF(A32>0,(VLOOKUP($A32,'Engag Pre'!$A$10:$G$74,3,FALSE)),\" \")","v":{"$error":"#N/A"}},{"$f":"IF(B32>0,(VLOOKUP($B32,'Engag Pou'!$A$10:$G$109,7,FALSE)),\" \")","v":" "},{"$f":"IF(B32>0,(VLOOKUP($B32,'Engag Pou'!$A$10:$G$109,3,FALSE)),\" \")","v":" "},{"$f":"IF(B32>0,(VLOOKUP($B32,'Engag Pou'!$A$10:$G$109,4,FALSE)),\" \")","v":" "},{"$f":"IF(B32>0,(VLOOKUP($B32,'Engag Pou'!$A$10:$G$109,5,FALSE)),\" \")","v":" "},{"$f":"IF(B32>0,(VLOOKUP($B32,'Engag Pou'!$A$10:$G$109,6,FALSE)),\" \")","v":" "},null,null," ",{"$f":"IF(COUNTIF($G$10:$G32,G32)<2,$G32,\" \")","v":" "},23,{"$f":"IF(COUNTIF($G$10:$G32,I32)<3,$G32,\" \")","v":" "},23,"",1000]
[24,null,{"$f":"IF(A33>0,(VLOOKUP($A33,'Engag Pre'!$A$10:$G$74,3,FALSE)),\" \")","v":{"$error":"#N/A"}},{"$f":"IF(B33>0,(VLOOKUP($B33,'Engag Pou'!$A$10:$G$109,7,FALSE)),\" \")","v":" "},{"$f":"IF(B33>0,(VLOOKUP($B33,'Engag Pou'!$A$10:$G$109,3,FALSE)),\" \")","v":" "},{"$f":"IF(B33>0,(VLOOKUP($B33,'Engag Pou'!$A$10:$G$109,4,FALSE)),\" \")","v":" "},{"$f":"IF(B33>0,(VLOOKUP($B33,'Engag Pou'!$A$10:$G$109,5,FALSE)),\" \")","v":" "},{"$f":"IF(B33>0,(VLOOKUP($B33,'Engag Pou'!$A$10:$G$109,6,FALSE)),\" \")","v":" "},null,null," ",{"$f":"IF(COUNTIF($G$10:$G33,G33)<2,$G33,\" \")","v":" "},24,{"$f":"IF(COUNTIF($G$10:$G33,I33)<3,$G33,\" \")","v":" "},24,"",1000]
[25,null,{"$f":"IF(A34>0,(VLOOKUP($A34,'Engag Pre'!$A$10:$G$74,3,FALSE)),\" \")","v":{"$error":"#N/A"}},{"$f":"IF(B34>0,(VLOOKUP($B34,'Engag Pou'!$A$10:$G$109,7,FALSE)),\" \")","v":" "},{"$f":"IF(B34>0,(VLOOKUP($B34,'Engag Pou'!$A$10:$G$109,3,FALSE)),\" \")","v":" "},{"$f":"IF(B34>0,(VLOOKUP($B34,'Engag Pou'!$A$10:$G$109,4,FALSE)),\" \")","v":" "},{"$f":"IF(B34>0,(VLOOKUP($B34,'Engag Pou'!$A$10:$G$109,5,FALSE)),\" \")","v":" "},{"$f":"IF(B34>0,(VLOOKUP($B34,'Engag Pou'!$A$10:$G$109,6,FALSE)),\" \")","v":" "},null,null," ",{"$f":"IF(COUNTIF($G$10:$G34,G34)<2,$G34,\" \")","v":" "},25,{"$f":"IF(COUNTIF($G$10:$G34,I34)<3,$G34,\" \")","v":" "},25,"",1000]
[26,null,{"$f":"IF(A35>0,(VLOOKUP($A35,'Engag Pre'!$A$10:$G$74,3,FALSE)),\" \")","v":{"$error":"#N/A"}},{"$f":"IF(B35>0,(VLOOKUP($B35,'Engag Pou'!$A$10:$G$109,7,FALSE)),\" \")","v":" "},{"$f":"IF(B35>0,(VLOOKUP($B35,'Engag Pou'!$A$10:$G$109,3,FALSE)),\" \")","v":" "},{"$f":"IF(B35>0,(VLOOKUP($B35,'Engag Pou'!$A$10:$G$109,4,FALSE)),\" \")","v":" "},{"$f":"IF(B35>0,(VLOOKUP($B35,'Engag Pou'!$A$10:$G$109,5,FALSE)),\" \")","v":" "},{"$f":"IF(B35>0,(VLOOKUP($B35,'Engag Pou'!$A$10:$G$109,6,FALSE)),\" \")","v":" "},null,null," ",{"$f":"IF(COUNTIF($G$10:$G35,G35)<2,$G35,\" \")","v":" "},26,{"$f":"IF(COUNTIF($G$10:$G35,I35)<3,$G35,\" \")","v":" "},26,"",1000]
[27,null,{"$f":"IF(A36>0,(VLOOKUP($A36,'Engag Pre'!$A$10:$G$74,3,FALSE)),\" \")","v":{"$error":"#N/A"}},{"$f":"IF(B36>0,(VLOOKUP($B36,'Engag Pou'!$A$10:$G$109,7,FALSE)),\" \")","v":" "},{"$f":"IF(B36>0,(VLOOKUP($B36,'Engag Pou'!$A$10:$G$109,3,FALSE)),\" \")","v":" "},{"$f":"IF(B36>0,(VLOOKUP($B36,'Engag Pou'!$A$10:$G$109,4,FALSE)),\" \")","v":" "},{"$f":"IF(B36>0,(VLOOKUP($B36,'Engag Pou'!$A$10:$G$109,5,FALSE)),\" \")","v":" "},{"$f":"IF(B36>0,(VLOOKUP($B36,'Engag Pou'!$A$10:$G$109,6,FALSE)),\" \")","v":" "},null,null," ",{"$f":"IF(COUNTIF($G$10:$G36,G36)<2,$G36,\" \")","v":" "},27,{"$f":"IF(COUNTIF($G$10:$G36,I36)<3,$G36,\" \")","v":" "},27,"",1000]
[28,null,{"$f":"IF(A37>0,(VLOOKUP($A37,'Engag Pre'!$A$10:$G$74,3,FALSE)),\" \")","v":{"$error":"#N/A"}},{"$f":"IF(B37>0,(VLOOKUP($B37,'Engag Pou'!$A$10:$G$109,7,FALSE)),\" \")","v":" "},{"$f":"IF(B37>0,(VLOOKUP($B37,'Engag Pou'!$A$10:$G$109,3,FALSE)),\" \")","v":" "},{"$f":"IF(B37>0,(VLOOKUP($B37,'Engag Pou'!$A$10:$G$109,4,FALSE)),\" \")","v":" "},{"$f":"IF(B37>0,(VLOOKUP($B37,'Engag Pou'!$A$10:$G$109,5,FALSE)),\" \")","v":" "},{"$f":"IF(B37>0,(VLOOKUP($B37,'Engag Pou'!$A$10:$G$109,6,FALSE)),\" \")","v":" "},null,null," ",{"$f":"IF(COUNTIF($G$10:$G37,G37)<2,$G37,\" \")","v":" "},28,{"$f":"IF(COUNTIF($G$10:$G37,I37)<3,$G37,\" \")","v":" "},28,"",1000]
[29,null,{"$f":"IF(A38>0,(VLOOKUP($A38,'Engag Pre'!$A$10:$G$74,3,FALSE)),\" \")","v":{"$error":"#N/A"}},{"$f":"IF(B38>0,(VLOOKUP($B38,'Engag Pou'!$A$10:$G$109,7,FALSE)),\" \")","v":" "},{"$f":"IF(B38>0,(VLOOKUP($B38,'Engag Pou'!$A$10:$G$109,3,FALSE)),\" \")","v":" "},{"$f":"IF(B38>0,(VLOOKUP($B38,'Engag Pou'!$A$10:$G$109,4,FALSE)),\" \")","v":" "},{"$f":"IF(B38>0,(VLOOKUP($B38,'Engag Pou'!$A$10:$G$109,5,FALSE)),\" \")","v":" "},{"$f":"IF(B38>0,(VLOOKUP($B38,'Engag Pou'!$A$10:$G$109,6,FALSE)),\" \")","v":" "},null,null," ",{"$f":"IF(COUNTIF($G$10:$G38,G38)<2,$G38,\" \")","v":" "},29,{"$f":"IF(COUNTIF($G$10:$G38,I38)<3,$G38,\" \")","v":" "},29,"",1000]
[30,null,{"$f":"IF(A39>0,(VLOOKUP($A39,'Engag Pre'!$A$10:$G$74,3,FALSE)),\" \")","v":{"$error":"#N/A"}},{"$f":"IF(B39>0,(VLOOKUP($B39,'Engag Pou'!$A$10:$G$109,7,FALSE)),\" \")","v":" "},{"$f":"IF(B39>0,(VLOOKUP($B39,'Engag Pou'!$A$10:$G$109,3,FALSE)),\" \")","v":" "},{"$f":"IF(B39>0,(VLOOKUP($B39,'Engag Pou'!$A$10:$G$109,4,FALSE)),\" \")","v":" "},{"$f":"IF(B39>0,(VLOOKUP($B39,'Engag Pou'!$A$10:$G$109,5,FALSE)),\" \")","v":" "},{"$f":"IF(B39>0,(VLOOKUP($B39,'Engag Pou'!$A$10:$G$109,6,FALSE)),\" \")","v":" "},null,null," ",{"$f":"IF(COUNTIF($G$10:$G39,G39)<2,$G39,\" \")","v":" "},30,{"$f":"IF(COUNTIF($G$10:$G39,I39)<3,$G39,\" \")","v":" "},30,"",1000]
[31,null,{"$f":"IF(A40>0,(VLOOKUP($A40,'Engag Pre'!$A$10:$G$74,3,FALSE)),\" \")","v":{"$error":"#N/A"}},{"$f":"IF(B40>0,(VLOOKUP($B40,'Engag Pou'!$A$10:$G$109,7,FALSE)),\" \")","v":" "},{"$f":"IF(B40>0,(VLOOKUP($B40,'Engag Pou'!$A$10:$G$109,3,FALSE)),\" \")","v":" "},{"$f":"IF(B40>0,(VLOOKUP($B40,'Engag Pou'!$A$10:$G$109,4,FALSE)),\" \")","v":" "},{"$f":"IF(B40>0,(VLOOKUP($B40,'Engag Pou'!$A$10:$G$109,5,FALSE)),\" \")","v":" "},{"$f":"IF(B40>0,(VLOOKUP($B40,'Engag Pou'!$A$10:$G$109,6,FALSE)),\" \")","v":" "},null,null," ",{"$f":"IF(COUNTIF($G$10:$G40,G40)<2,$G40,\" \")","v":" "},31,{"$f":"IF(COUNTIF($G$10:$G40,I40)<3,$G40,\" \")","v":" "},31,"",1000]
[32,null,{"$f":"IF(A41>0,(VLOOKUP($A41,'Engag Pre'!$A$10:$G$74,3,FALSE)),\" \")","v":{"$error":"#N/A"}},{"$f":"IF(B41>0,(VLOOKUP($B41,'Engag Pou'!$A$10:$G$109,7,FALSE)),\" \")","v":" "},{"$f":"IF(B41>0,(VLOOKUP($B41,'Engag Pou'!$A$10:$G$109,3,FALSE)),\" \")","v":" "},{"$f":"IF(B41>0,(VLOOKUP($B41,'Engag Pou'!$A$10:$G$109,4,FALSE)),\" \")","v":" "},{"$f":"IF(B41>0,(VLOOKUP($B41,'Engag Pou'!$A$10:$G$109,5,FALSE)),\" \")","v":" "},{"$f":"IF(B41>0,(VLOOKUP($B41,'Engag Pou'!$A$10:$G$109,6,FALSE)),\" \")","v":" "},null,null," ",{"$f":"IF(COUNTIF($G$10:$G41,G41)<2,$G41,\" \")","v":" "},32,{"$f":"IF(COUNTIF($G$10:$G41,I41)<3,$G41,\" \")","v":" "},32,"",1000]
[33,null,{"$f":"IF(A42>0,(VLOOKUP($A42,'Engag Pre'!$A$10:$G$74,3,FALSE)),\" \")","v":{"$error":"#N/A"}},{"$f":"IF(B42>0,(VLOOKUP($B42,'Engag Pou'!$A$10:$G$109,7,FALSE)),\" \")","v":" "},{"$f":"IF(B42>0,(VLOOKUP($B42,'Engag Pou'!$A$10:$G$109,3,FALSE)),\" \")","v":" "},{"$f":"IF(B42>0,(VLOOKUP($B42,'Engag Pou'!$A$10:$G$109,4,FALSE)),\" \")","v":" "},{"$f":"IF(B42>0,(VLOOKUP($B42,'Engag Pou'!$A$10:$G$109,5,FALSE)),\" \")","v":" "},{"$f":"IF(B42>0,(VLOOKUP($B42,'Engag Pou'!$A$10:$G$109,6,FALSE)),\" \")","v":" "},null,null," ",{"$f":"IF(COUNTIF($G$10:$G42,G42)<2,$G42,\" \")","v":" "},33,{"$f":"IF(COUNTIF($G$10:$G42,I42)<3,$G42,\" \")","v":" "},33,"",1000]
[34,null,{"$f":"IF(A43>0,(VLOOKUP($A43,'Engag Pre'!$A$10:$G$74,3,FALSE)),\" \")","v":{"$error":"#N/A"}},{"$f":"IF(B43>0,(VLOOKUP($B43,'Engag Pou'!$A$10:$G$109,7,FALSE)),\" \")","v":" "},{"$f":"IF(B43>0,(VLOOKUP($B43,'Engag Pou'!$A$10:$G$109,3,FALSE)),\" \")","v":" "},{"$f":"IF(B43>0,(VLOOKUP($B43,'Engag Pou'!$A$10:$G$109,4,FALSE)),\" \")","v":" "},{"$f":"IF(B43>0,(VLOOKUP($B43,'Engag Pou'!$A$10:$G$109,5,FALSE)),\" \")","v":" "},{"$f":"IF(B43>0,(VLOOKUP($B43,'Engag Pou'!$A$10:$G$109,6,FALSE)),\" \")","v":" "},null,null," ",{"$f":"IF(COUNTIF($G$10:$G43,G43)<2,$G43,\" \")","v":" "},34,{"$f":"IF(COUNTIF($G$10:$G43,I43)<3,$G43,\" \")","v":" "},34,"",1000]
[35,null,{"$f":"IF(A44>0,(VLOOKUP($A44,'Engag Pre'!$A$10:$G$74,3,FALSE)),\" \")","v":{"$error":"#N/A"}},{"$f":"IF(B44>0,(VLOOKUP($B44,'Engag Pou'!$A$10:$G$109,7,FALSE)),\" \")","v":" "},{"$f":"IF(B44>0,(VLOOKUP($B44,'Engag Pou'!$A$10:$G$109,3,FALSE)),\" \")","v":" "},{"$f":"IF(B44>0,(VLOOKUP($B44,'Engag Pou'!$A$10:$G$109,4,FALSE)),\" \")","v":" "},{"$f":"IF(B44>0,(VLOOKUP($B44,'Engag Pou'!$A$10:$G$109,5,FALSE)),\" \")","v":" "},{"$f":"IF(B44>0,(VLOOKUP($B44,'Engag Pou'!$A$10:$G$109,6,FALSE)),\" \")","v":" "},null,null," ",{"$f":"IF(COUNTIF($G$10:$G44,G44)<2,$G44,\" \")","v":" "},35,{"$f":"IF(COUNTIF($G$10:$G44,I44)<3,$G44,\" \")","v":" "},35,"",1000]
[36,null,{"$f":"IF(A45>0,(VLOOKUP($A45,'Engag Pre'!$A$10:$G$74,3,FALSE)),\" \")","v":{"$error":"#N/A"}},{"$f":"IF(B45>0,(VLOOKUP($B45,'Engag Pou'!$A$10:$G$109,7,FALSE)),\" \")","v":" "},{"$f":"IF(B45>0,(VLOOKUP($B45,'Engag Pou'!$A$10:$G$109,3,FALSE)),\" \")","v":" "},{"$f":"IF(B45>0,(VLOOKUP($B45,'Engag Pou'!$A$10:$G$109,4,FALSE)),\" \")","v":" "},{"$f":"IF(B45>0,(VLOOKUP($B45,'Engag Pou'!$A$10:$G$109,5,FALSE)),\" \")","v":" "},{"$f":"IF(B45>0,(VLOOKUP($B45,'Engag Pou'!$A$10:$G$109,6,FALSE)),\" \")","v":" "},null,null," ",{"$f":"IF(COUNTIF($G$10:$G45,G45)<2,$G45,\" \")","v":" "},36,{"$f":"IF(COUNTIF($G$10:$G45,I45)<3,$G45,\" \")","v":" "},36,"",1000]
[37,null,{"$f":"IF(A46>0,(VLOOKUP($A46,'Engag Pre'!$A$10:$G$74,3,FALSE)),\" \")","v":{"$error":"#N/A"}},{"$f":"IF(B46>0,(VLOOKUP($B46,'Engag Pou'!$A$10:$G$109,7,FALSE)),\" \")","v":" "},{"$f":"IF(B46>0,(VLOOKUP($B46,'Engag Pou'!$A$10:$G$109,3,FALSE)),\" \")","v":" "},{"$f":"IF(B46>0,(VLOOKUP($B46,'Engag Pou'!$A$10:$G$109,4,FALSE)),\" \")","v":" "},{"$f":"IF(B46>0,(VLOOKUP($B46,'Engag Pou'!$A$10:$G$109,5,FALSE)),\" \")","v":" "},{"$f":"IF(B46>0,(VLOOKUP($B46,'Engag Pou'!$A$10:$G$109,6,FALSE)),\" \")","v":" "},null,null," ",{"$f":"IF(COUNTIF($G$10:$G46,G46)<2,$G46,\" \")","v":" "},37,{"$f":"IF(COUNTIF($G$10:$G46,I46)<3,$G46,\" \")","v":" "},37,"",1000]
[38,null,{"$f":"IF(A47>0,(VLOOKUP($A47,'Engag Pre'!$A$10:$G$74,3,FALSE)),\" \")","v":{"$error":"#N/A"}},{"$f":"IF(B47>0,(VLOOKUP($B47,'Engag Pou'!$A$10:$G$109,7,FALSE)),\" \")","v":" "},{"$f":"IF(B47>0,(VLOOKUP($B47,'Engag Pou'!$A$10:$G$109,3,FALSE)),\" \")","v":" "},{"$f":"IF(B47>0,(VLOOKUP($B47,'Engag Pou'!$A$10:$G$109,4,FALSE)),\" \")","v":" "},{"$f":"IF(B47>0,(VLOOKUP($B47,'Engag Pou'!$A$10:$G$109,5,FALSE)),\" \")","v":" "},{"$f":"IF(B47>0,(VLOOKUP($B47,'Engag Pou'!$A$10:$G$109,6,FALSE)),\" \")","v":" "},null,null," ",{"$f":"IF(COUNTIF($G$10:$G47,G47)<2,$G47,\" \")","v":" "},38,{"$f":"IF(COUNTIF($G$10:$G47,I47)<3,$G47,\" \")","v":" "},38,"",1000]
[39,null,{"$f":"IF(A48>0,(VLOOKUP($A48,'Engag Pre'!$A$10:$G$74,3,FALSE)),\" \")","v":{"$error":"#N/A"}},{"$f":"IF(B48>0,(VLOOKUP($B48,'Engag Pou'!$A$10:$G$109,7,FALSE)),\" \")","v":" "},{"$f":"IF(B48>0,(VLOOKUP($B48,'Engag Pou'!$A$10:$G$109,3,FALSE)),\" \")","v":" "},{"$f":"IF(B48>0,(VLOOKUP($B48,'Engag Pou'!$A$10:$G$109,4,FALSE)),\" \")","v":" "},{"$f":"IF(B48>0,(VLOOKUP($B48,'Engag Pou'!$A$10:$G$109,5,FALSE)),\" \")","v":" "},{"$f":"IF(B48>0,(VLOOKUP($B48,'Engag Pou'!$A$10:$G$109,6,FALSE)),\" \")","v":" "},null,null," ",{"$f":"IF(COUNTIF($G$10:$G48,G48)<2,$G48,\" \")","v":" "},39,{"$f":"IF(COUNTIF($G$10:$G48,I48)<3,$G48,\" \")","v":" "},39,"",1000]
[40,null,{"$f":"IF(A49>0,(VLOOKUP($A49,'Engag Pre'!$A$10:$G$74,3,FALSE)),\" \")","v":{"$error":"#N/A"}},{"$f":"IF(B49>0,(VLOOKUP($B49,'Engag Pou'!$A$10:$G$109,7,FALSE)),\" \")","v":" "},{"$f":"IF(B49>0,(VLOOKUP($B49,'Engag Pou'!$A$10:$G$109,3,FALSE)),\" \")","v":" "},{"$f":"IF(B49>0,(VLOOKUP($B49,'Engag Pou'!$A$10:$G$109,4,FALSE)),\" \")","v":" "},{"$f":"IF(B49>0,(VLOOKUP($B49,'Engag Pou'!$A$10:$G$109,5,FALSE)),\" \")","v":" "},{"$f":"IF(B49>0,(VLOOKUP($B49,'Engag Pou'!$A$10:$G$109,6,FALSE)),\" \")","v":" "},null,null," ",{"$f":"IF(COUNTIF($G$10:$G49,G49)<2,$G49,\" \")","v":" "},40,{"$f":"IF(COUNTIF($G$10:$G49,I49)<3,$G49,\" \")","v":" "},40,"",1000]
[41,null,{"$f":"IF(A50>0,(VLOOKUP($A50,'Engag Pre'!$A$10:$G$74,3,FALSE)),\" \")","v":{"$error":"#N/A"}},{"$f":"IF(B50>0,(VLOOKUP($B50,'Engag Pou'!$A$10:$G$109,7,FALSE)),\" \")","v":" "},{"$f":"IF(B50>0,(VLOOKUP($B50,'Engag Pou'!$A$10:$G$109,3,FALSE)),\" \")","v":" "},{"$f":"IF(B50>0,(VLOOKUP($B50,'Engag Pou'!$A$10:$G$109,4,FALSE)),\" \")","v":" "},{"$f":"IF(B50>0,(VLOOKUP($B50,'Engag Pou'!$A$10:$G$109,5,FALSE)),\" \")","v":" "},{"$f":"IF(B50>0,(VLOOKUP($B50,'Engag Pou'!$A$10:$G$109,6,FALSE)),\" \")","v":" "},null,null," ",{"$f":"IF(COUNTIF($G$10:$G50,G50)<2,$G50,\" \")","v":" "},41,{"$f":"IF(COUNTIF($G$10:$G50,I50)<3,$G50,\" \")","v":" "},41,"",1000]
[42,null,{"$f":"IF(A51>0,(VLOOKUP($A51,'Engag Pre'!$A$10:$G$74,3,FALSE)),\" \")","v":{"$error":"#N/A"}},{"$f":"IF(B51>0,(VLOOKUP($B51,'Engag Pou'!$A$10:$G$109,7,FALSE)),\" \")","v":" "},{"$f":"IF(B51>0,(VLOOKUP($B51,'Engag Pou'!$A$10:$G$109,3,FALSE)),\" \")","v":" "},{"$f":"IF(B51>0,(VLOOKUP($B51,'Engag Pou'!$A$10:$G$109,4,FALSE)),\" \")","v":" "},{"$f":"IF(B51>0,(VLOOKUP($B51,'Engag Pou'!$A$10:$G$109,5,FALSE)),\" \")","v":" "},{"$f":"IF(B51>0,(VLOOKUP($B51,'Engag Pou'!$A$10:$G$109,6,FALSE)),\" \")","v":" "},null,null," ",{"$f":"IF(COUNTIF($G$10:$G51,G51)<2,$G51,\" \")","v":" "},42,{"$f":"IF(COUNTIF($G$10:$G51,I51)<3,$G51,\" \")","v":" "},42,"",1000]
[43,null,{"$f":"IF(A52>0,(VLOOKUP($A52,'Engag Pre'!$A$10:$G$74,3,FALSE)),\" \")","v":{"$error":"#N/A"}},{"$f":"IF(B52>0,(VLOOKUP($B52,'Engag Pou'!$A$10:$G$109,7,FALSE)),\" \")","v":" "},{"$f":"IF(B52>0,(VLOOKUP($B52,'Engag Pou'!$A$10:$G$109,3,FALSE)),\" \")","v":" "},{"$f":"IF(B52>0,(VLOOKUP($B52,'Engag Pou'!$A$10:$G$109,4,FALSE)),\" \")","v":" "},{"$f":"IF(B52>0,(VLOOKUP($B52,'Engag Pou'!$A$10:$G$109,5,FALSE)),\" \")","v":" "},{"$f":"IF(B52>0,(VLOOKUP($B52,'Engag Pou'!$A$10:$G$109,6,FALSE)),\" \")","v":" "},null,null," ",{"$f":"IF(COUNTIF($G$10:$G52,G52)<2,$G52,\" \")","v":" "},43,{"$f":"IF(COUNTIF($G$10:$G52,I52)<3,$G52,\" \")","v":" "},43,"",1000]
[44,null,{"$f":"IF(A53>0,(VLOOKUP($A53,'Engag Pre'!$A$10:$G$74,3,FALSE)),\" \")","v":{"$error":"#N/A"}},{"$f":"IF(B53>0,(VLOOKUP($B53,'Engag Pou'!$A$10:$G$109,7,FALSE)),\" \")","v":" "},{"$f":"IF(B53>0,(VLOOKUP($B53,'Engag Pou'!$A$10:$G$109,3,FALSE)),\" \")","v":" "},{"$f":"IF(B53>0,(VLOOKUP($B53,'Engag Pou'!$A$10:$G$109,4,FALSE)),\" \")","v":" "},{"$f":"IF(B53>0,(VLOOKUP($B53,'Engag Pou'!$A$10:$G$109,5,FALSE)),\" \")","v":" "},{"$f":"IF(B53>0,(VLOOKUP($B53,'Engag Pou'!$A$10:$G$109,6,FALSE)),\" \")","v":" "},null,null," ",{"$f":"IF(COUNTIF($G$10:$G53,G53)<2,$G53,\" \")","v":" "},44,{"$f":"IF(COUNTIF($G$10:$G53,I53)<3,$G53,\" \")","v":" "},44,"",1000]
[45,null,{"$f":"IF(A54>0,(VLOOKUP($A54,'Engag Pre'!$A$10:$G$74,3,FALSE)),\" \")","v":{"$error":"#N/A"}},{"$f":"IF(B54>0,(VLOOKUP($B54,'Engag Pou'!$A$10:$G$109,7,FALSE)),\" \")","v":" "},{"$f":"IF(B54>0,(VLOOKUP($B54,'Engag Pou'!$A$10:$G$109,3,FALSE)),\" \")","v":" "},{"$f":"IF(B54>0,(VLOOKUP($B54,'Engag Pou'!$A$10:$G$109,4,FALSE)),\" \")","v":" "},{"$f":"IF(B54>0,(VLOOKUP($B54,'Engag Pou'!$A$10:$G$109,5,FALSE)),\" \")","v":" "},{"$f":"IF(B54>0,(VLOOKUP($B54,'Engag Pou'!$A$10:$G$109,6,FALSE)),\" \")","v":" "},null,null," ",{"$f":"IF(COUNTIF($G$10:$G54,G54)<2,$G54,\" \")","v":" "},45,{"$f":"IF(COUNTIF($G$10:$G54,I54)<3,$G54,\" \")","v":" "},45,"",1000]
[46,null,{"$f":"IF(A55>0,(VLOOKUP($A55,'Engag Pre'!$A$10:$G$74,3,FALSE)),\" \")","v":{"$error":"#N/A"}},{"$f":"IF(B55>0,(VLOOKUP($B55,'Engag Pou'!$A$10:$G$109,7,FALSE)),\" \")","v":" "},{"$f":"IF(B55>0,(VLOOKUP($B55,'Engag Pou'!$A$10:$G$109,3,FALSE)),\" \")","v":" "},{"$f":"IF(B55>0,(VLOOKUP($B55,'Engag Pou'!$A$10:$G$109,4,FALSE)),\" \")","v":" "},{"$f":"IF(B55>0,(VLOOKUP($B55,'Engag Pou'!$A$10:$G$109,5,FALSE)),\" \")","v":" "},{"$f":"IF(B55>0,(VLOOKUP($B55,'Engag Pou'!$A$10:$G$109,6,FALSE)),\" \")","v":" "},null,null," ",{"$f":"IF(COUNTIF($G$10:$G55,G55)<2,$G55,\" \")","v":" "},46,{"$f":"IF(COUNTIF($G$10:$G55,I55)<3,$G55,\" \")","v":" "},46,"",1000]
[47,null,{"$f":"IF(A56>0,(VLOOKUP($A56,'Engag Pre'!$A$10:$G$74,3,FALSE)),\" \")","v":{"$error":"#N/A"}},{"$f":"IF(B56>0,(VLOOKUP($B56,'Engag Pou'!$A$10:$G$109,7,FALSE)),\" \")","v":" "},{"$f":"IF(B56>0,(VLOOKUP($B56,'Engag Pou'!$A$10:$G$109,3,FALSE)),\" \")","v":" "},{"$f":"IF(B56>0,(VLOOKUP($B56,'Engag Pou'!$A$10:$G$109,4,FALSE)),\" \")","v":" "},{"$f":"IF(B56>0,(VLOOKUP($B56,'Engag Pou'!$A$10:$G$109,5,FALSE)),\" \")","v":" "},{"$f":"IF(B56>0,(VLOOKUP($B56,'Engag Pou'!$A$10:$G$109,6,FALSE)),\" \")","v":" "},null,null," ",{"$f":"IF(COUNTIF($G$10:$G56,G56)<2,$G56,\" \")","v":" "},47,{"$f":"IF(COUNTIF($G$10:$G56,I56)<3,$G56,\" \")","v":" "},47,"",1000]
[48,null,{"$f":"IF(A57>0,(VLOOKUP($A57,'Engag Pre'!$A$10:$G$74,3,FALSE)),\" \")","v":{"$error":"#N/A"}},{"$f":"IF(B57>0,(VLOOKUP($B57,'Engag Pou'!$A$10:$G$109,7,FALSE)),\" \")","v":" "},{"$f":"IF(B57>0,(VLOOKUP($B57,'Engag Pou'!$A$10:$G$109,3,FALSE)),\" \")","v":" "},{"$f":"IF(B57>0,(VLOOKUP($B57,'Engag Pou'!$A$10:$G$109,4,FALSE)),\" \")","v":" "},{"$f":"IF(B57>0,(VLOOKUP($B57,'Engag Pou'!$A$10:$G$109,5,FALSE)),\" \")","v":" "},{"$f":"IF(B57>0,(VLOOKUP($B57,'Engag Pou'!$A$10:$G$109,6,FALSE)),\" \")","v":" "},null,null," ",{"$f":"IF(COUNTIF($G$10:$G57,G57)<2,$G57,\" \")","v":" "},48,{"$f":"IF(COUNTIF($G$10:$G57,I57)<3,$G57,\" \")","v":" "},48,"",1000]
[49,null,{"$f":"IF(A58>0,(VLOOKUP($A58,'Engag Pre'!$A$10:$G$74,3,FALSE)),\" \")","v":{"$error":"#N/A"}},{"$f":"IF(B58>0,(VLOOKUP($B58,'Engag Pou'!$A$10:$G$109,7,FALSE)),\" \")","v":" "},{"$f":"IF(B58>0,(VLOOKUP($B58,'Engag Pou'!$A$10:$G$109,3,FALSE)),\" \")","v":" "},{"$f":"IF(B58>0,(VLOOKUP($B58,'Engag Pou'!$A$10:$G$109,4,FALSE)),\" \")","v":" "},{"$f":"IF(B58>0,(VLOOKUP($B58,'Engag Pou'!$A$10:$G$109,5,FALSE)),\" \")","v":" "},{"$f":"IF(B58>0,(VLOOKUP($B58,'Engag Pou'!$A$10:$G$109,6,FALSE)),\" \")","v":" "},null,null," ",{"$f":"IF(COUNTIF($G$10:$G58,G58)<2,$G58,\" \")","v":" "},49,{"$f":"IF(COUNTIF($G$10:$G58,I58)<3,$G58,\" \")","v":" "},49,"",1000]
[50,null,{"$f":"IF(A59>0,(VLOOKUP($A59,'Engag Pre'!$A$10:$G$74,3,FALSE)),\" \")","v":{"$error":"#N/A"}},{"$f":"IF(B59>0,(VLOOKUP($B59,'Engag Pou'!$A$10:$G$109,7,FALSE)),\" \")","v":" "},{"$f":"IF(B59>0,(VLOOKUP($B59,'Engag Pou'!$A$10:$G$109,3,FALSE)),\" \")","v":" "},{"$f":"IF(B59>0,(VLOOKUP($B59,'Engag Pou'!$A$10:$G$109,4,FALSE)),\" \")","v":" "},{"$f":"IF(B59>0,(VLOOKUP($B59,'Engag Pou'!$A$10:$G$109,5,FALSE)),\" \")","v":" "},{"$f":"IF(B59>0,(VLOOKUP($B59,'Engag Pou'!$A$10:$G$109,6,FALSE)),\" \")","v":" "},null,null," ",{"$f":"IF(COUNTIF($G$10:$G59,G59)<2,$G59,\" \")","v":" "},50,{"$f":"IF(COUNTIF($G$10:$G59,I59)<3,$G59,\" \")","v":" "},50,"",1000]
[51,null,{"$f":"IF(A60>0,(VLOOKUP($A60,'Engag Pre'!$A$10:$G$74,3,FALSE)),\" \")","v":{"$error":"#N/A"}},{"$f":"IF(B60>0,(VLOOKUP($B60,'Engag Pou'!$A$10:$G$109,7,FALSE)),\" \")","v":" "},{"$f":"IF(B60>0,(VLOOKUP($B60,'Engag Pou'!$A$10:$G$109,3,FALSE)),\" \")","v":" "},{"$f":"IF(B60>0,(VLOOKUP($B60,'Engag Pou'!$A$10:$G$109,4,FALSE)),\" \")","v":" "},{"$f":"IF(B60>0,(VLOOKUP($B60,'Engag Pou'!$A$10:$G$109,5,FALSE)),\" \")","v":" "},{"$f":"IF(B60>0,(VLOOKUP($B60,'Engag Pou'!$A$10:$G$109,6,FALSE)),\" \")","v":" "},null,null," ",{"$f":"IF(COUNTIF($G$10:$G60,G60)<2,$G60,\" \")","v":" "},51,{"$f":"IF(COUNTIF($G$10:$G60,I60)<3,$G60,\" \")","v":" "},51,"",1000]
[52,null,{"$f":"IF(A61>0,(VLOOKUP($A61,'Engag Pre'!$A$10:$G$74,3,FALSE)),\" \")","v":{"$error":"#N/A"}},{"$f":"IF(B61>0,(VLOOKUP($B61,'Engag Pou'!$A$10:$G$109,7,FALSE)),\" \")","v":" "},{"$f":"IF(B61>0,(VLOOKUP($B61,'Engag Pou'!$A$10:$G$109,3,FALSE)),\" \")","v":" "},{"$f":"IF(B61>0,(VLOOKUP($B61,'Engag Pou'!$A$10:$G$109,4,FALSE)),\" \")","v":" "},{"$f":"IF(B61>0,(VLOOKUP($B61,'Engag Pou'!$A$10:$G$109,5,FALSE)),\" \")","v":" "},{"$f":"IF(B61>0,(VLOOKUP($B61,'Engag Pou'!$A$10:$G$109,6,FALSE)),\" \")","v":" "},null,null," ",{"$f":"IF(COUNTIF($G$10:$G61,G61)<2,$G61,\" \")","v":" "},52,{"$f":"IF(COUNTIF($G$10:$G61,I61)<3,$G61,\" \")","v":" "},52,"",1000]
[53,null,{"$f":"IF(A62>0,(VLOOKUP($A62,'Engag Pre'!$A$10:$G$74,3,FALSE)),\" \")","v":{"$error":"#N/A"}},{"$f":"IF(B62>0,(VLOOKUP($B62,'Engag Pou'!$A$10:$G$109,7,FALSE)),\" \")","v":" "},{"$f":"IF(B62>0,(VLOOKUP($B62,'Engag Pou'!$A$10:$G$109,3,FALSE)),\" \")","v":" "},{"$f":"IF(B62>0,(VLOOKUP($B62,'Engag Pou'!$A$10:$G$109,4,FALSE)),\" \")","v":" "},{"$f":"IF(B62>0,(VLOOKUP($B62,'Engag Pou'!$A$10:$G$109,5,FALSE)),\" \")","v":" "},{"$f":"IF(B62>0,(VLOOKUP($B62,'Engag Pou'!$A$10:$G$109,6,FALSE)),\" \")","v":" "},null,null," ",{"$f":"IF(COUNTIF($G$10:$G62,G62)<2,$G62,\" \")","v":" "},53,{"$f":"IF(COUNTIF($G$10:$G62,I62)<3,$G62,\" \")","v":" "},53,"",1000]
[54,null,{"$f":"IF(A63>0,(VLOOKUP($A63,'Engag Pre'!$A$10:$G$74,3,FALSE)),\" \")","v":{"$error":"#N/A"}},{"$f":"IF(B63>0,(VLOOKUP($B63,'Engag Pou'!$A$10:$G$109,7,FALSE)),\" \")","v":" "},{"$f":"IF(B63>0,(VLOOKUP($B63,'Engag Pou'!$A$10:$G$109,3,FALSE)),\" \")","v":" "},{"$f":"IF(B63>0,(VLOOKUP($B63,'Engag Pou'!$A$10:$G$109,4,FALSE)),\" \")","v":" "},{"$f":"IF(B63>0,(VLOOKUP($B63,'Engag Pou'!$A$10:$G$109,5,FALSE)),\" \")","v":" "},{"$f":"IF(B63>0,(VLOOKUP($B63,'Engag Pou'!$A$10:$G$109,6,FALSE)),\" \")","v":" "},null,null," ",{"$f":"IF(COUNTIF($G$10:$G63,G63)<2,$G63,\" \")","v":" "},54,{"$f":"IF(COUNTIF($G$10:$G63,I63)<3,$G63,\" \")","v":" "},54,"",1000]
[55,null,{"$f":"IF(A64>0,(VLOOKUP($A64,'Engag Pre'!$A$10:$G$74,3,FALSE)),\" \")","v":{"$error":"#N/A"}},{"$f":"IF(B64>0,(VLOOKUP($B64,'Engag Pou'!$A$10:$G$109,7,FALSE)),\" \")","v":" "},{"$f":"IF(B64>0,(VLOOKUP($B64,'Engag Pou'!$A$10:$G$109,3,FALSE)),\" \")","v":" "},{"$f":"IF(B64>0,(VLOOKUP($B64,'Engag Pou'!$A$10:$G$109,4,FALSE)),\" \")","v":" "},{"$f":"IF(B64>0,(VLOOKUP($B64,'Engag Pou'!$A$10:$G$109,5,FALSE)),\" \")","v":" "},{"$f":"IF(B64>0,(VLOOKUP($B64,'Engag Pou'!$A$10:$G$109,6,FALSE)),\" \")","v":" "},null,null," ",{"$f":"IF(COUNTIF($G$10:$G64,G64)<2,$G64,\" \")","v":" "},55,{"$f":"IF(COUNTIF($G$10:$G64,I64)<3,$G64,\" \")","v":" "},55,"",1000]
[56,null,{"$f":"IF(A65>0,(VLOOKUP($A65,'Engag Pre'!$A$10:$G$74,3,FALSE)),\" \")","v":{"$error":"#N/A"}},{"$f":"IF(B65>0,(VLOOKUP($B65,'Engag Pou'!$A$10:$G$109,7,FALSE)),\" \")","v":" "},{"$f":"IF(B65>0,(VLOOKUP($B65,'Engag Pou'!$A$10:$G$109,3,FALSE)),\" \")","v":" "},{"$f":"IF(B65>0,(VLOOKUP($B65,'Engag Pou'!$A$10:$G$109,4,FALSE)),\" \")","v":" "},{"$f":"IF(B65>0,(VLOOKUP($B65,'Engag Pou'!$A$10:$G$109,5,FALSE)),\" \")","v":" "},{"$f":"IF(B65>0,(VLOOKUP($B65,'Engag Pou'!$A$10:$G$109,6,FALSE)),\" \")","v":" "},null,null," ",{"$f":"IF(COUNTIF($G$10:$G65,G65)<2,$G65,\" \")","v":" "},56,{"$f":"IF(COUNTIF($G$10:$G65,I65)<3,$G65,\" \")","v":" "},56,"",1000]
[57,null,{"$f":"IF(A66>0,(VLOOKUP($A66,'Engag Pre'!$A$10:$G$74,3,FALSE)),\" \")","v":{"$error":"#N/A"}},{"$f":"IF(B66>0,(VLOOKUP($B66,'Engag Pou'!$A$10:$G$109,7,FALSE)),\" \")","v":" "},{"$f":"IF(B66>0,(VLOOKUP($B66,'Engag Pou'!$A$10:$G$109,3,FALSE)),\" \")","v":" "},{"$f":"IF(B66>0,(VLOOKUP($B66,'Engag Pou'!$A$10:$G$109,4,FALSE)),\" \")","v":" "},{"$f":"IF(B66>0,(VLOOKUP($B66,'Engag Pou'!$A$10:$G$109,5,FALSE)),\" \")","v":" "},{"$f":"IF(B66>0,(VLOOKUP($B66,'Engag Pou'!$A$10:$G$109,6,FALSE)),\" \")","v":" "},null,null," ",{"$f":"IF(COUNTIF($G$10:$G66,G66)<2,$G66,\" \")","v":" "},57,{"$f":"IF(COUNTIF($G$10:$G66,I66)<3,$G66,\" \")","v":" "},57,"",1000]
[58,null,{"$f":"IF(A67>0,(VLOOKUP($A67,'Engag Pre'!$A$10:$G$74,3,FALSE)),\" \")","v":{"$error":"#N/A"}},{"$f":"IF(B67>0,(VLOOKUP($B67,'Engag Pou'!$A$10:$G$109,7,FALSE)),\" \")","v":" "},{"$f":"IF(B67>0,(VLOOKUP($B67,'Engag Pou'!$A$10:$G$109,3,FALSE)),\" \")","v":" "},{"$f":"IF(B67>0,(VLOOKUP($B67,'Engag Pou'!$A$10:$G$109,4,FALSE)),\" \")","v":" "},{"$f":"IF(B67>0,(VLOOKUP($B67,'Engag Pou'!$A$10:$G$109,5,FALSE)),\" \")","v":" "},{"$f":"IF(B67>0,(VLOOKUP($B67,'Engag Pou'!$A$10:$G$109,6,FALSE)),\" \")","v":" "},null,null," ",{"$f":"IF(COUNTIF($G$10:$G67,G67)<2,$G67,\" \")","v":" "},58,{"$f":"IF(COUNTIF($G$10:$G67,I67)<3,$G67,\" \")","v":" "},58,"",1000]
[59,null,{"$f":"IF(A68>0,(VLOOKUP($A68,'Engag Pre'!$A$10:$G$74,3,FALSE)),\" \")","v":{"$error":"#N/A"}},{"$f":"IF(B68>0,(VLOOKUP($B68,'Engag Pou'!$A$10:$G$109,7,FALSE)),\" \")","v":" "},{"$f":"IF(B68>0,(VLOOKUP($B68,'Engag Pou'!$A$10:$G$109,3,FALSE)),\" \")","v":" "},{"$f":"IF(B68>0,(VLOOKUP($B68,'Engag Pou'!$A$10:$G$109,4,FALSE)),\" \")","v":" "},{"$f":"IF(B68>0,(VLOOKUP($B68,'Engag Pou'!$A$10:$G$109,5,FALSE)),\" \")","v":" "},{"$f":"IF(B68>0,(VLOOKUP($B68,'Engag Pou'!$A$10:$G$109,6,FALSE)),\" \")","v":" "},null,null," ",{"$f":"IF(COUNTIF($G$10:$G68,G68)<2,$G68,\" \")","v":" "},59,{"$f":"IF(COUNTIF($G$10:$G68,I68)<3,$G68,\" \")","v":" "},59,"",1000]
[60,null,{"$f":"IF(A69>0,(VLOOKUP($A69,'Engag Pre'!$A$10:$G$74,3,FALSE)),\" \")","v":{"$error":"#N/A"}},{"$f":"IF(B69>0,(VLOOKUP($B69,'Engag Pou'!$A$10:$G$109,7,FALSE)),\" \")","v":" "},{"$f":"IF(B69>0,(VLOOKUP($B69,'Engag Pou'!$A$10:$G$109,3,FALSE)),\" \")","v":" "},{"$f":"IF(B69>0,(VLOOKUP($B69,'Engag Pou'!$A$10:$G$109,4,FALSE)),\" \")","v":" "},{"$f":"IF(B69>0,(VLOOKUP($B69,'Engag Pou'!$A$10:$G$109,5,FALSE)),\" \")","v":" "},{"$f":"IF(B69>0,(VLOOKUP($B69,'Engag Pou'!$A$10:$G$109,6,FALSE)),\" \")","v":" "},null,null," ",{"$f":"IF(COUNTIF($G$10:$G69,G69)<2,$G69,\" \")","v":" "},60,{"$f":"IF(COUNTIF($G$10:$G69,I69)<3,$G69,\" \")","v":" "},60,"",1000]
[61,null,{"$f":"IF(A70>0,(VLOOKUP($A70,'Engag Pre'!$A$10:$G$74,3,FALSE)),\" \")","v":{"$error":"#N/A"}},{"$f":"IF(B70>0,(VLOOKUP($B70,'Engag Pou'!$A$10:$G$109,7,FALSE)),\" \")","v":" "},{"$f":"IF(B70>0,(VLOOKUP($B70,'Engag Pou'!$A$10:$G$109,3,FALSE)),\" \")","v":" "},{"$f":"IF(B70>0,(VLOOKUP($B70,'Engag Pou'!$A$10:$G$109,4,FALSE)),\" \")","v":" "},{"$f":"IF(B70>0,(VLOOKUP($B70,'Engag Pou'!$A$10:$G$109,5,FALSE)),\" \")","v":" "},{"$f":"IF(B70>0,(VLOOKUP($B70,'Engag Pou'!$A$10:$G$109,6,FALSE)),\" \")","v":" "},null,null," ",{"$f":"IF(COUNTIF($G$10:$G70,G70)<2,$G70,\" \")","v":" "},61,{"$f":"IF(COUNTIF($G$10:$G70,I70)<3,$G70,\" \")","v":" "},61,"",1000]
[62,null,{"$f":"IF(A71>0,(VLOOKUP($A71,'Engag Pre'!$A$10:$G$74,3,FALSE)),\" \")","v":{"$error":"#N/A"}},{"$f":"IF(B71>0,(VLOOKUP($B71,'Engag Pou'!$A$10:$G$109,7,FALSE)),\" \")","v":" "},{"$f":"IF(B71>0,(VLOOKUP($B71,'Engag Pou'!$A$10:$G$109,3,FALSE)),\" \")","v":" "},{"$f":"IF(B71>0,(VLOOKUP($B71,'Engag Pou'!$A$10:$G$109,4,FALSE)),\" \")","v":" "},{"$f":"IF(B71>0,(VLOOKUP($B71,'Engag Pou'!$A$10:$G$109,5,FALSE)),\" \")","v":" "},{"$f":"IF(B71>0,(VLOOKUP($B71,'Engag Pou'!$A$10:$G$109,6,FALSE)),\" \")","v":" "},null,null," ",{"$f":"IF(COUNTIF($G$10:$G71,G71)<2,$G71,\" \")","v":" "},62,{"$f":"IF(COUNTIF($G$10:$G71,I71)<3,$G71,\" \")","v":" "},62,"",1000]
[63,null,{"$f":"IF(A72>0,(VLOOKUP($A72,'Engag Pre'!$A$10:$G$74,3,FALSE)),\" \")","v":{"$error":"#N/A"}},{"$f":"IF(B72>0,(VLOOKUP($B72,'Engag Pou'!$A$10:$G$109,7,FALSE)),\" \")","v":" "},{"$f":"IF(B72>0,(VLOOKUP($B72,'Engag Pou'!$A$10:$G$109,3,FALSE)),\" \")","v":" "},{"$f":"IF(B72>0,(VLOOKUP($B72,'Engag Pou'!$A$10:$G$109,4,FALSE)),\" \")","v":" "},{"$f":"IF(B72>0,(VLOOKUP($B72,'Engag Pou'!$A$10:$G$109,5,FALSE)),\" \")","v":" "},{"$f":"IF(B72>0,(VLOOKUP($B72,'Engag Pou'!$A$10:$G$109,6,FALSE)),\" \")","v":" "},null,null," ",{"$f":"IF(COUNTIF($G$10:$G72,G72)<2,$G72,\" \")","v":" "},63,{"$f":"IF(COUNTIF($G$10:$G72,I72)<3,$G72,\" \")","v":" "},63,"",1000]
[64,null,{"$f":"IF(A73>0,(VLOOKUP($A73,'Engag Pre'!$A$10:$G$74,3,FALSE)),\" \")","v":{"$error":"#N/A"}},{"$f":"IF(B73>0,(VLOOKUP($B73,'Engag Pou'!$A$10:$G$109,7,FALSE)),\" \")","v":" "},{"$f":"IF(B73>0,(VLOOKUP($B73,'Engag Pou'!$A$10:$G$109,3,FALSE)),\" \")","v":" "},{"$f":"IF(B73>0,(VLOOKUP($B73,'Engag Pou'!$A$10:$G$109,4,FALSE)),\" \")","v":" "},{"$f":"IF(B73>0,(VLOOKUP($B73,'Engag Pou'!$A$10:$G$109,5,FALSE)),\" \")","v":" "},{"$f":"IF(B73>0,(VLOOKUP($B73,'Engag Pou'!$A$10:$G$109,6,FALSE)),\" \")","v":" "},null,null," ",{"$f":"IF(COUNTIF($G$10:$G73,G73)<2,$G73,\" \")","v":" "},64,{"$f":"IF(COUNTIF($G$10:$G73,I73)<3,$G73,\" \")","v":" "},64,"",1000]
[65,null,{"$f":"IF(A74>0,(VLOOKUP($A74,'Engag Pre'!$A$10:$G$74,3,FALSE)),\" \")","v":{"$error":"#N/A"}},{"$f":"IF(B74>0,(VLOOKUP($B74,'Engag Pou'!$A$10:$G$109,7,FALSE)),\" \")","v":" "},{"$f":"IF(B74>0,(VLOOKUP($B74,'Engag Pou'!$A$10:$G$109,3,FALSE)),\" \")","v":" "},{"$f":"IF(B74>0,(VLOOKUP($B74,'Engag Pou'!$A$10:$G$109,4,FALSE)),\" \")","v":" "},{"$f":"IF(B74>0,(VLOOKUP($B74,'Engag Pou'!$A$10:$G$109,5,FALSE)),\" \")","v":" "},{"$f":"IF(B74>0,(VLOOKUP($B74,'Engag Pou'!$A$10:$G$109,6,FALSE)),\" \")","v":" "},null,null," ",{"$f":"IF(COUNTIF($G$10:$G74,G74)<2,$G74,\" \")","v":" "},65,{"$f":"IF(COUNTIF($G$10:$G74,I74)<3,$G74,\" \")","v":" "},65,"",1000]
[66,null,{"$f":"IF(A75>0,(VLOOKUP($A75,'Engag Pre'!$A$10:$G$74,3,FALSE)),\" \")","v":{"$error":"#N/A"}},{"$f":"IF(B75>0,(VLOOKUP($B75,'Engag Pou'!$A$10:$G$109,7,FALSE)),\" \")","v":" "},{"$f":"IF(B75>0,(VLOOKUP($B75,'Engag Pou'!$A$10:$G$109,3,FALSE)),\" \")","v":" "},{"$f":"IF(B75>0,(VLOOKUP($B75,'Engag Pou'!$A$10:$G$109,4,FALSE)),\" \")","v":" "},{"$f":"IF(B75>0,(VLOOKUP($B75,'Engag Pou'!$A$10:$G$109,5,FALSE)),\" \")","v":" "},{"$f":"IF(B75>0,(VLOOKUP($B75,'Engag Pou'!$A$10:$G$109,6,FALSE)),\" \")","v":" "},null,null,{"$f":"IF(COUNTIF($B$10:$B$109,B75)>1,\"Déjà classé\",\" \")","v":" "},{"$f":"IF(COUNTIF($G$10:$G75,G75)<2,$G75,\" \")","v":" "},{"$f":"IF($G$6<5,1000,(IF(L75=G75,A75,\"\")))","v":66},{"$f":"IF(COUNTIF($G$10:$G75,I75)<3,$G75,\" \")","v":" "},{"$f":"IF(N75=$G75,$A75,\"\")","v":66},{"$f":"IF(N75=L75,\"\",N75)","v":""},{"$f":"IF($G$6<5,1000,(IF(P75=$G75,$A75,1000)))","v":1000}]
[67,null,{"$f":"IF(A76>0,(VLOOKUP($A76,'Engag Pre'!$A$10:$G$74,3,FALSE)),\" \")","v":{"$error":"#N/A"}},{"$f":"IF(B76>0,(VLOOKUP($B76,'Engag Pou'!$A$10:$G$109,7,FALSE)),\" \")","v":" "},{"$f":"IF(B76>0,(VLOOKUP($B76,'Engag Pou'!$A$10:$G$109,3,FALSE)),\" \")","v":" "},{"$f":"IF(B76>0,(VLOOKUP($B76,'Engag Pou'!$A$10:$G$109,4,FALSE)),\" \")","v":" "},{"$f":"IF(B76>0,(VLOOKUP($B76,'Engag Pou'!$A$10:$G$109,5,FALSE)),\" \")","v":" "},{"$f":"IF(B76>0,(VLOOKUP($B76,'Engag Pou'!$A$10:$G$109,6,FALSE)),\" \")","v":" "},null,null," ",{"$f":"IF(COUNTIF($G$10:$G76,G76)<2,$G76,\" \")","v":" "},67,{"$f":"IF(COUNTIF($G$10:$G76,I76)<3,$G76,\" \")","v":" "},67,"",1000]
[68,null,{"$f":"IF(A77>0,(VLOOKUP($A77,'Engag Pre'!$A$10:$G$74,3,FALSE)),\" \")","v":{"$error":"#N/A"}},{"$f":"IF(B77>0,(VLOOKUP($B77,'Engag Pou'!$A$10:$G$109,7,FALSE)),\" \")","v":" "},{"$f":"IF(B77>0,(VLOOKUP($B77,'Engag Pou'!$A$10:$G$109,3,FALSE)),\" \")","v":" "},{"$f":"IF(B77>0,(VLOOKUP($B77,'Engag Pou'!$A$10:$G$109,4,FALSE)),\" \")","v":" "},{"$f":"IF(B77>0,(VLOOKUP($B77,'Engag Pou'!$A$10:$G$109,5,FALSE)),\" \")","v":" "},{"$f":"IF(B77>0,(VLOOKUP($B77,'Engag Pou'!$A$10:$G$109,6,FALSE)),\" \")","v":" "},null,null," ",{"$f":"IF(COUNTIF($G$10:$G77,G77)<2,$G77,\" \")","v":" "},68,{"$f":"IF(COUNTIF($G$10:$G77,I77)<3,$G77,\" \")","v":" "},68,"",1000]
[69,null,{"$f":"IF(A78>0,(VLOOKUP($A78,'Engag Pre'!$A$10:$G$74,3,FALSE)),\" \")","v":{"$error":"#N/A"}},{"$f":"IF(B78>0,(VLOOKUP($B78,'Engag Pou'!$A$10:$G$109,7,FALSE)),\" \")","v":" "},{"$f":"IF(B78>0,(VLOOKUP($B78,'Engag Pou'!$A$10:$G$109,3,FALSE)),\" \")","v":" "},{"$f":"IF(B78>0,(VLOOKUP($B78,'Engag Pou'!$A$10:$G$109,4,FALSE)),\" \")","v":" "},{"$f":"IF(B78>0,(VLOOKUP($B78,'Engag Pou'!$A$10:$G$109,5,FALSE)),\" \")","v":" "},{"$f":"IF(B78>0,(VLOOKUP($B78,'Engag Pou'!$A$10:$G$109,6,FALSE)),\" \")","v":" "},null,null," ",{"$f":"IF(COUNTIF($G$10:$G78,G78)<2,$G78,\" \")","v":" "},69,{"$f":"IF(COUNTIF($G$10:$G78,I78)<3,$G78,\" \")","v":" "},69,"",1000]
[70,null,{"$f":"IF(A79>0,(VLOOKUP($A79,'Engag Pre'!$A$10:$G$74,3,FALSE)),\" \")","v":{"$error":"#N/A"}},{"$f":"IF(B79>0,(VLOOKUP($B79,'Engag Pou'!$A$10:$G$109,7,FALSE)),\" \")","v":" "},{"$f":"IF(B79>0,(VLOOKUP($B79,'Engag Pou'!$A$10:$G$109,3,FALSE)),\" \")","v":" "},{"$f":"IF(B79>0,(VLOOKUP($B79,'Engag Pou'!$A$10:$G$109,4,FALSE)),\" \")","v":" "},{"$f":"IF(B79>0,(VLOOKUP($B79,'Engag Pou'!$A$10:$G$109,5,FALSE)),\" \")","v":" "},{"$f":"IF(B79>0,(VLOOKUP($B79,'Engag Pou'!$A$10:$G$109,6,FALSE)),\" \")","v":" "},null,null," ",{"$f":"IF(COUNTIF($G$10:$G79,G79)<2,$G79,\" \")","v":" "},70,{"$f":"IF(COUNTIF($G$10:$G79,I79)<3,$G79,\" \")","v":" "},70,"",1000]
[71,null,{"$f":"IF(A80>0,(VLOOKUP($A80,'Engag Pre'!$A$10:$G$74,3,FALSE)),\" \")","v":{"$error":"#N/A"}},{"$f":"IF(B80>0,(VLOOKUP($B80,'Engag Pou'!$A$10:$G$109,7,FALSE)),\" \")","v":" "},{"$f":"IF(B80>0,(VLOOKUP($B80,'Engag Pou'!$A$10:$G$109,3,FALSE)),\" \")","v":" "},{"$f":"IF(B80>0,(VLOOKUP($B80,'Engag Pou'!$A$10:$G$109,4,FALSE)),\" \")","v":" "},{"$f":"IF(B80>0,(VLOOKUP($B80,'Engag Pou'!$A$10:$G$109,5,FALSE)),\" \")","v":" "},{"$f":"IF(B80>0,(VLOOKUP($B80,'Engag Pou'!$A$10:$G$109,6,FALSE)),\" \")","v":" "},null,null," ",{"$f":"IF(COUNTIF($G$10:$G80,G80)<2,$G80,\" \")","v":" "},71,{"$f":"IF(COUNTIF($G$10:$G80,I80)<3,$G80,\" \")","v":" "},71,"",1000]
[72,null,{"$f":"IF(A81>0,(VLOOKUP($A81,'Engag Pre'!$A$10:$G$74,3,FALSE)),\" \")","v":{"$error":"#N/A"}},{"$f":"IF(B81>0,(VLOOKUP($B81,'Engag Pou'!$A$10:$G$109,7,FALSE)),\" \")","v":" "},{"$f":"IF(B81>0,(VLOOKUP($B81,'Engag Pou'!$A$10:$G$109,3,FALSE)),\" \")","v":" "},{"$f":"IF(B81>0,(VLOOKUP($B81,'Engag Pou'!$A$10:$G$109,4,FALSE)),\" \")","v":" "},{"$f":"IF(B81>0,(VLOOKUP($B81,'Engag Pou'!$A$10:$G$109,5,FALSE)),\" \")","v":" "},{"$f":"IF(B81>0,(VLOOKUP($B81,'Engag Pou'!$A$10:$G$109,6,FALSE)),\" \")","v":" "},null,null," ",{"$f":"IF(COUNTIF($G$10:$G81,G81)<2,$G81,\" \")","v":" "},72,{"$f":"IF(COUNTIF($G$10:$G81,I81)<3,$G81,\" \")","v":" "},72,"",1000]
[73,null,{"$f":"IF(A82>0,(VLOOKUP($A82,'Engag Pre'!$A$10:$G$74,3,FALSE)),\" \")","v":{"$error":"#N/A"}},{"$f":"IF(B82>0,(VLOOKUP($B82,'Engag Pou'!$A$10:$G$109,7,FALSE)),\" \")","v":" "},{"$f":"IF(B82>0,(VLOOKUP($B82,'Engag Pou'!$A$10:$G$109,3,FALSE)),\" \")","v":" "},{"$f":"IF(B82>0,(VLOOKUP($B82,'Engag Pou'!$A$10:$G$109,4,FALSE)),\" \")","v":" "},{"$f":"IF(B82>0,(VLOOKUP($B82,'Engag Pou'!$A$10:$G$109,5,FALSE)),\" \")","v":" "},{"$f":"IF(B82>0,(VLOOKUP($B82,'Engag Pou'!$A$10:$G$109,6,FALSE)),\" \")","v":" "},null,null," ",{"$f":"IF(COUNTIF($G$10:$G82,G82)<2,$G82,\" \")","v":" "},73,{"$f":"IF(COUNTIF($G$10:$G82,I82)<3,$G82,\" \")","v":" "},73,"",1000]
[74,null,{"$f":"IF(A83>0,(VLOOKUP($A83,'Engag Pre'!$A$10:$G$74,3,FALSE)),\" \")","v":{"$error":"#N/A"}},{"$f":"IF(B83>0,(VLOOKUP($B83,'Engag Pou'!$A$10:$G$109,7,FALSE)),\" \")","v":" "},{"$f":"IF(B83>0,(VLOOKUP($B83,'Engag Pou'!$A$10:$G$109,3,FALSE)),\" \")","v":" "},{"$f":"IF(B83>0,(VLOOKUP($B83,'Engag Pou'!$A$10:$G$109,4,FALSE)),\" \")","v":" "},{"$f":"IF(B83>0,(VLOOKUP($B83,'Engag Pou'!$A$10:$G$109,5,FALSE)),\" \")","v":" "},{"$f":"IF(B83>0,(VLOOKUP($B83,'Engag Pou'!$A$10:$G$109,6,FALSE)),\" \")","v":" "},null,null," ",{"$f":"IF(COUNTIF($G$10:$G83,G83)<2,$G83,\" \")","v":" "},74,{"$f":"IF(COUNTIF($G$10:$G83,I83)<3,$G83,\" \")","v":" "},74,"",1000]
[75,null,{"$f":"IF(A84>0,(VLOOKUP($A84,'Engag Pre'!$A$10:$G$74,3,FALSE)),\" \")","v":{"$error":"#N/A"}},{"$f":"IF(B84>0,(VLOOKUP($B84,'Engag Pou'!$A$10:$G$109,7,FALSE)),\" \")","v":" "},{"$f":"IF(B84>0,(VLOOKUP($B84,'Engag Pou'!$A$10:$G$109,3,FALSE)),\" \")","v":" "},{"$f":"IF(B84>0,(VLOOKUP($B84,'Engag Pou'!$A$10:$G$109,4,FALSE)),\" \")","v":" "},{"$f":"IF(B84>0,(VLOOKUP($B84,'Engag Pou'!$A$10:$G$109,5,FALSE)),\" \")","v":" "},{"$f":"IF(B84>0,(VLOOKUP($B84,'Engag Pou'!$A$10:$G$109,6,FALSE)),\" \")","v":" "},null,null," ",{"$f":"IF(COUNTIF($G$10:$G84,G84)<2,$G84,\" \")","v":" "},75,{"$f":"IF(COUNTIF($G$10:$G84,I84)<3,$G84,\" \")","v":" "},75,"",1000]
[76,null,{"$f":"IF(A85>0,(VLOOKUP($A85,'Engag Pre'!$A$10:$G$74,3,FALSE)),\" \")","v":{"$error":"#N/A"}},{"$f":"IF(B85>0,(VLOOKUP($B85,'Engag Pou'!$A$10:$G$109,7,FALSE)),\" \")","v":" "},{"$f":"IF(B85>0,(VLOOKUP($B85,'Engag Pou'!$A$10:$G$109,3,FALSE)),\" \")","v":" "},{"$f":"IF(B85>0,(VLOOKUP($B85,'Engag Pou'!$A$10:$G$109,4,FALSE)),\" \")","v":" "},{"$f":"IF(B85>0,(VLOOKUP($B85,'Engag Pou'!$A$10:$G$109,5,FALSE)),\" \")","v":" "},{"$f":"IF(B85>0,(VLOOKUP($B85,'Engag Pou'!$A$10:$G$109,6,FALSE)),\" \")","v":" "},null,null," ",{"$f":"IF(COUNTIF($G$10:$G85,G85)<2,$G85,\" \")","v":" "},76,{"$f":"IF(COUNTIF($G$10:$G85,I85)<3,$G85,\" \")","v":" "},76,"",1000]
[77,null,{"$f":"IF(A86>0,(VLOOKUP($A86,'Engag Pre'!$A$10:$G$74,3,FALSE)),\" \")","v":{"$error":"#N/A"}},{"$f":"IF(B86>0,(VLOOKUP($B86,'Engag Pou'!$A$10:$G$109,7,FALSE)),\" \")","v":" "},{"$f":"IF(B86>0,(VLOOKUP($B86,'Engag Pou'!$A$10:$G$109,3,FALSE)),\" \")","v":" "},{"$f":"IF(B86>0,(VLOOKUP($B86,'Engag Pou'!$A$10:$G$109,4,FALSE)),\" \")","v":" "},{"$f":"IF(B86>0,(VLOOKUP($B86,'Engag Pou'!$A$10:$G$109,5,FALSE)),\" \")","v":" "},{"$f":"IF(B86>0,(VLOOKUP($B86,'Engag Pou'!$A$10:$G$109,6,FALSE)),\" \")","v":" "},null,null," ",{"$f":"IF(COUNTIF($G$10:$G86,G86)<2,$G86,\" \")","v":" "},77,{"$f":"IF(COUNTIF($G$10:$G86,I86)<3,$G86,\" \")","v":" "},77,"",1000]
[78,null,{"$f":"IF(A87>0,(VLOOKUP($A87,'Engag Pre'!$A$10:$G$74,3,FALSE)),\" \")","v":{"$error":"#N/A"}},{"$f":"IF(B87>0,(VLOOKUP($B87,'Engag Pou'!$A$10:$G$109,7,FALSE)),\" \")","v":" "},{"$f":"IF(B87>0,(VLOOKUP($B87,'Engag Pou'!$A$10:$G$109,3,FALSE)),\" \")","v":" "},{"$f":"IF(B87>0,(VLOOKUP($B87,'Engag Pou'!$A$10:$G$109,4,FALSE)),\" \")","v":" "},{"$f":"IF(B87>0,(VLOOKUP($B87,'Engag Pou'!$A$10:$G$109,5,FALSE)),\" \")","v":" "},{"$f":"IF(B87>0,(VLOOKUP($B87,'Engag Pou'!$A$10:$G$109,6,FALSE)),\" \")","v":" "},null,null," ",{"$f":"IF(COUNTIF($G$10:$G87,G87)<2,$G87,\" \")","v":" "},78,{"$f":"IF(COUNTIF($G$10:$G87,I87)<3,$G87,\" \")","v":" "},78,"",1000]
[79,null,{"$f":"IF(A88>0,(VLOOKUP($A88,'Engag Pre'!$A$10:$G$74,3,FALSE)),\" \")","v":{"$error":"#N/A"}},{"$f":"IF(B88>0,(VLOOKUP($B88,'Engag Pou'!$A$10:$G$109,7,FALSE)),\" \")","v":" "},{"$f":"IF(B88>0,(VLOOKUP($B88,'Engag Pou'!$A$10:$G$109,3,FALSE)),\" \")","v":" "},{"$f":"IF(B88>0,(VLOOKUP($B88,'Engag Pou'!$A$10:$G$109,4,FALSE)),\" \")","v":" "},{"$f":"IF(B88>0,(VLOOKUP($B88,'Engag Pou'!$A$10:$G$109,5,FALSE)),\" \")","v":" "},{"$f":"IF(B88>0,(VLOOKUP($B88,'Engag Pou'!$A$10:$G$109,6,FALSE)),\" \")","v":" "},null,null," ",{"$f":"IF(COUNTIF($G$10:$G88,G88)<2,$G88,\" \")","v":" "},79,{"$f":"IF(COUNTIF($G$10:$G88,I88)<3,$G88,\" \")","v":" "},79,"",1000]
[80,null,{"$f":"IF(A89>0,(VLOOKUP($A89,'Engag Pre'!$A$10:$G$74,3,FALSE)),\" \")","v":{"$error":"#N/A"}},{"$f":"IF(B89>0,(VLOOKUP($B89,'Engag Pou'!$A$10:$G$109,7,FALSE)),\" \")","v":" "},{"$f":"IF(B89>0,(VLOOKUP($B89,'Engag Pou'!$A$10:$G$109,3,FALSE)),\" \")","v":" "},{"$f":"IF(B89>0,(VLOOKUP($B89,'Engag Pou'!$A$10:$G$109,4,FALSE)),\" \")","v":" "},{"$f":"IF(B89>0,(VLOOKUP($B89,'Engag Pou'!$A$10:$G$109,5,FALSE)),\" \")","v":" "},{"$f":"IF(B89>0,(VLOOKUP($B89,'Engag Pou'!$A$10:$G$109,6,FALSE)),\" \")","v":" "},null,null," ",{"$f":"IF(COUNTIF($G$10:$G89,G89)<2,$G89,\" \")","v":" "},80,{"$f":"IF(COUNTIF($G$10:$G89,I89)<3,$G89,\" \")","v":" "},80,"",1000]
[81,null,{"$f":"IF(A90>0,(VLOOKUP($A90,'Engag Pre'!$A$10:$G$74,3,FALSE)),\" \")","v":{"$error":"#N/A"}},{"$f":"IF(B90>0,(VLOOKUP($B90,'Engag Pou'!$A$10:$G$109,7,FALSE)),\" \")","v":" "},{"$f":"IF(B90>0,(VLOOKUP($B90,'Engag Pou'!$A$10:$G$109,3,FALSE)),\" \")","v":" "},{"$f":"IF(B90>0,(VLOOKUP($B90,'Engag Pou'!$A$10:$G$109,4,FALSE)),\" \")","v":" "},{"$f":"IF(B90>0,(VLOOKUP($B90,'Engag Pou'!$A$10:$G$109,5,FALSE)),\" \")","v":" "},{"$f":"IF(B90>0,(VLOOKUP($B90,'Engag Pou'!$A$10:$G$109,6,FALSE)),\" \")","v":" "},null,null," ",{"$f":"IF(COUNTIF($G$10:$G90,G90)<2,$G90,\" \")","v":" "},81,{"$f":"IF(COUNTIF($G$10:$G90,I90)<3,$G90,\" \")","v":" "},81,"",1000]
[82,null,{"$f":"IF(A91>0,(VLOOKUP($A91,'Engag Pre'!$A$10:$G$74,3,FALSE)),\" \")","v":{"$error":"#N/A"}},{"$f":"IF(B91>0,(VLOOKUP($B91,'Engag Pou'!$A$10:$G$109,7,FALSE)),\" \")","v":" "},{"$f":"IF(B91>0,(VLOOKUP($B91,'Engag Pou'!$A$10:$G$109,3,FALSE)),\" \")","v":" "},{"$f":"IF(B91>0,(VLOOKUP($B91,'Engag Pou'!$A$10:$G$109,4,FALSE)),\" \")","v":" "},{"$f":"IF(B91>0,(VLOOKUP($B91,'Engag Pou'!$A$10:$G$109,5,FALSE)),\" \")","v":" "},{"$f":"IF(B91>0,(VLOOKUP($B91,'Engag Pou'!$A$10:$G$109,6,FALSE)),\" \")","v":" "},null,null," ",{"$f":"IF(COUNTIF($G$10:$G91,G91)<2,$G91,\" \")","v":" "},82,{"$f":"IF(COUNTIF($G$10:$G91,I91)<3,$G91,\" \")","v":" "},82,"",1000]
[83,null,{"$f":"IF(A92>0,(VLOOKUP($A92,'Engag Pre'!$A$10:$G$74,3,FALSE)),\" \")","v":{"$error":"#N/A"}},{"$f":"IF(B92>0,(VLOOKUP($B92,'Engag Pou'!$A$10:$G$109,7,FALSE)),\" \")","v":" "},{"$f":"IF(B92>0,(VLOOKUP($B92,'Engag Pou'!$A$10:$G$109,3,FALSE)),\" \")","v":" "},{"$f":"IF(B92>0,(VLOOKUP($B92,'Engag Pou'!$A$10:$G$109,4,FALSE)),\" \")","v":" "},{"$f":"IF(B92>0,(VLOOKUP($B92,'Engag Pou'!$A$10:$G$109,5,FALSE)),\" \")","v":" "},{"$f":"IF(B92>0,(VLOOKUP($B92,'Engag Pou'!$A$10:$G$109,6,FALSE)),\" \")","v":" "},null,null," ",{"$f":"IF(COUNTIF($G$10:$G92,G92)<2,$G92,\" \")","v":" "},83,{"$f":"IF(COUNTIF($G$10:$G92,I92)<3,$G92,\" \")","v":" "},83,"",1000]
[84,null,{"$f":"IF(A93>0,(VLOOKUP($A93,'Engag Pre'!$A$10:$G$74,3,FALSE)),\" \")","v":{"$error":"#N/A"}},{"$f":"IF(B93>0,(VLOOKUP($B93,'Engag Pou'!$A$10:$G$109,7,FALSE)),\" \")","v":" "},{"$f":"IF(B93>0,(VLOOKUP($B93,'Engag Pou'!$A$10:$G$109,3,FALSE)),\" \")","v":" "},{"$f":"IF(B93>0,(VLOOKUP($B93,'Engag Pou'!$A$10:$G$109,4,FALSE)),\" \")","v":" "},{"$f":"IF(B93>0,(VLOOKUP($B93,'Engag Pou'!$A$10:$G$109,5,FALSE)),\" \")","v":" "},{"$f":"IF(B93>0,(VLOOKUP($B93,'Engag Pou'!$A$10:$G$109,6,FALSE)),\" \")","v":" "},null,null," ",{"$f":"IF(COUNTIF($G$10:$G93,G93)<2,$G93,\" \")","v":" "},84,{"$f":"IF(COUNTIF($G$10:$G93,I93)<3,$G93,\" \")","v":" "},84,"",1000]
[85,null,{"$f":"IF(A94>0,(VLOOKUP($A94,'Engag Pre'!$A$10:$G$74,3,FALSE)),\" \")","v":{"$error":"#N/A"}},{"$f":"IF(B94>0,(VLOOKUP($B94,'Engag Pou'!$A$10:$G$109,7,FALSE)),\" \")","v":" "},{"$f":"IF(B94>0,(VLOOKUP($B94,'Engag Pou'!$A$10:$G$109,3,FALSE)),\" \")","v":" "},{"$f":"IF(B94>0,(VLOOKUP($B94,'Engag Pou'!$A$10:$G$109,4,FALSE)),\" \")","v":" "},{"$f":"IF(B94>0,(VLOOKUP($B94,'Engag Pou'!$A$10:$G$109,5,FALSE)),\" \")","v":" "},{"$f":"IF(B94>0,(VLOOKUP($B94,'Engag Pou'!$A$10:$G$109,6,FALSE)),\" \")","v":" "},null,null," ",{"$f":"IF(COUNTIF($G$10:$G94,G94)<2,$G94,\" \")","v":" "},85,{"$f":"IF(COUNTIF($G$10:$G94,I94)<3,$G94,\" \")","v":" "},85,"",1000]
[86,null,{"$f":"IF(A95>0,(VLOOKUP($A95,'Engag Pre'!$A$10:$G$74,3,FALSE)),\" \")","v":{"$error":"#N/A"}},{"$f":"IF(B95>0,(VLOOKUP($B95,'Engag Pou'!$A$10:$G$109,7,FALSE)),\" \")","v":" "},{"$f":"IF(B95>0,(VLOOKUP($B95,'Engag Pou'!$A$10:$G$109,3,FALSE)),\" \")","v":" "},{"$f":"IF(B95>0,(VLOOKUP($B95,'Engag Pou'!$A$10:$G$109,4,FALSE)),\" \")","v":" "},{"$f":"IF(B95>0,(VLOOKUP($B95,'Engag Pou'!$A$10:$G$109,5,FALSE)),\" \")","v":" "},{"$f":"IF(B95>0,(VLOOKUP($B95,'Engag Pou'!$A$10:$G$109,6,FALSE)),\" \")","v":" "},null,null," ",{"$f":"IF(COUNTIF($G$10:$G95,G95)<2,$G95,\" \")","v":" "},86,{"$f":"IF(COUNTIF($G$10:$G95,I95)<3,$G95,\" \")","v":" "},86,"",1000]
[87,null,{"$f":"IF(A96>0,(VLOOKUP($A96,'Engag Pre'!$A$10:$G$74,3,FALSE)),\" \")","v":{"$error":"#N/A"}},{"$f":"IF(B96>0,(VLOOKUP($B96,'Engag Pou'!$A$10:$G$109,7,FALSE)),\" \")","v":" "},{"$f":"IF(B96>0,(VLOOKUP($B96,'Engag Pou'!$A$10:$G$109,3,FALSE)),\" \")","v":" "},{"$f":"IF(B96>0,(VLOOKUP($B96,'Engag Pou'!$A$10:$G$109,4,FALSE)),\" \")","v":" "},{"$f":"IF(B96>0,(VLOOKUP($B96,'Engag Pou'!$A$10:$G$109,5,FALSE)),\" \")","v":" "},{"$f":"IF(B96>0,(VLOOKUP($B96,'Engag Pou'!$A$10:$G$109,6,FALSE)),\" \")","v":" "},null,null," ",{"$f":"IF(COUNTIF($G$10:$G96,G96)<2,$G96,\" \")","v":" "},87,{"$f":"IF(COUNTIF($G$10:$G96,I96)<3,$G96,\" \")","v":" "},87,"",1000]
[88,null,{"$f":"IF(A97>0,(VLOOKUP($A97,'Engag Pre'!$A$10:$G$74,3,FALSE)),\" \")","v":{"$error":"#N/A"}},{"$f":"IF(B97>0,(VLOOKUP($B97,'Engag Pou'!$A$10:$G$109,7,FALSE)),\" \")","v":" "},{"$f":"IF(B97>0,(VLOOKUP($B97,'Engag Pou'!$A$10:$G$109,3,FALSE)),\" \")","v":" "},{"$f":"IF(B97>0,(VLOOKUP($B97,'Engag Pou'!$A$10:$G$109,4,FALSE)),\" \")","v":" "},{"$f":"IF(B97>0,(VLOOKUP($B97,'Engag Pou'!$A$10:$G$109,5,FALSE)),\" \")","v":" "},{"$f":"IF(B97>0,(VLOOKUP($B97,'Engag Pou'!$A$10:$G$109,6,FALSE)),\" \")","v":" "},null,null," ",{"$f":"IF(COUNTIF($G$10:$G97,G97)<2,$G97,\" \")","v":" "},88,{"$f":"IF(COUNTIF($G$10:$G97,I97)<3,$G97,\" \")","v":" "},88,"",1000]
[89,null,{"$f":"IF(A98>0,(VLOOKUP($A98,'Engag Pre'!$A$10:$G$74,3,FALSE)),\" \")","v":{"$error":"#N/A"}},{"$f":"IF(B98>0,(VLOOKUP($B98,'Engag Pou'!$A$10:$G$109,7,FALSE)),\" \")","v":" "},{"$f":"IF(B98>0,(VLOOKUP($B98,'Engag Pou'!$A$10:$G$109,3,FALSE)),\" \")","v":" "},{"$f":"IF(B98>0,(VLOOKUP($B98,'Engag Pou'!$A$10:$G$109,4,FALSE)),\" \")","v":" "},{"$f":"IF(B98>0,(VLOOKUP($B98,'Engag Pou'!$A$10:$G$109,5,FALSE)),\" \")","v":" "},{"$f":"IF(B98>0,(VLOOKUP($B98,'Engag Pou'!$A$10:$G$109,6,FALSE)),\" \")","v":" "},null,null," ",{"$f":"IF(COUNTIF($G$10:$G98,G98)<2,$G98,\" \")","v":" "},89,{"$f":"IF(COUNTIF($G$10:$G98,I98)<3,$G98,\" \")","v":" "},89,"",1000]
[90,null,{"$f":"IF(A99>0,(VLOOKUP($A99,'Engag Pre'!$A$10:$G$74,3,FALSE)),\" \")","v":{"$error":"#N/A"}},{"$f":"IF(B99>0,(VLOOKUP($B99,'Engag Pou'!$A$10:$G$109,7,FALSE)),\" \")","v":" "},{"$f":"IF(B99>0,(VLOOKUP($B99,'Engag Pou'!$A$10:$G$109,3,FALSE)),\" \")","v":" "},{"$f":"IF(B99>0,(VLOOKUP($B99,'Engag Pou'!$A$10:$G$109,4,FALSE)),\" \")","v":" "},{"$f":"IF(B99>0,(VLOOKUP($B99,'Engag Pou'!$A$10:$G$109,5,FALSE)),\" \")","v":" "},{"$f":"IF(B99>0,(VLOOKUP($B99,'Engag Pou'!$A$10:$G$109,6,FALSE)),\" \")","v":" "},null,null," ",{"$f":"IF(COUNTIF($G$10:$G99,G99)<2,$G99,\" \")","v":" "},90,{"$f":"IF(COUNTIF($G$10:$G99,I99)<3,$G99,\" \")","v":" "},90,"",1000]
[91,null,{"$f":"IF(A100>0,(VLOOKUP($A100,'Engag Pre'!$A$10:$G$74,3,FALSE)),\" \")","v":{"$error":"#N/A"}},{"$f":"IF(B100>0,(VLOOKUP($B100,'Engag Pou'!$A$10:$G$109,7,FALSE)),\" \")","v":" "},{"$f":"IF(B100>0,(VLOOKUP($B100,'Engag Pou'!$A$10:$G$109,3,FALSE)),\" \")","v":" "},{"$f":"IF(B100>0,(VLOOKUP($B100,'Engag Pou'!$A$10:$G$109,4,FALSE)),\" \")","v":" "},{"$f":"IF(B100>0,(VLOOKUP($B100,'Engag Pou'!$A$10:$G$109,5,FALSE)),\" \")","v":" "},{"$f":"IF(B100>0,(VLOOKUP($B100,'Engag Pou'!$A$10:$G$109,6,FALSE)),\" \")","v":" "},null,null," ",{"$f":"IF(COUNTIF($G$10:$G100,G100)<2,$G100,\" \")","v":" "},91,{"$f":"IF(COUNTIF($G$10:$G100,I100)<3,$G100,\" \")","v":" "},91,"",1000]
[92,null,{"$f":"IF(A101>0,(VLOOKUP($A101,'Engag Pre'!$A$10:$G$74,3,FALSE)),\" \")","v":{"$error":"#N/A"}},{"$f":"IF(B101>0,(VLOOKUP($B101,'Engag Pou'!$A$10:$G$109,7,FALSE)),\" \")","v":" "},{"$f":"IF(B101>0,(VLOOKUP($B101,'Engag Pou'!$A$10:$G$109,3,FALSE)),\" \")","v":" "},{"$f":"IF(B101>0,(VLOOKUP($B101,'Engag Pou'!$A$10:$G$109,4,FALSE)),\" \")","v":" "},{"$f":"IF(B101>0,(VLOOKUP($B101,'Engag Pou'!$A$10:$G$109,5,FALSE)),\" \")","v":" "},{"$f":"IF(B101>0,(VLOOKUP($B101,'Engag Pou'!$A$10:$G$109,6,FALSE)),\" \")","v":" "},null,null," ",{"$f":"IF(COUNTIF($G$10:$G101,G101)<2,$G101,\" \")","v":" "},92,{"$f":"IF(COUNTIF($G$10:$G101,I101)<3,$G101,\" \")","v":" "},92,"",1000]
[93,null,{"$f":"IF(A102>0,(VLOOKUP($A102,'Engag Pre'!$A$10:$G$74,3,FALSE)),\" \")","v":{"$error":"#N/A"}},{"$f":"IF(B102>0,(VLOOKUP($B102,'Engag Pou'!$A$10:$G$109,7,FALSE)),\" \")","v":" "},{"$f":"IF(B102>0,(VLOOKUP($B102,'Engag Pou'!$A$10:$G$109,3,FALSE)),\" \")","v":" "},{"$f":"IF(B102>0,(VLOOKUP($B102,'Engag Pou'!$A$10:$G$109,4,FALSE)),\" \")","v":" "},{"$f":"IF(B102>0,(VLOOKUP($B102,'Engag Pou'!$A$10:$G$109,5,FALSE)),\" \")","v":" "},{"$f":"IF(B102>0,(VLOOKUP($B102,'Engag Pou'!$A$10:$G$109,6,FALSE)),\" \")","v":" "},null,null," ",{"$f":"IF(COUNTIF($G$10:$G102,G102)<2,$G102,\" \")","v":" "},93,{"$f":"IF(COUNTIF($G$10:$G102,I102)<3,$G102,\" \")","v":" "},93,"",1000]
[94,null,{"$f":"IF(A103>0,(VLOOKUP($A103,'Engag Pre'!$A$10:$G$74,3,FALSE)),\" \")","v":{"$error":"#N/A"}},{"$f":"IF(B103>0,(VLOOKUP($B103,'Engag Pou'!$A$10:$G$109,7,FALSE)),\" \")","v":" "},{"$f":"IF(B103>0,(VLOOKUP($B103,'Engag Pou'!$A$10:$G$109,3,FALSE)),\" \")","v":" "},{"$f":"IF(B103>0,(VLOOKUP($B103,'Engag Pou'!$A$10:$G$109,4,FALSE)),\" \")","v":" "},{"$f":"IF(B103>0,(VLOOKUP($B103,'Engag Pou'!$A$10:$G$109,5,FALSE)),\" \")","v":" "},{"$f":"IF(B103>0,(VLOOKUP($B103,'Engag Pou'!$A$10:$G$109,6,FALSE)),\" \")","v":" "},null,null," ",{"$f":"IF(COUNTIF($G$10:$G103,G103)<2,$G103,\" \")","v":" "},94,{"$f":"IF(COUNTIF($G$10:$G103,I103)<3,$G103,\" \")","v":" "},94,"",1000]
[95,null,{"$f":"IF(A104>0,(VLOOKUP($A104,'Engag Pre'!$A$10:$G$74,3,FALSE)),\" \")","v":{"$error":"#N/A"}},{"$f":"IF(B104>0,(VLOOKUP($B104,'Engag Pou'!$A$10:$G$109,7,FALSE)),\" \")","v":" "},{"$f":"IF(B104>0,(VLOOKUP($B104,'Engag Pou'!$A$10:$G$109,3,FALSE)),\" \")","v":" "},{"$f":"IF(B104>0,(VLOOKUP($B104,'Engag Pou'!$A$10:$G$109,4,FALSE)),\" \")","v":" "},{"$f":"IF(B104>0,(VLOOKUP($B104,'Engag Pou'!$A$10:$G$109,5,FALSE)),\" \")","v":" "},{"$f":"IF(B104>0,(VLOOKUP($B104,'Engag Pou'!$A$10:$G$109,6,FALSE)),\" \")","v":" "},null,null," ",{"$f":"IF(COUNTIF($G$10:$G104,G104)<2,$G104,\" \")","v":" "},95,{"$f":"IF(COUNTIF($G$10:$G104,I104)<3,$G104,\" \")","v":" "},95,"",1000]
[96,null,{"$f":"IF(A105>0,(VLOOKUP($A105,'Engag Pre'!$A$10:$G$74,3,FALSE)),\" \")","v":{"$error":"#N/A"}},{"$f":"IF(B105>0,(VLOOKUP($B105,'Engag Pou'!$A$10:$G$109,7,FALSE)),\" \")","v":" "},{"$f":"IF(B105>0,(VLOOKUP($B105,'Engag Pou'!$A$10:$G$109,3,FALSE)),\" \")","v":" "},{"$f":"IF(B105>0,(VLOOKUP($B105,'Engag Pou'!$A$10:$G$109,4,FALSE)),\" \")","v":" "},{"$f":"IF(B105>0,(VLOOKUP($B105,'Engag Pou'!$A$10:$G$109,5,FALSE)),\" \")","v":" "},{"$f":"IF(B105>0,(VLOOKUP($B105,'Engag Pou'!$A$10:$G$109,6,FALSE)),\" \")","v":" "},null,null," ",{"$f":"IF(COUNTIF($G$10:$G105,G105)<2,$G105,\" \")","v":" "},96,{"$f":"IF(COUNTIF($G$10:$G105,I105)<3,$G105,\" \")","v":" "},96,"",1000]
[97,null,{"$f":"IF(A106>0,(VLOOKUP($A106,'Engag Pre'!$A$10:$G$74,3,FALSE)),\" \")","v":{"$error":"#N/A"}},{"$f":"IF(B106>0,(VLOOKUP($B106,'Engag Pou'!$A$10:$G$109,7,FALSE)),\" \")","v":" "},{"$f":"IF(B106>0,(VLOOKUP($B106,'Engag Pou'!$A$10:$G$109,3,FALSE)),\" \")","v":" "},{"$f":"IF(B106>0,(VLOOKUP($B106,'Engag Pou'!$A$10:$G$109,4,FALSE)),\" \")","v":" "},{"$f":"IF(B106>0,(VLOOKUP($B106,'Engag Pou'!$A$10:$G$109,5,FALSE)),\" \")","v":" "},{"$f":"IF(B106>0,(VLOOKUP($B106,'Engag Pou'!$A$10:$G$109,6,FALSE)),\" \")","v":" "},null,null," ",{"$f":"IF(COUNTIF($G$10:$G106,G106)<2,$G106,\" \")","v":" "},97,{"$f":"IF(COUNTIF($G$10:$G106,I106)<3,$G106,\" \")","v":" "},97,"",1000]
[98,null,{"$f":"IF(A107>0,(VLOOKUP($A107,'Engag Pre'!$A$10:$G$74,3,FALSE)),\" \")","v":{"$error":"#N/A"}},{"$f":"IF(B107>0,(VLOOKUP($B107,'Engag Pou'!$A$10:$G$109,7,FALSE)),\" \")","v":" "},{"$f":"IF(B107>0,(VLOOKUP($B107,'Engag Pou'!$A$10:$G$109,3,FALSE)),\" \")","v":" "},{"$f":"IF(B107>0,(VLOOKUP($B107,'Engag Pou'!$A$10:$G$109,4,FALSE)),\" \")","v":" "},{"$f":"IF(B107>0,(VLOOKUP($B107,'Engag Pou'!$A$10:$G$109,5,FALSE)),\" \")","v":" "},{"$f":"IF(B107>0,(VLOOKUP($B107,'Engag Pou'!$A$10:$G$109,6,FALSE)),\" \")","v":" "},null,null," ",{"$f":"IF(COUNTIF($G$10:$G107,G107)<2,$G107,\" \")","v":" "},98,{"$f":"IF(COUNTIF($G$10:$G107,I107)<3,$G107,\" \")","v":" "},98,"",1000]
[99,null,{"$f":"IF(A108>0,(VLOOKUP($A108,'Engag Pre'!$A$10:$G$74,3,FALSE)),\" \")","v":{"$error":"#N/A"}},{"$f":"IF(B108>0,(VLOOKUP($B108,'Engag Pou'!$A$10:$G$109,7,FALSE)),\" \")","v":" "},{"$f":"IF(B108>0,(VLOOKUP($B108,'Engag Pou'!$A$10:$G$109,3,FALSE)),\" \")","v":" "},{"$f":"IF(B108>0,(VLOOKUP($B108,'Engag Pou'!$A$10:$G$109,4,FALSE)),\" \")","v":" "},{"$f":"IF(B108>0,(VLOOKUP($B108,'Engag Pou'!$A$10:$G$109,5,FALSE)),\" \")","v":" "},{"$f":"IF(B108>0,(VLOOKUP($B108,'Engag Pou'!$A$10:$G$109,6,FALSE)),\" \")","v":" "},null,null," ",{"$f":"IF(COUNTIF($G$10:$G108,G108)<2,$G108,\" \")","v":" "},99,{"$f":"IF(COUNTIF($G$10:$G108,I108)<3,$G108,\" \")","v":" "},99,"",1000]
[100,null,{"$f":"IF(A109>0,(VLOOKUP($A109,'Engag Pre'!$A$10:$G$74,3,FALSE)),\" \")","v":{"$error":"#N/A"}},{"$f":"IF(B109>0,(VLOOKUP($B109,'Engag Pou'!$A$10:$G$109,7,FALSE)),\" \")","v":" "},{"$f":"IF(B109>0,(VLOOKUP($B109,'Engag Pou'!$A$10:$G$109,3,FALSE)),\" \")","v":" "},{"$f":"IF(B109>0,(VLOOKUP($B109,'Engag Pou'!$A$10:$G$109,4,FALSE)),\" \")","v":" "},{"$f":"IF(B109>0,(VLOOKUP($B109,'Engag Pou'!$A$10:$G$109,5,FALSE)),\" \")","v":" "},{"$f":"IF(B109>0,(VLOOKUP($B109,'Engag Pou'!$A$10:$G$109,6,FALSE)),\" \")","v":" "},null,null," ",{"$f":"IF(COUNTIF($G$10:$G109,G109)<2,$G109,\" \")","v":" "},100,{"$f":"IF(COUNTIF($G$10:$G109,I109)<3,$G109,\" \")","v":" "},100,"",1000]
["CLASSEMENT POUSSINS 2"]
["Rang","Doss","Code UCI","Licence","Nom","Prénom","Club","Catégorie","Temps","Ecart"]
[1,88,{"$f":"IF(A112>0,(VLOOKUP($A10,'Engag Pre'!$A$10:$G$74,3,FALSE)),\" \")","v":{"$error":"#N/A"}},{"$f":"IF(B112>0,(VLOOKUP($B112,'Engag Pou'!$A$10:$G$109,7,FALSE)),\" \")","v":"1295713095"},{"$f":"IF(B112>0,(VLOOKUP($B112,'Engag Pou'!$A$10:$G$109,3,FALSE)),\" \")","v":"CORDEIRO"},{"$f":"IF(B112>0,(VLOOKUP($B112,'Engag Pou'!$A$10:$G$109,4,FALSE)),\" \")","v":"Arthur"},{"$f":"IF(B112>0,(VLOOKUP($B112,'Engag Pou'!$A$10:$G$109,5,FALSE)),\" \")","v":"A. SOISY ENGHIEN LA BARRE"},{"$f":"IF(B112>0,(VLOOKUP($B112,'Engag Pou'!$A$10:$G$109,6,FALSE)),\" \")","v":"Poussin 1"},null,null,{"$f":"IF(COUNTIF($B$10:$B$109,B112)>1,\"Déjà classé\",\" \")","v":" "},{"$f":"IF(COUNTIF($G$10:$G112,G112)<2,$G112,\" \")","v":" "},{"$f":"IF($G$6<5,1000,(IF(L112=G112,A112,\"\")))","v":""},{"$f":"IF(COUNTIF($G$10:$G112,I112)<3,$G112,\" \")","v":"A. SOISY ENGHIEN LA BARRE"},{"$f":"IF(N112=$G112,$A112,\"\")","v":1},{"$f":"IF(N112=L112,\"\",N112)","v":"A. SOISY ENGHIEN LA BARRE"},{"$f":"IF($G$6<5,1000,(IF(P112=$G112,$A112,1000)))","v":1}]
[2,65,{"$f":"IF(A113>0,(VLOOKUP($A11,'Engag Pre'!$A$10:$G$74,3,FALSE)),\" \")","v":{"$error":"#N/A"}},{"$f":"IF(B113>0,(VLOOKUP($B113,'Engag Pou'!$A$10:$G$109,7,FALSE)),\" \")","v":"1293515084"},{"$f":"IF(B113>0,(VLOOKUP($B113,'Engag Pou'!$A$10:$G$109,3,FALSE)),\" \")","v":"MALOUM"},{"$f":"IF(B113>0,(VLOOKUP($B113,'Engag Pou'!$A$10:$G$109,4,FALSE)),\" \")","v":"Willan"},{"$f":"IF(B113>0,(VLOOKUP($B113,'Engag Pou'!$A$10:$G$109,5,FALSE)),\" \")","v":"EC AULNAY"},{"$f":"IF(B113>0,(VLOOKUP($B113,'Engag Pou'!$A$10:$G$109,6,FALSE)),\" \")","v":"Poussin 2"},null,null,{"$f":"IF(COUNTIF($B$10:$B$109,B113)>1,\"Déjà classé\",\" \")","v":" "},{"$f":"IF(COUNTIF($G$10:$G113,G113)<2,$G113,\" \")","v":" "},{"$f":"IF($G$6<5,1000,(IF(L113=G113,A113,\"\")))","v":""},{"$f":"IF(COUNTIF($G$10:$G113,I113)<3,$G113,\" \")","v":"EC AULNAY"},{"$f":"IF(N113=$G113,$A113,\"\")","v":2},{"$f":"IF(N113=L113,\"\",N113)","v":"EC AULNAY"},{"$f":"IF($G$6<5,1000,(IF(P113=$G113,$A113,1000)))","v":2}]
[3,66,{"$f":"IF(A114>0,(VLOOKUP($A12,'Engag Pre'!$A$10:$G$74,3,FALSE)),\" \")","v":{"$error":"#N/A"}},{"$f":"IF(B114>0,(VLOOKUP($B114,'Engag Pou'!$A$10:$G$109,7,FALSE)),\" \")","v":"1277104071"},{"$f":"IF(B114>0,(VLOOKUP($B114,'Engag Pou'!$A$10:$G$109,3,FALSE)),\" \")","v":"DA COSTA"},{"$f":"IF(B114>0,(VLOOKUP($B114,'Engag Pou'!$A$10:$G$109,4,FALSE)),\" \")","v":"Paul"},{"$f":"IF(B114>0,(VLOOKUP($B114,'Engag Pou'!$A$10:$G$109,5,FALSE)),\" \")","v":"PEDALE COMBS LA VILLAISE"},{"$f":"IF(B114>0,(VLOOKUP($B114,'Engag Pou'!$A$10:$G$109,6,FALSE)),\" \")","v":"Poussin 2"},null,null," ",{"$f":"IF(COUNTIF($G$10:$G114,G114)<2,$G114,\" \")","v":" "},"",{"$f":"IF(COUNTIF($G$10:$G114,I114)<3,$G114,\" \")","v":"PEDALE COMBS LA VILLAISE"},3,"PEDALE COMBS LA VILLAISE",3]
[4,67,{"$f":"IF(A115>0,(VLOOKUP($A13,'Engag Pre'!$A$10:$G$74,3,FALSE)),\" \")","v":{"$error":"#N/A"}},{"$f":"IF(B115>0,(VLOOKUP($B115,'Engag Pou'!$A$10:$G$109,7,FALSE)),\" \")","v":"1277104056"},{"$f":"IF(B115>0,(VLOOKUP($B115,'Engag Pou'!$A$10:$G$109,3,FALSE)),\" \")","v":"JACQ"},{"$f":"IF(B115>0,(VLOOKUP($B115,'Engag Pou'!$A$10:$G$109,4,FALSE)),\" \")","v":"Mélaine"},{"$f":"IF(B115>0,(VLOOKUP($B115,'Engag Pou'!$A$10:$G$109,5,FALSE)),\" \")","v":"PEDALE COMBS LA VILLAISE"},{"$f":"IF(B115>0,(VLOOKUP($B115,'Engag Pou'!$A$10:$G$109,6,FALSE)),\" \")","v":"Poussin 2"},null,null," ",{"$f":"IF(COUNTIF($G$10:$G115,G115)<2,$G115,\" \")","v":" "},"",{"$f":"IF(COUNTIF($G$10:$G115,I115)<3,$G115,\" \")","v":"PEDALE COMBS LA VILLAISE"},4,"PEDALE COMBS LA VILLAISE",4]
[5,84,{"$f":"IF(A116>0,(VLOOKUP($A14,'Engag Pre'!$A$10:$G$74,3,FALSE)),\" \")","v":{"$error":"#N/A"}},{"$f":"IF(B116>0,(VLOOKUP($B116,'Engag Pou'!$A$10:$G$109,7,FALSE)),\" \")","v":"1277101013"},{"$f":"IF(B116>0,(VLOOKUP($B116,'Engag Pou'!$A$10:$G$109,3,FALSE)),\" \")","v":"BELLET"},{"$f":"IF(B116>0,(VLOOKUP($B116,'Engag Pou'!$A$10:$G$109,4,FALSE)),\" \")","v":"Noa"},{"$f":"IF(B116>0,(VLOOKUP($B116,'Engag Pou'!$A$10:$G$109,5,FALSE)),\" \")","v":"ESC MEAUX"},{"$f":"IF(B116>0,(VLOOKUP($B116,'Engag Pou'!$A$10:$G$109,6,FALSE)),\" \")","v":"Poussin 1"},null,null," ",{"$f":"IF(COUNTIF($G$10:$G116,G116)<2,$G116,\" \")","v":"ESC MEAUX"},5,{"$f":"IF(COUNTIF($G$10:$G116,I116)<3,$G116,\" \")","v":"ESC MEAUX"},5,"",1000]
[6,80,{"$f":"IF(A117>0,(VLOOKUP($A15,'Engag Pre'!$A$10:$G$74,3,FALSE)),\" \")","v":{"$error":"#N/A"}},{"$f":"IF(B117>0,(VLOOKUP($B117,'Engag Pou'!$A$10:$G$109,7,FALSE)),\" \")","v":"1293524009"},{"$f":"IF(B117>0,(VLOOKUP($B117,'Engag Pou'!$A$10:$G$109,3,FALSE)),\" \")","v":"HABI"},{"$f":"IF(B117>0,(VLOOKUP($B117,'Engag Pou'!$A$10:$G$109,4,FALSE)),\" \")","v":"Enzo"},{"$f":"IF(B117>0,(VLOOKUP($B117,'Engag Pou'!$A$10:$G$109,5,FALSE)),\" \")","v":"CS VILLETANEUSE"},{"$f":"IF(B117>0,(VLOOKUP($B117,'Engag Pou'!$A$10:$G$109,6,FALSE)),\" \")","v":"Poussin 1"},null,null," ",{"$f":"IF(COUNTIF($G$10:$G117,G117)<2,$G117,\" \")","v":" "},"",{"$f":"IF(COUNTIF($G$10:$G117,I117)<3,$G117,\" \")","v":"CS VILLETANEUSE"},6,"CS VILLETANEUSE",6]
[7,78,{"$f":"IF(A118>0,(VLOOKUP($A16,'Engag Pre'!$A$10:$G$74,3,FALSE)),\" \")","v":{"$error":"#N/A"}},{"$f":"IF(B118>0,(VLOOKUP($B118,'Engag Pou'!$A$10:$G$109,7,FALSE)),\" \")","v":"1293533016"},{"$f":"IF(B118>0,(VLOOKUP($B118,'Engag Pou'!$A$10:$G$109,3,FALSE)),\" \")","v":"LAMY"},{"$f":"IF(B118>0,(VLOOKUP($B118,'Engag Pou'!$A$10:$G$109,4,FALSE)),\" \")","v":"Aidan"},{"$f":"IF(B118>0,(VLOOKUP($B118,'Engag Pou'!$A$10:$G$109,5,FALSE)),\" \")","v":"ES STAINS"},{"$f":"IF(B118>0,(VLOOKUP($B118,'Engag Pou'!$A$10:$G$109,6,FALSE)),\" \")","v":"Poussin 1"},null,null," ",{"$f":"IF(COUNTIF($G$10:$G118,G118)<2,$G118,\" \")","v":" "},"",{"$f":"IF(COUNTIF($G$10:$G118,I118)<3,$G118,\" \")","v":"ES STAINS"},7,"ES STAINS",7]
[8,93,{"$f":"IF(A119>0,(VLOOKUP($A17,'Engag Pre'!$A$10:$G$74,3,FALSE)),\" \")","v":{"$error":"#N/A"}},{"$f":"IF(B119>0,(VLOOKUP($B119,'Engag Pou'!$A$10:$G$109,7,FALSE)),\" \")","v":"1295713087"},{"$f":"IF(B119>0,(VLOOKUP($B119,'Engag Pou'!$A$10:$G$109,3,FALSE)),\" \")","v":"RIVALLIN"},{"$f":"IF(B119>0,(VLOOKUP($B119,'Engag Pou'!$A$10:$G$109,4,FALSE)),\" \")","v":"Lorenzo"},{"$f":"IF(B119>0,(VLOOKUP($B119,'Engag Pou'!$A$10:$G$109,5,FALSE)),\" \")","v":"A. SOISY ENGHIEN LA BARRE"},{"$f":"IF(B119>0,(VLOOKUP($B119,'Engag Pou'!$A$10:$G$109,6,FALSE)),\" \")","v":"Poussin 1"},null,null," ",{"$f":"IF(COUNTIF($G$10:$G119,G119)<2,$G119,\" \")","v":" "},"",{"$f":"IF(COUNTIF($G$10:$G119,I119)<3,$G119,\" \")","v":"A. SOISY ENGHIEN LA BARRE"},8,"A. SOISY ENGHIEN LA BARRE",8]
[9,72,{"$f":"IF(A120>0,(VLOOKUP($A18,'Engag Pre'!$A$10:$G$74,3,FALSE)),\" \")","v":{"$error":"#N/A"}},{"$f":"IF(B120>0,(VLOOKUP($B120,'Engag Pou'!$A$10:$G$109,7,FALSE)),\" \")","v":"1293527003"},{"$f":"IF(B120>0,(VLOOKUP($B120,'Engag Pou'!$A$10:$G$109,3,FALSE)),\" \")","v":"BREBANT"},{"$f":"IF(B120>0,(VLOOKUP($B120,'Engag Pou'!$A$10:$G$109,4,FALSE)),\" \")","v":"Anaelle"},{"$f":"IF(B120>0,(VLOOKUP($B120,'Engag Pou'!$A$10:$G$109,5,FALSE)),\" \")","v":"VC CLICHY SOUS BOIS"},{"$f":"IF(B120>0,(VLOOKUP($B120,'Engag Pou'!$A$10:$G$109,6,FALSE)),\" \")","v":"Poussin 2"},null,null," ",{"$f":"IF(COUNTIF($G$10:$G120,G120)<2,$G120,\" \")","v":" "},"",{"$f":"IF(COUNTIF($G$10:$G120,I120)<3,$G120,\" \")","v":"VC CLICHY SOUS BOIS"},9,"VC CLICHY SOUS BOIS",9]
[10,85,{"$f":"IF(A121>0,(VLOOKUP($A19,'Engag Pre'!$A$10:$G$74,3,FALSE)),\" \")","v":{"$error":"#N/A"}},{"$f":"IF(B121>0,(VLOOKUP($B121,'Engag Pou'!$A$10:$G$109,7,FALSE)),\" \")","v":"1295708119"},{"$f":"IF(B121>0,(VLOOKUP($B121,'Engag Pou'!$A$10:$G$109,3,FALSE)),\" \")","v":"PREVOTEAUX"},{"$f":"IF(B121>0,(VLOOKUP($B121,'Engag Pou'!$A$10:$G$109,4,FALSE)),\" \")","v":"Jules"},{"$f":"IF(B121>0,(VLOOKUP($B121,'Engag Pou'!$A$10:$G$109,5,FALSE)),\" \")","v":"ARGENTEUIL VAL DE SEINE 95"},{"$f":"IF(B121>0,(VLOOKUP($B121,'Engag Pou'!$A$10:$G$109,6,FALSE)),\" \")","v":"Poussin 1"},null,null," ",{"$f":"IF(COUNTIF($G$10:$G121,G121)<2,$G121,\" \")","v":" "},"",{"$f":"IF(COUNTIF($G$10:$G121,I121)<3,$G121,\" \")","v":"ARGENTEUIL VAL DE SEINE 95"},10,"ARGENTEUIL VAL DE SEINE 95",10]
[11,90,{"$f":"IF(A122>0,(VLOOKUP($A20,'Engag Pre'!$A$10:$G$74,3,FALSE)),\" \")","v":{"$error":"#N/A"}},{"$f":"IF(B122>0,(VLOOKUP($B122,'Engag Pou'!$A$10:$G$109,7,FALSE)),\" \")","v":"1295713090"},{"$f":"IF(B122>0,(VLOOKUP($B122,'Engag Pou'!$A$10:$G$109,3,FALSE)),\" \")","v":"KONCZYK"},{"$f":"IF(B122>0,(VLOOKUP($B122,'Engag Pou'!$A$10:$G$109,4,FALSE)),\" \")","v":"Paul"},{"$f":"IF(B122>0,(VLOOKUP($B122,'Engag Pou'!$A$10:$G$109,5,FALSE)),\" \")","v":"A. SOISY ENGHIEN LA BARRE"},{"$f":"IF(B122>0,(VLOOKUP($B122,'Engag Pou'!$A$10:$G$109,6,FALSE)),\" \")","v":"Poussin 1"},null,null," ",{"$f":"IF(COUNTIF($G$10:$G122,G122)<2,$G122,\" \")","v":" "},"",{"$f":"IF(COUNTIF($G$10:$G122,I122)<3,$G122,\" \")","v":"A. SOISY ENGHIEN LA BARRE"},11,"A. SOISY ENGHIEN LA BARRE",11]
[12,81,{"$f":"IF(A123>0,(VLOOKUP($A21,'Engag Pre'!$A$10:$G$74,3,FALSE)),\" \")","v":{"$error":"#N/A"}},{"$f":"IF(B123>0,(VLOOKUP($B123,'Engag Pou'!$A$10:$G$109,7,FALSE)),\" \")","v":"1293524078"},{"$f":"IF(B123>0,(VLOOKUP($B123,'Engag Pou'!$A$10:$G$109,3,FALSE)),\" \")","v":"LONDAS"},{"$f":"IF(B123>0,(VLOOKUP($B123,'Engag Pou'!$A$10:$G$109,4,FALSE)),\" \")","v":"Matys"},{"$f":"IF(B123>0,(VLOOKUP($B123,'Engag Pou'!$A$10:$G$109,5,FALSE)),\" \")","v":"CS VILLETANEUSE"},{"$f":"IF(B123>0,(VLOOKUP($B123,'Engag Pou'!$A$10:$G$109,6,FALSE)),\" \")","v":"Poussin 1"},null,null," ",{"$f":"IF(COUNTIF($G$10:$G123,G123)<2,$G123,\" \")","v":" "},"",{"$f":"IF(COUNTIF($G$10:$G123,I123)<3,$G123,\" \")","v":"CS VILLETANEUSE"},12,"CS VILLETANEUSE",12]
[13,84,{"$f":"IF(A124>0,(VLOOKUP($A22,'Engag Pre'!$A$10:$G$74,3,FALSE)),\" \")","v":{"$error":"#N/A"}},{"$f":"IF(B124>0,(VLOOKUP($B124,'Engag Pou'!$A$10:$G$109,7,FALSE)),\" \")","v":"1277101013"},{"$f":"IF(B124>0,(VLOOKUP($B124,'Engag Pou'!$A$10:$G$109,3,FALSE)),\" \")","v":"BELLET"},{"$f":"IF(B124>0,(VLOOKUP($B124,'Engag Pou'!$A$10:$G$109,4,FALSE)),\" \")","v":"Noa"},{"$f":"IF(B124>0,(VLOOKUP($B124,'Engag Pou'!$A$10:$G$109,5,FALSE)),\" \")","v":"ESC MEAUX"},{"$f":"IF(B124>0,(VLOOKUP($B124,'Engag Pou'!$A$10:$G$109,6,FALSE)),\" \")","v":"Poussin 1"},null,null," ",{"$f":"IF(COUNTIF($G$10:$G124,G124)<2,$G124,\" \")","v":" "},"",{"$f":"IF(COUNTIF($G$10:$G124,I124)<3,$G124,\" \")","v":"ESC MEAUX"},13,"ESC MEAUX",13]
[14,94,{"$f":"IF(A125>0,(VLOOKUP($A23,'Engag Pre'!$A$10:$G$74,3,FALSE)),\" \")","v":{"$error":"#N/A"}},{"$f":"IF(B125>0,(VLOOKUP($B125,'Engag Pou'!$A$10:$G$109,7,FALSE)),\" \")","v":"1292420049"},{"$f":"IF(B125>0,(VLOOKUP($B125,'Engag Pou'!$A$10:$G$109,3,FALSE)),\" \")","v":"MEVEL"},{"$f":"IF(B125>0,(VLOOKUP($B125,'Engag Pou'!$A$10:$G$109,4,FALSE)),\" \")","v":"Olivier"},{"$f":"IF(B125>0,(VLOOKUP($B125,'Engag Pou'!$A$10:$G$109,5,FALSE)),\" \")","v":"CSM VILLENEUVE GARENNE"},{"$f":"IF(B125>0,(VLOOKUP($B125,'Engag Pou'!$A$10:$G$109,6,FALSE)),\" \")","v":"Poussin 1"},null,null," ",{"$f":"IF(COUNTIF($G$10:$G125,G125)<2,$G125,\" \")","v":"CSM VILLENEUVE GARENNE"},14,{"$f":"IF(COUNTIF($G$10:$G125,I125)<3,$G125,\" \")","v":"CSM VILLENEUVE GARENNE"},14,"",1000]
[15,68,{"$f":"IF(A126>0,(VLOOKUP($A24,'Engag Pre'!$A$10:$G$74,3,FALSE)),\" \")","v":{"$error":"#N/A"}},{"$f":"IF(B126>0,(VLOOKUP($B126,'Engag Pou'!$A$10:$G$109,7,FALSE)),\" \")","v":"1277104116"},{"$f":"IF(B126>0,(VLOOKUP($B126,'Engag Pou'!$A$10:$G$109,3,FALSE)),\" \")","v":"LOMBART COLRAS"},{"$f":"IF(B126>0,(VLOOKUP($B126,'Engag Pou'!$A$10:$G$109,4,FALSE)),\" \")","v":"Valentine"},{"$f":"IF(B126>0,(VLOOKUP($B126,'Engag Pou'!$A$10:$G$109,5,FALSE)),\" \")","v":"PEDALE COMBS LA VILLAISE"},{"$f":"IF(B126>0,(VLOOKUP($B126,'Engag Pou'!$A$10:$G$109,6,FALSE)),\" \")","v":"Poussin 2"},null,null," ",{"$f":"IF(COUNTIF($G$10:$G126,G126)<2,$G126,\" \")","v":" "},"",{"$f":"IF(COUNTIF($G$10:$G126,I126)<3,$G126,\" \")","v":"PEDALE COMBS LA VILLAISE"},15,"PEDALE COMBS LA VILLAISE",15]
[16,82,{"$f":"IF(A127>0,(VLOOKUP($A25,'Engag Pre'!$A$10:$G$74,3,FALSE)),\" \")","v":{"$error":"#N/A"}},{"$f":"IF(B127>0,(VLOOKUP($B127,'Engag Pou'!$A$10:$G$109,7,FALSE)),\" \")","v":"1293524047"},{"$f":"IF(B127>0,(VLOOKUP($B127,'Engag Pou'!$A$10:$G$109,3,FALSE)),\" \")","v":"SAIR GODEAU"},{"$f":"IF(B127>0,(VLOOKUP($B127,'Engag Pou'!$A$10:$G$109,4,FALSE)),\" \")","v":"Salmane"},{"$f":"IF(B127>0,(VLOOKUP($B127,'Engag Pou'!$A$10:$G$109,5,FALSE)),\" \")","v":"CS VILLETANEUSE"},{"$f":"IF(B127>0,(VLOOKUP($B127,'Engag Pou'!$A$10:$G$109,6,FALSE)),\" \")","v":"Poussin 1"},null,null," ",{"$f":"IF(COUNTIF($G$10:$G127,G127)<2,$G127,\" \")","v":" "},"",{"$f":"IF(COUNTIF($G$10:$G127,I127)<3,$G127,\" \")","v":"CS VILLETANEUSE"},16,"CS VILLETANEUSE",16]
[17,70,{"$f":"IF(A128>0,(VLOOKUP($A26,'Engag Pre'!$A$10:$G$74,3,FALSE)),\" \")","v":{"$error":"#N/A"}},{"$f":"IF(B128>0,(VLOOKUP($B128,'Engag Pou'!$A$10:$G$109,7,FALSE)),\" \")","v":"1960034013"},{"$f":"IF(B128>0,(VLOOKUP($B128,'Engag Pou'!$A$10:$G$109,3,FALSE)),\" \")","v":"RICHE"},{"$f":"IF(B128>0,(VLOOKUP($B128,'Engag Pou'!$A$10:$G$109,4,FALSE)),\" \")","v":"Keelly"},{"$f":"IF(B128>0,(VLOOKUP($B128,'Engag Pou'!$A$10:$G$109,5,FALSE)),\" \")","v":"VC MERUVIEN"},{"$f":"IF(B128>0,(VLOOKUP($B128,'Engag Pou'!$A$10:$G$109,6,FALSE)),\" \")","v":"Poussin 2"},null,null," ",{"$f":"IF(COUNTIF($G$10:$G128,G128)<2,$G128,\" \")","v":"VC MERUVIEN"},17,{"$f":"IF(COUNTIF($G$10:$G128,I128)<3,$G128,\" \")","v":"VC MERUVIEN"},17,"",1000]
[18,92,{"$f":"IF(A129>0,(VLOOKUP($A27,'Engag Pre'!$A$10:$G$74,3,FALSE)),\" \")","v":{"$error":"#N/A"}},{"$f":"IF(B129>0,(VLOOKUP($B129,'Engag Pou'!$A$10:$G$109,7,FALSE)),\" \")","v":"1295713108"},{"$f":"IF(B129>0,(VLOOKUP($B129,'Engag Pou'!$A$10:$G$109,3,FALSE)),\" \")","v":"MATTONET"},{"$f":"IF(B129>0,(VLOOKUP($B129,'Engag Pou'!$A$10:$G$109,4,FALSE)),\" \")","v":"Anton Mario"},{"$f":"IF(B129>0,(VLOOKUP($B129,'Engag Pou'!$A$10:$G$109,5,FALSE)),\" \")","v":"A. SOISY ENGHIEN LA BARRE"},{"$f":"IF(B129>0,(VLOOKUP($B129,'Engag Pou'!$A$10:$G$109,6,FALSE)),\" \")","v":"Poussin 1"},null,null," ",{"$f":"IF(COUNTIF($G$10:$G129,G129)<2,$G129,\" \")","v":" "},"",{"$f":"IF(COUNTIF($G$10:$G129,I129)<3,$G129,\" \")","v":"A. SOISY ENGHIEN LA BARRE"},18,"A. SOISY ENGHIEN LA BARRE",18]
[19,91,{"$f":"IF(A130>0,(VLOOKUP($A28,'Engag Pre'!$A$10:$G$74,3,FALSE)),\" \")","v":{"$error":"#N/A"}},{"$f":"IF(B130>0,(VLOOKUP($B130,'Engag Pou'!$A$10:$G$109,7,FALSE)),\" \")","v":"1295713104"},{"$f":"IF(B130>0,(VLOOKUP($B130,'Engag Pou'!$A$10:$G$109,3,FALSE)),\" \")","v":"MARTIN"},{"$f":"IF(B130>0,(VLOOKUP($B130,'Engag Pou'!$A$10:$G$109,4,FALSE)),\" \")","v":"Antoine"},{"$f":"IF(B130>0,(VLOOKUP($B130,'Engag Pou'!$A$10:$G$109,5,FALSE)),\" \")","v":"A. SOISY ENGHIEN LA BARRE"},{"$f":"IF(B130>0,(VLOOKUP($B130,'Engag Pou'!$A$10:$G$109,6,FALSE)),\" \")","v":"Poussin 1"},null,null," ",{"$f":"IF(COUNTIF($G$10:$G130,G130)<2,$G130,\" \")","v":" "},"",{"$f":"IF(COUNTIF($G$10:$G130,I130)<3,$G130,\" \")","v":"A. SOISY ENGHIEN LA BARRE"},19,"A. SOISY ENGHIEN LA BARRE",19]
[20,71,{"$f":"IF(A131>0,(VLOOKUP($A29,'Engag Pre'!$A$10:$G$74,3,FALSE)),\" \")","v":{"$error":"#N/A"}},{"$f":"IF(B131>0,(VLOOKUP($B131,'Engag Pou'!$A$10:$G$109,7,FALSE)),\" \")","v":"1293515063"},{"$f":"IF(B131>0,(VLOOKUP($B131,'Engag Pou'!$A$10:$G$109,3,FALSE)),\" \")","v":"MELLAL"},{"$f":"IF(B131>0,(VLOOKUP($B131,'Engag Pou'!$A$10:$G$109,4,FALSE)),\" \")","v":"Yanis"},{"$f":"IF(B131>0,(VLOOKUP($B131,'Engag Pou'!$A$10:$G$109,5,FALSE)),\" \")","v":"EC AULNAY"},{"$f":"IF(B131>0,(VLOOKUP($B131,'Engag Pou'!$A$10:$G$109,6,FALSE)),\" \")","v":"Poussin 1"},null,null," ",{"$f":"IF(COUNTIF($G$10:$G131,G131)<2,$G131,\" \")","v":" "},"",{"$f":"IF(COUNTIF($G$10:$G131,I131)<3,$G131,\" \")","v":"EC AULNAY"},20,"EC AULNAY",20]
[21,null,{"$f":"IF(A132>0,(VLOOKUP($A30,'Engag Pre'!$A$10:$G$74,3,FALSE)),\" \")","v":{"$error":"#N/A"}},{"$f":"IF(B132>0,(VLOOKUP($B132,'Engag Pou'!$A$10:$G$109,7,FALSE)),\" \")","v":" "},{"$f":"IF(B132>0,(VLOOKUP($B132,'Engag Pou'!$A$10:$G$109,3,FALSE)),\" \")","v":" "},{"$f":"IF(B132>0,(VLOOKUP($B132,'Engag Pou'!$A$10:$G$109,4,FALSE)),\" \")","v":" "},{"$f":"IF(B132>0,(VLOOKUP($B132,'Engag Pou'!$A$10:$G$109,5,FALSE)),\" \")","v":" "},{"$f":"IF(B132>0,(VLOOKUP($B132,'Engag Pou'!$A$10:$G$109,6,FALSE)),\" \")","v":" "},null,null," ",{"$f":"IF(COUNTIF($G$10:$G132,G132)<2,$G132,\" \")","v":" "},21,{"$f":"IF(COUNTIF($G$10:$G132,I132)<3,$G132,\" \")","v":" "},21,"",1000]
[22,null,{"$f":"IF(A133>0,(VLOOKUP($A31,'Engag Pre'!$A$10:$G$74,3,FALSE)),\" \")","v":{"$error":"#N/A"}},{"$f":"IF(B133>0,(VLOOKUP($B133,'Engag Pou'!$A$10:$G$109,7,FALSE)),\" \")","v":" "},{"$f":"IF(B133>0,(VLOOKUP($B133,'Engag Pou'!$A$10:$G$109,3,FALSE)),\" \")","v":" "},{"$f":"IF(B133>0,(VLOOKUP($B133,'Engag Pou'!$A$10:$G$109,4,FALSE)),\" \")","v":" "},{"$f":"IF(B133>0,(VLOOKUP($B133,'Engag Pou'!$A$10:$G$109,5,FALSE)),\" \")","v":" "},{"$f":"IF(B133>0,(VLOOKUP($B133,'Engag Pou'!$A$10:$G$109,6,FALSE)),\" \")","v":" "},null,null," ",{"$f":"IF(COUNTIF($G$10:$G133,G133)<2,$G133,\" \")","v":" "},22,{"$f":"IF(COUNTIF($G$10:$G133,I133)<3,$G133,\" \")","v":" "},22,"",1000]
[23,null,{"$f":"IF(A134>0,(VLOOKUP($A32,'Engag Pre'!$A$10:$G$74,3,FALSE)),\" \")","v":{"$error":"#N/A"}},{"$f":"IF(B134>0,(VLOOKUP($B134,'Engag Pou'!$A$10:$G$109,7,FALSE)),\" \")","v":" "},{"$f":"IF(B134>0,(VLOOKUP($B134,'Engag Pou'!$A$10:$G$109,3,FALSE)),\" \")","v":" "},{"$f":"IF(B134>0,(VLOOKUP($B134,'Engag Pou'!$A$10:$G$109,4,FALSE)),\" \")","v":" "},{"$f":"IF(B134>0,(VLOOKUP($B134,'Engag Pou'!$A$10:$G$109,5,FALSE)),\" \")","v":" "},{"$f":"IF(B134>0,(VLOOKUP($B134,'Engag Pou'!$A$10:$G$109,6,FALSE)),\" \")","v":" "},null,null," ",{"$f":"IF(COUNTIF($G$10:$G134,G134)<2,$G134,\" \")","v":" "},23,{"$f":"IF(COUNTIF($G$10:$G134,I134)<3,$G134,\" \")","v":" "},23,"",1000]
[24,null,{"$f":"IF(A135>0,(VLOOKUP($A33,'Engag Pre'!$A$10:$G$74,3,FALSE)),\" \")","v":{"$error":"#N/A"}},{"$f":"IF(B135>0,(VLOOKUP($B135,'Engag Pou'!$A$10:$G$109,7,FALSE)),\" \")","v":" "},{"$f":"IF(B135>0,(VLOOKUP($B135,'Engag Pou'!$A$10:$G$109,3,FALSE)),\" \")","v":" "},{"$f":"IF(B135>0,(VLOOKUP($B135,'Engag Pou'!$A$10:$G$109,4,FALSE)),\" \")","v":" "},{"$f":"IF(B135>0,(VLOOKUP($B135,'Engag Pou'!$A$10:$G$109,5,FALSE)),\" \")","v":" "},{"$f":"IF(B135>0,(VLOOKUP($B135,'Engag Pou'!$A$10:$G$109,6,FALSE)),\" \")","v":" "},null,null," ",{"$f":"IF(COUNTIF($G$10:$G135,G135)<2,$G135,\" \")","v":" "},24,{"$f":"IF(COUNTIF($G$10:$G135,I135)<3,$G135,\" \")","v":" "},24,"",1000]
[25,null,{"$f":"IF(A136>0,(VLOOKUP($A34,'Engag Pre'!$A$10:$G$74,3,FALSE)),\" \")","v":{"$error":"#N/A"}},{"$f":"IF(B136>0,(VLOOKUP($B136,'Engag Pou'!$A$10:$G$109,7,FALSE)),\" \")","v":" "},{"$f":"IF(B136>0,(VLOOKUP($B136,'Engag Pou'!$A$10:$G$109,3,FALSE)),\" \")","v":" "},{"$f":"IF(B136>0,(VLOOKUP($B136,'Engag Pou'!$A$10:$G$109,4,FALSE)),\" \")","v":" "},{"$f":"IF(B136>0,(VLOOKUP($B136,'Engag Pou'!$A$10:$G$109,5,FALSE)),\" \")","v":" "},{"$f":"IF(B136>0,(VLOOKUP($B136,'Engag Pou'!$A$10:$G$109,6,FALSE)),\" \")","v":" "},null,null," ",{"$f":"IF(COUNTIF($G$10:$G136,G136)<2,$G136,\" \")","v":" "},25,{"$f":"IF(COUNTIF($G$10:$G136,I136)<3,$G136,\" \")","v":" "},25,"",1000]
[26,null,{"$f":"IF(A137>0,(VLOOKUP($A35,'Engag Pre'!$A$10:$G$74,3,FALSE)),\" \")","v":{"$error":"#N/A"}},{"$f":"IF(B137>0,(VLOOKUP($B137,'Engag Pou'!$A$10:$G$109,7,FALSE)),\" \")","v":" "},{"$f":"IF(B137>0,(VLOOKUP($B137,'Engag Pou'!$A$10:$G$109,3,FALSE)),\" \")","v":" "},{"$f":"IF(B137>0,(VLOOKUP($B137,'Engag Pou'!$A$10:$G$109,4,FALSE)),\" \")","v":" "},{"$f":"IF(B137>0,(VLOOKUP($B137,'Engag Pou'!$A$10:$G$109,5,FALSE)),\" \")","v":" "},{"$f":"IF(B137>0,(VLOOKUP($B137,'Engag Pou'!$A$10:$G$109,6,FALSE)),\" \")","v":" "},null,null," ",{"$f":"IF(COUNTIF($G$10:$G137,G137)<2,$G137,\" \")","v":" "},26,{"$f":"IF(COUNTIF($G$10:$G137,I137)<3,$G137,\" \")","v":" "},26,"",1000]
[27,null,{"$f":"IF(A138>0,(VLOOKUP($A36,'Engag Pre'!$A$10:$G$74,3,FALSE)),\" \")","v":{"$error":"#N/A"}},{"$f":"IF(B138>0,(VLOOKUP($B138,'Engag Pou'!$A$10:$G$109,7,FALSE)),\" \")","v":" "},{"$f":"IF(B138>0,(VLOOKUP($B138,'Engag Pou'!$A$10:$G$109,3,FALSE)),\" \")","v":" "},{"$f":"IF(B138>0,(VLOOKUP($B138,'Engag Pou'!$A$10:$G$109,4,FALSE)),\" \")","v":" "},{"$f":"IF(B138>0,(VLOOKUP($B138,'Engag Pou'!$A$10:$G$109,5,FALSE)),\" \")","v":" "},{"$f":"IF(B138>0,(VLOOKUP($B138,'Engag Pou'!$A$10:$G$109,6,FALSE)),\" \")","v":" "},null,null," ",{"$f":"IF(COUNTIF($G$10:$G138,G138)<2,$G138,\" \")","v":" "},27,{"$f":"IF(COUNTIF($G$10:$G138,I138)<3,$G138,\" \")","v":" "},27,"",1000]
[28,null,{"$f":"IF(A139>0,(VLOOKUP($A37,'Engag Pre'!$A$10:$G$74,3,FALSE)),\" \")","v":{"$error":"#N/A"}},{"$f":"IF(B139>0,(VLOOKUP($B139,'Engag Pou'!$A$10:$G$109,7,FALSE)),\" \")","v":" "},{"$f":"IF(B139>0,(VLOOKUP($B139,'Engag Pou'!$A$10:$G$109,3,FALSE)),\" \")","v":" "},{"$f":"IF(B139>0,(VLOOKUP($B139,'Engag Pou'!$A$10:$G$109,4,FALSE)),\" \")","v":" "},{"$f":"IF(B139>0,(VLOOKUP($B139,'Engag Pou'!$A$10:$G$109,5,FALSE)),\" \")","v":" "},{"$f":"IF(B139>0,(VLOOKUP($B139,'Engag Pou'!$A$10:$G$109,6,FALSE)),\" \")","v":" "},null,null," ",{"$f":"IF(COUNTIF($G$10:$G139,G139)<2,$G139,\" \")","v":" "},28,{"$f":"IF(COUNTIF($G$10:$G139,I139)<3,$G139,\" \")","v":" "},28,"",1000]
[29,null,{"$f":"IF(A140>0,(VLOOKUP($A38,'Engag Pre'!$A$10:$G$74,3,FALSE)),\" \")","v":{"$error":"#N/A"}},{"$f":"IF(B140>0,(VLOOKUP($B140,'Engag Pou'!$A$10:$G$109,7,FALSE)),\" \")","v":" "},{"$f":"IF(B140>0,(VLOOKUP($B140,'Engag Pou'!$A$10:$G$109,3,FALSE)),\" \")","v":" "},{"$f":"IF(B140>0,(VLOOKUP($B140,'Engag Pou'!$A$10:$G$109,4,FALSE)),\" \")","v":" "},{"$f":"IF(B140>0,(VLOOKUP($B140,'Engag Pou'!$A$10:$G$109,5,FALSE)),\" \")","v":" "},{"$f":"IF(B140>0,(VLOOKUP($B140,'Engag Pou'!$A$10:$G$109,6,FALSE)),\" \")","v":" "},null,null," ",{"$f":"IF(COUNTIF($G$10:$G140,G140)<2,$G140,\" \")","v":" "},29,{"$f":"IF(COUNTIF($G$10:$G140,I140)<3,$G140,\" \")","v":" "},29,"",1000]
[30,null,{"$f":"IF(A141>0,(VLOOKUP($A39,'Engag Pre'!$A$10:$G$74,3,FALSE)),\" \")","v":{"$error":"#N/A"}},{"$f":"IF(B141>0,(VLOOKUP($B141,'Engag Pou'!$A$10:$G$109,7,FALSE)),\" \")","v":" "},{"$f":"IF(B141>0,(VLOOKUP($B141,'Engag Pou'!$A$10:$G$109,3,FALSE)),\" \")","v":" "},{"$f":"IF(B141>0,(VLOOKUP($B141,'Engag Pou'!$A$10:$G$109,4,FALSE)),\" \")","v":" "},{"$f":"IF(B141>0,(VLOOKUP($B141,'Engag Pou'!$A$10:$G$109,5,FALSE)),\" \")","v":" "},{"$f":"IF(B141>0,(VLOOKUP($B141,'Engag Pou'!$A$10:$G$109,6,FALSE)),\" \")","v":" "},null,null," ",{"$f":"IF(COUNTIF($G$10:$G141,G141)<2,$G141,\" \")","v":" "},30,{"$f":"IF(COUNTIF($G$10:$G141,I141)<3,$G141,\" \")","v":" "},30,"",1000]
[31,null,{"$f":"IF(A142>0,(VLOOKUP($A40,'Engag Pre'!$A$10:$G$74,3,FALSE)),\" \")","v":{"$error":"#N/A"}},{"$f":"IF(B142>0,(VLOOKUP($B142,'Engag Pou'!$A$10:$G$109,7,FALSE)),\" \")","v":" "},{"$f":"IF(B142>0,(VLOOKUP($B142,'Engag Pou'!$A$10:$G$109,3,FALSE)),\" \")","v":" "},{"$f":"IF(B142>0,(VLOOKUP($B142,'Engag Pou'!$A$10:$G$109,4,FALSE)),\" \")","v":" "},{"$f":"IF(B142>0,(VLOOKUP($B142,'Engag Pou'!$A$10:$G$109,5,FALSE)),\" \")","v":" "},{"$f":"IF(B142>0,(VLOOKUP($B142,'Engag Pou'!$A$10:$G$109,6,FALSE)),\" \")","v":" "},null,null," ",{"$f":"IF(COUNTIF($G$10:$G142,G142)<2,$G142,\" \")","v":" "},31,{"$f":"IF(COUNTIF($G$10:$G142,I142)<3,$G142,\" \")","v":" "},31,"",1000]
[32,null,{"$f":"IF(A143>0,(VLOOKUP($A41,'Engag Pre'!$A$10:$G$74,3,FALSE)),\" \")","v":{"$error":"#N/A"}},{"$f":"IF(B143>0,(VLOOKUP($B143,'Engag Pou'!$A$10:$G$109,7,FALSE)),\" \")","v":" "},{"$f":"IF(B143>0,(VLOOKUP($B143,'Engag Pou'!$A$10:$G$109,3,FALSE)),\" \")","v":" "},{"$f":"IF(B143>0,(VLOOKUP($B143,'Engag Pou'!$A$10:$G$109,4,FALSE)),\" \")","v":" "},{"$f":"IF(B143>0,(VLOOKUP($B143,'Engag Pou'!$A$10:$G$109,5,FALSE)),\" \")","v":" "},{"$f":"IF(B143>0,(VLOOKUP($B143,'Engag Pou'!$A$10:$G$109,6,FALSE)),\" \")","v":" "},null,null," ",{"$f":"IF(COUNTIF($G$10:$G143,G143)<2,$G143,\" \")","v":" "},32,{"$f":"IF(COUNTIF($G$10:$G143,I143)<3,$G143,\" \")","v":" "},32,"",1000]
[33,null,{"$f":"IF(A144>0,(VLOOKUP($A42,'Engag Pre'!$A$10:$G$74,3,FALSE)),\" \")","v":{"$error":"#N/A"}},{"$f":"IF(B144>0,(VLOOKUP($B144,'Engag Pou'!$A$10:$G$109,7,FALSE)),\" \")","v":" "},{"$f":"IF(B144>0,(VLOOKUP($B144,'Engag Pou'!$A$10:$G$109,3,FALSE)),\" \")","v":" "},{"$f":"IF(B144>0,(VLOOKUP($B144,'Engag Pou'!$A$10:$G$109,4,FALSE)),\" \")","v":" "},{"$f":"IF(B144>0,(VLOOKUP($B144,'Engag Pou'!$A$10:$G$109,5,FALSE)),\" \")","v":" "},{"$f":"IF(B144>0,(VLOOKUP($B144,'Engag Pou'!$A$10:$G$109,6,FALSE)),\" \")","v":" "},null,null," ",{"$f":"IF(COUNTIF($G$10:$G144,G144)<2,$G144,\" \")","v":" "},33,{"$f":"IF(COUNTIF($G$10:$G144,I144)<3,$G144,\" \")","v":" "},33,"",1000]
[34,null,{"$f":"IF(A145>0,(VLOOKUP($A43,'Engag Pre'!$A$10:$G$74,3,FALSE)),\" \")","v":{"$error":"#N/A"}},{"$f":"IF(B145>0,(VLOOKUP($B145,'Engag Pou'!$A$10:$G$109,7,FALSE)),\" \")","v":" "},{"$f":"IF(B145>0,(VLOOKUP($B145,'Engag Pou'!$A$10:$G$109,3,FALSE)),\" \")","v":" "},{"$f":"IF(B145>0,(VLOOKUP($B145,'Engag Pou'!$A$10:$G$109,4,FALSE)),\" \")","v":" "},{"$f":"IF(B145>0,(VLOOKUP($B145,'Engag Pou'!$A$10:$G$109,5,FALSE)),\" \")","v":" "},{"$f":"IF(B145>0,(VLOOKUP($B145,'Engag Pou'!$A$10:$G$109,6,FALSE)),\" \")","v":" "},null,null," ",{"$f":"IF(COUNTIF($G$10:$G145,G145)<2,$G145,\" \")","v":" "},34,{"$f":"IF(COUNTIF($G$10:$G145,I145)<3,$G145,\" \")","v":" "},34,"",1000]
[35,null,{"$f":"IF(A146>0,(VLOOKUP($A44,'Engag Pre'!$A$10:$G$74,3,FALSE)),\" \")","v":{"$error":"#N/A"}},{"$f":"IF(B146>0,(VLOOKUP($B146,'Engag Pou'!$A$10:$G$109,7,FALSE)),\" \")","v":" "},{"$f":"IF(B146>0,(VLOOKUP($B146,'Engag Pou'!$A$10:$G$109,3,FALSE)),\" \")","v":" "},{"$f":"IF(B146>0,(VLOOKUP($B146,'Engag Pou'!$A$10:$G$109,4,FALSE)),\" \")","v":" "},{"$f":"IF(B146>0,(VLOOKUP($B146,'Engag Pou'!$A$10:$G$109,5,FALSE)),\" \")","v":" "},{"$f":"IF(B146>0,(VLOOKUP($B146,'Engag Pou'!$A$10:$G$109,6,FALSE)),\" \")","v":" "},null,null," ",{"$f":"IF(COUNTIF($G$10:$G146,G146)<2,$G146,\" \")","v":" "},35,{"$f":"IF(COUNTIF($G$10:$G146,I146)<3,$G146,\" \")","v":" "},35,"",1000]
[36,null,{"$f":"IF(A147>0,(VLOOKUP($A45,'Engag Pre'!$A$10:$G$74,3,FALSE)),\" \")","v":{"$error":"#N/A"}},{"$f":"IF(B147>0,(VLOOKUP($B147,'Engag Pou'!$A$10:$G$109,7,FALSE)),\" \")","v":" "},{"$f":"IF(B147>0,(VLOOKUP($B147,'Engag Pou'!$A$10:$G$109,3,FALSE)),\" \")","v":" "},{"$f":"IF(B147>0,(VLOOKUP($B147,'Engag Pou'!$A$10:$G$109,4,FALSE)),\" \")","v":" "},{"$f":"IF(B147>0,(VLOOKUP($B147,'Engag Pou'!$A$10:$G$109,5,FALSE)),\" \")","v":" "},{"$f":"IF(B147>0,(VLOOKUP($B147,'Engag Pou'!$A$10:$G$109,6,FALSE)),\" \")","v":" "},null,null," ",{"$f":"IF(COUNTIF($G$10:$G147,G147)<2,$G147,\" \")","v":" "},36,{"$f":"IF(COUNTIF($G$10:$G147,I147)<3,$G147,\" \")","v":" "},36,"",1000]
[37,null,{"$f":"IF(A148>0,(VLOOKUP($A46,'Engag Pre'!$A$10:$G$74,3,FALSE)),\" \")","v":{"$error":"#N/A"}},{"$f":"IF(B148>0,(VLOOKUP($B148,'Engag Pou'!$A$10:$G$109,7,FALSE)),\" \")","v":" "},{"$f":"IF(B148>0,(VLOOKUP($B148,'Engag Pou'!$A$10:$G$109,3,FALSE)),\" \")","v":" "},{"$f":"IF(B148>0,(VLOOKUP($B148,'Engag Pou'!$A$10:$G$109,4,FALSE)),\" \")","v":" "},{"$f":"IF(B148>0,(VLOOKUP($B148,'Engag Pou'!$A$10:$G$109,5,FALSE)),\" \")","v":" "},{"$f":"IF(B148>0,(VLOOKUP($B148,'Engag Pou'!$A$10:$G$109,6,FALSE)),\" \")","v":" "},null,null," ",{"$f":"IF(COUNTIF($G$10:$G148,G148)<2,$G148,\" \")","v":" "},37,{"$f":"IF(COUNTIF($G$10:$G148,I148)<3,$G148,\" \")","v":" "},37,"",1000]
[38,null,{"$f":"IF(A149>0,(VLOOKUP($A47,'Engag Pre'!$A$10:$G$74,3,FALSE)),\" \")","v":{"$error":"#N/A"}},{"$f":"IF(B149>0,(VLOOKUP($B149,'Engag Pou'!$A$10:$G$109,7,FALSE)),\" \")","v":" "},{"$f":"IF(B149>0,(VLOOKUP($B149,'Engag Pou'!$A$10:$G$109,3,FALSE)),\" \")","v":" "},{"$f":"IF(B149>0,(VLOOKUP($B149,'Engag Pou'!$A$10:$G$109,4,FALSE)),\" \")","v":" "},{"$f":"IF(B149>0,(VLOOKUP($B149,'Engag Pou'!$A$10:$G$109,5,FALSE)),\" \")","v":" "},{"$f":"IF(B149>0,(VLOOKUP($B149,'Engag Pou'!$A$10:$G$109,6,FALSE)),\" \")","v":" "},null,null," ",{"$f":"IF(COUNTIF($G$10:$G149,G149)<2,$G149,\" \")","v":" "},38,{"$f":"IF(COUNTIF($G$10:$G149,I149)<3,$G149,\" \")","v":" "},38,"",1000]
[39,null,{"$f":"IF(A150>0,(VLOOKUP($A48,'Engag Pre'!$A$10:$G$74,3,FALSE)),\" \")","v":{"$error":"#N/A"}},{"$f":"IF(B150>0,(VLOOKUP($B150,'Engag Pou'!$A$10:$G$109,7,FALSE)),\" \")","v":" "},{"$f":"IF(B150>0,(VLOOKUP($B150,'Engag Pou'!$A$10:$G$109,3,FALSE)),\" \")","v":" "},{"$f":"IF(B150>0,(VLOOKUP($B150,'Engag Pou'!$A$10:$G$109,4,FALSE)),\" \")","v":" "},{"$f":"IF(B150>0,(VLOOKUP($B150,'Engag Pou'!$A$10:$G$109,5,FALSE)),\" \")","v":" "},{"$f":"IF(B150>0,(VLOOKUP($B150,'Engag Pou'!$A$10:$G$109,6,FALSE)),\" \")","v":" "},null,null," ",{"$f":"IF(COUNTIF($G$10:$G150,G150)<2,$G150,\" \")","v":" "},39,{"$f":"IF(COUNTIF($G$10:$G150,I150)<3,$G150,\" \")","v":" "},39,"",1000]
[40,null,{"$f":"IF(A151>0,(VLOOKUP($A49,'Engag Pre'!$A$10:$G$74,3,FALSE)),\" \")","v":{"$error":"#N/A"}},{"$f":"IF(B151>0,(VLOOKUP($B151,'Engag Pou'!$A$10:$G$109,7,FALSE)),\" \")","v":" "},{"$f":"IF(B151>0,(VLOOKUP($B151,'Engag Pou'!$A$10:$G$109,3,FALSE)),\" \")","v":" "},{"$f":"IF(B151>0,(VLOOKUP($B151,'Engag Pou'!$A$10:$G$109,4,FALSE)),\" \")","v":" "},{"$f":"IF(B151>0,(VLOOKUP($B151,'Engag Pou'!$A$10:$G$109,5,FALSE)),\" \")","v":" "},{"$f":"IF(B151>0,(VLOOKUP($B151,'Engag Pou'!$A$10:$G$109,6,FALSE)),\" \")","v":" "},null,null," ",{"$f":"IF(COUNTIF($G$10:$G151,G151)<2,$G151,\" \")","v":" "},40,{"$f":"IF(COUNTIF($G$10:$G151,I151)<3,$G151,\" \")","v":" "},40,"",1000]
[41,null,{"$f":"IF(A152>0,(VLOOKUP($A50,'Engag Pre'!$A$10:$G$74,3,FALSE)),\" \")","v":{"$error":"#N/A"}},{"$f":"IF(B152>0,(VLOOKUP($B152,'Engag Pou'!$A$10:$G$109,7,FALSE)),\" \")","v":" "},{"$f":"IF(B152>0,(VLOOKUP($B152,'Engag Pou'!$A$10:$G$109,3,FALSE)),\" \")","v":" "},{"$f":"IF(B152>0,(VLOOKUP($B152,'Engag Pou'!$A$10:$G$109,4,FALSE)),\" \")","v":" "},{"$f":"IF(B152>0,(VLOOKUP($B152,'Engag Pou'!$A$10:$G$109,5,FALSE)),\" \")","v":" "},{"$f":"IF(B152>0,(VLOOKUP($B152,'Engag Pou'!$A$10:$G$109,6,FALSE)),\" \")","v":" "},null,null," ",{"$f":"IF(COUNTIF($G$10:$G152,G152)<2,$G152,\" \")","v":" "},41,{"$f":"IF(COUNTIF($G$10:$G152,I152)<3,$G152,\" \")","v":" "},41,"",1000]
[42,null,{"$f":"IF(A153>0,(VLOOKUP($A51,'Engag Pre'!$A$10:$G$74,3,FALSE)),\" \")","v":{"$error":"#N/A"}},{"$f":"IF(B153>0,(VLOOKUP($B153,'Engag Pou'!$A$10:$G$109,7,FALSE)),\" \")","v":" "},{"$f":"IF(B153>0,(VLOOKUP($B153,'Engag Pou'!$A$10:$G$109,3,FALSE)),\" \")","v":" "},{"$f":"IF(B153>0,(VLOOKUP($B153,'Engag Pou'!$A$10:$G$109,4,FALSE)),\" \")","v":" "},{"$f":"IF(B153>0,(VLOOKUP($B153,'Engag Pou'!$A$10:$G$109,5,FALSE)),\" \")","v":" "},{"$f":"IF(B153>0,(VLOOKUP($B153,'Engag Pou'!$A$10:$G$109,6,FALSE)),\" \")","v":" "},null,null," ",{"$f":"IF(COUNTIF($G$10:$G153,G153)<2,$G153,\" \")","v":" "},42,{"$f":"IF(COUNTIF($G$10:$G153,I153)<3,$G153,\" \")","v":" "},42,"",1000]
[43,null,{"$f":"IF(A154>0,(VLOOKUP($A52,'Engag Pre'!$A$10:$G$74,3,FALSE)),\" \")","v":{"$error":"#N/A"}},{"$f":"IF(B154>0,(VLOOKUP($B154,'Engag Pou'!$A$10:$G$109,7,FALSE)),\" \")","v":" "},{"$f":"IF(B154>0,(VLOOKUP($B154,'Engag Pou'!$A$10:$G$109,3,FALSE)),\" \")","v":" "},{"$f":"IF(B154>0,(VLOOKUP($B154,'Engag Pou'!$A$10:$G$109,4,FALSE)),\" \")","v":" "},{"$f":"IF(B154>0,(VLOOKUP($B154,'Engag Pou'!$A$10:$G$109,5,FALSE)),\" \")","v":" "},{"$f":"IF(B154>0,(VLOOKUP($B154,'Engag Pou'!$A$10:$G$109,6,FALSE)),\" \")","v":" "},null,null," ",{"$f":"IF(COUNTIF($G$10:$G154,G154)<2,$G154,\" \")","v":" "},43,{"$f":"IF(COUNTIF($G$10:$G154,I154)<3,$G154,\" \")","v":" "},43,"",1000]
[44,null,{"$f":"IF(A155>0,(VLOOKUP($A53,'Engag Pre'!$A$10:$G$74,3,FALSE)),\" \")","v":{"$error":"#N/A"}},{"$f":"IF(B155>0,(VLOOKUP($B155,'Engag Pou'!$A$10:$G$109,7,FALSE)),\" \")","v":" "},{"$f":"IF(B155>0,(VLOOKUP($B155,'Engag Pou'!$A$10:$G$109,3,FALSE)),\" \")","v":" "},{"$f":"IF(B155>0,(VLOOKUP($B155,'Engag Pou'!$A$10:$G$109,4,FALSE)),\" \")","v":" "},{"$f":"IF(B155>0,(VLOOKUP($B155,'Engag Pou'!$A$10:$G$109,5,FALSE)),\" \")","v":" "},{"$f":"IF(B155>0,(VLOOKUP($B155,'Engag Pou'!$A$10:$G$109,6,FALSE)),\" \")","v":" "},null,null," ",{"$f":"IF(COUNTIF($G$10:$G155,G155)<2,$G155,\" \")","v":" "},44,{"$f":"IF(COUNTIF($G$10:$G155,I155)<3,$G155,\" \")","v":" "},44,"",1000]
[45,null,{"$f":"IF(A156>0,(VLOOKUP($A54,'Engag Pre'!$A$10:$G$74,3,FALSE)),\" \")","v":{"$error":"#N/A"}},{"$f":"IF(B156>0,(VLOOKUP($B156,'Engag Pou'!$A$10:$G$109,7,FALSE)),\" \")","v":" "},{"$f":"IF(B156>0,(VLOOKUP($B156,'Engag Pou'!$A$10:$G$109,3,FALSE)),\" \")","v":" "},{"$f":"IF(B156>0,(VLOOKUP($B156,'Engag Pou'!$A$10:$G$109,4,FALSE)),\" \")","v":" "},{"$f":"IF(B156>0,(VLOOKUP($B156,'Engag Pou'!$A$10:$G$109,5,FALSE)),\" \")","v":" "},{"$f":"IF(B156>0,(VLOOKUP($B156,'Engag Pou'!$A$10:$G$109,6,FALSE)),\" \")","v":" "},null,null," ",{"$f":"IF(COUNTIF($G$10:$G156,G156)<2,$G156,\" \")","v":" "},45,{"$f":"IF(COUNTIF($G$10:$G156,I156)<3,$G156,\" \")","v":" "},45,"",1000]
[46,null,{"$f":"IF(A157>0,(VLOOKUP($A55,'Engag Pre'!$A$10:$G$74,3,FALSE)),\" \")","v":{"$error":"#N/A"}},{"$f":"IF(B157>0,(VLOOKUP($B157,'Engag Pou'!$A$10:$G$109,7,FALSE)),\" \")","v":" "},{"$f":"IF(B157>0,(VLOOKUP($B157,'Engag Pou'!$A$10:$G$109,3,FALSE)),\" \")","v":" "},{"$f":"IF(B157>0,(VLOOKUP($B157,'Engag Pou'!$A$10:$G$109,4,FALSE)),\" \")","v":" "},{"$f":"IF(B157>0,(VLOOKUP($B157,'Engag Pou'!$A$10:$G$109,5,FALSE)),\" \")","v":" "},{"$f":"IF(B157>0,(VLOOKUP($B157,'Engag Pou'!$A$10:$G$109,6,FALSE)),\" \")","v":" "},null,null," ",{"$f":"IF(COUNTIF($G$10:$G157,G157)<2,$G157,\" \")","v":" "},46,{"$f":"IF(COUNTIF($G$10:$G157,I157)<3,$G157,\" \")","v":" "},46,"",1000]
[47,null,{"$f":"IF(A158>0,(VLOOKUP($A56,'Engag Pre'!$A$10:$G$74,3,FALSE)),\" \")","v":{"$error":"#N/A"}},{"$f":"IF(B158>0,(VLOOKUP($B158,'Engag Pou'!$A$10:$G$109,7,FALSE)),\" \")","v":" "},{"$f":"IF(B158>0,(VLOOKUP($B158,'Engag Pou'!$A$10:$G$109,3,FALSE)),\" \")","v":" "},{"$f":"IF(B158>0,(VLOOKUP($B158,'Engag Pou'!$A$10:$G$109,4,FALSE)),\" \")","v":" "},{"$f":"IF(B158>0,(VLOOKUP($B158,'Engag Pou'!$A$10:$G$109,5,FALSE)),\" \")","v":" "},{"$f":"IF(B158>0,(VLOOKUP($B158,'Engag Pou'!$A$10:$G$109,6,FALSE)),\" \")","v":" "},null,null," ",{"$f":"IF(COUNTIF($G$10:$G158,G158)<2,$G158,\" \")","v":" "},47,{"$f":"IF(COUNTIF($G$10:$G158,I158)<3,$G158,\" \")","v":" "},47,"",1000]
[48,null,{"$f":"IF(A159>0,(VLOOKUP($A57,'Engag Pre'!$A$10:$G$74,3,FALSE)),\" \")","v":{"$error":"#N/A"}},{"$f":"IF(B159>0,(VLOOKUP($B159,'Engag Pou'!$A$10:$G$109,7,FALSE)),\" \")","v":" "},{"$f":"IF(B159>0,(VLOOKUP($B159,'Engag Pou'!$A$10:$G$109,3,FALSE)),\" \")","v":" "},{"$f":"IF(B159>0,(VLOOKUP($B159,'Engag Pou'!$A$10:$G$109,4,FALSE)),\" \")","v":" "},{"$f":"IF(B159>0,(VLOOKUP($B159,'Engag Pou'!$A$10:$G$109,5,FALSE)),\" \")","v":" "},{"$f":"IF(B159>0,(VLOOKUP($B159,'Engag Pou'!$A$10:$G$109,6,FALSE)),\" \")","v":" "},null,null," ",{"$f":"IF(COUNTIF($G$10:$G159,G159)<2,$G159,\" \")","v":" "},48,{"$f":"IF(COUNTIF($G$10:$G159,I159)<3,$G159,\" \")","v":" "},48,"",1000]
[49,null,{"$f":"IF(A160>0,(VLOOKUP($A58,'Engag Pre'!$A$10:$G$74,3,FALSE)),\" \")","v":{"$error":"#N/A"}},{"$f":"IF(B160>0,(VLOOKUP($B160,'Engag Pou'!$A$10:$G$109,7,FALSE)),\" \")","v":" "},{"$f":"IF(B160>0,(VLOOKUP($B160,'Engag Pou'!$A$10:$G$109,3,FALSE)),\" \")","v":" "},{"$f":"IF(B160>0,(VLOOKUP($B160,'Engag Pou'!$A$10:$G$109,4,FALSE)),\" \")","v":" "},{"$f":"IF(B160>0,(VLOOKUP($B160,'Engag Pou'!$A$10:$G$109,5,FALSE)),\" \")","v":" "},{"$f":"IF(B160>0,(VLOOKUP($B160,'Engag Pou'!$A$10:$G$109,6,FALSE)),\" \")","v":" "},null,null," ",{"$f":"IF(COUNTIF($G$10:$G160,G160)<2,$G160,\" \")","v":" "},49,{"$f":"IF(COUNTIF($G$10:$G160,I160)<3,$G160,\" \")","v":" "},49,"",1000]
[50,null,{"$f":"IF(A161>0,(VLOOKUP($A59,'Engag Pre'!$A$10:$G$74,3,FALSE)),\" \")","v":{"$error":"#N/A"}},{"$f":"IF(B161>0,(VLOOKUP($B161,'Engag Pou'!$A$10:$G$109,7,FALSE)),\" \")","v":" "},{"$f":"IF(B161>0,(VLOOKUP($B161,'Engag Pou'!$A$10:$G$109,3,FALSE)),\" \")","v":" "},{"$f":"IF(B161>0,(VLOOKUP($B161,'Engag Pou'!$A$10:$G$109,4,FALSE)),\" \")","v":" "},{"$f":"IF(B161>0,(VLOOKUP($B161,'Engag Pou'!$A$10:$G$109,5,FALSE)),\" \")","v":" "},{"$f":"IF(B161>0,(VLOOKUP($B161,'Engag Pou'!$A$10:$G$109,6,FALSE)),\" \")","v":" "},null,null," ",{"$f":"IF(COUNTIF($G$10:$G161,G161)<2,$G161,\" \")","v":" "},50,{"$f":"IF(COUNTIF($G$10:$G161,I161)<3,$G161,\" \")","v":" "},50,"",1000]
[51,null,{"$f":"IF(A162>0,(VLOOKUP($A60,'Engag Pre'!$A$10:$G$74,3,FALSE)),\" \")","v":{"$error":"#N/A"}},{"$f":"IF(B162>0,(VLOOKUP($B162,'Engag Pou'!$A$10:$G$109,7,FALSE)),\" \")","v":" "},{"$f":"IF(B162>0,(VLOOKUP($B162,'Engag Pou'!$A$10:$G$109,3,FALSE)),\" \")","v":" "},{"$f":"IF(B162>0,(VLOOKUP($B162,'Engag Pou'!$A$10:$G$109,4,FALSE)),\" \")","v":" "},{"$f":"IF(B162>0,(VLOOKUP($B162,'Engag Pou'!$A$10:$G$109,5,FALSE)),\" \")","v":" "},{"$f":"IF(B162>0,(VLOOKUP($B162,'Engag Pou'!$A$10:$G$109,6,FALSE)),\" \")","v":" "},null,null," ",{"$f":"IF(COUNTIF($G$10:$G162,G162)<2,$G162,\" \")","v":" "},51,{"$f":"IF(COUNTIF($G$10:$G162,I162)<3,$G162,\" \")","v":" "},51,"",1000]
[52,null,{"$f":"IF(A163>0,(VLOOKUP($A61,'Engag Pre'!$A$10:$G$74,3,FALSE)),\" \")","v":{"$error":"#N/A"}},{"$f":"IF(B163>0,(VLOOKUP($B163,'Engag Pou'!$A$10:$G$109,7,FALSE)),\" \")","v":" "},{"$f":"IF(B163>0,(VLOOKUP($B163,'Engag Pou'!$A$10:$G$109,3,FALSE)),\" \")","v":" "},{"$f":"IF(B163>0,(VLOOKUP($B163,'Engag Pou'!$A$10:$G$109,4,FALSE)),\" \")","v":" "},{"$f":"IF(B163>0,(VLOOKUP($B163,'Engag Pou'!$A$10:$G$109,5,FALSE)),\" \")","v":" "},{"$f":"IF(B163>0,(VLOOKUP($B163,'Engag Pou'!$A$10:$G$109,6,FALSE)),\" \")","v":" "},null,null," ",{"$f":"IF(COUNTIF($G$10:$G163,G163)<2,$G163,\" \")","v":" "},52,{"$f":"IF(COUNTIF($G$10:$G163,I163)<3,$G163,\" \")","v":" "},52,"",1000]
[53,null,{"$f":"IF(A164>0,(VLOOKUP($A62,'Engag Pre'!$A$10:$G$74,3,FALSE)),\" \")","v":{"$error":"#N/A"}},{"$f":"IF(B164>0,(VLOOKUP($B164,'Engag Pou'!$A$10:$G$109,7,FALSE)),\" \")","v":" "},{"$f":"IF(B164>0,(VLOOKUP($B164,'Engag Pou'!$A$10:$G$109,3,FALSE)),\" \")","v":" "},{"$f":"IF(B164>0,(VLOOKUP($B164,'Engag Pou'!$A$10:$G$109,4,FALSE)),\" \")","v":" "},{"$f":"IF(B164>0,(VLOOKUP($B164,'Engag Pou'!$A$10:$G$109,5,FALSE)),\" \")","v":" "},{"$f":"IF(B164>0,(VLOOKUP($B164,'Engag Pou'!$A$10:$G$109,6,FALSE)),\" \")","v":" "},null,null," ",{"$f":"IF(COUNTIF($G$10:$G164,G164)<2,$G164,\" \")","v":" "},53,{"$f":"IF(COUNTIF($G$10:$G164,I164)<3,$G164,\" \")","v":" "},53,"",1000]
[54,null,{"$f":"IF(A165>0,(VLOOKUP($A63,'Engag Pre'!$A$10:$G$74,3,FALSE)),\" \")","v":{"$error":"#N/A"}},{"$f":"IF(B165>0,(VLOOKUP($B165,'Engag Pou'!$A$10:$G$109,7,FALSE)),\" \")","v":" "},{"$f":"IF(B165>0,(VLOOKUP($B165,'Engag Pou'!$A$10:$G$109,3,FALSE)),\" \")","v":" "},{"$f":"IF(B165>0,(VLOOKUP($B165,'Engag Pou'!$A$10:$G$109,4,FALSE)),\" \")","v":" "},{"$f":"IF(B165>0,(VLOOKUP($B165,'Engag Pou'!$A$10:$G$109,5,FALSE)),\" \")","v":" "},{"$f":"IF(B165>0,(VLOOKUP($B165,'Engag Pou'!$A$10:$G$109,6,FALSE)),\" \")","v":" "},null,null," ",{"$f":"IF(COUNTIF($G$10:$G165,G165)<2,$G165,\" \")","v":" "},54,{"$f":"IF(COUNTIF($G$10:$G165,I165)<3,$G165,\" \")","v":" "},54,"",1000]
[55,null,{"$f":"IF(A166>0,(VLOOKUP($A64,'Engag Pre'!$A$10:$G$74,3,FALSE)),\" \")","v":{"$error":"#N/A"}},{"$f":"IF(B166>0,(VLOOKUP($B166,'Engag Pou'!$A$10:$G$109,7,FALSE)),\" \")","v":" "},{"$f":"IF(B166>0,(VLOOKUP($B166,'Engag Pou'!$A$10:$G$109,3,FALSE)),\" \")","v":" "},{"$f":"IF(B166>0,(VLOOKUP($B166,'Engag Pou'!$A$10:$G$109,4,FALSE)),\" \")","v":" "},{"$f":"IF(B166>0,(VLOOKUP($B166,'Engag Pou'!$A$10:$G$109,5,FALSE)),\" \")","v":" "},{"$f":"IF(B166>0,(VLOOKUP($B166,'Engag Pou'!$A$10:$G$109,6,FALSE)),\" \")","v":" "},null,null," ",{"$f":"IF(COUNTIF($G$10:$G166,G166)<2,$G166,\" \")","v":" "},55,{"$f":"IF(COUNTIF($G$10:$G166,I166)<3,$G166,\" \")","v":" "},55,"",1000]
[56,null,{"$f":"IF(A167>0,(VLOOKUP($A65,'Engag Pre'!$A$10:$G$74,3,FALSE)),\" \")","v":{"$error":"#N/A"}},{"$f":"IF(B167>0,(VLOOKUP($B167,'Engag Pou'!$A$10:$G$109,7,FALSE)),\" \")","v":" "},{"$f":"IF(B167>0,(VLOOKUP($B167,'Engag Pou'!$A$10:$G$109,3,FALSE)),\" \")","v":" "},{"$f":"IF(B167>0,(VLOOKUP($B167,'Engag Pou'!$A$10:$G$109,4,FALSE)),\" \")","v":" "},{"$f":"IF(B167>0,(VLOOKUP($B167,'Engag Pou'!$A$10:$G$109,5,FALSE)),\" \")","v":" "},{"$f":"IF(B167>0,(VLOOKUP($B167,'Engag Pou'!$A$10:$G$109,6,FALSE)),\" \")","v":" "},null,null," ",{"$f":"IF(COUNTIF($G$10:$G167,G167)<2,$G167,\" \")","v":" "},56,{"$f":"IF(COUNTIF($G$10:$G167,I167)<3,$G167,\" \")","v":" "},56,"",1000]
[57,null,{"$f":"IF(A168>0,(VLOOKUP($A66,'Engag Pre'!$A$10:$G$74,3,FALSE)),\" \")","v":{"$error":"#N/A"}},{"$f":"IF(B168>0,(VLOOKUP($B168,'Engag Pou'!$A$10:$G$109,7,FALSE)),\" \")","v":" "},{"$f":"IF(B168>0,(VLOOKUP($B168,'Engag Pou'!$A$10:$G$109,3,FALSE)),\" \")","v":" "},{"$f":"IF(B168>0,(VLOOKUP($B168,'Engag Pou'!$A$10:$G$109,4,FALSE)),\" \")","v":" "},{"$f":"IF(B168>0,(VLOOKUP($B168,'Engag Pou'!$A$10:$G$109,5,FALSE)),\" \")","v":" "},{"$f":"IF(B168>0,(VLOOKUP($B168,'Engag Pou'!$A$10:$G$109,6,FALSE)),\" \")","v":" "},null,null," ",{"$f":"IF(COUNTIF($G$10:$G168,G168)<2,$G168,\" \")","v":" "},57,{"$f":"IF(COUNTIF($G$10:$G168,I168)<3,$G168,\" \")","v":" "},57,"",1000]
[58,null,{"$f":"IF(A169>0,(VLOOKUP($A67,'Engag Pre'!$A$10:$G$74,3,FALSE)),\" \")","v":{"$error":"#N/A"}},{"$f":"IF(B169>0,(VLOOKUP($B169,'Engag Pou'!$A$10:$G$109,7,FALSE)),\" \")","v":" "},{"$f":"IF(B169>0,(VLOOKUP($B169,'Engag Pou'!$A$10:$G$109,3,FALSE)),\" \")","v":" "},{"$f":"IF(B169>0,(VLOOKUP($B169,'Engag Pou'!$A$10:$G$109,4,FALSE)),\" \")","v":" "},{"$f":"IF(B169>0,(VLOOKUP($B169,'Engag Pou'!$A$10:$G$109,5,FALSE)),\" \")","v":" "},{"$f":"IF(B169>0,(VLOOKUP($B169,'Engag Pou'!$A$10:$G$109,6,FALSE)),\" \")","v":" "},null,null," ",{"$f":"IF(COUNTIF($G$10:$G169,G169)<2,$G169,\" \")","v":" "},58,{"$f":"IF(COUNTIF($G$10:$G169,I169)<3,$G169,\" \")","v":" "},58,"",1000]
[59,null,{"$f":"IF(A170>0,(VLOOKUP($A68,'Engag Pre'!$A$10:$G$74,3,FALSE)),\" \")","v":{"$error":"#N/A"}},{"$f":"IF(B170>0,(VLOOKUP($B170,'Engag Pou'!$A$10:$G$109,7,FALSE)),\" \")","v":" "},{"$f":"IF(B170>0,(VLOOKUP($B170,'Engag Pou'!$A$10:$G$109,3,FALSE)),\" \")","v":" "},{"$f":"IF(B170>0,(VLOOKUP($B170,'Engag Pou'!$A$10:$G$109,4,FALSE)),\" \")","v":" "},{"$f":"IF(B170>0,(VLOOKUP($B170,'Engag Pou'!$A$10:$G$109,5,FALSE)),\" \")","v":" "},{"$f":"IF(B170>0,(VLOOKUP($B170,'Engag Pou'!$A$10:$G$109,6,FALSE)),\" \")","v":" "},null,null," ",{"$f":"IF(COUNTIF($G$10:$G170,G170)<2,$G170,\" \")","v":" "},59,{"$f":"IF(COUNTIF($G$10:$G170,I170)<3,$G170,\" \")","v":" "},59,"",1000]
[60,null,{"$f":"IF(A171>0,(VLOOKUP($A69,'Engag Pre'!$A$10:$G$74,3,FALSE)),\" \")","v":{"$error":"#N/A"}},{"$f":"IF(B171>0,(VLOOKUP($B171,'Engag Pou'!$A$10:$G$109,7,FALSE)),\" \")","v":" "},{"$f":"IF(B171>0,(VLOOKUP($B171,'Engag Pou'!$A$10:$G$109,3,FALSE)),\" \")","v":" "},{"$f":"IF(B171>0,(VLOOKUP($B171,'Engag Pou'!$A$10:$G$109,4,FALSE)),\" \")","v":" "},{"$f":"IF(B171>0,(VLOOKUP($B171,'Engag Pou'!$A$10:$G$109,5,FALSE)),\" \")","v":" "},{"$f":"IF(B171>0,(VLOOKUP($B171,'Engag Pou'!$A$10:$G$109,6,FALSE)),\" \")","v":" "},null,null," ",{"$f":"IF(COUNTIF($G$10:$G171,G171)<2,$G171,\" \")","v":" "},60,{"$f":"IF(COUNTIF($G$10:$G171,I171)<3,$G171,\" \")","v":" "},60,"",1000]
[61,null,{"$f":"IF(A172>0,(VLOOKUP($A70,'Engag Pre'!$A$10:$G$74,3,FALSE)),\" \")","v":{"$error":"#N/A"}},{"$f":"IF(B172>0,(VLOOKUP($B172,'Engag Pou'!$A$10:$G$109,7,FALSE)),\" \")","v":" "},{"$f":"IF(B172>0,(VLOOKUP($B172,'Engag Pou'!$A$10:$G$109,3,FALSE)),\" \")","v":" "},{"$f":"IF(B172>0,(VLOOKUP($B172,'Engag Pou'!$A$10:$G$109,4,FALSE)),\" \")","v":" "},{"$f":"IF(B172>0,(VLOOKUP($B172,'Engag Pou'!$A$10:$G$109,5,FALSE)),\" \")","v":" "},{"$f":"IF(B172>0,(VLOOKUP($B172,'Engag Pou'!$A$10:$G$109,6,FALSE)),\" \")","v":" "},null,null," ",{"$f":"IF(COUNTIF($G$10:$G172,G172)<2,$G172,\" \")","v":" "},61,{"$f":"IF(COUNTIF($G$10:$G172,I172)<3,$G172,\" \")","v":" "},61,"",1000]
[62,null,{"$f":"IF(A173>0,(VLOOKUP($A71,'Engag Pre'!$A$10:$G$74,3,FALSE)),\" \")","v":{"$error":"#N/A"}},{"$f":"IF(B173>0,(VLOOKUP($B173,'Engag Pou'!$A$10:$G$109,7,FALSE)),\" \")","v":" "},{"$f":"IF(B173>0,(VLOOKUP($B173,'Engag Pou'!$A$10:$G$109,3,FALSE)),\" \")","v":" "},{"$f":"IF(B173>0,(VLOOKUP($B173,'Engag Pou'!$A$10:$G$109,4,FALSE)),\" \")","v":" "},{"$f":"IF(B173>0,(VLOOKUP($B173,'Engag Pou'!$A$10:$G$109,5,FALSE)),\" \")","v":" "},{"$f":"IF(B173>0,(VLOOKUP($B173,'Engag Pou'!$A$10:$G$109,6,FALSE)),\" \")","v":" "},null,null," ",{"$f":"IF(COUNTIF($G$10:$G173,G173)<2,$G173,\" \")","v":" "},62,{"$f":"IF(COUNTIF($G$10:$G173,I173)<3,$G173,\" \")","v":" "},62,"",1000]
[63,null,{"$f":"IF(A174>0,(VLOOKUP($A72,'Engag Pre'!$A$10:$G$74,3,FALSE)),\" \")","v":{"$error":"#N/A"}},{"$f":"IF(B174>0,(VLOOKUP($B174,'Engag Pou'!$A$10:$G$109,7,FALSE)),\" \")","v":" "},{"$f":"IF(B174>0,(VLOOKUP($B174,'Engag Pou'!$A$10:$G$109,3,FALSE)),\" \")","v":" "},{"$f":"IF(B174>0,(VLOOKUP($B174,'Engag Pou'!$A$10:$G$109,4,FALSE)),\" \")","v":" "},{"$f":"IF(B174>0,(VLOOKUP($B174,'Engag Pou'!$A$10:$G$109,5,FALSE)),\" \")","v":" "},{"$f":"IF(B174>0,(VLOOKUP($B174,'Engag Pou'!$A$10:$G$109,6,FALSE)),\" \")","v":" "},null,null," ",{"$f":"IF(COUNTIF($G$10:$G174,G174)<2,$G174,\" \")","v":" "},63,{"$f":"IF(COUNTIF($G$10:$G174,I174)<3,$G174,\" \")","v":" "},63,"",1000]
[64,null,{"$f":"IF(A175>0,(VLOOKUP($A73,'Engag Pre'!$A$10:$G$74,3,FALSE)),\" \")","v":{"$error":"#N/A"}},{"$f":"IF(B175>0,(VLOOKUP($B175,'Engag Pou'!$A$10:$G$109,7,FALSE)),\" \")","v":" "},{"$f":"IF(B175>0,(VLOOKUP($B175,'Engag Pou'!$A$10:$G$109,3,FALSE)),\" \")","v":" "},{"$f":"IF(B175>0,(VLOOKUP($B175,'Engag Pou'!$A$10:$G$109,4,FALSE)),\" \")","v":" "},{"$f":"IF(B175>0,(VLOOKUP($B175,'Engag Pou'!$A$10:$G$109,5,FALSE)),\" \")","v":" "},{"$f":"IF(B175>0,(VLOOKUP($B175,'Engag Pou'!$A$10:$G$109,6,FALSE)),\" \")","v":" "},null,null," ",{"$f":"IF(COUNTIF($G$10:$G175,G175)<2,$G175,\" \")","v":" "},64,{"$f":"IF(COUNTIF($G$10:$G175,I175)<3,$G175,\" \")","v":" "},64,"",1000]
[65,null,{"$f":"IF(A176>0,(VLOOKUP($A74,'Engag Pre'!$A$10:$G$74,3,FALSE)),\" \")","v":{"$error":"#N/A"}},{"$f":"IF(B176>0,(VLOOKUP($B176,'Engag Pou'!$A$10:$G$109,7,FALSE)),\" \")","v":" "},{"$f":"IF(B176>0,(VLOOKUP($B176,'Engag Pou'!$A$10:$G$109,3,FALSE)),\" \")","v":" "},{"$f":"IF(B176>0,(VLOOKUP($B176,'Engag Pou'!$A$10:$G$109,4,FALSE)),\" \")","v":" "},{"$f":"IF(B176>0,(VLOOKUP($B176,'Engag Pou'!$A$10:$G$109,5,FALSE)),\" \")","v":" "},{"$f":"IF(B176>0,(VLOOKUP($B176,'Engag Pou'!$A$10:$G$109,6,FALSE)),\" \")","v":" "},null,null," ",{"$f":"IF(COUNTIF($G$10:$G176,G176)<2,$G176,\" \")","v":" "},65,{"$f":"IF(COUNTIF($G$10:$G176,I176)<3,$G176,\" \")","v":" "},65,"",1000]
[66,null,{"$f":"IF(A177>0,(VLOOKUP($A75,'Engag Pre'!$A$10:$G$74,3,FALSE)),\" \")","v":{"$error":"#N/A"}},{"$f":"IF(B177>0,(VLOOKUP($B177,'Engag Pou'!$A$10:$G$109,7,FALSE)),\" \")","v":" "},{"$f":"IF(B177>0,(VLOOKUP($B177,'Engag Pou'!$A$10:$G$109,3,FALSE)),\" \")","v":" "},{"$f":"IF(B177>0,(VLOOKUP($B177,'Engag Pou'!$A$10:$G$109,4,FALSE)),\" \")","v":" "},{"$f":"IF(B177>0,(VLOOKUP($B177,'Engag Pou'!$A$10:$G$109,5,FALSE)),\" \")","v":" "},{"$f":"IF(B177>0,(VLOOKUP($B177,'Engag Pou'!$A$10:$G$109,6,FALSE)),\" \")","v":" "},null,null,{"$f":"IF(COUNTIF($B$10:$B$109,B177)>1,\"Déjà classé\",\" \")","v":" "},{"$f":"IF(COUNTIF($G$10:$G177,G177)<2,$G177,\" \")","v":" "},{"$f":"IF($G$6<5,1000,(IF(L177=G177,A177,\"\")))","v":66},{"$f":"IF(COUNTIF($G$10:$G177,I177)<3,$G177,\" \")","v":" "},{"$f":"IF(N177=$G177,$A177,\"\")","v":66},{"$f":"IF(N177=L177,\"\",N177)","v":""},{"$f":"IF($G$6<5,1000,(IF(P177=$G177,$A177,1000)))","v":1000}]
[67,null,{"$f":"IF(A178>0,(VLOOKUP($A76,'Engag Pre'!$A$10:$G$74,3,FALSE)),\" \")","v":{"$error":"#N/A"}},{"$f":"IF(B178>0,(VLOOKUP($B178,'Engag Pou'!$A$10:$G$109,7,FALSE)),\" \")","v":" "},{"$f":"IF(B178>0,(VLOOKUP($B178,'Engag Pou'!$A$10:$G$109,3,FALSE)),\" \")","v":" "},{"$f":"IF(B178>0,(VLOOKUP($B178,'Engag Pou'!$A$10:$G$109,4,FALSE)),\" \")","v":" "},{"$f":"IF(B178>0,(VLOOKUP($B178,'Engag Pou'!$A$10:$G$109,5,FALSE)),\" \")","v":" "},{"$f":"IF(B178>0,(VLOOKUP($B178,'Engag Pou'!$A$10:$G$109,6,FALSE)),\" \")","v":" "},null,null," ",{"$f":"IF(COUNTIF($G$10:$G178,G178)<2,$G178,\" \")","v":" "},67,{"$f":"IF(COUNTIF($G$10:$G178,I178)<3,$G178,\" \")","v":" "},67,"",1000]
[68,null,{"$f":"IF(A179>0,(VLOOKUP($A77,'Engag Pre'!$A$10:$G$74,3,FALSE)),\" \")","v":{"$error":"#N/A"}},{"$f":"IF(B179>0,(VLOOKUP($B179,'Engag Pou'!$A$10:$G$109,7,FALSE)),\" \")","v":" "},{"$f":"IF(B179>0,(VLOOKUP($B179,'Engag Pou'!$A$10:$G$109,3,FALSE)),\" \")","v":" "},{"$f":"IF(B179>0,(VLOOKUP($B179,'Engag Pou'!$A$10:$G$109,4,FALSE)),\" \")","v":" "},{"$f":"IF(B179>0,(VLOOKUP($B179,'Engag Pou'!$A$10:$G$109,5,FALSE)),\" \")","v":" "},{"$f":"IF(B179>0,(VLOOKUP($B179,'Engag Pou'!$A$10:$G$109,6,FALSE)),\" \")","v":" "},null,null," ",{"$f":"IF(COUNTIF($G$10:$G179,G179)<2,$G179,\" \")","v":" "},68,{"$f":"IF(COUNTIF($G$10:$G179,I179)<3,$G179,\" \")","v":" "},68,"",1000]
[69,null,{"$f":"IF(A180>0,(VLOOKUP($A78,'Engag Pre'!$A$10:$G$74,3,FALSE)),\" \")","v":{"$error":"#N/A"}},{"$f":"IF(B180>0,(VLOOKUP($B180,'Engag Pou'!$A$10:$G$109,7,FALSE)),\" \")","v":" "},{"$f":"IF(B180>0,(VLOOKUP($B180,'Engag Pou'!$A$10:$G$109,3,FALSE)),\" \")","v":" "},{"$f":"IF(B180>0,(VLOOKUP($B180,'Engag Pou'!$A$10:$G$109,4,FALSE)),\" \")","v":" "},{"$f":"IF(B180>0,(VLOOKUP($B180,'Engag Pou'!$A$10:$G$109,5,FALSE)),\" \")","v":" "},{"$f":"IF(B180>0,(VLOOKUP($B180,'Engag Pou'!$A$10:$G$109,6,FALSE)),\" \")","v":" "},null,null," ",{"$f":"IF(COUNTIF($G$10:$G180,G180)<2,$G180,\" \")","v":" "},69,{"$f":"IF(COUNTIF($G$10:$G180,I180)<3,$G180,\" \")","v":" "},69,"",1000]
[70,null,{"$f":"IF(A181>0,(VLOOKUP($A79,'Engag Pre'!$A$10:$G$74,3,FALSE)),\" \")","v":{"$error":"#N/A"}},{"$f":"IF(B181>0,(VLOOKUP($B181,'Engag Pou'!$A$10:$G$109,7,FALSE)),\" \")","v":" "},{"$f":"IF(B181>0,(VLOOKUP($B181,'Engag Pou'!$A$10:$G$109,3,FALSE)),\" \")","v":" "},{"$f":"IF(B181>0,(VLOOKUP($B181,'Engag Pou'!$A$10:$G$109,4,FALSE)),\" \")","v":" "},{"$f":"IF(B181>0,(VLOOKUP($B181,'Engag Pou'!$A$10:$G$109,5,FALSE)),\" \")","v":" "},{"$f":"IF(B181>0,(VLOOKUP($B181,'Engag Pou'!$A$10:$G$109,6,FALSE)),\" \")","v":" "},null,null," ",{"$f":"IF(COUNTIF($G$10:$G181,G181)<2,$G181,\" \")","v":" "},70,{"$f":"IF(COUNTIF($G$10:$G181,I181)<3,$G181,\" \")","v":" "},70,"",1000]
[71,null,{"$f":"IF(A182>0,(VLOOKUP($A80,'Engag Pre'!$A$10:$G$74,3,FALSE)),\" \")","v":{"$error":"#N/A"}},{"$f":"IF(B182>0,(VLOOKUP($B182,'Engag Pou'!$A$10:$G$109,7,FALSE)),\" \")","v":" "},{"$f":"IF(B182>0,(VLOOKUP($B182,'Engag Pou'!$A$10:$G$109,3,FALSE)),\" \")","v":" "},{"$f":"IF(B182>0,(VLOOKUP($B182,'Engag Pou'!$A$10:$G$109,4,FALSE)),\" \")","v":" "},{"$f":"IF(B182>0,(VLOOKUP($B182,'Engag Pou'!$A$10:$G$109,5,FALSE)),\" \")","v":" "},{"$f":"IF(B182>0,(VLOOKUP($B182,'Engag Pou'!$A$10:$G$109,6,FALSE)),\" \")","v":" "},null,null," ",{"$f":"IF(COUNTIF($G$10:$G182,G182)<2,$G182,\" \")","v":" "},71,{"$f":"IF(COUNTIF($G$10:$G182,I182)<3,$G182,\" \")","v":" "},71,"",1000]
[72,null,{"$f":"IF(A183>0,(VLOOKUP($A81,'Engag Pre'!$A$10:$G$74,3,FALSE)),\" \")","v":{"$error":"#N/A"}},{"$f":"IF(B183>0,(VLOOKUP($B183,'Engag Pou'!$A$10:$G$109,7,FALSE)),\" \")","v":" "},{"$f":"IF(B183>0,(VLOOKUP($B183,'Engag Pou'!$A$10:$G$109,3,FALSE)),\" \")","v":" "},{"$f":"IF(B183>0,(VLOOKUP($B183,'Engag Pou'!$A$10:$G$109,4,FALSE)),\" \")","v":" "},{"$f":"IF(B183>0,(VLOOKUP($B183,'Engag Pou'!$A$10:$G$109,5,FALSE)),\" \")","v":" "},{"$f":"IF(B183>0,(VLOOKUP($B183,'Engag Pou'!$A$10:$G$109,6,FALSE)),\" \")","v":" "},null,null," ",{"$f":"IF(COUNTIF($G$10:$G183,G183)<2,$G183,\" \")","v":" "},72,{"$f":"IF(COUNTIF($G$10:$G183,I183)<3,$G183,\" \")","v":" "},72,"",1000]
[73,null,{"$f":"IF(A184>0,(VLOOKUP($A82,'Engag Pre'!$A$10:$G$74,3,FALSE)),\" \")","v":{"$error":"#N/A"}},{"$f":"IF(B184>0,(VLOOKUP($B184,'Engag Pou'!$A$10:$G$109,7,FALSE)),\" \")","v":" "},{"$f":"IF(B184>0,(VLOOKUP($B184,'Engag Pou'!$A$10:$G$109,3,FALSE)),\" \")","v":" "},{"$f":"IF(B184>0,(VLOOKUP($B184,'Engag Pou'!$A$10:$G$109,4,FALSE)),\" \")","v":" "},{"$f":"IF(B184>0,(VLOOKUP($B184,'Engag Pou'!$A$10:$G$109,5,FALSE)),\" \")","v":" "},{"$f":"IF(B184>0,(VLOOKUP($B184,'Engag Pou'!$A$10:$G$109,6,FALSE)),\" \")","v":" "},null,null," ",{"$f":"IF(COUNTIF($G$10:$G184,G184)<2,$G184,\" \")","v":" "},73,{"$f":"IF(COUNTIF($G$10:$G184,I184)<3,$G184,\" \")","v":" "},73,"",1000]
[74,null,{"$f":"IF(A185>0,(VLOOKUP($A83,'Engag Pre'!$A$10:$G$74,3,FALSE)),\" \")","v":{"$error":"#N/A"}},{"$f":"IF(B185>0,(VLOOKUP($B185,'Engag Pou'!$A$10:$G$109,7,FALSE)),\" \")","v":" "},{"$f":"IF(B185>0,(VLOOKUP($B185,'Engag Pou'!$A$10:$G$109,3,FALSE)),\" \")","v":" "},{"$f":"IF(B185>0,(VLOOKUP($B185,'Engag Pou'!$A$10:$G$109,4,FALSE)),\" \")","v":" "},{"$f":"IF(B185>0,(VLOOKUP($B185,'Engag Pou'!$A$10:$G$109,5,FALSE)),\" \")","v":" "},{"$f":"IF(B185>0,(VLOOKUP($B185,'Engag Pou'!$A$10:$G$109,6,FALSE)),\" \")","v":" "},null,null," ",{"$f":"IF(COUNTIF($G$10:$G185,G185)<2,$G185,\" \")","v":" "},74,{"$f":"IF(COUNTIF($G$10:$G185,I185)<3,$G185,\" \")","v":" "},74,"",1000]
[75,null,{"$f":"IF(A186>0,(VLOOKUP($A84,'Engag Pre'!$A$10:$G$74,3,FALSE)),\" \")","v":{"$error":"#N/A"}},{"$f":"IF(B186>0,(VLOOKUP($B186,'Engag Pou'!$A$10:$G$109,7,FALSE)),\" \")","v":" "},{"$f":"IF(B186>0,(VLOOKUP($B186,'Engag Pou'!$A$10:$G$109,3,FALSE)),\" \")","v":" "},{"$f":"IF(B186>0,(VLOOKUP($B186,'Engag Pou'!$A$10:$G$109,4,FALSE)),\" \")","v":" "},{"$f":"IF(B186>0,(VLOOKUP($B186,'Engag Pou'!$A$10:$G$109,5,FALSE)),\" \")","v":" "},{"$f":"IF(B186>0,(VLOOKUP($B186,'Engag Pou'!$A$10:$G$109,6,FALSE)),\" \")","v":" "},null,null," ",{"$f":"IF(COUNTIF($G$10:$G186,G186)<2,$G186,\" \")","v":" "},75,{"$f":"IF(COUNTIF($G$10:$G186,I186)<3,$G186,\" \")","v":" "},75,"",1000]
[76,null,{"$f":"IF(A187>0,(VLOOKUP($A85,'Engag Pre'!$A$10:$G$74,3,FALSE)),\" \")","v":{"$error":"#N/A"}},{"$f":"IF(B187>0,(VLOOKUP($B187,'Engag Pou'!$A$10:$G$109,7,FALSE)),\" \")","v":" "},{"$f":"IF(B187>0,(VLOOKUP($B187,'Engag Pou'!$A$10:$G$109,3,FALSE)),\" \")","v":" "},{"$f":"IF(B187>0,(VLOOKUP($B187,'Engag Pou'!$A$10:$G$109,4,FALSE)),\" \")","v":" "},{"$f":"IF(B187>0,(VLOOKUP($B187,'Engag Pou'!$A$10:$G$109,5,FALSE)),\" \")","v":" "},{"$f":"IF(B187>0,(VLOOKUP($B187,'Engag Pou'!$A$10:$G$109,6,FALSE)),\" \")","v":" "},null,null," ",{"$f":"IF(COUNTIF($G$10:$G187,G187)<2,$G187,\" \")","v":" "},76,{"$f":"IF(COUNTIF($G$10:$G187,I187)<3,$G187,\" \")","v":" "},76,"",1000]
[77,null,{"$f":"IF(A188>0,(VLOOKUP($A86,'Engag Pre'!$A$10:$G$74,3,FALSE)),\" \")","v":{"$error":"#N/A"}},{"$f":"IF(B188>0,(VLOOKUP($B188,'Engag Pou'!$A$10:$G$109,7,FALSE)),\" \")","v":" "},{"$f":"IF(B188>0,(VLOOKUP($B188,'Engag Pou'!$A$10:$G$109,3,FALSE)),\" \")","v":" "},{"$f":"IF(B188>0,(VLOOKUP($B188,'Engag Pou'!$A$10:$G$109,4,FALSE)),\" \")","v":" "},{"$f":"IF(B188>0,(VLOOKUP($B188,'Engag Pou'!$A$10:$G$109,5,FALSE)),\" \")","v":" "},{"$f":"IF(B188>0,(VLOOKUP($B188,'Engag Pou'!$A$10:$G$109,6,FALSE)),\" \")","v":" "},null,null," ",{"$f":"IF(COUNTIF($G$10:$G188,G188)<2,$G188,\" \")","v":" "},77,{"$f":"IF(COUNTIF($G$10:$G188,I188)<3,$G188,\" \")","v":" "},77,"",1000]
[78,null,{"$f":"IF(A189>0,(VLOOKUP($A87,'Engag Pre'!$A$10:$G$74,3,FALSE)),\" \")","v":{"$error":"#N/A"}},{"$f":"IF(B189>0,(VLOOKUP($B189,'Engag Pou'!$A$10:$G$109,7,FALSE)),\" \")","v":" "},{"$f":"IF(B189>0,(VLOOKUP($B189,'Engag Pou'!$A$10:$G$109,3,FALSE)),\" \")","v":" "},{"$f":"IF(B189>0,(VLOOKUP($B189,'Engag Pou'!$A$10:$G$109,4,FALSE)),\" \")","v":" "},{"$f":"IF(B189>0,(VLOOKUP($B189,'Engag Pou'!$A$10:$G$109,5,FALSE)),\" \")","v":" "},{"$f":"IF(B189>0,(VLOOKUP($B189,'Engag Pou'!$A$10:$G$109,6,FALSE)),\" \")","v":" "},null,null," ",{"$f":"IF(COUNTIF($G$10:$G189,G189)<2,$G189,\" \")","v":" "},78,{"$f":"IF(COUNTIF($G$10:$G189,I189)<3,$G189,\" \")","v":" "},78,"",1000]
[79,null,{"$f":"IF(A190>0,(VLOOKUP($A88,'Engag Pre'!$A$10:$G$74,3,FALSE)),\" \")","v":{"$error":"#N/A"}},{"$f":"IF(B190>0,(VLOOKUP($B190,'Engag Pou'!$A$10:$G$109,7,FALSE)),\" \")","v":" "},{"$f":"IF(B190>0,(VLOOKUP($B190,'Engag Pou'!$A$10:$G$109,3,FALSE)),\" \")","v":" "},{"$f":"IF(B190>0,(VLOOKUP($B190,'Engag Pou'!$A$10:$G$109,4,FALSE)),\" \")","v":" "},{"$f":"IF(B190>0,(VLOOKUP($B190,'Engag Pou'!$A$10:$G$109,5,FALSE)),\" \")","v":" "},{"$f":"IF(B190>0,(VLOOKUP($B190,'Engag Pou'!$A$10:$G$109,6,FALSE)),\" \")","v":" "},null,null," ",{"$f":"IF(COUNTIF($G$10:$G190,G190)<2,$G190,\" \")","v":" "},79,{"$f":"IF(COUNTIF($G$10:$G190,I190)<3,$G190,\" \")","v":" "},79,"",1000]
[80,null,{"$f":"IF(A191>0,(VLOOKUP($A89,'Engag Pre'!$A$10:$G$74,3,FALSE)),\" \")","v":{"$error":"#N/A"}},{"$f":"IF(B191>0,(VLOOKUP($B191,'Engag Pou'!$A$10:$G$109,7,FALSE)),\" \")","v":" "},{"$f":"IF(B191>0,(VLOOKUP($B191,'Engag Pou'!$A$10:$G$109,3,FALSE)),\" \")","v":" "},{"$f":"IF(B191>0,(VLOOKUP($B191,'Engag Pou'!$A$10:$G$109,4,FALSE)),\" \")","v":" "},{"$f":"IF(B191>0,(VLOOKUP($B191,'Engag Pou'!$A$10:$G$109,5,FALSE)),\" \")","v":" "},{"$f":"IF(B191>0,(VLOOKUP($B191,'Engag Pou'!$A$10:$G$109,6,FALSE)),\" \")","v":" "},null,null," ",{"$f":"IF(COUNTIF($G$10:$G191,G191)<2,$G191,\" \")","v":" "},80,{"$f":"IF(COUNTIF($G$10:$G191,I191)<3,$G191,\" \")","v":" "},80,"",1000]
[81,null,{"$f":"IF(A192>0,(VLOOKUP($A90,'Engag Pre'!$A$10:$G$74,3,FALSE)),\" \")","v":{"$error":"#N/A"}},{"$f":"IF(B192>0,(VLOOKUP($B192,'Engag Pou'!$A$10:$G$109,7,FALSE)),\" \")","v":" "},{"$f":"IF(B192>0,(VLOOKUP($B192,'Engag Pou'!$A$10:$G$109,3,FALSE)),\" \")","v":" "},{"$f":"IF(B192>0,(VLOOKUP($B192,'Engag Pou'!$A$10:$G$109,4,FALSE)),\" \")","v":" "},{"$f":"IF(B192>0,(VLOOKUP($B192,'Engag Pou'!$A$10:$G$109,5,FALSE)),\" \")","v":" "},{"$f":"IF(B192>0,(VLOOKUP($B192,'Engag Pou'!$A$10:$G$109,6,FALSE)),\" \")","v":" "},null,null," ",{"$f":"IF(COUNTIF($G$10:$G192,G192)<2,$G192,\" \")","v":" "},81,{"$f":"IF(COUNTIF($G$10:$G192,I192)<3,$G192,\" \")","v":" "},81,"",1000]
[82,null,{"$f":"IF(A193>0,(VLOOKUP($A91,'Engag Pre'!$A$10:$G$74,3,FALSE)),\" \")","v":{"$error":"#N/A"}},{"$f":"IF(B193>0,(VLOOKUP($B193,'Engag Pou'!$A$10:$G$109,7,FALSE)),\" \")","v":" "},{"$f":"IF(B193>0,(VLOOKUP($B193,'Engag Pou'!$A$10:$G$109,3,FALSE)),\" \")","v":" "},{"$f":"IF(B193>0,(VLOOKUP($B193,'Engag Pou'!$A$10:$G$109,4,FALSE)),\" \")","v":" "},{"$f":"IF(B193>0,(VLOOKUP($B193,'Engag Pou'!$A$10:$G$109,5,FALSE)),\" \")","v":" "},{"$f":"IF(B193>0,(VLOOKUP($B193,'Engag Pou'!$A$10:$G$109,6,FALSE)),\" \")","v":" "},null,null," ",{"$f":"IF(COUNTIF($G$10:$G193,G193)<2,$G193,\" \")","v":" "},82,{"$f":"IF(COUNTIF($G$10:$G193,I193)<3,$G193,\" \")","v":" "},82,"",1000]
[83,null,{"$f":"IF(A194>0,(VLOOKUP($A92,'Engag Pre'!$A$10:$G$74,3,FALSE)),\" \")","v":{"$error":"#N/A"}},{"$f":"IF(B194>0,(VLOOKUP($B194,'Engag Pou'!$A$10:$G$109,7,FALSE)),\" \")","v":" "},{"$f":"IF(B194>0,(VLOOKUP($B194,'Engag Pou'!$A$10:$G$109,3,FALSE)),\" \")","v":" "},{"$f":"IF(B194>0,(VLOOKUP($B194,'Engag Pou'!$A$10:$G$109,4,FALSE)),\" \")","v":" "},{"$f":"IF(B194>0,(VLOOKUP($B194,'Engag Pou'!$A$10:$G$109,5,FALSE)),\" \")","v":" "},{"$f":"IF(B194>0,(VLOOKUP($B194,'Engag Pou'!$A$10:$G$109,6,FALSE)),\" \")","v":" "},null,null," ",{"$f":"IF(COUNTIF($G$10:$G194,G194)<2,$G194,\" \")","v":" "},83,{"$f":"IF(COUNTIF($G$10:$G194,I194)<3,$G194,\" \")","v":" "},83,"",1000]
[84,null,{"$f":"IF(A195>0,(VLOOKUP($A93,'Engag Pre'!$A$10:$G$74,3,FALSE)),\" \")","v":{"$error":"#N/A"}},{"$f":"IF(B195>0,(VLOOKUP($B195,'Engag Pou'!$A$10:$G$109,7,FALSE)),\" \")","v":" "},{"$f":"IF(B195>0,(VLOOKUP($B195,'Engag Pou'!$A$10:$G$109,3,FALSE)),\" \")","v":" "},{"$f":"IF(B195>0,(VLOOKUP($B195,'Engag Pou'!$A$10:$G$109,4,FALSE)),\" \")","v":" "},{"$f":"IF(B195>0,(VLOOKUP($B195,'Engag Pou'!$A$10:$G$109,5,FALSE)),\" \")","v":" "},{"$f":"IF(B195>0,(VLOOKUP($B195,'Engag Pou'!$A$10:$G$109,6,FALSE)),\" \")","v":" "},null,null," ",{"$f":"IF(COUNTIF($G$10:$G195,G195)<2,$G195,\" \")","v":" "},84,{"$f":"IF(COUNTIF($G$10:$G195,I195)<3,$G195,\" \")","v":" "},84,"",1000]
[85,null,{"$f":"IF(A196>0,(VLOOKUP($A94,'Engag Pre'!$A$10:$G$74,3,FALSE)),\" \")","v":{"$error":"#N/A"}},{"$f":"IF(B196>0,(VLOOKUP($B196,'Engag Pou'!$A$10:$G$109,7,FALSE)),\" \")","v":" "},{"$f":"IF(B196>0,(VLOOKUP($B196,'Engag Pou'!$A$10:$G$109,3,FALSE)),\" \")","v":" "},{"$f":"IF(B196>0,(VLOOKUP($B196,'Engag Pou'!$A$10:$G$109,4,FALSE)),\" \")","v":" "},{"$f":"IF(B196>0,(VLOOKUP($B196,'Engag Pou'!$A$10:$G$109,5,FALSE)),\" \")","v":" "},{"$f":"IF(B196>0,(VLOOKUP($B196,'Engag Pou'!$A$10:$G$109,6,FALSE)),\" \")","v":" "},null,null," ",{"$f":"IF(COUNTIF($G$10:$G196,G196)<2,$G196,\" \")","v":" "},85,{"$f":"IF(COUNTIF($G$10:$G196,I196)<3,$G196,\" \")","v":" "},85,"",1000]
[86,null,{"$f":"IF(A197>0,(VLOOKUP($A95,'Engag Pre'!$A$10:$G$74,3,FALSE)),\" \")","v":{"$error":"#N/A"}},{"$f":"IF(B197>0,(VLOOKUP($B197,'Engag Pou'!$A$10:$G$109,7,FALSE)),\" \")","v":" "},{"$f":"IF(B197>0,(VLOOKUP($B197,'Engag Pou'!$A$10:$G$109,3,FALSE)),\" \")","v":" "},{"$f":"IF(B197>0,(VLOOKUP($B197,'Engag Pou'!$A$10:$G$109,4,FALSE)),\" \")","v":" "},{"$f":"IF(B197>0,(VLOOKUP($B197,'Engag Pou'!$A$10:$G$109,5,FALSE)),\" \")","v":" "},{"$f":"IF(B197>0,(VLOOKUP($B197,'Engag Pou'!$A$10:$G$109,6,FALSE)),\" \")","v":" "},null,null," ",{"$f":"IF(COUNTIF($G$10:$G197,G197)<2,$G197,\" \")","v":" "},86,{"$f":"IF(COUNTIF($G$10:$G197,I197)<3,$G197,\" \")","v":" "},86,"",1000]
[87,null,{"$f":"IF(A198>0,(VLOOKUP($A96,'Engag Pre'!$A$10:$G$74,3,FALSE)),\" \")","v":{"$error":"#N/A"}},{"$f":"IF(B198>0,(VLOOKUP($B198,'Engag Pou'!$A$10:$G$109,7,FALSE)),\" \")","v":" "},{"$f":"IF(B198>0,(VLOOKUP($B198,'Engag Pou'!$A$10:$G$109,3,FALSE)),\" \")","v":" "},{"$f":"IF(B198>0,(VLOOKUP($B198,'Engag Pou'!$A$10:$G$109,4,FALSE)),\" \")","v":" "},{"$f":"IF(B198>0,(VLOOKUP($B198,'Engag Pou'!$A$10:$G$109,5,FALSE)),\" \")","v":" "},{"$f":"IF(B198>0,(VLOOKUP($B198,'Engag Pou'!$A$10:$G$109,6,FALSE)),\" \")","v":" "},null,null," ",{"$f":"IF(COUNTIF($G$10:$G198,G198)<2,$G198,\" \")","v":" "},87,{"$f":"IF(COUNTIF($G$10:$G198,I198)<3,$G198,\" \")","v":" "},87,"",1000]
[88,null,{"$f":"IF(A199>0,(VLOOKUP($A97,'Engag Pre'!$A$10:$G$74,3,FALSE)),\" \")","v":{"$error":"#N/A"}},{"$f":"IF(B199>0,(VLOOKUP($B199,'Engag Pou'!$A$10:$G$109,7,FALSE)),\" \")","v":" "},{"$f":"IF(B199>0,(VLOOKUP($B199,'Engag Pou'!$A$10:$G$109,3,FALSE)),\" \")","v":" "},{"$f":"IF(B199>0,(VLOOKUP($B199,'Engag Pou'!$A$10:$G$109,4,FALSE)),\" \")","v":" "},{"$f":"IF(B199>0,(VLOOKUP($B199,'Engag Pou'!$A$10:$G$109,5,FALSE)),\" \")","v":" "},{"$f":"IF(B199>0,(VLOOKUP($B199,'Engag Pou'!$A$10:$G$109,6,FALSE)),\" \")","v":" "},null,null," ",{"$f":"IF(COUNTIF($G$10:$G199,G199)<2,$G199,\" \")","v":" "},88,{"$f":"IF(COUNTIF($G$10:$G199,I199)<3,$G199,\" \")","v":" "},88,"",1000]
[89,null,{"$f":"IF(A200>0,(VLOOKUP($A98,'Engag Pre'!$A$10:$G$74,3,FALSE)),\" \")","v":{"$error":"#N/A"}},{"$f":"IF(B200>0,(VLOOKUP($B200,'Engag Pou'!$A$10:$G$109,7,FALSE)),\" \")","v":" "},{"$f":"IF(B200>0,(VLOOKUP($B200,'Engag Pou'!$A$10:$G$109,3,FALSE)),\" \")","v":" "},{"$f":"IF(B200>0,(VLOOKUP($B200,'Engag Pou'!$A$10:$G$109,4,FALSE)),\" \")","v":" "},{"$f":"IF(B200>0,(VLOOKUP($B200,'Engag Pou'!$A$10:$G$109,5,FALSE)),\" \")","v":" "},{"$f":"IF(B200>0,(VLOOKUP($B200,'Engag Pou'!$A$10:$G$109,6,FALSE)),\" \")","v":" "},null,null," ",{"$f":"IF(COUNTIF($G$10:$G200,G200)<2,$G200,\" \")","v":" "},89,{"$f":"IF(COUNTIF($G$10:$G200,I200)<3,$G200,\" \")","v":" "},89,"",1000]
[90,null,{"$f":"IF(A201>0,(VLOOKUP($A99,'Engag Pre'!$A$10:$G$74,3,FALSE)),\" \")","v":{"$error":"#N/A"}},{"$f":"IF(B201>0,(VLOOKUP($B201,'Engag Pou'!$A$10:$G$109,7,FALSE)),\" \")","v":" "},{"$f":"IF(B201>0,(VLOOKUP($B201,'Engag Pou'!$A$10:$G$109,3,FALSE)),\" \")","v":" "},{"$f":"IF(B201>0,(VLOOKUP($B201,'Engag Pou'!$A$10:$G$109,4,FALSE)),\" \")","v":" "},{"$f":"IF(B201>0,(VLOOKUP($B201,'Engag Pou'!$A$10:$G$109,5,FALSE)),\" \")","v":" "},{"$f":"IF(B201>0,(VLOOKUP($B201,'Engag Pou'!$A$10:$G$109,6,FALSE)),\" \")","v":" "},null,null," ",{"$f":"IF(COUNTIF($G$10:$G201,G201)<2,$G201,\" \")","v":" "},90,{"$f":"IF(COUNTIF($G$10:$G201,I201)<3,$G201,\" \")","v":" "},90,"",1000]
[91,null,{"$f":"IF(A202>0,(VLOOKUP($A100,'Engag Pre'!$A$10:$G$74,3,FALSE)),\" \")","v":{"$error":"#N/A"}},{"$f":"IF(B202>0,(VLOOKUP($B202,'Engag Pou'!$A$10:$G$109,7,FALSE)),\" \")","v":" "},{"$f":"IF(B202>0,(VLOOKUP($B202,'Engag Pou'!$A$10:$G$109,3,FALSE)),\" \")","v":" "},{"$f":"IF(B202>0,(VLOOKUP($B202,'Engag Pou'!$A$10:$G$109,4,FALSE)),\" \")","v":" "},{"$f":"IF(B202>0,(VLOOKUP($B202,'Engag Pou'!$A$10:$G$109,5,FALSE)),\" \")","v":" "},{"$f":"IF(B202>0,(VLOOKUP($B202,'Engag Pou'!$A$10:$G$109,6,FALSE)),\" \")","v":" "},null,null," ",{"$f":"IF(COUNTIF($G$10:$G202,G202)<2,$G202,\" \")","v":" "},91,{"$f":"IF(COUNTIF($G$10:$G202,I202)<3,$G202,\" \")","v":" "},91,"",1000]
[92,null,{"$f":"IF(A203>0,(VLOOKUP($A101,'Engag Pre'!$A$10:$G$74,3,FALSE)),\" \")","v":{"$error":"#N/A"}},{"$f":"IF(B203>0,(VLOOKUP($B203,'Engag Pou'!$A$10:$G$109,7,FALSE)),\" \")","v":" "},{"$f":"IF(B203>0,(VLOOKUP($B203,'Engag Pou'!$A$10:$G$109,3,FALSE)),\" \")","v":" "},{"$f":"IF(B203>0,(VLOOKUP($B203,'Engag Pou'!$A$10:$G$109,4,FALSE)),\" \")","v":" "},{"$f":"IF(B203>0,(VLOOKUP($B203,'Engag Pou'!$A$10:$G$109,5,FALSE)),\" \")","v":" "},{"$f":"IF(B203>0,(VLOOKUP($B203,'Engag Pou'!$A$10:$G$109,6,FALSE)),\" \")","v":" "},null,null," ",{"$f":"IF(COUNTIF($G$10:$G203,G203)<2,$G203,\" \")","v":" "},92,{"$f":"IF(COUNTIF($G$10:$G203,I203)<3,$G203,\" \")","v":" "},92,"",1000]
[93,null,{"$f":"IF(A204>0,(VLOOKUP($A102,'Engag Pre'!$A$10:$G$74,3,FALSE)),\" \")","v":{"$error":"#N/A"}},{"$f":"IF(B204>0,(VLOOKUP($B204,'Engag Pou'!$A$10:$G$109,7,FALSE)),\" \")","v":" "},{"$f":"IF(B204>0,(VLOOKUP($B204,'Engag Pou'!$A$10:$G$109,3,FALSE)),\" \")","v":" "},{"$f":"IF(B204>0,(VLOOKUP($B204,'Engag Pou'!$A$10:$G$109,4,FALSE)),\" \")","v":" "},{"$f":"IF(B204>0,(VLOOKUP($B204,'Engag Pou'!$A$10:$G$109,5,FALSE)),\" \")","v":" "},{"$f":"IF(B204>0,(VLOOKUP($B204,'Engag Pou'!$A$10:$G$109,6,FALSE)),\" \")","v":" "},null,null," ",{"$f":"IF(COUNTIF($G$10:$G204,G204)<2,$G204,\" \")","v":" "},93,{"$f":"IF(COUNTIF($G$10:$G204,I204)<3,$G204,\" \")","v":" "},93,"",1000]
[94,null,{"$f":"IF(A205>0,(VLOOKUP($A103,'Engag Pre'!$A$10:$G$74,3,FALSE)),\" \")","v":{"$error":"#N/A"}},{"$f":"IF(B205>0,(VLOOKUP($B205,'Engag Pou'!$A$10:$G$109,7,FALSE)),\" \")","v":" "},{"$f":"IF(B205>0,(VLOOKUP($B205,'Engag Pou'!$A$10:$G$109,3,FALSE)),\" \")","v":" "},{"$f":"IF(B205>0,(VLOOKUP($B205,'Engag Pou'!$A$10:$G$109,4,FALSE)),\" \")","v":" "},{"$f":"IF(B205>0,(VLOOKUP($B205,'Engag Pou'!$A$10:$G$109,5,FALSE)),\" \")","v":" "},{"$f":"IF(B205>0,(VLOOKUP($B205,'Engag Pou'!$A$10:$G$109,6,FALSE)),\" \")","v":" "},null,null," ",{"$f":"IF(COUNTIF($G$10:$G205,G205)<2,$G205,\" \")","v":" "},94,{"$f":"IF(COUNTIF($G$10:$G205,I205)<3,$G205,\" \")","v":" "},94,"",1000]
[95,null,{"$f":"IF(A206>0,(VLOOKUP($A104,'Engag Pre'!$A$10:$G$74,3,FALSE)),\" \")","v":{"$error":"#N/A"}},{"$f":"IF(B206>0,(VLOOKUP($B206,'Engag Pou'!$A$10:$G$109,7,FALSE)),\" \")","v":" "},{"$f":"IF(B206>0,(VLOOKUP($B206,'Engag Pou'!$A$10:$G$109,3,FALSE)),\" \")","v":" "},{"$f":"IF(B206>0,(VLOOKUP($B206,'Engag Pou'!$A$10:$G$109,4,FALSE)),\" \")","v":" "},{"$f":"IF(B206>0,(VLOOKUP($B206,'Engag Pou'!$A$10:$G$109,5,FALSE)),\" \")","v":" "},{"$f":"IF(B206>0,(VLOOKUP($B206,'Engag Pou'!$A$10:$G$109,6,FALSE)),\" \")","v":" "},null,null," ",{"$f":"IF(COUNTIF($G$10:$G206,G206)<2,$G206,\" \")","v":" "},95,{"$f":"IF(COUNTIF($G$10:$G206,I206)<3,$G206,\" \")","v":" "},95,"",1000]
[96,null,{"$f":"IF(A207>0,(VLOOKUP($A105,'Engag Pre'!$A$10:$G$74,3,FALSE)),\" \")","v":{"$error":"#N/A"}},{"$f":"IF(B207>0,(VLOOKUP($B207,'Engag Pou'!$A$10:$G$109,7,FALSE)),\" \")","v":" "},{"$f":"IF(B207>0,(VLOOKUP($B207,'Engag Pou'!$A$10:$G$109,3,FALSE)),\" \")","v":" "},{"$f":"IF(B207>0,(VLOOKUP($B207,'Engag Pou'!$A$10:$G$109,4,FALSE)),\" \")","v":" "},{"$f":"IF(B207>0,(VLOOKUP($B207,'Engag Pou'!$A$10:$G$109,5,FALSE)),\" \")","v":" "},{"$f":"IF(B207>0,(VLOOKUP($B207,'Engag Pou'!$A$10:$G$109,6,FALSE)),\" \")","v":" "},null,null," ",{"$f":"IF(COUNTIF($G$10:$G207,G207)<2,$G207,\" \")","v":" "},96,{"$f":"IF(COUNTIF($G$10:$G207,I207)<3,$G207,\" \")","v":" "},96,"",1000]
[97,null,{"$f":"IF(A208>0,(VLOOKUP($A106,'Engag Pre'!$A$10:$G$74,3,FALSE)),\" \")","v":{"$error":"#N/A"}},{"$f":"IF(B208>0,(VLOOKUP($B208,'Engag Pou'!$A$10:$G$109,7,FALSE)),\" \")","v":" "},{"$f":"IF(B208>0,(VLOOKUP($B208,'Engag Pou'!$A$10:$G$109,3,FALSE)),\" \")","v":" "},{"$f":"IF(B208>0,(VLOOKUP($B208,'Engag Pou'!$A$10:$G$109,4,FALSE)),\" \")","v":" "},{"$f":"IF(B208>0,(VLOOKUP($B208,'Engag Pou'!$A$10:$G$109,5,FALSE)),\" \")","v":" "},{"$f":"IF(B208>0,(VLOOKUP($B208,'Engag Pou'!$A$10:$G$109,6,FALSE)),\" \")","v":" "},null,null," ",{"$f":"IF(COUNTIF($G$10:$G208,G208)<2,$G208,\" \")","v":" "},97,{"$f":"IF(COUNTIF($G$10:$G208,I208)<3,$G208,\" \")","v":" "},97,"",1000]
[98,null,{"$f":"IF(A209>0,(VLOOKUP($A107,'Engag Pre'!$A$10:$G$74,3,FALSE)),\" \")","v":{"$error":"#N/A"}},{"$f":"IF(B209>0,(VLOOKUP($B209,'Engag Pou'!$A$10:$G$109,7,FALSE)),\" \")","v":" "},{"$f":"IF(B209>0,(VLOOKUP($B209,'Engag Pou'!$A$10:$G$109,3,FALSE)),\" \")","v":" "},{"$f":"IF(B209>0,(VLOOKUP($B209,'Engag Pou'!$A$10:$G$109,4,FALSE)),\" \")","v":" "},{"$f":"IF(B209>0,(VLOOKUP($B209,'Engag Pou'!$A$10:$G$109,5,FALSE)),\" \")","v":" "},{"$f":"IF(B209>0,(VLOOKUP($B209,'Engag Pou'!$A$10:$G$109,6,FALSE)),\" \")","v":" "},null,null," ",{"$f":"IF(COUNTIF($G$10:$G209,G209)<2,$G209,\" \")","v":" "},98,{"$f":"IF(COUNTIF($G$10:$G209,I209)<3,$G209,\" \")","v":" "},98,"",1000]
[99,null,{"$f":"IF(A210>0,(VLOOKUP($A108,'Engag Pre'!$A$10:$G$74,3,FALSE)),\" \")","v":{"$error":"#N/A"}},{"$f":"IF(B210>0,(VLOOKUP($B210,'Engag Pou'!$A$10:$G$109,7,FALSE)),\" \")","v":" "},{"$f":"IF(B210>0,(VLOOKUP($B210,'Engag Pou'!$A$10:$G$109,3,FALSE)),\" \")","v":" "},{"$f":"IF(B210>0,(VLOOKUP($B210,'Engag Pou'!$A$10:$G$109,4,FALSE)),\" \")","v":" "},{"$f":"IF(B210>0,(VLOOKUP($B210,'Engag Pou'!$A$10:$G$109,5,FALSE)),\" \")","v":" "},{"$f":"IF(B210>0,(VLOOKUP($B210,'Engag Pou'!$A$10:$G$109,6,FALSE)),\" \")","v":" "},null,null," ",{"$f":"IF(COUNTIF($G$10:$G210,G210)<2,$G210,\" \")","v":" "},99,{"$f":"IF(COUNTIF($G$10:$G210,I210)<3,$G210,\" \")","v":" "},99,"",1000]
[100,null,{"$f":"IF(A211>0,(VLOOKUP($A109,'Engag Pre'!$A$10:$G$74,3,FALSE)),\" \")","v":{"$error":"#N/A"}},{"$f":"IF(B211>0,(VLOOKUP($B211,'Engag Pou'!$A$10:$G$109,7,FALSE)),\" \")","v":" "},{"$f":"IF(B211>0,(VLOOKUP($B211,'Engag Pou'!$A$10:$G$109,3,FALSE)),\" \")","v":" "},{"$f":"IF(B211>0,(VLOOKUP($B211,'Engag Pou'!$A$10:$G$109,4,FALSE)),\" \")","v":" "},{"$f":"IF(B211>0,(VLOOKUP($B211,'Engag Pou'!$A$10:$G$109,5,FALSE)),\" \")","v":" "},{"$f":"IF(B211>0,(VLOOKUP($B211,'Engag Pou'!$A$10:$G$109,6,FALSE)),\" \")","v":" "},null,null," ",{"$f":"IF(COUNTIF($G$10:$G211,G211)<2,$G211,\" \")","v":" "},100,{"$f":"IF(COUNTIF($G$10:$G211,I211)<3,$G211,\" \")","v":" "},100,"",1000]

{"sheet":"Res Pup","index":9,"n_rows":211,"n_cols":17,"rows_kept":211,"merged":[[0,4,0,5],[0,7,0,8],[1,4,1,5],[2,4,2,7],[7,0,7,9],[109,0,109,9]]}
[{"$nulls":3},"Nom de l'épreuve :",{"$f":"'Etat de Résultat'!I20","v":0},null,"Catégories :",{"$f":"'Engag Pup'!D5","v":"Pupilles"}]
[{"$nulls":3},"Ville :",{"$f":"'Etat de Résultat'!E17","v":"AULNAY SOUS BOIS"},null,"Département :",{"$f":"'Etat de Résultat'!R17","v":93}]
[{"$nulls":3},"Organisateur (s) :",{"$f":"'Etat de Résultat'!I21","v":"EC AULNAY"}]
[{"$nulls":5},"N° /Catégorie Epreuve :"]
[{"$nulls":3},"Engagés :",{"$f":"'Engag Pup'!D6","v":55},"Partants :",{"$f":"'Engag Pup'!F6","v":43},"Classés :",{"$f":"SUM(I6:I7)","v":44}]
[{"$nulls":3},"Pupilles 1 :",{"$f":"'Engag Pup'!D7","v":26},"Pupilles 1 :",{"$f":"'Engag Pup'!F7","v":17},"Pupilles 1 :",{"$f":"COUNTA(B10:B109)","v":17}]
[{"$nulls":3},"Pupilles 2 :",{"$f":"'Engag Pup'!D8","v":29},"Pupilles 2 :",{"$f":"'Engag Pup'!F8","v":26},"Pupilles 2 :",{"$f":"COUNTA(B112:B211)","v":27}]
["CLASSEMENT PUPILLES 1"]
["Rang","Doss","Code UCI","Licence","Nom","Prénom","Club","Catégorie","Temps","Ecart"]
[1,14,{"$f":"IF(A10>0,(VLOOKUP($A10,'Engag Pre'!$A$10:$G$74,3,FALSE)),\" \")","v":{"$error":"#N/A"}},{"$f":"IF(B10>0,(VLOOKUP($B10,'Engag Pup'!$A$10:$G$109,7,FALSE)),\" \")","v":"1980080032"},{"$f":"IF(B10>0,(VLOOKUP($B10,'Engag Pup'!$A$10:$G$109,3,FALSE)),\" \")","v":"RIFFLET"},{"$f":"IF(B10>0,(VLOOKUP($B10,'Engag Pup'!$A$10:$G$109,4,FALSE)),\" \")","v":"Matis"},{"$f":"IF(B10>0,(VLOOKUP($B10,'Engag Pup'!$A$10:$G$109,5,FALSE)),\" \")","v":"AC AILLY SUR SOMME"},{"$f":"IF(B10>0,(VLOOKUP($B10,'Engag Pup'!$A$10:$G$109,6,FALSE)),\" \")","v":"Pupille 1"},null,null,{"$f":"IF(COUNTIF($B$10:$B$109,B10)>1,\"Déjà classé\",\" \")","v":" "},{"$f":"IF(COUNTIF($G$10:$G10,G10)<2,$G10,\" \")","v":"AC AILLY SUR SOMME"},{"$f":"IF($G$6<5,1000,(IF(L10=G10,A10,\"\")))","v":1},{"$f":"IF(COUNTIF($G$10:$G10,I10)<3,$G10,\" \")","v":"AC AILLY SUR SOMME"},{"$f":"IF(N10=$G10,$A10,\"\")","v":1},{"$f":"IF(N10=L10,\"\",N10)","v":""},{"$f":"IF($G$6<5,1000,(IF(P10=$G10,$A10,1000)))","v":1000}]
[2,2,{"$f":"IF(A11>0,(VLOOKUP($A11,'Engag Pre'!$A$10:$G$74,3,FALSE)),\" \")","v":{"$error":"#N/A"}},{"$f":"IF(B11>0,(VLOOKUP($B11,'Engag Pup'!$A$10:$G$109,7,FALSE)),\" \")","v":"1277104033"},{"$f":"IF(B11>0,(VLOOKUP($B11,'Engag Pup'!$A$10:$G$109,3,FALSE)),\" \")","v":"RIOU"},{"$f":"IF(B11>0,(VLOOKUP($B11,'Engag Pup'!$A$10:$G$109,4,FALSE)),\" \")","v":"Lucas"},{"$f":"IF(B11>0,(VLOOKUP($B11,'Engag Pup'!$A$10:$G$109,5,FALSE)),\" \")","v":"PEDALE COMBS LA VILLAISE"},{"$f":"IF(B11>0,(VLOOKUP($B11,'Engag Pup'!$A$10:$G$109,6,FALSE)),\" \")","v":"Pupille 1"},null,null,{"$f":"IF(COUNTIF($B$10:$B$109,B11)>1,\"Déjà classé\",\" \")","v":" "},{"$f":"IF(COUNTIF($G$10:$G11,G11)<2,$G11,\" \")","v":"PEDALE COMBS LA VILLAISE"},{"$f":"IF($G$6<5,1000,(IF(L11=G11,A11,\"\")))","v":2},{"$f":"IF(COUNTIF($G$10:$G11,I11)<3,$G11,\" \")","v":"PEDALE COMBS LA VILLAISE"},{"$f":"IF(N11=$G11,$A11,\"\")","v":2},{"$f":"IF(N11=L11,\"\",N11)","v":""},{"$f":"IF($G$6<5,1000,(IF(P11=$G11,$A11,1000)))","v":1000}]
[3,10,{"$f":"IF(A12>0,(VLOOKUP($A12,'Engag Pre'!$A$10:$G$74,3,FALSE)),\" \")","v":{"$error":"#N/A"}},{"$f":"IF(B12>0,(VLOOKUP($B12,'Engag Pup'!$A$10:$G$109,7,FALSE)),\" \")","v":"1293524090"},{"$f":"IF(B12>0,(VLOOKUP($B12,'Engag Pup'!$A$10:$G$109,3,FALSE)),\" \")","v":"LUBIN"},{"$f":"IF(B12>0,(VLOOKUP($B12,'Engag Pup'!$A$10:$G$109,4,FALSE)),\" \")","v":"Yllan"},{"$f":"IF(B12>0,(VLOOKUP($B12,'Engag Pup'!$A$10:$G$109,5,FALSE)),\" \")","v":"CS VILLETANEUSE"},{"$f":"IF(B12>0,(VLOOKUP($B12,'Engag Pup'!$A$10:$G$109,6,FALSE)),\" \")","v":"Pupille 1"},null,null," ",{"$f":"IF(COUNTIF($G$10:$G12,G12)<2,$G12,\" \")","v":"CS VILLETANEUSE"},3,{"$f":"IF(COUNTIF($G$10:$G12,I12)<3,$G12,\" \")","v":"CS VILLETANEUSE"},3,"",1000]
[4,11,{"$f":"IF(A13>0,(VLOOKUP($A13,'Engag Pre'!$A$10:$G$74,3,FALSE)),\" \")","v":{"$error":"#N/A"}},{"$f":"IF(B13>0,(VLOOKUP($B13,'Engag Pup'!$A$10:$G$109,7,FALSE)),\" \")","v":"1295708101"},{"$f":"IF(B13>0,(VLOOKUP($B13,'Engag Pup'!$A$10:$G$109,3,FALSE)),\" \")","v":"GOMOT"},{"$f":"IF(B13>0,(VLOOKUP($B13,'Engag Pup'!$A$10:$G$109,4,FALSE)),\" \")","v":"Ethan"},{"$f":"IF(B13>0,(VLOOKUP($B13,'Engag Pup'!$A$10:$G$109,5,FALSE)),\" \")","v":"ARGENTEUIL VAL DE SEINE 95"},{"$f":"IF(B13>0,(VLOOKUP($B13,'Engag Pup'!$A$10:$G$109,6,FALSE)),\" \")","v":"Pupille 1"},null,null," ",{"$f":"IF(COUNTIF($G$10:$G13,G13)<2,$G13,\" \")","v":"ARGENTEUIL VAL DE SEINE 95"},4,{"$f":"IF(COUNTIF($G$10:$G13,I13)<3,$G13,\" \")","v":"ARGENTEUIL VAL DE SEINE 95"},4,"",1000]
[5,13,{"$f":"IF(A14>0,(VLOOKUP($A14,'Engag Pre'!$A$10:$G$74,3,FALSE)),\" \")","v":{"$error":"#N/A"}},{"$f":"IF(B14>0,(VLOOKUP($B14,'Engag Pup'!$A$10:$G$109,7,FALSE)),\" \")","v":"1902069019"},{"$f":"IF(B14>0,(VLOOKUP($B14,'Engag Pup'!$A$10:$G$109,3,FALSE)),\" \")","v":"LAUDE"},{"$f":"IF(B14>0,(VLOOKUP($B14,'Engag Pup'!$A$10:$G$109,4,FALSE)),\" \")","v":"Nathan"},{"$f":"IF(B14>0,(VLOOKUP($B14,'Engag Pup'!$A$10:$G$109,5,FALSE)),\" \")","v":"EC VALLEE DE L'AISNE"},{"$f":"IF(B14>0,(VLOOKUP($B14,'Engag Pup'!$A$10:$G$109,6,FALSE)),\" \")","v":"Pupille 1"},null,null," ",{"$f":"IF(COUNTIF($G$10:$G14,G14)<2,$G14,\" \")","v":"EC VALLEE DE L'AISNE"},5,{"$f":"IF(COUNTIF($G$10:$G14,I14)<3,$G14,\" \")","v":"EC VALLEE DE L'AISNE"},5,"",1000]
[6,26,{"$f":"IF(A15>0,(VLOOKUP($A15,'Engag Pre'!$A$10:$G$74,3,FALSE)),\" \")","v":{"$error":"#N/A"}},{"$f":"IF(B15>0,(VLOOKUP($B15,'Engag Pup'!$A$10:$G$109,7,FALSE)),\" \")","v":"1293502030"},{"$f":"IF(B15>0,(VLOOKUP($B15,'Engag Pup'!$A$10:$G$109,3,FALSE)),\" \")","v":"TULIC"},{"$f":"IF(B15>0,(VLOOKUP($B15,'Engag Pup'!$A$10:$G$109,4,FALSE)),\" \")","v":"Lucas"},{"$f":"IF(B15>0,(VLOOKUP($B15,'Engag Pup'!$A$10:$G$109,5,FALSE)),\" \")","v":"CSM EPINAY SUR SEINE"},{"$f":"IF(B15>0,(VLOOKUP($B15,'Engag Pup'!$A$10:$G$109,6,FALSE)),\" \")","v":"Pupille 1"},null,null," ",{"$f":"IF(COUNTIF($G$10:$G15,G15)<2,$G15,\" \")","v":"CSM EPINAY SUR SEINE"},6,{"$f":"IF(COUNTIF($G$10:$G15,I15)<3,$G15,\" \")","v":"CSM EPINAY SUR SEINE"},6,"",1000]
[7,25,{"$f":"IF(A16>0,(VLOOKUP($A16,'Engag Pre'!$A$10:$G$74,3,FALSE)),\" \")","v":{"$error":"#N/A"}},{"$f":"IF(B16>0,(VLOOKUP($B16,'Engag Pup'!$A$10:$G$109,7,FALSE)),\" \")","v":"1293502007"},{"$f":"IF(B16>0,(VLOOKUP($B16,'Engag Pup'!$A$10:$G$109,3,FALSE)),\" \")","v":"TULIC"},{"$f":"IF(B16>0,(VLOOKUP($B16,'Engag Pup'!$A$10:$G$109,4,FALSE)),\" \")","v":"Antoine"},{"$f":"IF(B16>0,(VLOOKUP($B16,'Engag Pup'!$A$10:$G$109,5,FALSE)),\" \")","v":"CSM EPINAY SUR SEINE"},{"$f":"IF(B16>0,(VLOOKUP($B16,'Engag Pup'!$A$10:$G$109,6,FALSE)),\" \")","v":"Pupille 1"},null,null," ",{"$f":"IF(COUNTIF($G$10:$G16,G16)<2,$G16,\" \")","v":" "},"",{"$f":"IF(COUNTIF($G$10:$G16,I16)<3,$G16,\" \")","v":"CSM EPINAY SUR SEINE"},7,"CSM EPINAY SUR SEINE",7]
[8,15,{"$f":"IF(A17>0,(VLOOKUP($A17,'Engag Pre'!$A$10:$G$74,3,FALSE)),\" \")","v":{"$error":"#N/A"}},{"$f":"IF(B17>0,(VLOOKUP($B17,'Engag Pup'!$A$10:$G$109,7,FALSE)),\" \")","v":"1295717011"},{"$f":"IF(B17>0,(VLOOKUP($B17,'Engag Pup'!$A$10:$G$109,3,FALSE)),\" \")","v":"SEDDIK"},{"$f":"IF(B17>0,(VLOOKUP($B17,'Engag Pup'!$A$10:$G$109,4,FALSE)),\" \")","v":"Aymen"},{"$f":"IF(B17>0,(VLOOKUP($B17,'Engag Pup'!$A$10:$G$109,5,FALSE)),\" \")","v":"ES PERSANAISE"},{"$f":"IF(B17>0,(VLOOKUP($B17,'Engag Pup'!$A$10:$G$109,6,FALSE)),\" \")","v":"Pupille 1"},null,null," ",{"$f":"IF(COUNTIF($G$10:$G17,G17)<2,$G17,\" \")","v":"ES PERSANAISE"},8,{"$f":"IF(COUNTIF($G$10:$G17,I17)<3,$G17,\" \")","v":"ES PERSANAISE"},8,"",1000]
[9,9,{"$f":"IF(A18>0,(VLOOKUP($A18,'Engag Pre'!$A$10:$G$74,3,FALSE)),\" \")","v":{"$error":"#N/A"}},{"$f":"IF(B18>0,(VLOOKUP($B18,'Engag Pup'!$A$10:$G$109,7,FALSE)),\" \")","v":"1293524072"},{"$f":"IF(B18>0,(VLOOKUP($B18,'Engag Pup'!$A$10:$G$109,3,FALSE)),\" \")","v":"LONDAS"},{"$f":"IF(B18>0,(VLOOKUP($B18,'Engag Pup'!$A$10:$G$109,4,FALSE)),\" \")","v":"Curtis"},{"$f":"IF(B18>0,(VLOOKUP($B18,'Engag Pup'!$A$10:$G$109,5,FALSE)),\" \")","v":"CS VILLETANEUSE"},{"$f":"IF(B18>0,(VLOOKUP($B18,'Engag Pup'!$A$10:$G$109,6,FALSE)),\" \")","v":"Pupille 1"},null,null," ",{"$f":"IF(COUNTIF($G$10:$G18,G18)<2,$G18,\" \")","v":" "},"",{"$f":"IF(COUNTIF($G$10:$G18,I18)<3,$G18,\" \")","v":"CS VILLETANEUSE"},9,"CS VILLETANEUSE",9]
[10,18,{"$f":"IF(A19>0,(VLOOKUP($A19,'Engag Pre'!$A$10:$G$74,3,FALSE)),\" \")","v":{"$error":"#N/A"}},{"$f":"IF(B19>0,(VLOOKUP($B19,'Engag Pup'!$A$10:$G$109,7,FALSE)),\" \")","v":"1295713096"},{"$f":"IF(B19>0,(VLOOKUP($B19,'Engag Pup'!$A$10:$G$109,3,FALSE)),\" \")","v":"MOSLEH"},{"$f":"IF(B19>0,(VLOOKUP($B19,'Engag Pup'!$A$10:$G$109,4,FALSE)),\" \")","v":"Adam"},{"$f":"IF(B19>0,(VLOOKUP($B19,'Engag Pup'!$A$10:$G$109,5,FALSE)),\" \")","v":"A. SOISY ENGHIEN LA BARRE"},{"$f":"IF(B19>0,(VLOOKUP($B19,'Engag Pup'!$A$10:$G$109,6,FALSE)),\" \")","v":"Pupille 1"},null,null," ",{"$f":"IF(COUNTIF($G$10:$G19,G19)<2,$G19,\" \")","v":"A. SOISY ENGHIEN LA BARRE"},10,{"$f":"IF(COUNTIF($G$10:$G19,I19)<3,$G19,\" \")","v":"A. SOISY ENGHIEN LA BARRE"},10,"",1000]
[11,5,{"$f":"IF(A20>0,(VLOOKUP($A20,'Engag Pre'!$A$10:$G$74,3,FALSE)),\" \")","v":{"$error":"#N/A"}},{"$f":"IF(B20>0,(VLOOKUP($B20,'Engag Pup'!$A$10:$G$109,7,FALSE)),\" \")","v":"1293527114"},{"$f":"IF(B20>0,(VLOOKUP($B20,'Engag Pup'!$A$10:$G$109,3,FALSE)),\" \")","v":"BARZEZOWSKI"},{"$f":"IF(B20>0,(VLOOKUP($B20,'Engag Pup'!$A$10:$G$109,4,FALSE)),\" \")","v":"Aaron"},{"$f":"IF(B20>0,(VLOOKUP($B20,'Engag Pup'!$A$10:$G$109,5,FALSE)),\" \")","v":"VC CLICHY SOUS BOIS"},{"$f":"IF(B20>0,(VLOOKUP($B20,'Engag Pup'!$A$10:$G$109,6,FALSE)),\" \")","v":"Pupille 1"},null,null," ",{"$f":"IF(COUNTIF($G$10:$G20,G20)<2,$G20,\" \")","v":"VC CLICHY SOUS BOIS"},11,{"$f":"IF(COUNTIF($G$10:$G20,I20)<3,$G20,\" \")","v":"VC CLICHY SOUS BOIS"},11,"",1000]
[12,6,{"$f":"IF(A21>0,(VLOOKUP($A21,'Engag Pre'!$A$10:$G$74,3,FALSE)),\" \")","v":{"$error":"#N/A"}},{"$f":"IF(B21>0,(VLOOKUP($B21,'Engag Pup'!$A$10:$G$109,7,FALSE)),\" \")","v":"1293527029"},{"$f":"IF(B21>0,(VLOOKUP($B21,'Engag Pup'!$A$10:$G$109,3,FALSE)),\" \")","v":"BASTOGNE"},{"$f":"IF(B21>0,(VLOOKUP($B21,'Engag Pup'!$A$10:$G$109,4,FALSE)),\" \")","v":"Clément"},{"$f":"IF(B21>0,(VLOOKUP($B21,'Engag Pup'!$A$10:$G$109,5,FALSE)),\" \")","v":"VC CLICHY SOUS BOIS"},{"$f":"IF(B21>0,(VLOOKUP($B21,'Engag Pup'!$A$10:$G$109,6,FALSE)),\" \")","v":"Pupille 1"},null,null," ",{"$f":"IF(COUNTIF($G$10:$G21,G21)<2,$G21,\" \")","v":" "},"",{"$f":"IF(COUNTIF($G$10:$G21,I21)<3,$G21,\" \")","v":"VC CLICHY SOUS BOIS"},12,"VC CLICHY SOUS BOIS",12]
[13,7,{"$f":"IF(A22>0,(VLOOKUP($A22,'Engag Pre'!$A$10:$G$74,3,FALSE)),\" \")","v":{"$error":"#N/A"}},{"$f":"IF(B22>0,(VLOOKUP($B22,'Engag Pup'!$A$10:$G$109,7,FALSE)),\" \")","v":"1293533052"},{"$f":"IF(B22>0,(VLOOKUP($B22,'Engag Pup'!$A$10:$G$109,3,FALSE)),\" \")","v":"LAMY"},{"$f":"IF(B22>0,(VLOOKUP($B22,'Engag Pup'!$A$10:$G$109,4,FALSE)),\" \")","v":"Nielsen"},{"$f":"IF(B22>0,(VLOOKUP($B22,'Engag Pup'!$A$10:$G$109,5,FALSE)),\" \")","v":"ES STAINS"},{"$f":"IF(B22>0,(VLOOKUP($B22,'Engag Pup'!$A$10:$G$109,6,FALSE)),\" \")","v":"Pupille 1"},null,null," ",{"$f":"IF(COUNTIF($G$10:$G22,G22)<2,$G22,\" \")","v":"ES STAINS"},13,{"$f":"IF(COUNTIF($G$10:$G22,I22)<3,$G22,\" \")","v":"ES STAINS"},13,"",1000]
[14,1,{"$f":"IF(A23>0,(VLOOKUP($A23,'Engag Pre'!$A$10:$G$74,3,FALSE)),\" \")","v":{"$error":"#N/A"}},{"$f":"IF(B23>0,(VLOOKUP($B23,'Engag Pup'!$A$10:$G$109,7,FALSE)),\" \")","v":"1293515062"},{"$f":"IF(B23>0,(VLOOKUP($B23,'Engag Pup'!$A$10:$G$109,3,FALSE)),\" \")","v":"DJELLID"},{"$f":"IF(B23>0,(VLOOKUP($B23,'Engag Pup'!$A$10:$G$109,4,FALSE)),\" \")","v":"Mohamed"},{"$f":"IF(B23>0,(VLOOKUP($B23,'Engag Pup'!$A$10:$G$109,5,FALSE)),\" \")","v":"EC AULNAY"},{"$f":"IF(B23>0,(VLOOKUP($B23,'Engag Pup'!$A$10:$G$109,6,FALSE)),\" \")","v":"Pupille 1"},null,null," ",{"$f":"IF(COUNTIF($G$10:$G23,G23)<2,$G23,\" \")","v":"EC AULNAY"},14,{"$f":"IF(COUNTIF($G$10:$G23,I23)<3,$G23,\" \")","v":"EC AULNAY"},14,"",1000]
[15,3,{"$f":"IF(A24>0,(VLOOKUP($A24,'Engag Pre'!$A$10:$G$74,3,FALSE)),\" \")","v":{"$error":"#N/A"}},{"$f":"IF(B24>0,(VLOOKUP($B24,'Engag Pup'!$A$10:$G$109,7,FALSE)),\" \")","v":"1293516030"},{"$f":"IF(B24>0,(VLOOKUP($B24,'Engag Pup'!$A$10:$G$109,3,FALSE)),\" \")","v":"BENTALEB"},{"$f":"IF(B24>0,(VLOOKUP($B24,'Engag Pup'!$A$10:$G$109,4,FALSE)),\" \")","v":"Naël"},{"$f":"IF(B24>0,(VLOOKUP($B24,'Engag Pup'!$A$10:$G$109,5,FALSE)),\" \")","v":"ES GERVAIS LILAS"},{"$f":"IF(B24>0,(VLOOKUP($B24,'Engag Pup'!$A$10:$G$109,6,FALSE)),\" \")","v":"Pupille 1"},null,null," ",{"$f":"IF(COUNTIF($G$10:$G24,G24)<2,$G24,\" \")","v":"ES GERVAIS LILAS"},15,{"$f":"IF(COUNTIF($G$10:$G24,I24)<3,$G24,\" \")","v":"ES GERVAIS LILAS"},15,"",1000]
[16,23,{"$f":"IF(A25>0,(VLOOKUP($A25,'Engag Pre'!$A$10:$G$74,3,FALSE)),\" \")","v":{"$error":"#N/A"}},{"$f":"IF(B25>0,(VLOOKUP($B25,'Engag Pup'!$A$10:$G$109,7,FALSE)),\" \")","v":"1293502008"},{"$f":"IF(B25>0,(VLOOKUP($B25,'Engag Pup'!$A$10:$G$109,3,FALSE)),\" \")","v":"BREDECHE"},{"$f":"IF(B25>0,(VLOOKUP($B25,'Engag Pup'!$A$10:$G$109,4,FALSE)),\" \")","v":"Marius"},{"$f":"IF(B25>0,(VLOOKUP($B25,'Engag Pup'!$A$10:$G$109,5,FALSE)),\" \")","v":"CSM EPINAY SUR SEINE"},{"$f":"IF(B25>0,(VLOOKUP($B25,'Engag Pup'!$A$10:$G$109,6,FALSE)),\" \")","v":"Pupille 1"},null,null," ",{"$f":"IF(COUNTIF($G$10:$G25,G25)<2,$G25,\" \")","v":" "},"",{"$f":"IF(COUNTIF($G$10:$G25,I25)<3,$G25,\" \")","v":"CSM EPINAY SUR SEINE"},16,"CSM EPINAY SUR SEINE",16]
[17,24,{"$f":"IF(A26>0,(VLOOKUP($A26,'Engag Pre'!$A$10:$G$74,3,FALSE)),\" \")","v":{"$error":"#N/A"}},{"$f":"IF(B26>0,(VLOOKUP($B26,'Engag Pup'!$A$10:$G$109,7,FALSE)),\" \")","v":"1293502044"},{"$f":"IF(B26>0,(VLOOKUP($B26,'Engag Pup'!$A$10:$G$109,3,FALSE)),\" \")","v":"SI HASSEN"},{"$f":"IF(B26>0,(VLOOKUP($B26,'Engag Pup'!$A$10:$G$109,4,FALSE)),\" \")","v":"Abderaouf"},{"$f":"IF(B26>0,(VLOOKUP($B26,'Engag Pup'!$A$10:$G$109,5,FALSE)),\" \")","v":"CSM EPINAY SUR SEINE"},{"$f":"IF(B26>0,(VLOOKUP($B26,'Engag Pup'!$A$10:$G$109,6,FALSE)),\" \")","v":"Pupille 1"},null,null," ",{"$f":"IF(COUNTIF($G$10:$G26,G26)<2,$G26,\" \")","v":" "},"",{"$f":"IF(COUNTIF($G$10:$G26,I26)<3,$G26,\" \")","v":"CSM EPINAY SUR SEINE"},17,"CSM EPINAY SUR SEINE",17]
[18,null,{"$f":"IF(A27>0,(VLOOKUP($A27,'Engag Pre'!$A$10:$G$74,3,FALSE)),\" \")","v":{"$error":"#N/A"}},{"$f":"IF(B27>0,(VLOOKUP($B27,'Engag Pup'!$A$10:$G$109,7,FALSE)),\" \")","v":" "},{"$f":"IF(B27>0,(VLOOKUP($B27,'Engag Pup'!$A$10:$G$109,3,FALSE)),\" \")","v":" "},{"$f":"IF(B27>0,(VLOOKUP($B27,'Engag Pup'!$A$10:$G$109,4,FALSE)),\" \")","v":" "},{"$f":"IF(B27>0,(VLOOKUP($B27,'Engag Pup'!$A$10:$G$109,5,FALSE)),\" \")","v":" "},{"$f":"IF(B27>0,(VLOOKUP($B27,'Engag Pup'!$A$10:$G$109,6,FALSE)),\" \")","v":" "},null,null," ",{"$f":"IF(COUNTIF($G$10:$G27,G27)<2,$G27,\" \")","v":" "},18,{"$f":"IF(COUNTIF($G$10:$G27,I27)<3,$G27,\" \")","v":" "},18,"",1000]
[19,null,{"$f":"IF(A28>0,(VLOOKUP($A28,'Engag Pre'!$A$10:$G$74,3,FALSE)),\" \")","v":{"$error":"#N/A"}},{"$f":"IF(B28>0,(VLOOKUP($B28,'Engag Pup'!$A$10:$G$109,7,FALSE)),\" \")","v":" "},{"$f":"IF(B28>0,(VLOOKUP($B28,'Engag Pup'!$A$10:$G$109,3,FALSE)),\" \")","v":" "},{"$f":"IF(B28>0,(VLOOKUP($B28,'Engag Pup'!$A$10:$G$109,4,FALSE)),\" \")","v":" "},{"$f":"IF(B28>0,(VLOOKUP($B28,'Engag Pup'!$A$10:$G$109,5,FALSE)),\" \")","v":" "},{"$f":"IF(B28>0,(VLOOKUP($B28,'Engag Pup'!$A$10:$G$109,6,FALSE)),\" \")","v":" "},null,null," ",{"$f":"IF(COUNTIF($G$10:$G28,G28)<2,$G28,\" \")","v":" "},19,{"$f":"IF(COUNTIF($G$10:$G28,I28)<3,$G28,\" \")","v":" "},19,"",1000]
[20,null,{"$f":"IF(A29>0,(VLOOKUP($A29,'Engag Pre'!$A$10:$G$74,3,FALSE)),\" \")","v":{"$error":"#N/A"}},{"$f":"IF(B29>0,(VLOOKUP($B29,'Engag Pup'!$A$10:$G$109,7,FALSE)),\" \")","v":" "},{"$f":"IF(B29>0,(VLOOKUP($B29,'Engag Pup'!$A$10:$G$109,3,FALSE)),\" \")","v":" "},{"$f":"IF(B29>0,(VLOOKUP($B29,'Engag Pup'!$A$10:$G$109,4,FALSE)),\" \")","v":" "},{"$f":"IF(B29>0,(VLOOKUP($B29,'Engag Pup'!$A$10:$G$109,5,FALSE)),\" \")","v":" "},{"$f":"IF(B29>0,(VLOOKUP($B29,'Engag Pup'!$A$10:$G$109,6,FALSE)),\" \")","v":" "},null,null," ",{"$f":"IF(COUNTIF($G$10:$G29,G29)<2,$G29,\" \")","v":" "},20,{"$f":"IF(COUNTIF($G$10:$G29,I29)<3,$G29,\" \")","v":" "},20,"",1000]
[21,null,{"$f":"IF(A30>0,(VLOOKUP($A30,'Engag Pre'!$A$10:$G$74,3,FALSE)),\" \")","v":{"$error":"#N/A"}},{"$f":"IF(B30>0,(VLOOKUP($B30,'Engag Pup'!$A$10:$G$109,7,FALSE)),\" \")","v":" "},{"$f":"IF(B30>0,(VLOOKUP($B30,'Engag Pup'!$A$10:$G$109,3,FALSE)),\" \")","v":" "},{"$f":"IF(B30>0,(VLOOKUP($B30,'Engag Pup'!$A$10:$G$109,4,FALSE)),\" \")","v":" "},{"$f":"IF(B30>0,(VLOOKUP($B30,'Engag Pup'!$A$10:$G$109,5,FALSE)),\" \")","v":" "},{"$f":"IF(B30>0,(VLOOKUP($B30,'Engag Pup'!$A$10:$G$109,6,FALSE)),\" \")","v":" "},null,null," ",{"$f":"IF(COUNTIF($G$10:$G30,G30)<2,$G30,\" \")","v":" "},21,{"$f":"IF(COUNTIF($G$10:$G30,I30)<3,$G30,\" \")","v":" "},21,"",1000]
[22,null,{"$f":"IF(A31>0,(VLOOKUP($A31,'Engag Pre'!$A$10:$G$74,3,FALSE)),\" \")","v":{"$error":"#N/A"}},{"$f":"IF(B31>0,(VLOOKUP($B31,'Engag Pup'!$A$10:$G$109,7,FALSE)),\" \")","v":" "},{"$f":"IF(B31>0,(VLOOKUP($B31,'Engag Pup'!$A$10:$G$109,3,FALSE)),\" \")","v":" "},{"$f":"IF(B31>0,(VLOOKUP($B31,'Engag Pup'!$A$10:$G$109,4,FALSE)),\" \")","v":" "},{"$f":"IF(B31>0,(VLOOKUP($B31,'Engag Pup'!$A$10:$G$109,5,FALSE)),\" \")","v":" "},{"$f":"IF(B31>0,(VLOOKUP($B31,'Engag Pup'!$A$10:$G$109,6,FALSE)),\" \")","v":" "},null,null," ",{"$f":"IF(COUNTIF($G$10:$G31,G31)<2,$G31,\" \")","v":" "},22,{"$f":"IF(COUNTIF($G$10:$G31,I31)<3,$G31,\" \")","v":" "},22,"",1000]
[23,null,{"$f":"IF(A32>0,(VLOOKUP($A32,'Engag Pre'!$A$10:$G$74,3,FALSE)),\" \")","v":{"$error":"#N/A"}},{"$f":"IF(B32>0,(VLOOKUP($B32,'Engag Pup'!$A$10:$G$109,7,FALSE)),\" \")","v":" "},{"$f":"IF(B32>0,(VLOOKUP($B32,'Engag Pup'!$A$10:$G$109,3,FALSE)),\" \")","v":" "},{"$f":"IF(B32>0,(VLOOKUP($B32,'Engag Pup'!$A$10:$G$109,4,FALSE)),\" \")","v":" "},{"$f":"IF(B32>0,(VLOOKUP($B32,'Engag Pup'!$A$10:$G$109,5,FALSE)),\" \")","v":" "},{"$f":"IF(B32>0,(VLOOKUP($B32,'Engag Pup'!$A$10:$G$109,6,FALSE)),\" \")","v":" "},null,null," ",{"$f":"IF(COUNTIF($G$10:$G32,G32)<2,$G32,\" \")","v":" "},23,{"$f":"IF(COUNTIF($G$10:$G32,I32)<3,$G32,\" \")","v":" "},23,"",1000]
[24,null,{"$f":"IF(A33>0,(VLOOKUP($A33,'Engag Pre'!$A$10:$G$74,3,FALSE)),\" \")","v":{"$error":"#N/A"}},{"$f":"IF(B33>0,(VLOOKUP($B33,'Engag Pup'!$A$10:$G$109,7,FALSE)),\" \")","v":" "},{"$f":"IF(B33>0,(VLOOKUP($B33,'Engag Pup'!$A$10:$G$109,3,FALSE)),\" \")","v":" "},{"$f":"IF(B33>0,(VLOOKUP($B33,'Engag Pup'!$A$10:$G$109,4,FALSE)),\" \")","v":" "},{"$f":"IF(B33>0,(VLOOKUP($B33,'Engag Pup'!$A$10:$G$109,5,FALSE)),\" \")","v":" "},{"$f":"IF(B33>0,(VLOOKUP($B33,'Engag Pup'!$A$10:$G$109,6,FALSE)),\" \")","v":" "},null,null," ",{"$f":"IF(COUNTIF($G$10:$G33,G33)<2,$G33,\" \")","v":" "},24,{"$f":"IF(COUNTIF($G$10:$G33,I33)<3,$G33,\" \")","v":" "},24,"",1000]
[25,null,{"$f":"IF(A34>0,(VLOOKUP($A34,'Engag Pre'!$A$10:$G$74,3,FALSE)),\" \")","v":{"$error":"#N/A"}},{"$f":"IF(B34>0,(VLOOKUP($B34,'Engag Pup'!$A$10:$G$109,7,FALSE)),\" \")","v":" "},{"$f":"IF(B34>0,(VLOOKUP($B34,'Engag Pup'!$A$10:$G$109,3,FALSE)),\" \")","v":" "},{"$f":"IF(B34>0,(VLOOKUP($B34,'Engag Pup'!$A$10:$G$109,4,FALSE)),\" \")","v":" "},{"$f":"IF(B34>0,(VLOOKUP($B34,'Engag Pup'!$A$10:$G$109,5,FALSE)),\" \")","v":" "},{"$f":"IF(B34>0,(VLOOKUP($B34,'Engag Pup'!$A$10:$G$109,6,FALSE)),\" \")","v":" "},null,null," ",{"$f":"IF(COUNTIF($G$10:$G34,G34)<2,$G34,\" \")","v":" "},25,{"$f":"IF(COUNTIF($G$10:$G34,I34)<3,$G34,\" \")","v":" "},25,"",1000]
[26,null,{"$f":"IF(A35>0,(VLOOKUP($A35,'Engag Pre'!$A$10:$G$74,3,FALSE)),\" \")","v":{"$error":"#N/A"}},{"$f":"IF(B35>0,(VLOOKUP($B35,'Engag Pup'!$A$10:$G$109,7,FALSE)),\" \")","v":" "},{"$f":"IF(B35>0,(VLOOKUP($B35,'Engag Pup'!$A$10:$G$109,3,FALSE)),\" \")","v":" "},{"$f":"IF(B35>0,(VLOOKUP($B35,'Engag Pup'!$A$10:$G$109,4,FALSE)),\" \")","v":" "},{"$f":"IF(B35>0,(VLOOKUP($B35,'Engag Pup'!$A$10:$G$109,5,FALSE)),\" \")","v":" "},{"$f":"IF(B35>0,(VLOOKUP($B35,'Engag Pup'!$A$10:$G$109,6,FALSE)),\" \")","v":" "},null,null," ",{"$f":"IF(COUNTIF($G$10:$G35,G35)<2,$G35,\" \")","v":" "},26,{"$f":"IF(COUNTIF($G$10:$G35,I35)<3,$G35,\" \")","v":" "},26,"",1000]
[27,null,{"$f":"IF(A36>0,(VLOOKUP($A36,'Engag Pre'!$A$10:$G$74,3,FALSE)),\" \")","v":{"$error":"#N/A"}},{"$f":"IF(B36>0,(VLOOKUP($B36,'Engag Pup'!$A$10:$G$109,7,FALSE)),\" \")","v":" "},{"$f":"IF(B36>0,(VLOOKUP($B36,'Engag Pup'!$A$10:$G$109,3,FALSE)),\" \")","v":" "},{"$f":"IF(B36>0,(VLOOKUP($B36,'Engag Pup'!$A$10:$G$109,4,FALSE)),\" \")","v":" "},{"$f":"IF(B36>0,(VLOOKUP($B36,'Engag Pup'!$A$10:$G$109,5,FALSE)),\" \")","v":" "},{"$f":"IF(B36>0,(VLOOKUP($B36,'Engag Pup'!$A$10:$G$109,6,FALSE)),\" \")","v":" "},null,null," ",{"$f":"IF(COUNTIF($G$10:$G36,G36)<2,$G36,\" \")","v":" "},27,{"$f":"IF(COUNTIF($G$10:$G36,I36)<3,$G36,\" \")","v":" "},27,"",1000]
[28,null,{"$f":"IF(A37>0,(VLOOKUP($A37,'Engag Pre'!$A$10:$G$74,3,FALSE)),\" \")","v":{"$error":"#N/A"}},{"$f":"IF(B37>0,(VLOOKUP($B37,'Engag Pup'!$A$10:$G$109,7,FALSE)),\" \")","v":" "},{"$f":"IF(B37>0,(VLOOKUP($B37,'Engag Pup'!$A$10:$G$109,3,FALSE)),\" \")","v":" "},{"$f":"IF(B37>0,(VLOOKUP($B37,'Engag Pup'!$A$10:$G$109,4,FALSE)),\" \")","v":" "},{"$f":"IF(B37>0,(VLOOKUP($B37,'Engag Pup'!$A$10:$G$109,5,FALSE)),\" \")","v":" "},{"$f":"IF(B37>0,(VLOOKUP($B37,'Engag Pup'!$A$10:$G$109,6,FALSE)),\" \")","v":" "},null,null," ",{"$f":"IF(COUNTIF($G$10:$G37,G37)<2,$G37,\" \")","v":" "},28,{"$f":"IF(COUNTIF($G$10:$G37,I37)<3,$G37,\" \")","v":" "},28,"",1000]
[29,null,{"$f":"IF(A38>0,(VLOOKUP($A38,'Engag Pre'!$A$10:$G$74,3,FALSE)),\" \")","v":{"$error":"#N/A"}},{"$f":"IF(B38>0,(VLOOKUP($B38,'Engag Pup'!$A$10:$G$109,7,FALSE)),\" \")","v":" "},{"$f":"IF(B38>0,(VLOOKUP($B38,'Engag Pup'!$A$10:$G$109,3,FALSE)),\" \")","v":" "},{"$f":"IF(B38>0,(VLOOKUP($B38,'Engag Pup'!$A$10:$G$109,4,FALSE)),\" \")","v":" "},{"$f":"IF(B38>0,(VLOOKUP($B38,'Engag Pup'!$A$10:$G$109,5,FALSE)),\" \")","v":" "},{"$f":"IF(B38>0,(VLOOKUP($B38,'Engag Pup'!$A$10:$G$109,6,FALSE)),\" \")","v":" "},null,null," ",{"$f":"IF(COUNTIF($G$10:$G38,G38)<2,$G38,\" \")","v":" "},29,{"$f":"IF(COUNTIF($G$10:$G38,I38)<3,$G38,\" \")","v":" "},29,"",1000]
[30,null,{"$f":"IF(A39>0,(VLOOKUP($A39,'Engag Pre'!$A$10:$G$74,3,FALSE)),\" \")","v":{"$error":"#N/A"}},{"$f":"IF(B39>0,(VLOOKUP($B39,'Engag Pup'!$A$10:$G$109,7,FALSE)),\" \")","v":" "},{"$f":"IF(B39>0,(VLOOKUP($B39,'Engag Pup'!$A$10:$G$109,3,FALSE)),\" \")","v":" "},{"$f":"IF(B39>0,(VLOOKUP($B39,'Engag Pup'!$A$10:$G$109,4,FALSE)),\" \")","v":" "},{"$f":"IF(B39>0,(VLOOKUP($B39,'Engag Pup'!$A$10:$G$109,5,FALSE)),\" \")","v":" "},{"$f":"IF(B39>0,(VLOOKUP($B39,'Engag Pup'!$A$10:$G$109,6,FALSE)),\" \")","v":" "},null,null," ",{"$f":"IF(COUNTIF($G$10:$G39,G39)<2,$G39,\" \")","v":" "},30,{"$f":"IF(COUNTIF($G$10:$G39,I39)<3,$G39,\" \")","v":" "},30,"",1000]
[31,null,{"$f":"IF(A40>0,(VLOOKUP($A40,'Engag Pre'!$A$10:$G$74,3,FALSE)),\" \")","v":{"$error":"#N/A"}},{"$f":"IF(B40>0,(VLOOKUP($B40,'Engag Pup'!$A$10:$G$109,7,FALSE)),\" \")","v":" "},{"$f":"IF(B40>0,(VLOOKUP($B40,'Engag Pup'!$A$10:$G$109,3,FALSE)),\" \")","v":" "},{"$f":"IF(B40>0,(VLOOKUP($B40,'Engag Pup'!$A$10:$G$109,4,FALSE)),\" \")","v":" "},{"$f":"IF(B40>0,(VLOOKUP($B40,'Engag Pup'!$A$10:$G$109,5,FALSE)),\" \")","v":" "},{"$f":"IF(B40>0,(VLOOKUP($B40,'Engag Pup'!$A$10:$G$109,6,FALSE)),\" \")","v":" "},null,null," ",{"$f":"IF(COUNTIF($G$10:$G40,G40)<2,$G40,\" \")","v":" "},31,{"$f":"IF(COUNTIF($G$10:$G40,I40)<3,$G40,\" \")","v":" "},31,"",1000]
[32,null,{"$f":"IF(A41>0,(VLOOKUP($A41,'Engag Pre'!$A$10:$G$74,3,FALSE)),\" \")","v":{"$error":"#N/A"}},{"$f":"IF(B41>0,(VLOOKUP($B41,'Engag Pup'!$A$10:$G$109,7,FALSE)),\" \")","v":" "},{"$f":"IF(B41>0,(VLOOKUP($B41,'Engag Pup'!$A$10:$G$109,3,FALSE)),\" \")","v":" "},{"$f":"IF(B41>0,(VLOOKUP($B41,'Engag Pup'!$A$10:$G$109,4,FALSE)),\" \")","v":" "},{"$f":"IF(B41>0,(VLOOKUP($B41,'Engag Pup'!$A$10:$G$109,5,FALSE)),\" \")","v":" "},{"$f":"IF(B41>0,(VLOOKUP($B41,'Engag Pup'!$A$10:$G$109,6,FALSE)),\" \")","v":" "},null,null," ",{"$f":"IF(COUNTIF($G$10:$G41,G41)<2,$G41,\" \")","v":" "},32,{"$f":"IF(COUNTIF($G$10:$G41,I41)<3,$G41,\" \")","v":" "},32,"",1000]
[33,null,{"$f":"IF(A42>0,(VLOOKUP($A42,'Engag Pre'!$A$10:$G$74,3,FALSE)),\" \")","v":{"$error":"#N/A"}},{"$f":"IF(B42>0,(VLOOKUP($B42,'Engag Pup'!$A$10:$G$109,7,FALSE)),\" \")","v":" "},{"$f":"IF(B42>0,(VLOOKUP($B42,'Engag Pup'!$A$10:$G$109,3,FALSE)),\" \")","v":" "},{"$f":"IF(B42>0,(VLOOKUP($B42,'Engag Pup'!$A$10:$G$109,4,FALSE)),\" \")","v":" "},{"$f":"IF(B42>0,(VLOOKUP($B42,'Engag Pup'!$A$10:$G$109,5,FALSE)),\" \")","v":" "},{"$f":"IF(B42>0,(VLOOKUP($B42,'Engag Pup'!$A$10:$G$109,6,FALSE)),\" \")","v":" "},null,null," ",{"$f":"IF(COUNTIF($G$10:$G42,G42)<2,$G42,\" \")","v":" "},33,{"$f":"IF(COUNTIF($G$10:$G42,I42)<3,$G42,\" \")","v":" "},33,"",1000]
[34,null,{"$f":"IF(A43>0,(VLOOKUP($A43,'Engag Pre'!$A$10:$G$74,3,FALSE)),\" \")","v":{"$error":"#N/A"}},{"$f":"IF(B43>0,(VLOOKUP($B43,'Engag Pup'!$A$10:$G$109,7,FALSE)),\" \")","v":" "},{"$f":"IF(B43>0,(VLOOKUP($B43,'Engag Pup'!$A$10:$G$109,3,FALSE)),\" \")","v":" "},{"$f":"IF(B43>0,(VLOOKUP($B43,'Engag Pup'!$A$10:$G$109,4,FALSE)),\" \")","v":" "},{"$f":"IF(B43>0,(VLOOKUP($B43,'Engag Pup'!$A$10:$G$109,5,FALSE)),\" \")","v":" "},{"$f":"IF(B43>0,(VLOOKUP($B43,'Engag Pup'!$A$10:$G$109,6,FALSE)),\" \")","v":" "},null,null," ",{"$f":"IF(COUNTIF($G$10:$G43,G43)<2,$G43,\" \")","v":" "},34,{"$f":"IF(COUNTIF($G$10:$G43,I43)<3,$G43,\" \")","v":" "},34,"",1000]
[35,null,{"$f":"IF(A44>0,(VLOOKUP($A44,'Engag Pre'!$A$10:$G$74,3,FALSE)),\" \")","v":{"$error":"#N/A"}},{"$f":"IF(B44>0,(VLOOKUP($B44,'Engag Pup'!$A$10:$G$109,7,FALSE)),\" \")","v":" "},{"$f":"IF(B44>0,(VLOOKUP($B44,'Engag Pup'!$A$10:$G$109,3,FALSE)),\" \")","v":" "},{"$f":"IF(B44>0,(VLOOKUP($B44,'Engag Pup'!$A$10:$G$109,4,FALSE)),\" \")","v":" "},{"$f":"IF(B44>0,(VLOOKUP($B44,'Engag Pup'!$A$10:$G$109,5,FALSE)),\" \")","v":" "},{"$f":"IF(B44>0,(VLOOKUP($B44,'Engag Pup'!$A$10:$G$109,6,FALSE)),\" \")","v":" "},null,null," ",{"$f":"IF(COUNTIF($G$10:$G44,G44)<2,$G44,\" \")","v":" "},35,{"$f":"IF(COUNTIF($G$10:$G44,I44)<3,$G44,\" \")","v":" "},35,"",1000]
[36,null,{"$f":"IF(A45>0,(VLOOKUP($A45,'Engag Pre'!$A$10:$G$74,3,FALSE)),\" \")","v":{"$error":"#N/A"}},{"$f":"IF(B45>0,(VLOOKUP($B45,'Engag Pup'!$A$10:$G$109,7,FALSE)),\" \")","v":" "},{"$f":"IF(B45>0,(VLOOKUP($B45,'Engag Pup'!$A$10:$G$109,3,FALSE)),\" \")","v":" "},{"$f":"IF(B45>0,(VLOOKUP($B45,'Engag Pup'!$A$10:$G$109,4,FALSE)),\" \")","v":" "},{"$f":"IF(B45>0,(VLOOKUP($B45,'Engag Pup'!$A$10:$G$109,5,FALSE)),\" \")","v":" "},{"$f":"IF(B45>0,(VLOOKUP($B45,'Engag Pup'!$A$10:$G$109,6,FALSE)),\" \")","v":" "},null,null," ",{"$f":"IF(COUNTIF($G$10:$G45,G45)<2,$G45,\" \")","v":" "},36,{"$f":"IF(COUNTIF($G$10:$G45,I45)<3,$G45,\" \")","v":" "},36,"",1000]
[37,null,{"$f":"IF(A46>0,(VLOOKUP($A46,'Engag Pre'!$A$10:$G$74,3,FALSE)),\" \")","v":{"$error":"#N/A"}},{"$f":"IF(B46>0,(VLOOKUP($B46,'Engag Pup'!$A$10:$G$109,7,FALSE)),\" \")","v":" "},{"$f":"IF(B46>0,(VLOOKUP($B46,'Engag Pup'!$A$10:$G$109,3,FALSE)),\" \")","v":" "},{"$f":"IF(B46>0,(VLOOKUP($B46,'Engag Pup'!$A$10:$G$109,4,FALSE)),\" \")","v":" "},{"$f":"IF(B46>0,(VLOOKUP($B46,'Engag Pup'!$A$10:$G$109,5,FALSE)),\" \")","v":" "},{"$f":"IF(B46>0,(VLOOKUP($B46,'Engag Pup'!$A$10:$G$109,6,FALSE)),\" \")","v":" "},null,null," ",{"$f":"IF(COUNTIF($G$10:$G46,G46)<2,$G46,\" \")","v":" "},37,{"$f":"IF(COUNTIF($G$10:$G46,I46)<3,$G46,\" \")","v":" "},37,"",1000]
[38,null,{"$f":"IF(A47>0,(VLOOKUP($A47,'Engag Pre'!$A$10:$G$74,3,FALSE)),\" \")","v":{"$error":"#N/A"}},{"$f":"IF(B47>0,(VLOOKUP($B47,'Engag Pup'!$A$10:$G$109,7,FALSE)),\" \")","v":" "},{"$f":"IF(B47>0,(VLOOKUP($B47,'Engag Pup'!$A$10:$G$109,3,FALSE)),\" \")","v":" "},{"$f":"IF(B47>0,(VLOOKUP($B47,'Engag Pup'!$A$10:$G$109,4,FALSE)),\" \")","v":" "},{"$f":"IF(B47>0,(VLOOKUP($B47,'Engag Pup'!$A$10:$G$109,5,FALSE)),\" \")","v":" "},{"$f":"IF(B47>0,(VLOOKUP($B47,'Engag Pup'!$A$10:$G$109,6,FALSE)),\" \")","v":" "},null,null," ",{"$f":"IF(COUNTIF($G$10:$G47,G47)<2,$G47,\" \")","v":" "},38,{"$f":"IF(COUNTIF($G$10:$G47,I47)<3,$G47,\" \")","v":" "},38,"",1000]
[39,null,{"$f":"IF(A48>0,(VLOOKUP($A48,'Engag Pre'!$A$10:$G$74,3,FALSE)),\" \")","v":{"$error":"#N/A"}},{"$f":"IF(B48>0,(VLOOKUP($B48,'Engag Pup'!$A$10:$G$109,7,FALSE)),\" \")","v":" "},{"$f":"IF(B48>0,(VLOOKUP($B48,'Engag Pup'!$A$10:$G$109,3,FALSE)),\" \")","v":" "},{"$f":"IF(B48>0,(VLOOKUP($B48,'Engag Pup'!$A$10:$G$109,4,FALSE)),\" \")","v":" "},{"$f":"IF(B48>0,(VLOOKUP($B48,'Engag Pup'!$A$10:$G$109,5,FALSE)),\" \")","v":" "},{"$f":"IF(B48>0,(VLOOKUP($B48,'Engag Pup'!$A$10:$G$109,6,FALSE)),\" \")","v":" "},null,null," ",{"$f":"IF(COUNTIF($G$10:$G48,G48)<2,$G48,\" \")","v":" "},39,{"$f":"IF(COUNTIF($G$10:$G48,I48)<3,$G48,\" \")","v":" "},39,"",1000]
[40,null,{"$f":"IF(A49>0,(VLOOKUP($A49,'Engag Pre'!$A$10:$G$74,3,FALSE)),\" \")","v":{"$error":"#N/A"}},{"$f":"IF(B49>0,(VLOOKUP($B49,'Engag Pup'!$A$10:$G$109,7,FALSE)),\" \")","v":" "},{"$f":"IF(B49>0,(VLOOKUP($B49,'Engag Pup'!$A$10:$G$109,3,FALSE)),\" \")","v":" "},{"$f":"IF(B49>0,(VLOOKUP($B49,'Engag Pup'!$A$10:$G$109,4,FALSE)),\" \")","v":" "},{"$f":"IF(B49>0,(VLOOKUP($B49,'Engag Pup'!$A$10:$G$109,5,FALSE)),\" \")","v":" "},{"$f":"IF(B49>0,(VLOOKUP($B49,'Engag Pup'!$A$10:$G$109,6,FALSE)),\" \")","v":" "},null,null," ",{"$f":"IF(COUNTIF($G$10:$G49,G49)<2,$G49,\" \")","v":" "},40,{"$f":"IF(COUNTIF($G$10:$G49,I49)<3,$G49,\" \")","v":" "},40,"",1000]
[41,null,{"$f":"IF(A50>0,(VLOOKUP($A50,'Engag Pre'!$A$10:$G$74,3,FALSE)),\" \")","v":{"$error":"#N/A"}},{"$f":"IF(B50>0,(VLOOKUP($B50,'Engag Pup'!$A$10:$G$109,7,FALSE)),\" \")","v":" "},{"$f":"IF(B50>0,(VLOOKUP($B50,'Engag Pup'!$A$10:$G$109,3,FALSE)),\" \")","v":" "},{"$f":"IF(B50>0,(VLOOKUP($B50,'Engag Pup'!$A$10:$G$109,4,FALSE)),\" \")","v":" "},{"$f":"IF(B50>0,(VLOOKUP($B50,'Engag Pup'!$A$10:$G$109,5,FALSE)),\" \")","v":" "},{"$f":"IF(B50>0,(VLOOKUP($B50,'Engag Pup'!$A$10:$G$109,6,FALSE)),\" \")","v":" "},null,null," ",{"$f":"IF(COUNTIF($G$10:$G50,G50)<2,$G50,\" \")","v":" "},41,{"$f":"IF(COUNTIF($G$10:$G50,I50)<3,$G50,\" \")","v":" "},41,"",1000]
[42,null,{"$f":"IF(A51>0,(VLOOKUP($A51,'Engag Pre'!$A$10:$G$74,3,FALSE)),\" \")","v":{"$error":"#N/A"}},{"$f":"IF(B51>0,(VLOOKUP($B51,'Engag Pup'!$A$10:$G$109,7,FALSE)),\" \")","v":" "},{"$f":"IF(B51>0,(VLOOKUP($B51,'Engag Pup'!$A$10:$G$109,3,FALSE)),\" \")","v":" "},{"$f":"IF(B51>0,(VLOOKUP($B51,'Engag Pup'!$A$10:$G$109,4,FALSE)),\" \")","v":" "},{"$f":"IF(B51>0,(VLOOKUP($B51,'Engag Pup'!$A$10:$G$109,5,FALSE)),\" \")","v":" "},{"$f":"IF(B51>0,(VLOOKUP($B51,'Engag Pup'!$A$10:$G$109,6,FALSE)),\" \")","v":" "},null,null," ",{"$f":"IF(COUNTIF($G$10:$G51,G51)<2,$G51,\" \")","v":" "},42,{"$f":"IF(COUNTIF($G$10:$G51,I51)<3,$G51,\" \")","v":" "},42,"",1000]
[43,null,{"$f":"IF(A52>0,(VLOOKUP($A52,'Engag Pre'!$A$10:$G$74,3,FALSE)),\" \")","v":{"$error":"#N/A"}},{"$f":"IF(B52>0,(VLOOKUP($B52,'Engag Pup'!$A$10:$G$109,7,FALSE)),\" \")","v":" "},{"$f":"IF(B52>0,(VLOOKUP($B52,'Engag Pup'!$A$10:$G$109,3,FALSE)),\" \")","v":" "},{"$f":"IF(B52>0,(VLOOKUP($B52,'Engag Pup'!$A$10:$G$109,4,FALSE)),\" \")","v":" "},{"$f":"IF(B52>0,(VLOOKUP($B52,'Engag Pup'!$A$10:$G$109,5,FALSE)),\" \")","v":" "},{"$f":"IF(B52>0,(VLOOKUP($B52,'Engag Pup'!$A$10:$G$109,6,FALSE)),\" \")","v":" "},null,null," ",{"$f":"IF(COUNTIF($G$10:$G52,G52)<2,$G52,\" \")","v":" "},43,{"$f":"IF(COUNTIF($G$10:$G52,I52)<3,$G52,\" \")","v":" "},43,"",1000]
[44,null,{"$f":"IF(A53>0,(VLOOKUP($A53,'Engag Pre'!$A$10:$G$74,3,FALSE)),\" \")","v":{"$error":"#N/A"}},{"$f":"IF(B53>0,(VLOOKUP($B53,'Engag Pup'!$A$10:$G$109,7,FALSE)),\" \")","v":" "},{"$f":"IF(B53>0,(VLOOKUP($B53,'Engag Pup'!$A$10:$G$109,3,FALSE)),\" \")","v":" "},{"$f":"IF(B53>0,(VLOOKUP($B53,'Engag Pup'!$A$10:$G$109,4,FALSE)),\" \")","v":" "},{"$f":"IF(B53>0,(VLOOKUP($B53,'Engag Pup'!$A$10:$G$109,5,FALSE)),\" \")","v":" "},{"$f":"IF(B53>0,(VLOOKUP($B53,'Engag Pup'!$A$10:$G$109,6,FALSE)),\" \")","v":" "},null,null," ",{"$f":"IF(COUNTIF($G$10:$G53,G53)<2,$G53,\" \")","v":" "},44,{"$f":"IF(COUNTIF($G$10:$G53,I53)<3,$G53,\" \")","v":" "},44,"",1000]
[45,null,{"$f":"IF(A54>0,(VLOOKUP($A54,'Engag Pre'!$A$10:$G$74,3,FALSE)),\" \")","v":{"$error":"#N/A"}},{"$f":"IF(B54>0,(VLOOKUP($B54,'Engag Pup'!$A$10:$G$109,7,FALSE)),\" \")","v":" "},{"$f":"IF(B54>0,(VLOOKUP($B54,'Engag Pup'!$A$10:$G$109,3,FALSE)),\" \")","v":" "},{"$f":"IF(B54>0,(VLOOKUP($B54,'Engag Pup'!$A$10:$G$109,4,FALSE)),\" \")","v":" "},{"$f":"IF(B54>0,(VLOOKUP($B54,'Engag Pup'!$A$10:$G$109,5,FALSE)),\" \")","v":" "},{"$f":"IF(B54>0,(VLOOKUP($B54,'Engag Pup'!$A$10:$G$109,6,FALSE)),\" \")","v":" "},null,null," ",{"$f":"IF(COUNTIF($G$10:$G54,G54)<2,$G54,\" \")","v":" "},45,{"$f":"IF(COUNTIF($G$10:$G54,I54)<3,$G54,\" \")","v":" "},45,"",1000]
[46,null,{"$f":"IF(A55>0,(VLOOKUP($A55,'Engag Pre'!$A$10:$G$74,3,FALSE)),\" \")","v":{"$error":"#N/A"}},{"$f":"IF(B55>0,(VLOOKUP($B55,'Engag Pup'!$A$10:$G$109,7,FALSE)),\" \")","v":" "},{"$f":"IF(B55>0,(VLOOKUP($B55,'Engag Pup'!$A$10:$G$109,3,FALSE)),\" \")","v":" "},{"$f":"IF(B55>0,(VLOOKUP($B55,'Engag Pup'!$A$10:$G$109,4,FALSE)),\" \")","v":" "},{"$f":"IF(B55>0,(VLOOKUP($B55,'Engag Pup'!$A$10:$G$109,5,FALSE)),\" \")","v":" "},{"$f":"IF(B55>0,(VLOOKUP($B55,'Engag Pup'!$A$10:$G$109,6,FALSE)),\" \")","v":" "},null,null," ",{"$f":"IF(COUNTIF($G$10:$G55,G55)<2,$G55,\" \")","v":" "},46,{"$f":"IF(COUNTIF($G$10:$G55,I55)<3,$G55,\" \")","v":" "},46,"",1000]
[47,null,{"$f":"IF(A56>0,(VLOOKUP($A56,'Engag Pre'!$A$10:$G$74,3,FALSE)),\" \")","v":{"$error":"#N/A"}},{"$f":"IF(B56>0,(VLOOKUP($B56,'Engag Pup'!$A$10:$G$109,7,FALSE)),\" \")","v":" "},{"$f":"IF(B56>0,(VLOOKUP($B56,'Engag Pup'!$A$10:$G$109,3,FALSE)),\" \")","v":" "},{"$f":"IF(B56>0,(VLOOKUP($B56,'Engag Pup'!$A$10:$G$109,4,FALSE)),\" \")","v":" "},{"$f":"IF(B56>0,(VLOOKUP($B56,'Engag Pup'!$A$10:$G$109,5,FALSE)),\" \")","v":" "},{"$f":"IF(B56>0,(VLOOKUP($B56,'Engag Pup'!$A$10:$G$109,6,FALSE)),\" \")","v":" "},null,null," ",{"$f":"IF(COUNTIF($G$10:$G56,G56)<2,$G56,\" \")","v":" "},47,{"$f":"IF(COUNTIF($G$10:$G56,I56)<3,$G56,\" \")","v":" "},47,"",1000]
[48,null,{"$f":"IF(A57>0,(VLOOKUP($A57,'Engag Pre'!$A$10:$G$74,3,FALSE)),\" \")","v":{"$error":"#N/A"}},{"$f":"IF(B57>0,(VLOOKUP($B57,'Engag Pup'!$A$10:$G$109,7,FALSE)),\" \")","v":" "},{"$f":"IF(B57>0,(VLOOKUP($B57,'Engag Pup'!$A$10:$G$109,3,FALSE)),\" \")","v":" "},{"$f":"IF(B57>0,(VLOOKUP($B57,'Engag Pup'!$A$10:$G$109,4,FALSE)),\" \")","v":" "},{"$f":"IF(B57>0,(VLOOKUP($B57,'Engag Pup'!$A$10:$G$109,5,FALSE)),\" \")","v":" "},{"$f":"IF(B57>0,(VLOOKUP($B57,'Engag Pup'!$A$10:$G$109,6,FALSE)),\" \")","v":" "},null,null," ",{"$f":"IF(COUNTIF($G$10:$G57,G57)<2,$G57,\" \")","v":" "},48,{"$f":"IF(COUNTIF($G$10:$G57,I57)<3,$G57,\" \")","v":" "},48,"",1000]
[49,null,{"$f":"IF(A58>0,(VLOOKUP($A58,'Engag Pre'!$A$10:$G$74,3,FALSE)),\" \")","v":{"$error":"#N/A"}},{"$f":"IF(B58>0,(VLOOKUP($B58,'Engag Pup'!$A$10:$G$109,7,FALSE)),\" \")","v":" "},{"$f":"IF(B58>0,(VLOOKUP($B58,'Engag Pup'!$A$10:$G$109,3,FALSE)),\" \")","v":" "},{"$f":"IF(B58>0,(VLOOKUP($B58,'Engag Pup'!$A$10:$G$109,4,FALSE)),\" \")","v":" "},{"$f":"IF(B58>0,(VLOOKUP($B58,'Engag Pup'!$A$10:$G$109,5,FALSE)),\" \")","v":" "},{"$f":"IF(B58>0,(VLOOKUP($B58,'Engag Pup'!$A$10:$G$109,6,FALSE)),\" \")","v":" "},null,null," ",{"$f":"IF(COUNTIF($G$10:$G58,G58)<2,$G58,\" \")","v":" "},49,{"$f":"IF(COUNTIF($G$10:$G58,I58)<3,$G58,\" \")","v":" "},49,"",1000]
[50,null,{"$f":"IF(A59>0,(VLOOKUP($A59,'Engag Pre'!$A$10:$G$74,3,FALSE)),\" \")","v":{"$error":"#N/A"}},{"$f":"IF(B59>0,(VLOOKUP($B59,'Engag Pup'!$A$10:$G$109,7,FALSE)),\" \")","v":" "},{"$f":"IF(B59>0,(VLOOKUP($B59,'Engag Pup'!$A$10:$G$109,3,FALSE)),\" \")","v":" "},{"$f":"IF(B59>0,(VLOOKUP($B59,'Engag Pup'!$A$10:$G$109,4,FALSE)),\" \")","v":" "},{"$f":"IF(B59>0,(VLOOKUP($B59,'Engag Pup'!$A$10:$G$109,5,FALSE)),\" \")","v":" "},{"$f":"IF(B59>0,(VLOOKUP($B59,'Engag Pup'!$A$10:$G$109,6,FALSE)),\" \")","v":" "},null,null," ",{"$f":"IF(COUNTIF($G$10:$G59,G59)<2,$G59,\" \")","v":" "},50,{"$f":"IF(COUNTIF($G$10:$G59,I59)<3,$G59,\" \")","v":" "},50,"",1000]
[51,null,{"$f":"IF(A60>0,(VLOOKUP($A60,'Engag Pre'!$A$10:$G$74,3,FALSE)),\" \")","v":{"$error":"#N/A"}},{"$f":"IF(B60>0,(VLOOKUP($B60,'Engag Pup'!$A$10:$G$109,7,FALSE)),\" \")","v":" "},{"$f":"IF(B60>0,(VLOOKUP($B60,'Engag Pup'!$A$10:$G$109,3,FALSE)),\" \")","v":" "},{"$f":"IF(B60>0,(VLOOKUP($B60,'Engag Pup'!$A$10:$G$109,4,FALSE)),\" \")","v":" "},{"$f":"IF(B60>0,(VLOOKUP($B60,'Engag Pup'!$A$10:$G$109,5,FALSE)),\" \")","v":" "},{"$f":"IF(B60>0,(VLOOKUP($B60,'Engag Pup'!$A$10:$G$109,6,FALSE)),\" \")","v":" "},null,null," ",{"$f":"IF(COUNTIF($G$10:$G60,G60)<2,$G60,\" \")","v":" "},51,{"$f":"IF(COUNTIF($G$10:$G60,I60)<3,$G60,\" \")","v":" "},51,"",1000]
[52,null,{"$f":"IF(A61>0,(VLOOKUP($A61,'Engag Pre'!$A$10:$G$74,3,FALSE)),\" \")","v":{"$error":"#N/A"}},{"$f":"IF(B61>0,(VLOOKUP($B61,'Engag Pup'!$A$10:$G$109,7,FALSE)),\" \")","v":" "},{"$f":"IF(B61>0,(VLOOKUP($B61,'Engag Pup'!$A$10:$G$109,3,FALSE)),\" \")","v":" "},{"$f":"IF(B61>0,(VLOOKUP($B61,'Engag Pup'!$A$10:$G$109,4,FALSE)),\" \")","v":" "},{"$f":"IF(B61>0,(VLOOKUP($B61,'Engag Pup'!$A$10:$G$109,5,FALSE)),\" \")","v":" "},{"$f":"IF(B61>0,(VLOOKUP($B61,'Engag Pup'!$A$10:$G$109,6,FALSE)),\" \")","v":" "},null,null," ",{"$f":"IF(COUNTIF($G$10:$G61,G61)<2,$G61,\" \")","v":" "},52,{"$f":"IF(COUNTIF($G$10:$G61,I61)<3,$G61,\" \")","v":" "},52,"",1000]
[53,null,{"$f":"IF(A62>0,(VLOOKUP($A62,'Engag Pre'!$A$10:$G$74,3,FALSE)),\" \")","v":{"$error":"#N/A"}},{"$f":"IF(B62>0,(VLOOKUP($B62,'Engag Pup'!$A$10:$G$109,7,FALSE)),\" \")","v":" "},{"$f":"IF(B62>0,(VLOOKUP($B62,'Engag Pup'!$A$10:$G$109,3,FALSE)),\" \")","v":" "},{"$f":"IF(B62>0,(VLOOKUP($B62,'Engag Pup'!$A$10:$G$109,4,FALSE)),\" \")","v":" "},{"$f":"IF(B62>0,(VLOOKUP($B62,'Engag Pup'!$A$10:$G$109,5,FALSE)),\" \")","v":" "},{"$f":"IF(B62>0,(VLOOKUP($B62,'Engag Pup'!$A$10:$G$109,6,FALSE)),\" \")","v":" "},null,null," ",{"$f":"IF(COUNTIF($G$10:$G62,G62)<2,$G62,\" \")","v":" "},53,{"$f":"IF(COUNTIF($G$10:$G62,I62)<3,$G62,\" \")","v":" "},53,"",1000]
[54,null,{"$f":"IF(A63>0,(VLOOKUP($A63,'Engag Pre'!$A$10:$G$74,3,FALSE)),\" \")","v":{"$error":"#N/A"}},{"$f":"IF(B63>0,(VLOOKUP($B63,'Engag Pup'!$A$10:$G$109,7,FALSE)),\" \")","v":" "},{"$f":"IF(B63>0,(VLOOKUP($B63,'Engag Pup'!$A$10:$G$109,3,FALSE)),\" \")","v":" "},{"$f":"IF(B63>0,(VLOOKUP($B63,'Engag Pup'!$A$10:$G$109,4,FALSE)),\" \")","v":" "},{"$f":"IF(B63>0,(VLOOKUP($B63,'Engag Pup'!$A$10:$G$109,5,FALSE)),\" \")","v":" "},{"$f":"IF(B63>0,(VLOOKUP($B63,'Engag Pup'!$A$10:$G$109,6,FALSE)),\" \")","v":" "},null,null," ",{"$f":"IF(COUNTIF($G$10:$G63,G63)<2,$G63,\" \")","v":" "},54,{"$f":"IF(COUNTIF($G$10:$G63,I63)<3,$G63,\" \")","v":" "},54,"",1000]
[55,null,{"$f":"IF(A64>0,(VLOOKUP($A64,'Engag Pre'!$A$10:$G$74,3,FALSE)),\" \")","v":{"$error":"#N/A"}},{"$f":"IF(B64>0,(VLOOKUP($B64,'Engag Pup'!$A$10:$G$109,7,FALSE)),\" \")","v":" "},{"$f":"IF(B64>0,(VLOOKUP($B64,'Engag Pup'!$A$10:$G$109,3,FALSE)),\" \")","v":" "},{"$f":"IF(B64>0,(VLOOKUP($B64,'Engag Pup'!$A$10:$G$109,4,FALSE)),\" \")","v":" "},{"$f":"IF(B64>0,(VLOOKUP($B64,'Engag Pup'!$A$10:$G$109,5,FALSE)),\" \")","v":" "},{"$f":"IF(B64>0,(VLOOKUP($B64,'Engag Pup'!$A$10:$G$109,6,FALSE)),\" \")","v":" "},null,null," ",{"$f":"IF(COUNTIF($G$10:$G64,G64)<2,$G64,\" \")","v":" "},55,{"$f":"IF(COUNTIF($G$10:$G64,I64)<3,$G64,\" \")","v":" "},55,"",1000]
[56,null,{"$f":"IF(A65>0,(VLOOKUP($A65,'Engag Pre'!$A$10:$G$74,3,FALSE)),\" \")","v":{"$error":"#N/A"}},{"$f":"IF(B65>0,(VLOOKUP($B65,'Engag Pup'!$A$10:$G$109,7,FALSE)),\" \")","v":" "},{"$f":"IF(B65>0,(VLOOKUP($B65,'Engag Pup'!$A$10:$G$109,3,FALSE)),\" \")","v":" "},{"$f":"IF(B65>0,(VLOOKUP($B65,'Engag Pup'!$A$10:$G$109,4,FALSE)),\" \")","v":" "},{"$f":"IF(B65>0,(VLOOKUP($B65,'Engag Pup'!$A$10:$G$109,5,FALSE)),\" \")","v":" "},{"$f":"IF(B65>0,(VLOOKUP($B65,'Engag Pup'!$A$10:$G$109,6,FALSE)),\" \")","v":" "},null,null," ",{"$f":"IF(COUNTIF($G$10:$G65,G65)<2,$G65,\" \")","v":" "},56,{"$f":"IF(COUNTIF($G$10:$G65,I65)<3,$G65,\" \")","v":" "},56,"",1000]
[57,null,{"$f":"IF(A66>0,(VLOOKUP($A66,'Engag Pre'!$A$10:$G$74,3,FALSE)),\" \")","v":{"$error":"#N/A"}},{"$f":"IF(B66>0,(VLOOKUP($B66,'Engag Pup'!$A$10:$G$109,7,FALSE)),\" \")","v":" "},{"$f":"IF(B66>0,(VLOOKUP($B66,'Engag Pup'!$A$10:$G$109,3,FALSE)),\" \")","v":" "},{"$f":"IF(B66>0,(VLOOKUP($B66,'Engag Pup'!$A$10:$G$109,4,FALSE)),\" \")","v":" "},{"$f":"IF(B66>0,(VLOOKUP($B66,'Engag Pup'!$A$10:$G$109,5,FALSE)),\" \")","v":" "},{"$f":"IF(B66>0,(VLOOKUP($B66,'Engag Pup'!$A$10:$G$109,6,FALSE)),\" \")","v":" "},null,null," ",{"$f":"IF(COUNTIF($G$10:$G66,G66)<2,$G66,\" \")","v":" "},57,{"$f":"IF(COUNTIF($G$10:$G66,I66)<3,$G66,\" \")","v":" "},57,"",1000]
[58,null,{"$f":"IF(A67>0,(VLOOKUP($A67,'Engag Pre'!$A$10:$G$74,3,FALSE)),\" \")","v":{"$error":"#N/A"}},{"$f":"IF(B67>0,(VLOOKUP($B67,'Engag Pup'!$A$10:$G$109,7,FALSE)),\" \")","v":" "},{"$f":"IF(B67>0,(VLOOKUP($B67,'Engag Pup'!$A$10:$G$109,3,FALSE)),\" \")","v":" "},{"$f":"IF(B67>0,(VLOOKUP($B67,'Engag Pup'!$A$10:$G$109,4,FALSE)),\" \")","v":" "},{"$f":"IF(B67>0,(VLOOKUP($B67,'Engag Pup'!$A$10:$G$109,5,FALSE)),\" \")","v":" "},{"$f":"IF(B67>0,(VLOOKUP($B67,'Engag Pup'!$A$10:$G$109,6,FALSE)),\" \")","v":" "},null,null," ",{"$f":"IF(COUNTIF($G$10:$G67,G67)<2,$G67,\" \")","v":" "},58,{"$f":"IF(COUNTIF($G$10:$G67,I67)<3,$G67,\" \")","v":" "},58,"",1000]
[59,null,{"$f":"IF(A68>0,(VLOOKUP($A68,'Engag Pre'!$A$10:$G$74,3,FALSE)),\" \")","v":{"$error":"#N/A"}},{"$f":"IF(B68>0,(VLOOKUP($B68,'Engag Pup'!$A$10:$G$109,7,FALSE)),\" \")","v":" "},{"$f":"IF(B68>0,(VLOOKUP($B68,'Engag Pup'!$A$10:$G$109,3,FALSE)),\" \")","v":" "},{"$f":"IF(B68>0,(VLOOKUP($B68,'Engag Pup'!$A$10:$G$109,4,FALSE)),\" \")","v":" "},{"$f":"IF(B68>0,(VLOOKUP($B68,'Engag Pup'!$A$10:$G$109,5,FALSE)),\" \")","v":" "},{"$f":"IF(B68>0,(VLOOKUP($B68,'Engag Pup'!$A$10:$G$109,6,FALSE)),\" \")","v":" "},null,null," ",{"$f":"IF(COUNTIF($G$10:$G68,G68)<2,$G68,\" \")","v":" "},59,{"$f":"IF(COUNTIF($G$10:$G68,I68)<3,$G68,\" \")","v":" "},59,"",1000]
[60,null,{"$f":"IF(A69>0,(VLOOKUP($A69,'Engag Pre'!$A$10:$G$74,3,FALSE)),\" \")","v":{"$error":"#N/A"}},{"$f":"IF(B69>0,(VLOOKUP($B69,'Engag Pup'!$A$10:$G$109,7,FALSE)),\" \")","v":" "},{"$f":"IF(B69>0,(VLOOKUP($B69,'Engag Pup'!$A$10:$G$109,3,FALSE)),\" \")","v":" "},{"$f":"IF(B69>0,(VLOOKUP($B69,'Engag Pup'!$A$10:$G$109,4,FALSE)),\" \")","v":" "},{"$f":"IF(B69>0,(VLOOKUP($B69,'Engag Pup'!$A$10:$G$109,5,FALSE)),\" \")","v":" "},{"$f":"IF(B69>0,(VLOOKUP($B69,'Engag Pup'!$A$10:$G$109,6,FALSE)),\" \")","v":" "},null,null," ",{"$f":"IF(COUNTIF($G$10:$G69,G69)<2,$G69,\" \")","v":" "},60,{"$f":"IF(COUNTIF($G$10:$G69,I69)<3,$G69,\" \")","v":" "},60,"",1000]
[61,null,{"$f":"IF(A70>0,(VLOOKUP($A70,'Engag Pre'!$A$10:$G$74,3,FALSE)),\" \")","v":{"$error":"#N/A"}},{"$f":"IF(B70>0,(VLOOKUP($B70,'Engag Pup'!$A$10:$G$109,7,FALSE)),\" \")","v":" "},{"$f":"IF(B70>0,(VLOOKUP($B70,'Engag Pup'!$A$10:$G$109,3,FALSE)),\" \")","v":" "},{"$f":"IF(B70>0,(VLOOKUP($B70,'Engag Pup'!$A$10:$G$109,4,FALSE)),\" \")","v":" "},{"$f":"IF(B70>0,(VLOOKUP($B70,'Engag Pup'!$A$10:$G$109,5,FALSE)),\" \")","v":" "},{"$f":"IF(B70>0,(VLOOKUP($B70,'Engag Pup'!$A$10:$G$109,6,FALSE)),\" \")","v":" "},null,null," ",{"$f":"IF(COUNTIF($G$10:$G70,G70)<2,$G70,\" \")","v":" "},61,{"$f":"IF(COUNTIF($G$10:$G70,I70)<3,$G70,\" \")","v":" "},61,"",1000]
[62,null,{"$f":"IF(A71>0,(VLOOKUP($A71,'Engag Pre'!$A$10:$G$74,3,FALSE)),\" \")","v":{"$error":"#N/A"}},{"$f":"IF(B71>0,(VLOOKUP($B71,'Engag Pup'!$A$10:$G$109,7,FALSE)),\" \")","v":" "},{"$f":"IF(B71>0,(VLOOKUP($B71,'Engag Pup'!$A$10:$G$109,3,FALSE)),\" \")","v":" "},{"$f":"IF(B71>0,(VLOOKUP($B71,'Engag Pup'!$A$10:$G$109,4,FALSE)),\" \")","v":" "},{"$f":"IF(B71>0,(VLOOKUP($B71,'Engag Pup'!$A$10:$G$109,5,FALSE)),\" \")","v":" "},{"$f":"IF(B71>0,(VLOOKUP($B71,'Engag Pup'!$A$10:$G$109,6,FALSE)),\" \")","v":" "},null,null," ",{"$f":"IF(COUNTIF($G$10:$G71,G71)<2,$G71,\" \")","v":" "},62,{"$f":"IF(COUNTIF($G$10:$G71,I71)<3,$G71,\" \")","v":" "},62,"",1000]
[63,null,{"$f":"IF(A72>0,(VLOOKUP($A72,'Engag Pre'!$A$10:$G$74,3,FALSE)),\" \")","v":{"$error":"#N/A"}},{"$f":"IF(B72>0,(VLOOKUP($B72,'Engag Pup'!$A$10:$G$109,7,FALSE)),\" \")","v":" "},{"$f":"IF(B72>0,(VLOOKUP($B72,'Engag Pup'!$A$10:$G$109,3,FALSE)),\" \")","v":" "},{"$f":"IF(B72>0,(VLOOKUP($B72,'Engag Pup'!$A$10:$G$109,4,FALSE)),\" \")","v":" "},{"$f":"IF(B72>0,(VLOOKUP($B72,'Engag Pup'!$A$10:$G$109,5,FALSE)),\" \")","v":" "},{"$f":"IF(B72>0,(VLOOKUP($B72,'Engag Pup'!$A$10:$G$109,6,FALSE)),\" \")","v":" "},null,null," ",{"$f":"IF(COUNTIF($G$10:$G72,G72)<2,$G72,\" \")","v":" "},63,{"$f":"IF(COUNTIF($G$10:$G72,I72)<3,$G72,\" \")","v":" "},63,"",1000]
[64,null,{"$f":"IF(A73>0,(VLOOKUP($A73,'Engag Pre'!$A$10:$G$74,3,FALSE)),\" \")","v":{"$error":"#N/A"}},{"$f":"IF(B73>0,(VLOOKUP($B73,'Engag Pup'!$A$10:$G$109,7,FALSE)),\" \")","v":" "},{"$f":"IF(B73>0,(VLOOKUP($B73,'Engag Pup'!$A$10:$G$109,3,FALSE)),\" \")","v":" "},{"$f":"IF(B73>0,(VLOOKUP($B73,'Engag Pup'!$A$10:$G$109,4,FALSE)),\" \")","v":" "},{"$f":"IF(B73>0,(VLOOKUP($B73,'Engag Pup'!$A$10:$G$109,5,FALSE)),\" \")","v":" "},{"$f":"IF(B73>0,(VLOOKUP($B73,'Engag Pup'!$A$10:$G$109,6,FALSE)),\" \")","v":" "},null,null," ",{"$f":"IF(COUNTIF($G$10:$G73,G73)<2,$G73,\" \")","v":" "},64,{"$f":"IF(COUNTIF($G$10:$G73,I73)<3,$G73,\" \")","v":" "},64,"",1000]
[65,null,{"$f":"IF(A74>0,(VLOOKUP($A74,'Engag Pre'!$A$10:$G$74,3,FALSE)),\" \")","v":{"$error":"#N/A"}},{"$f":"IF(B74>0,(VLOOKUP($B74,'Engag Pup'!$A$10:$G$109,7,FALSE)),\" \")","v":" "},{"$f":"IF(B74>0,(VLOOKUP($B74,'Engag Pup'!$A$10:$G$109,3,FALSE)),\" \")","v":" "},{"$f":"IF(B74>0,(VLOOKUP($B74,'Engag Pup'!$A$10:$G$109,4,FALSE)),\" \")","v":" "},{"$f":"IF(B74>0,(VLOOKUP($B74,'Engag Pup'!$A$10:$G$109,5,FALSE)),\" \")","v":" "},{"$f":"IF(B74>0,(VLOOKUP($B74,'Engag Pup'!$A$10:$G$109,6,FALSE)),\" \")","v":" "},null,null," ",{"$f":"IF(COUNTIF($G$10:$G74,G74)<2,$G74,\" \")","v":" "},65,{"$f":"IF(COUNTIF($G$10:$G74,I74)<3,$G74,\" \")","v":" "},65,"",1000]
[66,null,{"$f":"IF(A75>0,(VLOOKUP($A75,'Engag Pre'!$A$10:$G$74,3,FALSE)),\" \")","v":{"$error":"#N/A"}},{"$f":"IF(B75>0,(VLOOKUP($B75,'Engag Pup'!$A$10:$G$109,7,FALSE)),\" \")","v":" "},{"$f":"IF(B75>0,(VLOOKUP($B75,'Engag Pup'!$A$10:$G$109,3,FALSE)),\" \")","v":" "},{"$f":"IF(B75>0,(VLOOKUP($B75,'Engag Pup'!$A$10:$G$109,4,FALSE)),\" \")","v":" "},{"$f":"IF(B75>0,(VLOOKUP($B75,'Engag Pup'!$A$10:$G$109,5,FALSE)),\" \")","v":" "},{"$f":"IF(B75>0,(VLOOKUP($B75,'Engag Pup'!$A$10:$G$109,6,FALSE)),\" \")","v":" "},null,null,{"$f":"IF(COUNTIF($B$10:$B$109,B75)>1,\"Déjà classé\",\" \")","v":" "},{"$f":"IF(COUNTIF($G$10:$G75,G75)<2,$G75,\" \")","v":" "},{"$f":"IF($G$6<5,1000,(IF(L75=G75,A75,\"\")))","v":66},{"$f":"IF(COUNTIF($G$10:$G75,I75)<3,$G75,\" \")","v":" "},{"$f":"IF(N75=$G75,$A75,\"\")","v":66},{"$f":"IF(N75=L75,\"\",N75)","v":""},{"$f":"IF($G$6<5,1000,(IF(P75=$G75,$A75,1000)))","v":1000}]
[67,null,{"$f":"IF(A76>0,(VLOOKUP($A76,'Engag Pre'!$A$10:$G$74,3,FALSE)),\" \")","v":{"$error":"#N/A"}},{"$f":"IF(B76>0,(VLOOKUP($B76,'Engag Pup'!$A$10:$G$109,7,FALSE)),\" \")","v":" "},{"$f":"IF(B76>0,(VLOOKUP($B76,'Engag Pup'!$A$10:$G$109,3,FALSE)),\" \")","v":" "},{"$f":"IF(B76>0,(VLOOKUP($B76,'Engag Pup'!$A$10:$G$109,4,FALSE)),\" \")","v":" "},{"$f":"IF(B76>0,(VLOOKUP($B76,'Engag Pup'!$A$10:$G$109,5,FALSE)),\" \")","v":" "},{"$f":"IF(B76>0,(VLOOKUP($B76,'Engag Pup'!$A$10:$G$109,6,FALSE)),\" \")","v":" "},null,null," ",{"$f":"IF(COUNTIF($G$10:$G76,G76)<2,$G76,\" \")","v":" "},67,{"$f":"IF(COUNTIF($G$10:$G76,I76)<3,$G76,\" \")","v":" "},67,"",1000]
[68,null,{"$f":"IF(A77>0,(VLOOKUP($A77,'Engag Pre'!$A$10:$G$74,3,FALSE)),\" \")","v":{"$error":"#N/A"}},{"$f":"IF(B77>0,(VLOOKUP($B77,'Engag Pup'!$A$10:$G$109,7,FALSE)),\" \")","v":" "},{"$f":"IF(B77>0,(VLOOKUP($B77,'Engag Pup'!$A$10:$G$109,3,FALSE)),\" \")","v":" "},{"$f":"IF(B77>0,(VLOOKUP($B77,'Engag Pup'!$A$10:$G$109,4,FALSE)),\" \")","v":" "},{"$f":"IF(B77>0,(VLOOKUP($B77,'Engag Pup'!$A$10:$G$109,5,FALSE)),\" \")","v":" "},{"$f":"IF(B77>0,(VLOOKUP($B77,'Engag Pup'!$A$10:$G$109,6,FALSE)),\" \")","v":" "},null,null," ",{"$f":"IF(COUNTIF($G$10:$G77,G77)<2,$G77,\" \")","v":" "},68,{"$f":"IF(COUNTIF($G$10:$G77,I77)<3,$G77,\" \")","v":" "},68,"",1000]
[69,null,{"$f":"IF(A78>0,(VLOOKUP($A78,'Engag Pre'!$A$10:$G$74,3,FALSE)),\" \")","v":{"$error":"#N/A"}},{"$f":"IF(B78>0,(VLOOKUP($B78,'Engag Pup'!$A$10:$G$109,7,FALSE)),\" \")","v":" "},{"$f":"IF(B78>0,(VLOOKUP($B78,'Engag Pup'!$A$10:$G$109,3,FALSE)),\" \")","v":" "},{"$f":"IF(B78>0,(VLOOKUP($B78,'Engag Pup'!$A$10:$G$109,4,FALSE)),\" \")","v":" "},{"$f":"IF(B78>0,(VLOOKUP($B78,'Engag Pup'!$A$10:$G$109,5,FALSE)),\" \")","v":" "},{"$f":"IF(B78>0,(VLOOKUP($B78,'Engag Pup'!$A$10:$G$109,6,FALSE)),\" \")","v":" "},null,null," ",{"$f":"IF(COUNTIF($G$10:$G78,G78)<2,$G78,\" \")","v":" "},69,{"$f":"IF(COUNTIF($G$10:$G78,I78)<3,$G78,\" \")","v":" "},69,"",1000]
[70,null,{"$f":"IF(A79>0,(VLOOKUP($A79,'Engag Pre'!$A$10:$G$74,3,FALSE)),\" \")","v":{"$error":"#N/A"}},{"$f":"IF(B79>0,(VLOOKUP($B79,'Engag Pup'!$A$10:$G$109,7,FALSE)),\" \")","v":" "},{"$f":"IF(B79>0,(VLOOKUP($B79,'Engag Pup'!$A$10:$G$109,3,FALSE)),\" \")","v":" "},{"$f":"IF(B79>0,(VLOOKUP($B79,'Engag Pup'!$A$10:$G$109,4,FALSE)),\" \")","v":" "},{"$f":"IF(B79>0,(VLOOKUP($B79,'Engag Pup'!$A$10:$G$109,5,FALSE)),\" \")","v":" "},{"$f":"IF(B79>0,(VLOOKUP($B79,'Engag Pup'!$A$10:$G$109,6,FALSE)),\" \")","v":" "},null,null," ",{"$f":"IF(COUNTIF($G$10:$G79,G79)<2,$G79,\" \")","v":" "},70,{"$f":"IF(COUNTIF($G$10:$G79,I79)<3,$G79,\" \")","v":" "},70,"",1000]
[71,null,{"$f":"IF(A80>0,(VLOOKUP($A80,'Engag Pre'!$A$10:$G$74,3,FALSE)),\" \")","v":{"$error":"#N/A"}},{"$f":"IF(B80>0,(VLOOKUP($B80,'Engag Pup'!$A$10:$G$109,7,FALSE)),\" \")","v":" "},{"$f":"IF(B80>0,(VLOOKUP($B80,'Engag Pup'!$A$10:$G$109,3,FALSE)),\" \")","v":" "},{"$f":"IF(B80>0,(VLOOKUP($B80,'Engag Pup'!$A$10:$G$109,4,FALSE)),\" \")","v":" "},{"$f":"IF(B80>0,(VLOOKUP($B80,'Engag Pup'!$A$10:$G$109,5,FALSE)),\" \")","v":" "},{"$f":"IF(B80>0,(VLOOKUP($B80,'Engag Pup'!$A$10:$G$109,6,FALSE)),\" \")","v":" "},null,null," ",{"$f":"IF(COUNTIF($G$10:$G80,G80)<2,$G80,\" \")","v":" "},71,{"$f":"IF(COUNTIF($G$10:$G80,I80)<3,$G80,\" \")","v":" "},71,"",1000]
[72,null,{"$f":"IF(A81>0,(VLOOKUP($A81,'Engag Pre'!$A$10:$G$74,3,FALSE)),\" \")","v":{"$error":"#N/A"}},{"$f":"IF(B81>0,(VLOOKUP($B81,'Engag Pup'!$A$10:$G$109,7,FALSE)),\" \")","v":" "},{"$f":"IF(B81>0,(VLOOKUP($B81,'Engag Pup'!$A$10:$G$109,3,FALSE)),\" \")","v":" "},{"$f":"IF(B81>0,(VLOOKUP($B81,'Engag Pup'!$A$10:$G$109,4,FALSE)),\" \")","v":" "},{"$f":"IF(B81>0,(VLOOKUP($B81,'Engag Pup'!$A$10:$G$109,5,FALSE)),\" \")","v":" "},{"$f":"IF(B81>0,(VLOOKUP($B81,'Engag Pup'!$A$10:$G$109,6,FALSE)),\" \")","v":" "},null,null," ",{"$f":"IF(COUNTIF($G$10:$G81,G81)<2,$G81,\" \")","v":" "},72,{"$f":"IF(COUNTIF($G$10:$G81,I81)<3,$G81,\" \")","v":" "},72,"",1000]
[73,null,{"$f":"IF(A82>0,(VLOOKUP($A82,'Engag Pre'!$A$10:$G$74,3,FALSE)),\" \")","v":{"$error":"#N/A"}},{"$f":"IF(B82>0,(VLOOKUP($B82,'Engag Pup'!$A$10:$G$109,7,FALSE)),\" \")","v":" "},{"$f":"IF(B82>0,(VLOOKUP($B82,'Engag Pup'!$A$10:$G$109,3,FALSE)),\" \")","v":" "},{"$f":"IF(B82>0,(VLOOKUP($B82,'Engag Pup'!$A$10:$G$109,4,FALSE)),\" \")","v":" "},{"$f":"IF(B82>0,(VLOOKUP($B82,'Engag Pup'!$A$10:$G$109,5,FALSE)),\" \")","v":" "},{"$f":"IF(B82>0,(VLOOKUP($B82,'Engag Pup'!$A$10:$G$109,6,FALSE)),\" \")","v":" "},null,null," ",{"$f":"IF(COUNTIF($G$10:$G82,G82)<2,$G82,\" \")","v":" "},73,{"$f":"IF(COUNTIF($G$10:$G82,I82)<3,$G82,\" \")","v":" "},73,"",1000]
[74,null,{"$f":"IF(A83>0,(VLOOKUP($A83,'Engag Pre'!$A$10:$G$74,3,FALSE)),\" \")","v":{"$error":"#N/A"}},{"$f":"IF(B83>0,(VLOOKUP($B83,'Engag Pup'!$A$10:$G$109,7,FALSE)),\" \")","v":" "},{"$f":"IF(B83>0,(VLOOKUP($B83,'Engag Pup'!$A$10:$G$109,3,FALSE)),\" \")","v":" "},{"$f":"IF(B83>0,(VLOOKUP($B83,'Engag Pup'!$A$10:$G$109,4,FALSE)),\" \")","v":" "},{"$f":"IF(B83>0,(VLOOKUP($B83,'Engag Pup'!$A$10:$G$109,5,FALSE)),\" \")","v":" "},{"$f":"IF(B83>0,(VLOOKUP($B83,'Engag Pup'!$A$10:$G$109,6,FALSE)),\" \")","v":" "},null,null," ",{"$f":"IF(COUNTIF($G$10:$G83,G83)<2,$G83,\" \")","v":" "},74,{"$f":"IF(COUNTIF($G$10:$G83,I83)<3,$G83,\" \")","v":" "},74,"",1000]
[75,null,{"$f":"IF(A84>0,(VLOOKUP($A84,'Engag Pre'!$A$10:$G$74,3,FALSE)),\" \")","v":{"$error":"#N/A"}},{"$f":"IF(B84>0,(VLOOKUP($B84,'Engag Pup'!$A$10:$G$109,7,FALSE)),\" \")","v":" "},{"$f":"IF(B84>0,(VLOOKUP($B84,'Engag Pup'!$A$10:$G$109,3,FALSE)),\" \")","v":" "},{"$f":"IF(B84>0,(VLOOKUP($B84,'Engag Pup'!$A$10:$G$109,4,FALSE)),\" \")","v":" "},{"$f":"IF(B84>0,(VLOOKUP($B84,'Engag Pup'!$A$10:$G$109,5,FALSE)),\" \")","v":" "},{"$f":"IF(B84>0,(VLOOKUP($B84,'Engag Pup'!$A$10:$G$109,6,FALSE)),\" \")","v":" "},null,null," ",{"$f":"IF(COUNTIF($G$10:$G84,G84)<2,$G84,\" \")","v":" "},75,{"$f":"IF(COUNTIF($G$10:$G84,I84)<3,$G84,\" \")","v":" "},75,"",1000]
[76,null,{"$f":"IF(A85>0,(VLOOKUP($A85,'Engag Pre'!$A$10:$G$74,3,FALSE)),\" \")","v":{"$error":"#N/A"}},{"$f":"IF(B85>0,(VLOOKUP($B85,'Engag Pup'!$A$10:$G$109,7,FALSE)),\" \")","v":" "},{"$f":"IF(B85>0,(VLOOKUP($B85,'Engag Pup'!$A$10:$G$109,3,FALSE)),\" \")","v":" "},{"$f":"IF(B85>0,(VLOOKUP($B85,'Engag Pup'!$A$10:$G$109,4,FALSE)),\" \")","v":" "},{"$f":"IF(B85>0,(VLOOKUP($B85,'Engag Pup'!$A$10:$G$109,5,FALSE)),\" \")","v":" "},{"$f":"IF(B85>0,(VLOOKUP($B85,'Engag Pup'!$A$10:$G$109,6,FALSE)),\" \")","v":" "},null,null," ",{"$f":"IF(COUNTIF($G$10:$G85,G85)<2,$G85,\" \")","v":" "},76,{"$f":"IF(COUNTIF($G$10:$G85,I85)<3,$G85,\" \")","v":" "},76,"",1000]
[77,null,{"$f":"IF(A86>0,(VLOOKUP($A86,'Engag Pre'!$A$10:$G$74,3,FALSE)),\" \")","v":{"$error":"#N/A"}},{"$f":"IF(B86>0,(VLOOKUP($B86,'Engag Pup'!$A$10:$G$109,7,FALSE)),\" \")","v":" "},{"$f":"IF(B86>0,(VLOOKUP($B86,'Engag Pup'!$A$10:$G$109,3,FALSE)),\" \")","v":" "},{"$f":"IF(B86>0,(VLOOKUP($B86,'Engag Pup'!$A$10:$G$109,4,FALSE)),\" \")","v":" "},{"$f":"IF(B86>0,(VLOOKUP($B86,'Engag Pup'!$A$10:$G$109,5,FALSE)),\" \")","v":" "},{"$f":"IF(B86>0,(VLOOKUP($B86,'Engag Pup'!$A$10:$G$109,6,FALSE)),\" \")","v":" "},null,null," ",{"$f":"IF(COUNTIF($G$10:$G86,G86)<2,$G86,\" \")","v":" "},77,{"$f":"IF(COUNTIF($G$10:$G86,I86)<3,$G86,\" \")","v":" "},77,"",1000]
[78,null,{"$f":"IF(A87>0,(VLOOKUP($A87,'Engag Pre'!$A$10:$G$74,3,FALSE)),\" \")","v":{"$error":"#N/A"}},{"$f":"IF(B87>0,(VLOOKUP($B87,'Engag Pup'!$A$10:$G$109,7,FALSE)),\" \")","v":" "},{"$f":"IF(B87>0,(VLOOKUP($B87,'Engag Pup'!$A$10:$G$109,3,FALSE)),\" \")","v":" "},{"$f":"IF(B87>0,(VLOOKUP($B87,'Engag Pup'!$A$10:$G$109,4,FALSE)),\" \")","v":" "},{"$f":"IF(B87>0,(VLOOKUP($B87,'Engag Pup'!$A$10:$G$109,5,FALSE)),\" \")","v":" "},{"$f":"IF(B87>0,(VLOOKUP($B87,'Engag Pup'!$A$10:$G$109,6,FALSE)),\" \")","v":" "},null,null," ",{"$f":"IF(COUNTIF($G$10:$G87,G87)<2,$G87,\" \")","v":" "},78,{"$f":"IF(COUNTIF($G$10:$G87,I87)<3,$G87,\" \")","v":" "},78,"",1000]
[79,null,{"$f":"IF(A88>0,(VLOOKUP($A88,'Engag Pre'!$A$10:$G$74,3,FALSE)),\" \")","v":{"$error":"#N/A"}},{"$f":"IF(B88>0,(VLOOKUP($B88,'Engag Pup'!$A$10:$G$109,7,FALSE)),\" \")","v":" "},{"$f":"IF(B88>0,(VLOOKUP($B88,'Engag Pup'!$A$10:$G$109,3,FALSE)),\" \")","v":" "},{"$f":"IF(B88>0,(VLOOKUP($B88,'Engag Pup'!$A$10:$G$109,4,FALSE)),\" \")","v":" "},{"$f":"IF(B88>0,(VLOOKUP($B88,'Engag Pup'!$A$10:$G$109,5,FALSE)),\" \")","v":" "},{"$f":"IF(B88>0,(VLOOKUP($B88,'Engag Pup'!$A$10:$G$109,6,FALSE)),\" \")","v":" "},null,null," ",{"$f":"IF(COUNTIF($G$10:$G88,G88)<2,$G88,\" \")","v":" "},79,{"$f":"IF(COUNTIF($G$10:$G88,I88)<3,$G88,\" \")","v":" "},79,"",1000]
[80,null,{"$f":"IF(A89>0,(VLOOKUP($A89,'Engag Pre'!$A$10:$G$74,3,FALSE)),\" \")","v":{"$error":"#N/A"}},{"$f":"IF(B89>0,(VLOOKUP($B89,'Engag Pup'!$A$10:$G$109,7,FALSE)),\" \")","v":" "},{"$f":"IF(B89>0,(VLOOKUP($B89,'Engag Pup'!$A$10:$G$109,3,FALSE)),\" \")","v":" "},{"$f":"IF(B89>0,(VLOOKUP($B89,'Engag Pup'!$A$10:$G$109,4,FALSE)),\" \")","v":" "},{"$f":"IF(B89>0,(VLOOKUP($B89,'Engag Pup'!$A$10:$G$109,5,FALSE)),\" \")","v":" "},{"$f":"IF(B89>0,(VLOOKUP($B89,'Engag Pup'!$A$10:$G$109,6,FALSE)),\" \")","v":" "},null,null," ",{"$f":"IF(COUNTIF($G$10:$G89,G89)<2,$G89,\" \")","v":" "},80,{"$f":"IF(COUNTIF($G$10:$G89,I89)<3,$G89,\" \")","v":" "},80,"",1000]
[81,null,{"$f":"IF(A90>0,(VLOOKUP($A90,'Engag Pre'!$A$10:$G$74,3,FALSE)),\" \")","v":{"$error":"#N/A"}},{"$f":"IF(B90>0,(VLOOKUP($B90,'Engag Pup'!$A$10:$G$109,7,FALSE)),\" \")","v":" "},{"$f":"IF(B90>0,(VLOOKUP($B90,'Engag Pup'!$A$10:$G$109,3,FALSE)),\" \")","v":" "},{"$f":"IF(B90>0,(VLOOKUP($B90,'Engag Pup'!$A$10:$G$109,4,FALSE)),\" \")","v":" "},{"$f":"IF(B90>0,(VLOOKUP($B90,'Engag Pup'!$A$10:$G$109,5,FALSE)),\" \")","v":" "},{"$f":"IF(B90>0,(VLOOKUP($B90,'Engag Pup'!$A$10:$G$109,6,FALSE)),\" \")","v":" "},null,null," ",{"$f":"IF(COUNTIF($G$10:$G90,G90)<2,$G90,\" \")","v":" "},81,{"$f":"IF(COUNTIF($G$10:$G90,I90)<3,$G90,\" \")","v":" "},81,"",1000]
[82,null,{"$f":"IF(A91>0,(VLOOKUP($A91,'Engag Pre'!$A$10:$G$74,3,FALSE)),\" \")","v":{"$error":"#N/A"}},{"$f":"IF(B91>0,(VLOOKUP($B91,'Engag Pup'!$A$10:$G$109,7,FALSE)),\" \")","v":" "},{"$f":"IF(B91>0,(VLOOKUP($B91,'Engag Pup'!$A$10:$G$109,3,FALSE)),\" \")","v":" "},{"$f":"IF(B91>0,(VLOOKUP($B91,'Engag Pup'!$A$10:$G$109,4,FALSE)),\" \")","v":" "},{"$f":"IF(B91>0,(VLOOKUP($B91,'Engag Pup'!$A$10:$G$109,5,FALSE)),\" \")","v":" "},{"$f":"IF(B91>0,(VLOOKUP($B91,'Engag Pup'!$A$10:$G$109,6,FALSE)),\" \")","v":" "},null,null," ",{"$f":"IF(COUNTIF($G$10:$G91,G91)<2,$G91,\" \")","v":" "},82,{"$f":"IF(COUNTIF($G$10:$G91,I91)<3,$G91,\" \")","v":" "},82,"",1000]
[83,null,{"$f":"IF(A92>0,(VLOOKUP($A92,'Engag Pre'!$A$10:$G$74,3,FALSE)),\" \")","v":{"$error":"#N/A"}},{"$f":"IF(B92>0,(VLOOKUP($B92,'Engag Pup'!$A$10:$G$109,7,FALSE)),\" \")","v":" "},{"$f":"IF(B92>0,(VLOOKUP($B92,'Engag Pup'!$A$10:$G$109,3,FALSE)),\" \")","v":" "},{"$f":"IF(B92>0,(VLOOKUP($B92,'Engag Pup'!$A$10:$G$109,4,FALSE)),\" \")","v":" "},{"$f":"IF(B92>0,(VLOOKUP($B92,'Engag Pup'!$A$10:$G$109,5,FALSE)),\" \")","v":" "},{"$f":"IF(B92>0,(VLOOKUP($B92,'Engag Pup'!$A$10:$G$109,6,FALSE)),\" \")","v":" "},null,null," ",{"$f":"IF(COUNTIF($G$10:$G92,G92)<2,$G92,\" \")","v":" "},83,{"$f":"IF(COUNTIF($G$10:$G92,I92)<3,$G92,\" \")","v":" "},83,"",1000]
[84,null,{"$f":"IF(A93>0,(VLOOKUP($A93,'Engag Pre'!$A$10:$G$74,3,FALSE)),\" \")","v":{"$error":"#N/A"}},{"$f":"IF(B93>0,(VLOOKUP($B93,'Engag Pup'!$A$10:$G$109,7,FALSE)),\" \")","v":" "},{"$f":"IF(B93>0,(VLOOKUP($B93,'Engag Pup'!$A$10:$G$109,3,FALSE)),\" \")","v":" "},{"$f":"IF(B93>0,(VLOOKUP($B93,'Engag Pup'!$A$10:$G$109,4,FALSE)),\" \")","v":" "},{"$f":"IF(B93>0,(VLOOKUP($B93,'Engag Pup'!$A$10:$G$109,5,FALSE)),\" \")","v":" "},{"$f":"IF(B93>0,(VLOOKUP($B93,'Engag Pup'!$A$10:$G$109,6,FALSE)),\" \")","v":" "},null,null," ",{"$f":"IF(COUNTIF($G$10:$G93,G93)<2,$G93,\" \")","v":" "},84,{"$f":"IF(COUNTIF($G$10:$G93,I93)<3,$G93,\" \")","v":" "},84,"",1000]
[85,null,{"$f":"IF(A94>0,(VLOOKUP($A94,'Engag Pre'!$A$10:$G$74,3,FALSE)),\" \")","v":{"$error":"#N/A"}},{"$f":"IF(B94>0,(VLOOKUP($B94,'Engag Pup'!$A$10:$G$109,7,FALSE)),\" \")","v":" "},{"$f":"IF(B94>0,(VLOOKUP($B94,'Engag Pup'!$A$10:$G$109,3,FALSE)),\" \")","v":" "},{"$f":"IF(B94>0,(VLOOKUP($B94,'Engag Pup'!$A$10:$G$109,4,FALSE)),\" \")","v":" "},{"$f":"IF(B94>0,(VLOOKUP($B94,'Engag Pup'!$A$10:$G$109,5,FALSE)),\" \")","v":" "},{"$f":"IF(B94>0,(VLOOKUP($B94,'Engag Pup'!$A$10:$G$109,6,FALSE)),\" \")","v":" "},null,null," ",{"$f":"IF(COUNTIF($G$10:$G94,G94)<2,$G94,\" \")","v":" "},85,{"$f":"IF(COUNTIF($G$10:$G94,I94)<3,$G94,\" \")","v":" "},85,"",1000]
[86,null,{"$f":"IF(A95>0,(VLOOKUP($A95,'Engag Pre'!$A$10:$G$74,3,FALSE)),\" \")","v":{"$error":"#N/A"}},{"$f":"IF(B95>0,(VLOOKUP($B95,'Engag Pup'!$A$10:$G$109,7,FALSE)),\" \")","v":" "},{"$f":"IF(B95>0,(VLOOKUP($B95,'Engag Pup'!$A$10:$G$109,3,FALSE)),\" \")","v":" "},{"$f":"IF(B95>0,(VLOOKUP($B95,'Engag Pup'!$A$10:$G$109,4,FALSE)),\" \")","v":" "},{"$f":"IF(B95>0,(VLOOKUP($B95,'Engag Pup'!$A$10:$G$109,5,FALSE)),\" \")","v":" "},{"$f":"IF(B95>0,(VLOOKUP($B95,'Engag Pup'!$A$10:$G$109,6,FALSE)),\" \")","v":" "},null,null," ",{"$f":"IF(COUNTIF($G$10:$G95,G95)<2,$G95,\" \")","v":" "},86,{"$f":"IF(COUNTIF($G$10:$G95,I95)<3,$G95,\" \")","v":" "},86,"",1000]
[87,null,{"$f":"IF(A96>0,(VLOOKUP($A96,'Engag Pre'!$A$10:$G$74,3,FALSE)),\" \")","v":{"$error":"#N/A"}},{"$f":"IF(B96>0,(VLOOKUP($B96,'Engag Pup'!$A$10:$G$109,7,FALSE)),\" \")","v":" "},{"$f":"IF(B96>0,(VLOOKUP($B96,'Engag Pup'!$A$10:$G$109,3,FALSE)),\" \")","v":" "},{"$f":"IF(B96>0,(VLOOKUP($B96,'Engag Pup'!$A$10:$G$109,4,FALSE)),\" \")","v":" "},{"$f":"IF(B96>0,(VLOOKUP($B96,'Engag Pup'!$A$10:$G$109,5,FALSE)),\" \")","v":" "},{"$f":"IF(B96>0,(VLOOKUP($B96,'Engag Pup'!$A$10:$G$109,6,FALSE)),\" \")","v":" "},null,null," ",{"$f":"IF(COUNTIF($G$10:$G96,G96)<2,$G96,\" \")","v":" "},87,{"$f":"IF(COUNTIF($G$10:$G96,I96)<3,$G96,\" \")","v":" "},87,"",1000]
[88,null,{"$f":"IF(A97>0,(VLOOKUP($A97,'Engag Pre'!$A$10:$G$74,3,FALSE)),\" \")","v":{"$error":"#N/A"}},{"$f":"IF(B97>0,(VLOOKUP($B97,'Engag Pup'!$A$10:$G$109,7,FALSE)),\" \")","v":" "},{"$f":"IF(B97>0,(VLOOKUP($B97,'Engag Pup'!$A$10:$G$109,3,FALSE)),\" \")","v":" "},{"$f":"IF(B97>0,(VLOOKUP($B97,'Engag Pup'!$A$10:$G$109,4,FALSE)),\" \")","v":" "},{"$f":"IF(B97>0,(VLOOKUP($B97,'Engag Pup'!$A$10:$G$109,5,FALSE)),\" \")","v":" "},{"$f":"IF(B97>0,(VLOOKUP($B97,'Engag Pup'!$A$10:$G$109,6,FALSE)),\" \")","v":" "},null,null," ",{"$f":"IF(COUNTIF($G$10:$G97,G97)<2,$G97,\" \")","v":" "},88,{"$f":"IF(COUNTIF($G$10:$G97,I97)<3,$G97,\" \")","v":" "},88,"",1000]
[89,null,{"$f":"IF(A98>0,(VLOOKUP($A98,'Engag Pre'!$A$10:$G$74,3,FALSE)),\" \")","v":{"$error":"#N/A"}},{"$f":"IF(B98>0,(VLOOKUP($B98,'Engag Pup'!$A$10:$G$109,7,FALSE)),\" \")","v":" "},{"$f":"IF(B98>0,(VLOOKUP($B98,'Engag Pup'!$A$10:$G$109,3,FALSE)),\" \")","v":" "},{"$f":"IF(B98>0,(VLOOKUP($B98,'Engag Pup'!$A$10:$G$109,4,FALSE)),\" \")","v":" "},{"$f":"IF(B98>0,(VLOOKUP($B98,'Engag Pup'!$A$10:$G$109,5,FALSE)),\" \")","v":" "},{"$f":"IF(B98>0,(VLOOKUP($B98,'Engag Pup'!$A$10:$G$109,6,FALSE)),\" \")","v":" "},null,null," ",{"$f":"IF(COUNTIF($G$10:$G98,G98)<2,$G98,\" \")","v":" "},89,{"$f":"IF(COUNTIF($G$10:$G98,I98)<3,$G98,\" \")","v":" "},89,"",1000]
[90,null,{"$f":"IF(A99>0,(VLOOKUP($A99,'Engag Pre'!$A$10:$G$74,3,FALSE)),\" \")","v":{"$error":"#N/A"}},{"$f":"IF(B99>0,(VLOOKUP($B99,'Engag Pup'!$A$10:$G$109,7,FALSE)),\" \")","v":" "},{"$f":"IF(B99>0,(VLOOKUP($B99,'Engag Pup'!$A$10:$G$109,3,FALSE)),\" \")","v":" "},{"$f":"IF(B99>0,(VLOOKUP($B99,'Engag Pup'!$A$10:$G$109,4,FALSE)),\" \")","v":" "},{"$f":"IF(B99>0,(VLOOKUP($B99,'Engag Pup'!$A$10:$G$109,5,FALSE)),\" \")","v":" "},{"$f":"IF(B99>0,(VLOOKUP($B99,'Engag Pup'!$A$10:$G$109,6,FALSE)),\" \")","v":" "},null,null," ",{"$f":"IF(COUNTIF($G$10:$G99,G99)<2,$G99,\" \")","v":" "},90,{"$f":"IF(COUNTIF($G$10:$G99,I99)<3,$G99,\" \")","v":" "},90,"",1000]
[91,null,{"$f":"IF(A100>0,(VLOOKUP($A100,'Engag Pre'!$A$10:$G$74,3,FALSE)),\" \")","v":{"$error":"#N/A"}},{"$f":"IF(B100>0,(VLOOKUP($B100,'Engag Pup'!$A$10:$G$109,7,FALSE)),\" \")","v":" "},{"$f":"IF(B100>0,(VLOOKUP($B100,'Engag Pup'!$A$10:$G$109,3,FALSE)),\" \")","v":" "},{"$f":"IF(B100>0,(VLOOKUP($B100,'Engag Pup'!$A$10:$G$109,4,FALSE)),\" \")","v":" "},{"$f":"IF(B100>0,(VLOOKUP($B100,'Engag Pup'!$A$10:$G$109,5,FALSE)),\" \")","v":" "},{"$f":"IF(B100>0,(VLOOKUP($B100,'Engag Pup'!$A$10:$G$109,6,FALSE)),\" \")","v":" "},null,null," ",{"$f":"IF(COUNTIF($G$10:$G100,G100)<2,$G100,\" \")","v":" "},91,{"$f":"IF(COUNTIF($G$10:$G100,I100)<3,$G100,\" \")","v":" "},91,"",1000]
[92,null,{"$f":"IF(A101>0,(VLOOKUP($A101,'Engag Pre'!$A$10:$G$74,3,FALSE)),\" \")","v":{"$error":"#N/A"}},{"$f":"IF(B101>0,(VLOOKUP($B101,'Engag Pup'!$A$10:$G$109,7,FALSE)),\" \")","v":" "},{"$f":"IF(B101>0,(VLOOKUP($B101,'Engag Pup'!$A$10:$G$109,3,FALSE)),\" \")","v":" "},{"$f":"IF(B101>0,(VLOOKUP($B101,'Engag Pup'!$A$10:$G$109,4,FALSE)),\" \")","v":" "},{"$f":"IF(B101>0,(VLOOKUP($B101,'Engag Pup'!$A$10:$G$109,5,FALSE)),\" \")","v":" "},{"$f":"IF(B101>0,(VLOOKUP($B101,'Engag Pup'!$A$10:$G$109,6,FALSE)),\" \")","v":" "},null,null," ",{"$f":"IF(COUNTIF($G$10:$G101,G101)<2,$G101,\" \")","v":" "},92,{"$f":"IF(COUNTIF($G$10:$G101,I101)<3,$G101,\" \")","v":" "},92,"",1000]
[93,null,{"$f":"IF(A102>0,(VLOOKUP($A102,'Engag Pre'!$A$10:$G$74,3,FALSE)),\" \")","v":{"$error":"#N/A"}},{"$f":"IF(B102>0,(VLOOKUP($B102,'Engag Pup'!$A$10:$G$109,7,FALSE)),\" \")","v":" "},{"$f":"IF(B102>0,(VLOOKUP($B102,'Engag Pup'!$A$10:$G$109,3,FALSE)),\" \")","v":" "},{"$f":"IF(B102>0,(VLOOKUP($B102,'Engag Pup'!$A$10:$G$109,4,FALSE)),\" \")","v":" "},{"$f":"IF(B102>0,(VLOOKUP($B102,'Engag Pup'!$A$10:$G$109,5,FALSE)),\" \")","v":" "},{"$f":"IF(B102>0,(VLOOKUP($B102,'Engag Pup'!$A$10:$G$109,6,FALSE)),\" \")","v":" "},null,null," ",{"$f":"IF(COUNTIF($G$10:$G102,G102)<2,$G102,\" \")","v":" "},93,{"$f":"IF(COUNTIF($G$10:$G102,I102)<3,$G102,\" \")","v":" "},93,"",1000]
[94,null,{"$f":"IF(A103>0,(VLOOKUP($A103,'Engag Pre'!$A$10:$G$74,3,FALSE)),\" \")","v":{"$error":"#N/A"}},{"$f":"IF(B103>0,(VLOOKUP($B103,'Engag Pup'!$A$10:$G$109,7,FALSE)),\" \")","v":" "},{"$f":"IF(B103>0,(VLOOKUP($B103,'Engag Pup'!$A$10:$G$109,3,FALSE)),\" \")","v":" "},{"$f":"IF(B103>0,(VLOOKUP($B103,'Engag Pup'!$A$10:$G$109,4,FALSE)),\" \")","v":" "},{"$f":"IF(B103>0,(VLOOKUP($B103,'Engag Pup'!$A$10:$G$109,5,FALSE)),\" \")","v":" "},{"$f":"IF(B103>0,(VLOOKUP($B103,'Engag Pup'!$A$10:$G$109,6,FALSE)),\" \")","v":" "},null,null," ",{"$f":"IF(COUNTIF($G$10:$G103,G103)<2,$G103,\" \")","v":" "},94,{"$f":"IF(COUNTIF($G$10:$G103,I103)<3,$G103,\" \")","v":" "},94,"",1000]
[95,null,{"$f":"IF(A104>0,(VLOOKUP($A104,'Engag Pre'!$A$10:$G$74,3,FALSE)),\" \")","v":{"$error":"#N/A"}},{"$f":"IF(B104>0,(VLOOKUP($B104,'Engag Pup'!$A$10:$G$109,7,FALSE)),\" \")","v":" "},{"$f":"IF(B104>0,(VLOOKUP($B104,'Engag Pup'!$A$10:$G$109,3,FALSE)),\" \")","v":" "},{"$f":"IF(B104>0,(VLOOKUP($B104,'Engag Pup'!$A$10:$G$109,4,FALSE)),\" \")","v":" "},{"$f":"IF(B104>0,(VLOOKUP($B104,'Engag Pup'!$A$10:$G$109,5,FALSE)),\" \")","v":" "},{"$f":"IF(B104>0,(VLOOKUP($B104,'Engag Pup'!$A$10:$G$109,6,FALSE)),\" \")","v":" "},null,null," ",{"$f":"IF(COUNTIF($G$10:$G104,G104)<2,$G104,\" \")","v":" "},95,{"$f":"IF(COUNTIF($G$10:$G104,I104)<3,$G104,\" \")","v":" "},95,"",1000]
[96,null,{"$f":"IF(A105>0,(VLOOKUP($A105,'Engag Pre'!$A$10:$G$74,3,FALSE)),\" \")","v":{"$error":"#N/A"}},{"$f":"IF(B105>0,(VLOOKUP($B105,'Engag Pup'!$A$10:$G$109,7,FALSE)),\" \")","v":" "},{"$f":"IF(B105>0,(VLOOKUP($B105,'Engag Pup'!$A$10:$G$109,3,FALSE)),\" \")","v":" "},{"$f":"IF(B105>0,(VLOOKUP($B105,'Engag Pup'!$A$10:$G$109,4,FALSE)),\" \")","v":" "},{"$f":"IF(B105>0,(VLOOKUP($B105,'Engag Pup'!$A$10:$G$109,5,FALSE)),\" \")","v":" "},{"$f":"IF(B105>0,(VLOOKUP($B105,'Engag Pup'!$A$10:$G$109,6,FALSE)),\" \")","v":" "},null,null," ",{"$f":"IF(COUNTIF($G$10:$G105,G105)<2,$G105,\" \")","v":" "},96,{"$f":"IF(COUNTIF($G$10:$G105,I105)<3,$G105,\" \")","v":" "},96,"",1000]
[97,null,{"$f":"IF(A106>0,(VLOOKUP($A106,'Engag Pre'!$A$10:$G$74,3,FALSE)),\" \")","v":{"$error":"#N/A"}},{"$f":"IF(B106>0,(VLOOKUP($B106,'Engag Pup'!$A$10:$G$109,7,FALSE)),\" \")","v":" "},{"$f":"IF(B106>0,(VLOOKUP($B106,'Engag Pup'!$A$10:$G$109,3,FALSE)),\" \")","v":" "},{"$f":"IF(B106>0,(VLOOKUP($B106,'Engag Pup'!$A$10:$G$109,4,FALSE)),\" \")","v":" "},{"$f":"IF(B106>0,(VLOOKUP($B106,'Engag Pup'!$A$10:$G$109,5,FALSE)),\" \")","v":" "},{"$f":"IF(B106>0,(VLOOKUP($B106,'Engag Pup'!$A$10:$G$109,6,FALSE)),\" \")","v":" "},null,null," ",{"$f":"IF(COUNTIF($G$10:$G106,G106)<2,$G106,\" \")","v":" "},97,{"$f":"IF(COUNTIF($G$10:$G106,I106)<3,$G106,\" \")","v":" "},97,"",1000]
[98,null,{"$f":"IF(A107>0,(VLOOKUP($A107,'Engag Pre'!$A$10:$G$74,3,FALSE)),\" \")","v":{"$error":"#N/A"}},{"$f":"IF(B107>0,(VLOOKUP($B107,'Engag Pup'!$A$10:$G$109,7,FALSE)),\" \")","v":" "},{"$f":"IF(B107>0,(VLOOKUP($B107,'Engag Pup'!$A$10:$G$109,3,FALSE)),\" \")","v":" "},{"$f":"IF(B107>0,(VLOOKUP($B107,'Engag Pup'!$A$10:$G$109,4,FALSE)),\" \")","v":" "},{"$f":"IF(B107>0,(VLOOKUP($B107,'Engag Pup'!$A$10:$G$109,5,FALSE)),\" \")","v":" "},{"$f":"IF(B107>0,(VLOOKUP($B107,'Engag Pup'!$A$10:$G$109,6,FALSE)),\" \")","v":" "},null,null," ",{"$f":"IF(COUNTIF($G$10:$G107,G107)<2,$G107,\" \")","v":" "},98,{"$f":"IF(COUNTIF($G$10:$G107,I107)<3,$G107,\" \")","v":" "},98,"",1000]
[99,null,{"$f":"IF(A108>0,(VLOOKUP($A108,'Engag Pre'!$A$10:$G$74,3,FALSE)),\" \")","v":{"$error":"#N/A"}},{"$f":"IF(B108>0,(VLOOKUP($B108,'Engag Pup'!$A$10:$G$109,7,FALSE)),\" \")","v":" "},{"$f":"IF(B108>0,(VLOOKUP($B108,'Engag Pup'!$A$10:$G$109,3,FALSE)),\" \")","v":" "},{"$f":"IF(B108>0,(VLOOKUP($B108,'Engag Pup'!$A$10:$G$109,4,FALSE)),\" \")","v":" "},{"$f":"IF(B108>0,(VLOOKUP($B108,'Engag Pup'!$A$10:$G$109,5,FALSE)),\" \")","v":" "},{"$f":"IF(B108>0,(VLOOKUP($B108,'Engag Pup'!$A$10:$G$109,6,FALSE)),\" \")","v":" "},null,null," ",{"$f":"IF(COUNTIF($G$10:$G108,G108)<2,$G108,\" \")","v":" "},99,{"$f":"IF(COUNTIF($G$10:$G108,I108)<3,$G108,\" \")","v":" "},99,"",1000]
[100,null,{"$f":"IF(A109>0,(VLOOKUP($A109,'Engag Pre'!$A$10:$G$74,3,FALSE)),\" \")","v":{"$error":"#N/A"}},{"$f":"IF(B109>0,(VLOOKUP($B109,'Engag Pup'!$A$10:$G$109,7,FALSE)),\" \")","v":" "},{"$f":"IF(B109>0,(VLOOKUP($B109,'Engag Pup'!$A$10:$G$109,3,FALSE)),\" \")","v":" "},{"$f":"IF(B109>0,(VLOOKUP($B109,'Engag Pup'!$A$10:$G$109,4,FALSE)),\" \")","v":" "},{"$f":"IF(B109>0,(VLOOKUP($B109,'Engag Pup'!$A$10:$G$109,5,FALSE)),\" \")","v":" "},{"$f":"IF(B109>0,(VLOOKUP($B109,'Engag Pup'!$A$10:$G$109,6,FALSE)),\" \")","v":" "},null,null," ",{"$f":"IF(COUNTIF($G$10:$G109,G109)<2,$G109,\" \")","v":" "},100,{"$f":"IF(COUNTIF($G$10:$G109,I109)<3,$G109,\" \")","v":" "},100,"",1000]
["CLASSEMENT PUPILLES 2"]
["Rang","Doss","Code UCI","Licence","Nom","Prénom","Club","Catégorie","Temps","Ecart"]
[1,50,{"$f":"IF(A112>0,(VLOOKUP($A10,'Engag Pre'!$A$10:$G$74,3,FALSE)),\" \")","v":{"$error":"#N/A"}},{"$f":"IF(B112>0,(VLOOKUP($B112,'Engag Pup'!$A$10:$G$109,7,FALSE)),\" \")","v":"0589004017"},{"$f":"IF(B112>0,(VLOOKUP($B112,'Engag Pup'!$A$10:$G$109,3,FALSE)),\" \")","v":"GONZALEZ"},{"$f":"IF(B112>0,(VLOOKUP($B112,'Engag Pup'!$A$10:$G$109,4,FALSE)),\" \")","v":"Mathis"},{"$f":"IF(B112>0,(VLOOKUP($B112,'Engag Pup'!$A$10:$G$109,5,FALSE)),\" \")","v":"ASPTT AUXERRE"},{"$f":"IF(B112>0,(VLOOKUP($B112,'Engag Pup'!$A$10:$G$109,6,FALSE)),\" \")","v":"Pupille 2"},null,null,{"$f":"IF(COUNTIF($B$10:$B$109,B112)>1,\"Déjà classé\",\" \")","v":" "},{"$f":"IF(COUNTIF($G$10:$G112,G112)<2,$G112,\" \")","v":"ASPTT AUXERRE"},{"$f":"IF($G$6<5,1000,(IF(L112=G112,A112,\"\")))","v":1},{"$f":"IF(COUNTIF($G$10:$G112,I112)<3,$G112,\" \")","v":"ASPTT AUXERRE"},{"$f":"IF(N112=$G112,$A112,\"\")","v":1},{"$f":"IF(N112=L112,\"\",N112)","v":""},{"$f":"IF($G$6<5,1000,(IF(P112=$G112,$A112,1000)))","v":1000}]
[2,41,{"$f":"IF(A113>0,(VLOOKUP($A11,'Engag Pre'!$A$10:$G$74,3,FALSE)),\" \")","v":{"$error":"#N/A"}},{"$f":"IF(B113>0,(VLOOKUP($B113,'Engag Pup'!$A$10:$G$109,7,FALSE)),\" \")","v":"1293533175"},{"$f":"IF(B113>0,(VLOOKUP($B113,'Engag Pup'!$A$10:$G$109,3,FALSE)),\" \")","v":"CLEMENT"},{"$f":"IF(B113>0,(VLOOKUP($B113,'Engag Pup'!$A$10:$G$109,4,FALSE)),\" \")","v":"Christiano"},{"$f":"IF(B113>0,(VLOOKUP($B113,'Engag Pup'!$A$10:$G$109,5,FALSE)),\" \")","v":"ES STAINS"},{"$f":"IF(B113>0,(VLOOKUP($B113,'Engag Pup'!$A$10:$G$109,6,FALSE)),\" \")","v":"Pupille 2"},null,null,{"$f":"IF(COUNTIF($B$10:$B$109,B113)>1,\"Déjà classé\",\" \")","v":" "},{"$f":"IF(COUNTIF($G$10:$G113,G113)<2,$G113,\" \")","v":" "},{"$f":"IF($G$6<5,1000,(IF(L113=G113,A113,\"\")))","v":""},{"$f":"IF(COUNTIF($G$10:$G113,I113)<3,$G113,\" \")","v":"ES STAINS"},{"$f":"IF(N113=$G113,$A113,\"\")","v":2},{"$f":"IF(N113=L113,\"\",N113)","v":"ES STAINS"},{"$f":"IF($G$6<5,1000,(IF(P113=$G113,$A113,1000)))","v":2}]
[3,47,{"$f":"IF(A114>0,(VLOOKUP($A12,'Engag Pre'!$A$10:$G$74,3,FALSE)),\" \")","v":{"$error":"#N/A"}},{"$f":"IF(B114>0,(VLOOKUP($B114,'Engag Pup'!$A$10:$G$109,7,FALSE)),\" \")","v":"1291307018"},{"$f":"IF(B114>0,(VLOOKUP($B114,'Engag Pup'!$A$10:$G$109,3,FALSE)),\" \")","v":"KARPP"},{"$f":"IF(B114>0,(VLOOKUP($B114,'Engag Pup'!$A$10:$G$109,4,FALSE)),\" \")","v":"Gwendal"},{"$f":"IF(B114>0,(VLOOKUP($B114,'Engag Pup'!$A$10:$G$109,5,FALSE)),\" \")","v":"EC MONTGERON VIGNEUX"},{"$f":"IF(B114>0,(VLOOKUP($B114,'Engag Pup'!$A$10:$G$109,6,FALSE)),\" \")","v":"Pupille 2"},null,null," ",{"$f":"IF(COUNTIF($G$10:$G114,G114)<2,$G114,\" \")","v":"EC MONTGERON VIGNEUX"},3,{"$f":"IF(COUNTIF($G$10:$G114,I114)<3,$G114,\" \")","v":"EC MONTGERON VIGNEUX"},3,"",1000]
[4,53,{"$f":"IF(A115>0,(VLOOKUP($A13,'Engag Pre'!$A$10:$G$74,3,FALSE)),\" \")","v":{"$error":"#N/A"}},{"$f":"IF(B115>0,(VLOOKUP($B115,'Engag Pup'!$A$10:$G$109,7,FALSE)),\" \")","v":"1960037008"},{"$f":"IF(B115>0,(VLOOKUP($B115,'Engag Pup'!$A$10:$G$109,3,FALSE)),\" \")","v":"DEREBERGUE"},{"$f":"IF(B115>0,(VLOOKUP($B115,'Engag Pup'!$A$10:$G$109,4,FALSE)),\" \")","v":"Victor"},{"$f":"IF(B115>0,(VLOOKUP($B115,'Engag Pup'!$A$10:$G$109,5,FALSE)),\" \")","v":"CC NOGENT / OISE"},{"$f":"IF(B115>0,(VLOOKUP($B115,'Engag Pup'!$A$10:$G$109,6,FALSE)),\" \")","v":"Pupille 2"},null,null," ",{"$f":"IF(COUNTIF($G$10:$G115,G115)<2,$G115,\" \")","v":"CC NOGENT / OISE"},4,{"$f":"IF(COUNTIF($G$10:$G115,I115)<3,$G115,\" \")","v":"CC NOGENT / OISE"},4,"",1000]
[5,39,{"$f":"IF(A116>0,(VLOOKUP($A14,'Engag Pre'!$A$10:$G$74,3,FALSE)),\" \")","v":{"$error":"#N/A"}},{"$f":"IF(B116>0,(VLOOKUP($B116,'Engag Pup'!$A$10:$G$109,7,FALSE)),\" \")","v":"1293527112"},{"$f":"IF(B116>0,(VLOOKUP($B116,'Engag Pup'!$A$10:$G$109,3,FALSE)),\" \")","v":"PRIGENT"},{"$f":"IF(B116>0,(VLOOKUP($B116,'Engag Pup'!$A$10:$G$109,4,FALSE)),\" \")","v":"Gaël"},{"$f":"IF(B116>0,(VLOOKUP($B116,'Engag Pup'!$A$10:$G$109,5,FALSE)),\" \")","v":"VC CLICHY SOUS BOIS"},{"$f":"IF(B116>0,(VLOOKUP($B116,'Engag Pup'!$A$10:$G$109,6,FALSE)),\" \")","v":"Pupille 2"},null,null," ",{"$f":"IF(COUNTIF($G$10:$G116,G116)<2,$G116,\" \")","v":" "},"",{"$f":"IF(COUNTIF($G$10:$G116,I116)<3,$G116,\" \")","v":"VC CLICHY SOUS BOIS"},5,"VC CLICHY SOUS BOIS",5]
[6,35,{"$f":"IF(A117>0,(VLOOKUP($A15,'Engag Pre'!$A$10:$G$74,3,FALSE)),\" \")","v":{"$error":"#N/A"}},{"$f":"IF(B117>0,(VLOOKUP($B117,'Engag Pup'!$A$10:$G$109,7,FALSE)),\" \")","v":"1277104061"},{"$f":"IF(B117>0,(VLOOKUP($B117,'Engag Pup'!$A$10:$G$109,3,FALSE)),\" \")","v":"FRAGNOLI"},{"$f":"IF(B117>0,(VLOOKUP($B117,'Engag Pup'!$A$10:$G$109,4,FALSE)),\" \")","v":"Giovany"},{"$f":"IF(B117>0,(VLOOKUP($B117,'Engag Pup'!$A$10:$G$109,5,FALSE)),\" \")","v":"PEDALE COMBS LA VILLAISE"},{"$f":"IF(B117>0,(VLOOKUP($B117,'Engag Pup'!$A$10:$G$109,6,FALSE)),\" \")","v":"Pupille 2"},null,null," ",{"$f":"IF(COUNTIF($G$10:$G117,G117)<2,$G117,\" \")","v":" "},"",{"$f":"IF(COUNTIF($G$10:$G117,I117)<3,$G117,\" \")","v":"PEDALE COMBS LA VILLAISE"},6,"PEDALE COMBS LA VILLAISE",6]
[7,48,{"$f":"IF(A118>0,(VLOOKUP($A16,'Engag Pre'!$A$10:$G$74,3,FALSE)),\" \")","v":{"$error":"#N/A"}},{"$f":"IF(B118>0,(VLOOKUP($B118,'Engag Pup'!$A$10:$G$109,7,FALSE)),\" \")","v":"1295708253"},{"$f":"IF(B118>0,(VLOOKUP($B118,'Engag Pup'!$A$10:$G$109,3,FALSE)),\" \")","v":"LUXEUIL"},{"$f":"IF(B118>0,(VLOOKUP($B118,'Engag Pup'!$A$10:$G$109,4,FALSE)),\" \")","v":"Chrislyn"},{"$f":"IF(B118>0,(VLOOKUP($B118,'Engag Pup'!$A$10:$G$109,5,FALSE)),\" \")","v":"ARGENTEUIL VAL DE SEINE 95"},{"$f":"IF(B118>0,(VLOOKUP($B118,'Engag Pup'!$A$10:$G$109,6,FALSE)),\" \")","v":"Pupille 2"},null,null," ",{"$f":"IF(COUNTIF($G$10:$G118,G118)<2,$G118,\" \")","v":" "},"",{"$f":"IF(COUNTIF($G$10:$G118,I118)<3,$G118,\" \")","v":"ARGENTEUIL VAL DE SEINE 95"},7,"ARGENTEUIL VAL DE SEINE 95",7]
[8,60,{"$f":"IF(A119>0,(VLOOKUP($A17,'Engag Pre'!$A$10:$G$74,3,FALSE)),\" \")","v":{"$error":"#N/A"}},{"$f":"IF(B119>0,(VLOOKUP($B119,'Engag Pup'!$A$10:$G$109,7,FALSE)),\" \")","v":"1291311014"},{"$f":"IF(B119>0,(VLOOKUP($B119,'Engag Pup'!$A$10:$G$109,3,FALSE)),\" \")","v":"PODESTA"},{"$f":"IF(B119>0,(VLOOKUP($B119,'Engag Pup'!$A$10:$G$109,4,FALSE)),\" \")","v":"Léo"},{"$f":"IF(B119>0,(VLOOKUP($B119,'Engag Pup'!$A$10:$G$109,5,FALSE)),\" \")","v":"VC ETAMPES"},{"$f":"IF(B119>0,(VLOOKUP($B119,'Engag Pup'!$A$10:$G$109,6,FALSE)),\" \")","v":"Pupille 2"},null,null," ",{"$f":"IF(COUNTIF($G$10:$G119,G119)<2,$G119,\" \")","v":"VC ETAMPES"},8,{"$f":"IF(COUNTIF($G$10:$G119,I119)<3,$G119,\" \")","v":"VC ETAMPES"},8,"",1000]
[9,59,{"$f":"IF(A120>0,(VLOOKUP($A18,'Engag Pre'!$A$10:$G$74,3,FALSE)),\" \")","v":{"$error":"#N/A"}},{"$f":"IF(B120>0,(VLOOKUP($B120,'Engag Pup'!$A$10:$G$109,7,FALSE)),\" \")","v":"1291311186"},{"$f":"IF(B120>0,(VLOOKUP($B120,'Engag Pup'!$A$10:$G$109,3,FALSE)),\" \")","v":"DUBREIL"},{"$f":"IF(B120>0,(VLOOKUP($B120,'Engag Pup'!$A$10:$G$109,4,FALSE)),\" \")","v":"Ivy"},{"$f":"IF(B120>0,(VLOOKUP($B120,'Engag Pup'!$A$10:$G$109,5,FALSE)),\" \")","v":"VC ETAMPES"},{"$f":"IF(B120>0,(VLOOKUP($B120,'Engag Pup'!$A$10:$G$109,6,FALSE)),\" \")","v":"Pupille 2"},null,null," ",{"$f":"IF(COUNTIF($G$10:$G120,G120)<2,$G120,\" \")","v":" "},"",{"$f":"IF(COUNTIF($G$10:$G120,I120)<3,$G120,\" \")","v":"VC ETAMPES"},9,"VC ETAMPES",9]
[10,46,{"$f":"IF(A121>0,(VLOOKUP($A19,'Engag Pre'!$A$10:$G$74,3,FALSE)),\" \")","v":{"$error":"#N/A"}},{"$f":"IF(B121>0,(VLOOKUP($B121,'Engag Pup'!$A$10:$G$109,7,FALSE)),\" \")","v":"1960105058"},{"$f":"IF(B121>0,(VLOOKUP($B121,'Engag Pup'!$A$10:$G$109,3,FALSE)),\" \")","v":"DERVELLOIS"},{"$f":"IF(B121>0,(VLOOKUP($B121,'Engag Pup'!$A$10:$G$109,4,FALSE)),\" \")","v":"Robin"},{"$f":"IF(B121>0,(VLOOKUP($B121,'Engag Pup'!$A$10:$G$109,5,FALSE)),\" \")","v":"SC VAL D'ARRE"},{"$f":"IF(B121>0,(VLOOKUP($B121,'Engag Pup'!$A$10:$G$109,6,FALSE)),\" \")","v":"Pupille 2"},null,null," ",{"$f":"IF(COUNTIF($G$10:$G121,G121)<2,$G121,\" \")","v":"SC VAL D'ARRE"},10,{"$f":"IF(COUNTIF($G$10:$G121,I121)<3,$G121,\" \")","v":"SC VAL D'ARRE"},10,"",1000]
[11,32,{"$f":"IF(A122>0,(VLOOKUP($A20,'Engag Pre'!$A$10:$G$74,3,FALSE)),\" \")","v":{"$error":"#N/A"}},{"$f":"IF(B122>0,(VLOOKUP($B122,'Engag Pup'!$A$10:$G$109,7,FALSE)),\" \")","v":"1293515021"},{"$f":"IF(B122>0,(VLOOKUP($B122,'Engag Pup'!$A$10:$G$109,3,FALSE)),\" \")","v":"CORBEL"},{"$f":"IF(B122>0,(VLOOKUP($B122,'Engag Pup'!$A$10:$G$109,4,FALSE)),\" \")","v":"Louis"},{"$f":"IF(B122>0,(VLOOKUP($B122,'Engag Pup'!$A$10:$G$109,5,FALSE)),\" \")","v":"EC AULNAY"},{"$f":"IF(B122>0,(VLOOKUP($B122,'Engag Pup'!$A$10:$G$109,6,FALSE)),\" \")","v":"Pupille 2"},null,null," ",{"$f":"IF(COUNTIF($G$10:$G122,G122)<2,$G122,\" \")","v":" "},"",{"$f":"IF(COUNTIF($G$10:$G122,I122)<3,$G122,\" \")","v":"EC AULNAY"},11,"EC AULNAY",11]
[12,49,{"$f":"IF(A123>0,(VLOOKUP($A21,'Engag Pre'!$A$10:$G$74,3,FALSE)),\" \")","v":{"$error":"#N/A"}},{"$f":"IF(B123>0,(VLOOKUP($B123,'Engag Pup'!$A$10:$G$109,7,FALSE)),\" \")","v":"1295712065"},{"$f":"IF(B123>0,(VLOOKUP($B123,'Engag Pup'!$A$10:$G$109,3,FALSE)),\" \")","v":"PERIGOIS"},{"$f":"IF(B123>0,(VLOOKUP($B123,'Engag Pup'!$A$10:$G$109,4,FALSE)),\" \")","v":"Valentin"},{"$f":"IF(B123>0,(VLOOKUP($B123,'Engag Pup'!$A$10:$G$109,5,FALSE)),\" \")","v":"OLYMPIQUE C.V.O."},{"$f":"IF(B123>0,(VLOOKUP($B123,'Engag Pup'!$A$10:$G$109,6,FALSE)),\" \")","v":"Pupille 2"},null,null," ",{"$f":"IF(COUNTIF($G$10:$G123,G123)<2,$G123,\" \")","v":"OLYMPIQUE C.V.O."},12,{"$f":"IF(COUNTIF($G$10:$G123,I123)<3,$G123,\" \")","v":"OLYMPIQUE C.V.O."},12,"",1000]
[13,36,{"$f":"IF(A124>0,(VLOOKUP($A22,'Engag Pre'!$A$10:$G$74,3,FALSE)),\" \")","v":{"$error":"#N/A"}},{"$f":"IF(B124>0,(VLOOKUP($B124,'Engag Pup'!$A$10:$G$109,7,FALSE)),\" \")","v":"1277104036"},{"$f":"IF(B124>0,(VLOOKUP($B124,'Engag Pup'!$A$10:$G$109,3,FALSE)),\" \")","v":"THEVENET"},{"$f":"IF(B124>0,(VLOOKUP($B124,'Engag Pup'!$A$10:$G$109,4,FALSE)),\" \")","v":"Mathys"},{"$f":"IF(B124>0,(VLOOKUP($B124,'Engag Pup'!$A$10:$G$109,5,FALSE)),\" \")","v":"PEDALE COMBS LA VILLAISE"},{"$f":"IF(B124>0,(VLOOKUP($B124,'Engag Pup'!$A$10:$G$109,6,FALSE)),\" \")","v":"Pupille 2"},null,null," ",{"$f":"IF(COUNTIF($G$10:$G124,G124)<2,$G124,\" \")","v":" "},"",{"$f":"IF(COUNTIF($G$10:$G124,I124)<3,$G124,\" \")","v":"PEDALE COMBS LA VILLAISE"},13,"PEDALE COMBS LA VILLAISE",13]
[14,34,{"$f":"IF(A125>0,(VLOOKUP($A23,'Engag Pre'!$A$10:$G$74,3,FALSE)),\" \")","v":{"$error":"#N/A"}},{"$f":"IF(B125>0,(VLOOKUP($B125,'Engag Pup'!$A$10:$G$109,7,FALSE)),\" \")","v":"1294601044"},{"$f":"IF(B125>0,(VLOOKUP($B125,'Engag Pup'!$A$10:$G$109,3,FALSE)),\" \")","v":"VALADE"},{"$f":"IF(B125>0,(VLOOKUP($B125,'Engag Pup'!$A$10:$G$109,4,FALSE)),\" \")","v":"Alexandra"},{"$f":"IF(B125>0,(VLOOKUP($B125,'Engag Pup'!$A$10:$G$109,5,FALSE)),\" \")","v":"TEAM 94 VILLENEUVOISE"},{"$f":"IF(B125>0,(VLOOKUP($B125,'Engag Pup'!$A$10:$G$109,6,FALSE)),\" \")","v":"Pupille 2"},null,null," ",{"$f":"IF(COUNTIF($G$10:$G125,G125)<2,$G125,\" \")","v":"TEAM 94 VILLENEUVOISE"},14,{"$f":"IF(COUNTIF($G$10:$G125,I125)<3,$G125,\" \")","v":"TEAM 94 VILLENEUVOISE"},14,"",1000]
[15,55,{"$f":"IF(A126>0,(VLOOKUP($A24,'Engag Pre'!$A$10:$G$74,3,FALSE)),\" \")","v":{"$error":"#N/A"}},{"$f":"IF(B126>0,(VLOOKUP($B126,'Engag Pup'!$A$10:$G$109,7,FALSE)),\" \")","v":"1292420017"},{"$f":"IF(B126>0,(VLOOKUP($B126,'Engag Pup'!$A$10:$G$109,3,FALSE)),\" \")","v":"GIRARD"},{"$f":"IF(B126>0,(VLOOKUP($B126,'Engag Pup'!$A$10:$G$109,4,FALSE)),\" \")","v":"Nolhann"},{"$f":"IF(B126>0,(VLOOKUP($B126,'Engag Pup'!$A$10:$G$109,5,FALSE)),\" \")","v":"CSM VILLENEUVE GARENNE"},{"$f":"IF(B126>0,(VLOOKUP($B126,'Engag Pup'!$A$10:$G$109,6,FALSE)),\" \")","v":"Pupille 2"},null,null," ",{"$f":"IF(COUNTIF($G$10:$G126,G126)<2,$G126,\" \")","v":"CSM VILLENEUVE GARENNE"},15,{"$f":"IF(COUNTIF($G$10:$G126,I126)<3,$G126,\" \")","v":"CSM VILLENEUVE GARENNE"},15,"",1000]
[16,56,{"$f":"IF(A127>0,(VLOOKUP($A25,'Engag Pre'!$A$10:$G$74,3,FALSE)),\" \")","v":{"$error":"#N/A"}},{"$f":"IF(B127>0,(VLOOKUP($B127,'Engag Pup'!$A$10:$G$109,7,FALSE)),\" \")","v":"1292420159"},{"$f":"IF(B127>0,(VLOOKUP($B127,'Engag Pup'!$A$10:$G$109,3,FALSE)),\" \")","v":"LAMOURI"},{"$f":"IF(B127>0,(VLOOKUP($B127,'Engag Pup'!$A$10:$G$109,4,FALSE)),\" \")","v":"Bilel"},{"$f":"IF(B127>0,(VLOOKUP($B127,'Engag Pup'!$A$10:$G$109,5,FALSE)),\" \")","v":"CSM VILLENEUVE GARENNE"},{"$f":"IF(B127>0,(VLOOKUP($B127,'Engag Pup'!$A$10:$G$109,6,FALSE)),\" \")","v":"Pupille 2"},null,null," ",{"$f":"IF(COUNTIF($G$10:$G127,G127)<2,$G127,\" \")","v":" "},"",{"$f":"IF(COUNTIF($G$10:$G127,I127)<3,$G127,\" \")","v":"CSM VILLENEUVE GARENNE"},16,"CSM VILLENEUVE GARENNE",16]
[17,51,{"$f":"IF(A128>0,(VLOOKUP($A26,'Engag Pre'!$A$10:$G$74,3,FALSE)),\" \")","v":{"$error":"#N/A"}},{"$f":"IF(B128>0,(VLOOKUP($B128,'Engag Pup'!$A$10:$G$109,7,FALSE)),\" \")","v":"1295713101"},{"$f":"IF(B128>0,(VLOOKUP($B128,'Engag Pup'!$A$10:$G$109,3,FALSE)),\" \")","v":"MAURICE"},{"$f":"IF(B128>0,(VLOOKUP($B128,'Engag Pup'!$A$10:$G$109,4,FALSE)),\" \")","v":"Valentin"},{"$f":"IF(B128>0,(VLOOKUP($B128,'Engag Pup'!$A$10:$G$109,5,FALSE)),\" \")","v":"A. SOISY ENGHIEN LA BARRE"},{"$f":"IF(B128>0,(VLOOKUP($B128,'Engag Pup'!$A$10:$G$109,6,FALSE)),\" \")","v":"Pupille 2"},null,null," ",{"$f":"IF(COUNTIF($G$10:$G128,G128)<2,$G128,\" \")","v":" "},"",{"$f":"IF(COUNTIF($G$10:$G128,I128)<3,$G128,\" \")","v":"A. SOISY ENGHIEN LA BARRE"},17,"A. SOISY ENGHIEN LA BARRE",17]
[18,45,{"$f":"IF(A129>0,(VLOOKUP($A27,'Engag Pre'!$A$10:$G$74,3,FALSE)),\" \")","v":{"$error":"#N/A"}},{"$f":"IF(B129>0,(VLOOKUP($B129,'Engag Pup'!$A$10:$G$109,7,FALSE)),\" \")","v":"1293524043"},{"$f":"IF(B129>0,(VLOOKUP($B129,'Engag Pup'!$A$10:$G$109,3,FALSE)),\" \")","v":"SAIR GODEAU"},{"$f":"IF(B129>0,(VLOOKUP($B129,'Engag Pup'!$A$10:$G$109,4,FALSE)),\" \")","v":"Oumeima"},{"$f":"IF(B129>0,(VLOOKUP($B129,'Engag Pup'!$A$10:$G$109,5,FALSE)),\" \")","v":"CS VILLETANEUSE"},{"$f":"IF(B129>0,(VLOOKUP($B129,'Engag Pup'!$A$10:$G$109,6,FALSE)),\" \")","v":"Pupille 2"},null,null," ",{"$f":"IF(COUNTIF($G$10:$G129,G129)<2,$G129,\" \")","v":" "},"",{"$f":"IF(COUNTIF($G$10:$G129,I129)<3,$G129,\" \")","v":"CS VILLETANEUSE"},18,"CS VILLETANEUSE",18]
[19,40,{"$f":"IF(A130>0,(VLOOKUP($A28,'Engag Pre'!$A$10:$G$74,3,FALSE)),\" \")","v":{"$error":"#N/A"}},{"$f":"IF(B130>0,(VLOOKUP($B130,'Engag Pup'!$A$10:$G$109,7,FALSE)),\" \")","v":"1293527038"},{"$f":"IF(B130>0,(VLOOKUP($B130,'Engag Pup'!$A$10:$G$109,3,FALSE)),\" \")","v":"TONNA"},{"$f":"IF(B130>0,(VLOOKUP($B130,'Engag Pup'!$A$10:$G$109,4,FALSE)),\" \")","v":"Giani"},{"$f":"IF(B130>0,(VLOOKUP($B130,'Engag Pup'!$A$10:$G$109,5,FALSE)),\" \")","v":"VC CLICHY SOUS BOIS"},{"$f":"IF(B130>0,(VLOOKUP($B130,'Engag Pup'!$A$10:$G$109,6,FALSE)),\" \")","v":"Pupille 2"},null,null," ",{"$f":"IF(COUNTIF($G$10:$G130,G130)<2,$G130,\" \")","v":" "},"",{"$f":"IF(COUNTIF($G$10:$G130,I130)<3,$G130,\" \")","v":"VC CLICHY SOUS BOIS"},19,"VC CLICHY SOUS BOIS",19]
[20,43,{"$f":"IF(A131>0,(VLOOKUP($A29,'Engag Pre'!$A$10:$G$74,3,FALSE)),\" \")","v":{"$error":"#N/A"}},{"$f":"IF(B131>0,(VLOOKUP($B131,'Engag Pup'!$A$10:$G$109,7,FALSE)),\" \")","v":"1293524029"},{"$f":"IF(B131>0,(VLOOKUP($B131,'Engag Pup'!$A$10:$G$109,3,FALSE)),\" \")","v":"PETROVIC"},{"$f":"IF(B131>0,(VLOOKUP($B131,'Engag Pup'!$A$10:$G$109,4,FALSE)),\" \")","v":"Milan"},{"$f":"IF(B131>0,(VLOOKUP($B131,'Engag Pup'!$A$10:$G$109,5,FALSE)),\" \")","v":"CS VILLETANEUSE"},{"$f":"IF(B131>0,(VLOOKUP($B131,'Engag Pup'!$A$10:$G$109,6,FALSE)),\" \")","v":"Pupille 2"},null,null," ",{"$f":"IF(COUNTIF($G$10:$G131,G131)<2,$G131,\" \")","v":" "},"",{"$f":"IF(COUNTIF($G$10:$G131,I131)<3,$G131,\" \")","v":"CS VILLETANEUSE"},20,"CS VILLETANEUSE",20]
[21,44,{"$f":"IF(A132>0,(VLOOKUP($A30,'Engag Pre'!$A$10:$G$74,3,FALSE)),\" \")","v":{"$error":"#N/A"}},{"$f":"IF(B132>0,(VLOOKUP($B132,'Engag Pup'!$A$10:$G$109,7,FALSE)),\" \")","v":"1293524103"},{"$f":"IF(B132>0,(VLOOKUP($B132,'Engag Pup'!$A$10:$G$109,3,FALSE)),\" \")","v":"RUIZ"},{"$f":"IF(B132>0,(VLOOKUP($B132,'Engag Pup'!$A$10:$G$109,4,FALSE)),\" \")","v":"Shayma"},{"$f":"IF(B132>0,(VLOOKUP($B132,'Engag Pup'!$A$10:$G$109,5,FALSE)),\" \")","v":"CS VILLETANEUSE"},{"$f":"IF(B132>0,(VLOOKUP($B132,'Engag Pup'!$A$10:$G$109,6,FALSE)),\" \")","v":"Pupille 2"},null,null," ",{"$f":"IF(COUNTIF($G$10:$G132,G132)<2,$G132,\" \")","v":" "},"",{"$f":"IF(COUNTIF($G$10:$G132,I132)<3,$G132,\" \")","v":"CS VILLETANEUSE"},21,"CS VILLETANEUSE",21]
[22,37,{"$f":"IF(A133>0,(VLOOKUP($A31,'Engag Pre'!$A$10:$G$74,3,FALSE)),\" \")","v":{"$error":"#N/A"}},{"$f":"IF(B133>0,(VLOOKUP($B133,'Engag Pup'!$A$10:$G$109,7,FALSE)),\" \")","v":"1293516029"},{"$f":"IF(B133>0,(VLOOKUP($B133,'Engag Pup'!$A$10:$G$109,3,FALSE)),\" \")","v":"BARGUE"},{"$f":"IF(B133>0,(VLOOKUP($B133,'Engag Pup'!$A$10:$G$109,4,FALSE)),\" \")","v":"Owen"},{"$f":"IF(B133>0,(VLOOKUP($B133,'Engag Pup'!$A$10:$G$109,5,FALSE)),\" \")","v":"ES GERVAIS LILAS"},{"$f":"IF(B133>0,(VLOOKUP($B133,'Engag Pup'!$A$10:$G$109,6,FALSE)),\" \")","v":"Pupille 2"},null,null," ",{"$f":"IF(COUNTIF($G$10:$G133,G133)<2,$G133,\" \")","v":" "},"",{"$f":"IF(COUNTIF($G$10:$G133,I133)<3,$G133,\" \")","v":"ES GERVAIS LILAS"},22,"ES GERVAIS LILAS",22]
[23,42,{"$f":"IF(A134>0,(VLOOKUP($A32,'Engag Pre'!$A$10:$G$74,3,FALSE)),\" \")","v":{"$error":"#N/A"}},{"$f":"IF(B134>0,(VLOOKUP($B134,'Engag Pup'!$A$10:$G$109,7,FALSE)),\" \")","v":"1293524102"},{"$f":"IF(B134>0,(VLOOKUP($B134,'Engag Pup'!$A$10:$G$109,3,FALSE)),\" \")","v":"BENAHMED"},{"$f":"IF(B134>0,(VLOOKUP($B134,'Engag Pup'!$A$10:$G$109,4,FALSE)),\" \")","v":"Chaîma"},{"$f":"IF(B134>0,(VLOOKUP($B134,'Engag Pup'!$A$10:$G$109,5,FALSE)),\" \")","v":"CS VILLETANEUSE"},{"$f":"IF(B134>0,(VLOOKUP($B134,'Engag Pup'!$A$10:$G$109,6,FALSE)),\" \")","v":"Pupille 2"},null,null," ",{"$f":"IF(COUNTIF($G$10:$G134,G134)<2,$G134,\" \")","v":" "},"",{"$f":"IF(COUNTIF($G$10:$G134,I134)<3,$G134,\" \")","v":"CS VILLETANEUSE"},23,"CS VILLETANEUSE",23]
[24,58,{"$f":"IF(A135>0,(VLOOKUP($A33,'Engag Pre'!$A$10:$G$74,3,FALSE)),\" \")","v":{"$error":"#N/A"}},{"$f":"IF(B135>0,(VLOOKUP($B135,'Engag Pup'!$A$10:$G$109,7,FALSE)),\" \")","v":"1293502040"},{"$f":"IF(B135>0,(VLOOKUP($B135,'Engag Pup'!$A$10:$G$109,3,FALSE)),\" \")","v":"EL MAGROUD"},{"$f":"IF(B135>0,(VLOOKUP($B135,'Engag Pup'!$A$10:$G$109,4,FALSE)),\" \")","v":"Sofiane"},{"$f":"IF(B135>0,(VLOOKUP($B135,'Engag Pup'!$A$10:$G$109,5,FALSE)),\" \")","v":"CSM EPINAY SUR SEINE"},{"$f":"IF(B135>0,(VLOOKUP($B135,'Engag Pup'!$A$10:$G$109,6,FALSE)),\" \")","v":"Pupille 2"},null,null," ",{"$f":"IF(COUNTIF($G$10:$G135,G135)<2,$G135,\" \")","v":" "},"",{"$f":"IF(COUNTIF($G$10:$G135,I135)<3,$G135,\" \")","v":"CSM EPINAY SUR SEINE"},24,"CSM EPINAY SUR SEINE",24]
[25,57,{"$f":"IF(A136>0,(VLOOKUP($A34,'Engag Pre'!$A$10:$G$74,3,FALSE)),\" \")","v":{"$error":"#N/A"}},{"$f":"IF(B136>0,(VLOOKUP($B136,'Engag Pup'!$A$10:$G$109,7,FALSE)),\" \")","v":"1293502035"},{"$f":"IF(B136>0,(VLOOKUP($B136,'Engag Pup'!$A$10:$G$109,3,FALSE)),\" \")","v":"BEZELGA"},{"$f":"IF(B136>0,(VLOOKUP($B136,'Engag Pup'!$A$10:$G$109,4,FALSE)),\" \")","v":"Pablo"},{"$f":"IF(B136>0,(VLOOKUP($B136,'Engag Pup'!$A$10:$G$109,5,FALSE)),\" \")","v":"CSM EPINAY SUR SEINE"},{"$f":"IF(B136>0,(VLOOKUP($B136,'Engag Pup'!$A$10:$G$109,6,FALSE)),\" \")","v":"Pupille 2"},null,null," ",{"$f":"IF(COUNTIF($G$10:$G136,G136)<2,$G136,\" \")","v":" "},"",{"$f":"IF(COUNTIF($G$10:$G136,I136)<3,$G136,\" \")","v":"CSM EPINAY SUR SEINE"},25,"CSM EPINAY SUR SEINE",25]
[26,61,{"$f":"IF(A137>0,(VLOOKUP($A35,'Engag Pre'!$A$10:$G$74,3,FALSE)),\" \")","v":{"$error":"#N/A"}},{"$f":"IF(B137>0,(VLOOKUP($B137,'Engag Pup'!$A$10:$G$109,7,FALSE)),\" \")","v":0},{"$f":"IF(B137>0,(VLOOKUP($B137,'Engag Pup'!$A$10:$G$109,3,FALSE)),\" \")","v":"DAVID"},{"$f":"IF(B137>0,(VLOOKUP($B137,'Engag Pup'!$A$10:$G$109,4,FALSE)),\" \")","v":"Stella"},{"$f":"IF(B137>0,(VLOOKUP($B137,'Engag Pup'!$A$10:$G$109,5,FALSE)),\" \")","v":"ES GERVAIS LILAS"},{"$f":"IF(B137>0,(VLOOKUP($B137,'Engag Pup'!$A$10:$G$109,6,FALSE)),\" \")","v":0},null,null," ",{"$f":"IF(COUNTIF($G$10:$G137,G137)<2,$G137,\" \")","v":" "},"",{"$f":"IF(COUNTIF($G$10:$G137,I137)<3,$G137,\" \")","v":"ES GERVAIS LILAS"},26,"ES GERVAIS LILAS",26]
[27,52,{"$f":"IF(A138>0,(VLOOKUP($A36,'Engag Pre'!$A$10:$G$74,3,FALSE)),\" \")","v":{"$error":"#N/A"}},{"$f":"IF(B138>0,(VLOOKUP($B138,'Engag Pup'!$A$10:$G$109,7,FALSE)),\" \")","v":"1295713070"},{"$f":"IF(B138>0,(VLOOKUP($B138,'Engag Pup'!$A$10:$G$109,3,FALSE)),\" \")","v":"MEKHNECHE"},{"$f":"IF(B138>0,(VLOOKUP($B138,'Engag Pup'!$A$10:$G$109,4,FALSE)),\" \")","v":"Kylian"},{"$f":"IF(B138>0,(VLOOKUP($B138,'Engag Pup'!$A$10:$G$109,5,FALSE)),\" \")","v":"A. SOISY ENGHIEN LA BARRE"},{"$f":"IF(B138>0,(VLOOKUP($B138,'Engag Pup'!$A$10:$G$109,6,FALSE)),\" \")","v":"Pupille 2"},null,null," ",{"$f":"IF(COUNTIF($G$10:$G138,G138)<2,$G138,\" \")","v":" "},"",{"$f":"IF(COUNTIF($G$10:$G138,I138)<3,$G138,\" \")","v":"A. SOISY ENGHIEN LA BARRE"},27,"A. SOISY ENGHIEN LA BARRE",27]
[28,null,{"$f":"IF(A139>0,(VLOOKUP($A37,'Engag Pre'!$A$10:$G$74,3,FALSE)),\" \")","v":{"$error":"#N/A"}},{"$f":"IF(B139>0,(VLOOKUP($B139,'Engag Pup'!$A$10:$G$109,7,FALSE)),\" \")","v":" "},{"$f":"IF(B139>0,(VLOOKUP($B139,'Engag Pup'!$A$10:$G$109,3,FALSE)),\" \")","v":" "},{"$f":"IF(B139>0,(VLOOKUP($B139,'Engag Pup'!$A$10:$G$109,4,FALSE)),\" \")","v":" "},{"$f":"IF(B139>0,(VLOOKUP($B139,'Engag Pup'!$A$10:$G$109,5,FALSE)),\" \")","v":" "},{"$f":"IF(B139>0,(VLOOKUP($B139,'Engag Pup'!$A$10:$G$109,6,FALSE)),\" \")","v":" "},null,null," ",{"$f":"IF(COUNTIF($G$10:$G139,G139)<2,$G139,\" \")","v":" "},28,{"$f":"IF(COUNTIF($G$10:$G139,I139)<3,$G139,\" \")","v":" "},28,"",1000]
[29,null,{"$f":"IF(A140>0,(VLOOKUP($A38,'Engag Pre'!$A$10:$G$74,3,FALSE)),\" \")","v":{"$error":"#N/A"}},{"$f":"IF(B140>0,(VLOOKUP($B140,'Engag Pup'!$A$10:$G$109,7,FALSE)),\" \")","v":" "},{"$f":"IF(B140>0,(VLOOKUP($B140,'Engag Pup'!$A$10:$G$109,3,FALSE)),\" \")","v":" "},{"$f":"IF(B140>0,(VLOOKUP($B140,'Engag Pup'!$A$10:$G$109,4,FALSE)),\" \")","v":" "},{"$f":"IF(B140>0,(VLOOKUP($B140,'Engag Pup'!$A$10:$G$109,5,FALSE)),\" \")","v":" "},{"$f":"IF(B140>0,(VLOOKUP($B140,'Engag Pup'!$A$10:$G$109,6,FALSE)),\" \")","v":" "},null,null," ",{"$f":"IF(COUNTIF($G$10:$G140,G140)<2,$G140,\" \")","v":" "},29,{"$f":"IF(COUNTIF($G$10:$G140,I140)<3,$G140,\" \")","v":" "},29,"",1000]
[30,null,{"$f":"IF(A141>0,(VLOOKUP($A39,'Engag Pre'!$A$10:$G$74,3,FALSE)),\" \")","v":{"$error":"#N/A"}},{"$f":"IF(B141>0,(VLOOKUP($B141,'Engag Pup'!$A$10:$G$109,7,FALSE)),\" \")","v":" "},{"$f":"IF(B141>0,(VLOOKUP($B141,'Engag Pup'!$A$10:$G$109,3,FALSE)),\" \")","v":" "},{"$f":"IF(B141>0,(VLOOKUP($B141,'Engag Pup'!$A$10:$G$109,4,FALSE)),\" \")","v":" "},{"$f":"IF(B141>0,(VLOOKUP($B141,'Engag Pup'!$A$10:$G$109,5,FALSE)),\" \")","v":" "},{"$f":"IF(B141>0,(VLOOKUP($B141,'Engag Pup'!$A$10:$G$109,6,FALSE)),\" \")","v":" "},null,null," ",{"$f":"IF(COUNTIF($G$10:$G141,G141)<2,$G141,\" \")","v":" "},30,{"$f":"IF(COUNTIF($G$10:$G141,I141)<3,$G141,\" \")","v":" "},30,"",1000]
[31,null,{"$f":"IF(A142>0,(VLOOKUP($A40,'Engag Pre'!$A$10:$G$74,3,FALSE)),\" \")","v":{"$error":"#N/A"}},{"$f":"IF(B142>0,(VLOOKUP($B142,'Engag Pup'!$A$10:$G$109,7,FALSE)),\" \")","v":" "},{"$f":"IF(B142>0,(VLOOKUP($B142,'Engag Pup'!$A$10:$G$109,3,FALSE)),\" \")","v":" "},{"$f":"IF(B142>0,(VLOOKUP($B142,'Engag Pup'!$A$10:$G$109,4,FALSE)),\" \")","v":" "},{"$f":"IF(B142>0,(VLOOKUP($B142,'Engag Pup'!$A$10:$G$109,5,FALSE)),\" \")","v":" "},{"$f":"IF(B142>0,(VLOOKUP($B142,'Engag Pup'!$A$10:$G$109,6,FALSE)),\" \")","v":" "},null,null," ",{"$f":"IF(COUNTIF($G$10:$G142,G142)<2,$G142,\" \")","v":" "},31,{"$f":"IF(COUNTIF($G$10:$G142,I142)<3,$G142,\" \")","v":" "},31,"",1000]
[32,null,{"$f":"IF(A143>0,(VLOOKUP($A41,'Engag Pre'!$A$10:$G$74,3,FALSE)),\" \")","v":{"$error":"#N/A"}},{"$f":"IF(B143>0,(VLOOKUP($B143,'Engag Pup'!$A$10:$G$109,7,FALSE)),\" \")","v":" "},{"$f":"IF(B143>0,(VLOOKUP($B143,'Engag Pup'!$A$10:$G$109,3,FALSE)),\" \")","v":" "},{"$f":"IF(B143>0,(VLOOKUP($B143,'Engag Pup'!$A$10:$G$109,4,FALSE)),\" \")","v":" "},{"$f":"IF(B143>0,(VLOOKUP($B143,'Engag Pup'!$A$10:$G$109,5,FALSE)),\" \")","v":" "},{"$f":"IF(B143>0,(VLOOKUP($B143,'Engag Pup'!$A$10:$G$109,6,FALSE)),\" \")","v":" "},null,null," ",{"$f":"IF(COUNTIF($G$10:$G143,G143)<2,$G143,\" \")","v":" "},32,{"$f":"IF(COUNTIF($G$10:$G143,I143)<3,$G143,\" \")","v":" "},32,"",1000]
[33,null,{"$f":"IF(A144>0,(VLOOKUP($A42,'Engag Pre'!$A$10:$G$74,3,FALSE)),\" \")","v":{"$error":"#N/A"}},{"$f":"IF(B144>0,(VLOOKUP($B144,'Engag Pup'!$A$10:$G$109,7,FALSE)),\" \")","v":" "},{"$f":"IF(B144>0,(VLOOKUP($B144,'Engag Pup'!$A$10:$G$109,3,FALSE)),\" \")","v":" "},{"$f":"IF(B144>0,(VLOOKUP($B144,'Engag Pup'!$A$10:$G$109,4,FALSE)),\" \")","v":" "},{"$f":"IF(B144>0,(VLOOKUP($B144,'Engag Pup'!$A$10:$G$109,5,FALSE)),\" \")","v":" "},{"$f":"IF(B144>0,(VLOOKUP($B144,'Engag Pup'!$A$10:$G$109,6,FALSE)),\" \")","v":" "},null,null," ",{"$f":"IF(COUNTIF($G$10:$G144,G144)<2,$G144,\" \")","v":" "},33,{"$f":"IF(COUNTIF($G$10:$G144,I144)<3,$G144,\" \")","v":" "},33,"",1000]
[34,null,{"$f":"IF(A145>0,(VLOOKUP($A43,'Engag Pre'!$A$10:$G$74,3,FALSE)),\" \")","v":{"$error":"#N/A"}},{"$f":"IF(B145>0,(VLOOKUP($B145,'Engag Pup'!$A$10:$G$109,7,FALSE)),\" \")","v":" "},{"$f":"IF(B145>0,(VLOOKUP($B145,'Engag Pup'!$A$10:$G$109,3,FALSE)),\" \")","v":" "},{"$f":"IF(B145>0,(VLOOKUP($B145,'Engag Pup'!$A$10:$G$109,4,FALSE)),\" \")","v":" "},{"$f":"IF(B145>0,(VLOOKUP($B145,'Engag Pup'!$A$10:$G$109,5,FALSE)),\" \")","v":" "},{"$f":"IF(B145>0,(VLOOKUP($B145,'Engag Pup'!$A$10:$G$109,6,FALSE)),\" \")","v":" "},null,null," ",{"$f":"IF(COUNTIF($G$10:$G145,G145)<2,$G145,\" \")","v":" "},34,{"$f":"IF(COUNTIF($G$10:$G145,I145)<3,$G145,\" \")","v":" "},34,"",1000]
[35,null,{"$f":"IF(A146>0,(VLOOKUP($A44,'Engag Pre'!$A$10:$G$74,3,FALSE)),\" \")","v":{"$error":"#N/A"}},{"$f":"IF(B146>0,(VLOOKUP($B146,'Engag Pup'!$A$10:$G$109,7,FALSE)),\" \")","v":" "},{"$f":"IF(B146>0,(VLOOKUP($B146,'Engag Pup'!$A$10:$G$109,3,FALSE)),\" \")","v":" "},{"$f":"IF(B146>0,(VLOOKUP($B146,'Engag Pup'!$A$10:$G$109,4,FALSE)),\" \")","v":" "},{"$f":"IF(B146>0,(VLOOKUP($B146,'Engag Pup'!$A$10:$G$109,5,FALSE)),\" \")","v":" "},{"$f":"IF(B146>0,(VLOOKUP($B146,'Engag Pup'!$A$10:$G$109,6,FALSE)),\" \")","v":" "},null,null," ",{"$f":"IF(COUNTIF($G$10:$G146,G146)<2,$G146,\" \")","v":" "},35,{"$f":"IF(COUNTIF($G$10:$G146,I146)<3,$G146,\" \")","v":" "},35,"",1000]
[36,null,{"$f":"IF(A147>0,(VLOOKUP($A45,'Engag Pre'!$A$10:$G$74,3,FALSE)),\" \")","v":{"$error":"#N/A"}},{"$f":"IF(B147>0,(VLOOKUP($B147,'Engag Pup'!$A$10:$G$109,7,FALSE)),\" \")","v":" "},{"$f":"IF(B147>0,(VLOOKUP($B147,'Engag Pup'!$A$10:$G$109,3,FALSE)),\" \")","v":" "},{"$f":"IF(B147>0,(VLOOKUP($B147,'Engag Pup'!$A$10:$G$109,4,FALSE)),\" \")","v":" "},{"$f":"IF(B147>0,(VLOOKUP($B147,'Engag Pup'!$A$10:$G$109,5,FALSE)),\" \")","v":" "},{"$f":"IF(B147>0,(VLOOKUP($B147,'Engag Pup'!$A$10:$G$109,6,FALSE)),\" \")","v":" "},null,null," ",{"$f":"IF(COUNTIF($G$10:$G147,G147)<2,$G147,\" \")","v":" "},36,{"$f":"IF(COUNTIF($G$10:$G147,I147)<3,$G147,\" \")","v":" "},36,"",1000]
[37,null,{"$f":"IF(A148>0,(VLOOKUP($A46,'Engag Pre'!$A$10:$G$74,3,FALSE)),\" \")","v":{"$error":"#N/A"}},{"$f":"IF(B148>0,(VLOOKUP($B148,'Engag Pup'!$A$10:$G$109,7,FALSE)),\" \")","v":" "},{"$f":"IF(B148>0,(VLOOKUP($B148,'Engag Pup'!$A$10:$G$109,3,FALSE)),\" \")","v":" "},{"$f":"IF(B148>0,(VLOOKUP($B148,'Engag Pup'!$A$10:$G$109,4,FALSE)),\" \")","v":" "},{"$f":"IF(B148>0,(VLOOKUP($B148,'Engag Pup'!$A$10:$G$109,5,FALSE)),\" \")","v":" "},{"$f":"IF(B148>0,(VLOOKUP($B148,'Engag Pup'!$A$10:$G$109,6,FALSE)),\" \")","v":" "},null,null," ",{"$f":"IF(COUNTIF($G$10:$G148,G148)<2,$G148,\" \")","v":" "},37,{"$f":"IF(COUNTIF($G$10:$G148,I148)<3,$G148,\" \")","v":" "},37,"",1000]
[38,null,{"$f":"IF(A149>0,(VLOOKUP($A47,'Engag Pre'!$A$10:$G$74,3,FALSE)),\" \")","v":{"$error":"#N/A"}},{"$f":"IF(B149>0,(VLOOKUP($B149,'Engag Pup'!$A$10:$G$109,7,FALSE)),\" \")","v":" "},{"$f":"IF(B149>0,(VLOOKUP($B149,'Engag Pup'!$A$10:$G$109,3,FALSE)),\" \")","v":" "},{"$f":"IF(B149>0,(VLOOKUP($B149,'Engag Pup'!$A$10:$G$109,4,FALSE)),\" \")","v":" "},{"$f":"IF(B149>0,(VLOOKUP($B149,'Engag Pup'!$A$10:$G$109,5,FALSE)),\" \")","v":" "},{"$f":"IF(B149>0,(VLOOKUP($B149,'Engag Pup'!$A$10:$G$109,6,FALSE)),\" \")","v":" "},null,null," ",{"$f":"IF(COUNTIF($G$10:$G149,G149)<2,$G149,\" \")","v":" "},38,{"$f":"IF(COUNTIF($G$10:$G149,I149)<3,$G149,\" \")","v":" "},38,"",1000]
[39,null,{"$f":"IF(A150>0,(VLOOKUP($A48,'Engag Pre'!$A$10:$G$74,3,FALSE)),\" \")","v":{"$error":"#N/A"}},{"$f":"IF(B150>0,(VLOOKUP($B150,'Engag Pup'!$A$10:$G$109,7,FALSE)),\" \")","v":" "},{"$f":"IF(B150>0,(VLOOKUP($B150,'Engag Pup'!$A$10:$G$109,3,FALSE)),\" \")","v":" "},{"$f":"IF(B150>0,(VLOOKUP($B150,'Engag Pup'!$A$10:$G$109,4,FALSE)),\" \")","v":" "},{"$f":"IF(B150>0,(VLOOKUP($B150,'Engag Pup'!$A$10:$G$109,5,FALSE)),\" \")","v":" "},{"$f":"IF(B150>0,(VLOOKUP($B150,'Engag Pup'!$A$10:$G$109,6,FALSE)),\" \")","v":" "},null,null," ",{"$f":"IF(COUNTIF($G$10:$G150,G150)<2,$G150,\" \")","v":" "},39,{"$f":"IF(COUNTIF($G$10:$G150,I150)<3,$G150,\" \")","v":" "},39,"",1000]
[40,null,{"$f":"IF(A151>0,(VLOOKUP($A49,'Engag Pre'!$A$10:$G$74,3,FALSE)),\" \")","v":{"$error":"#N/A"}},{"$f":"IF(B151>0,(VLOOKUP($B151,'Engag Pup'!$A$10:$G$109,7,FALSE)),\" \")","v":" "},{"$f":"IF(B151>0,(VLOOKUP($B151,'Engag Pup'!$A$10:$G$109,3,FALSE)),\" \")","v":" "},{"$f":"IF(B151>0,(VLOOKUP($B151,'Engag Pup'!$A$10:$G$109,4,FALSE)),\" \")","v":" "},{"$f":"IF(B151>0,(VLOOKUP($B151,'Engag Pup'!$A$10:$G$109,5,FALSE)),\" \")","v":" "},{"$f":"IF(B151>0,(VLOOKUP($B151,'Engag Pup'!$A$10:$G$109,6,FALSE)),\" \")","v":" "},null,null," ",{"$f":"IF(COUNTIF($G$10:$G151,G151)<2,$G151,\" \")","v":" "},40,{"$f":"IF(COUNTIF($G$10:$G151,I151)<3,$G151,\" \")","v":" "},40,"",1000]
[41,null,{"$f":"IF(A152>0,(VLOOKUP($A50,'Engag Pre'!$A$10:$G$74,3,FALSE)),\" \")","v":{"$error":"#N/A"}},{"$f":"IF(B152>0,(VLOOKUP($B152,'Engag Pup'!$A$10:$G$109,7,FALSE)),\" \")","v":" "},{"$f":"IF(B152>0,(VLOOKUP($B152,'Engag Pup'!$A$10:$G$109,3,FALSE)),\" \")","v":" "},{"$f":"IF(B152>0,(VLOOKUP($B152,'Engag Pup'!$A$10:$G$109,4,FALSE)),\" \")","v":" "},{"$f":"IF(B152>0,(VLOOKUP($B152,'Engag Pup'!$A$10:$G$109,5,FALSE)),\" \")","v":" "},{"$f":"IF(B152>0,(VLOOKUP($B152,'Engag Pup'!$A$10:$G$109,6,FALSE)),\" \")","v":" "},null,null," ",{"$f":"IF(COUNTIF($G$10:$G152,G152)<2,$G152,\" \")","v":" "},41,{"$f":"IF(COUNTIF($G$10:$G152,I152)<3,$G152,\" \")","v":" "},41,"",1000]
[42,null,{"$f":"IF(A153>0,(VLOOKUP($A51,'Engag Pre'!$A$10:$G$74,3,FALSE)),\" \")","v":{"$error":"#N/A"}},{"$f":"IF(B153>0,(VLOOKUP($B153,'Engag Pup'!$A$10:$G$109,7,FALSE)),\" \")","v":" "},{"$f":"IF(B153>0,(VLOOKUP($B153,'Engag Pup'!$A$10:$G$109,3,FALSE)),\" \")","v":" "},{"$f":"IF(B153>0,(VLOOKUP($B153,'Engag Pup'!$A$10:$G$109,4,FALSE)),\" \")","v":" "},{"$f":"IF(B153>0,(VLOOKUP($B153,'Engag Pup'!$A$10:$G$109,5,FALSE)),\" \")","v":" "},{"$f":"IF(B153>0,(VLOOKUP($B153,'Engag Pup'!$A$10:$G$109,6,FALSE)),\" \")","v":" "},null,null," ",{"$f":"IF(COUNTIF($G$10:$G153,G153)<2,$G153,\" \")","v":" "},42,{"$f":"IF(COUNTIF($G$10:$G153,I153)<3,$G153,\" \")","v":" "},42,"",1000]
[43,null,{"$f":"IF(A154>0,(VLOOKUP($A52,'Engag Pre'!$A$10:$G$74,3,FALSE)),\" \")","v":{"$error":"#N/A"}},{"$f":"IF(B154>0,(VLOOKUP($B154,'Engag Pup'!$A$10:$G$109,7,FALSE)),\" \")","v":" "},{"$f":"IF(B154>0,(VLOOKUP($B154,'Engag Pup'!$A$10:$G$109,3,FALSE)),\" \")","v":" "},{"$f":"IF(B154>0,(VLOOKUP($B154,'Engag Pup'!$A$10:$G$109,4,FALSE)),\" \")","v":" "},{"$f":"IF(B154>0,(VLOOKUP($B154,'Engag Pup'!$A$10:$G$109,5,FALSE)),\" \")","v":" "},{"$f":"IF(B154>0,(VLOOKUP($B154,'Engag Pup'!$A$10:$G$109,6,FALSE)),\" \")","v":" "},null,null," ",{"$f":"IF(COUNTIF($G$10:$G154,G154)<2,$G154,\" \")","v":" "},43,{"$f":"IF(COUNTIF($G$10:$G154,I154)<3,$G154,\" \")","v":" "},43,"",1000]
[44,null,{"$f":"IF(A155>0,(VLOOKUP($A53,'Engag Pre'!$A$10:$G$74,3,FALSE)),\" \")","v":{"$error":"#N/A"}},{"$f":"IF(B155>0,(VLOOKUP($B155,'Engag Pup'!$A$10:$G$109,7,FALSE)),\" \")","v":" "},{"$f":"IF(B155>0,(VLOOKUP($B155,'Engag Pup'!$A$10:$G$109,3,FALSE)),\" \")","v":" "},{"$f":"IF(B155>0,(VLOOKUP($B155,'Engag Pup'!$A$10:$G$109,4,FALSE)),\" \")","v":" "},{"$f":"IF(B155>0,(VLOOKUP($B155,'Engag Pup'!$A$10:$G$109,5,FALSE)),\" \")","v":" "},{"$f":"IF(B155>0,(VLOOKUP($B155,'Engag Pup'!$A$10:$G$109,6,FALSE)),\" \")","v":" "},null,null," ",{"$f":"IF(COUNTIF($G$10:$G155,G155)<2,$G155,\" \")","v":" "},44,{"$f":"IF(COUNTIF($G$10:$G155,I155)<3,$G155,\" \")","v":" "},44,"",1000]
[45,null,{"$f":"IF(A156>0,(VLOOKUP($A54,'Engag Pre'!$A$10:$G$74,3,FALSE)),\" \")","v":{"$error":"#N/A"}},{"$f":"IF(B156>0,(VLOOKUP($B156,'Engag Pup'!$A$10:$G$109,7,FALSE)),\" \")","v":" "},{"$f":"IF(B156>0,(VLOOKUP($B156,'Engag Pup'!$A$10:$G$109,3,FALSE)),\" \")","v":" "},{"$f":"IF(B156>0,(VLOOKUP($B156,'Engag Pup'!$A$10:$G$109,4,FALSE)),\" \")","v":" "},{"$f":"IF(B156>0,(VLOOKUP($B156,'Engag Pup'!$A$10:$G$109,5,FALSE)),\" \")","v":" "},{"$f":"IF(B156>0,(VLOOKUP($B156,'Engag Pup'!$A$10:$G$109,6,FALSE)),\" \")","v":" "},null,null," ",{"$f":"IF(COUNTIF($G$10:$G156,G156)<2,$G156,\" \")","v":" "},45,{"$f":"IF(COUNTIF($G$10:$G156,I156)<3,$G156,\" \")","v":" "},45,"",1000]
[46,null,{"$f":"IF(A157>0,(VLOOKUP($A55,'Engag Pre'!$A$10:$G$74,3,FALSE)),\" \")","v":{"$error":"#N/A"}},{"$f":"IF(B157>0,(VLOOKUP($B157,'Engag Pup'!$A$10:$G$109,7,FALSE)),\" \")","v":" "},{"$f":"IF(B157>0,(VLOOKUP($B157,'Engag Pup'!$A$10:$G$109,3,FALSE)),\" \")","v":" "},{"$f":"IF(B157>0,(VLOOKUP($B157,'Engag Pup'!$A$10:$G$109,4,FALSE)),\" \")","v":" "},{"$f":"IF(B157>0,(VLOOKUP($B157,'Engag Pup'!$A$10:$G$109,5,FALSE)),\" \")","v":" "},{"$f":"IF(B157>0,(VLOOKUP($B157,'Engag Pup'!$A$10:$G$109,6,FALSE)),\" \")","v":" "},null,null," ",{"$f":"IF(COUNTIF($G$10:$G157,G157)<2,$G157,\" \")","v":" "},46,{"$f":"IF(COUNTIF($G$10:$G157,I157)<3,$G157,\" \")","v":" "},46,"",1000]
[47,null,{"$f":"IF(A158>0,(VLOOKUP($A56,'Engag Pre'!$A$10:$G$74,3,FALSE)),\" \")","v":{"$error":"#N/A"}},{"$f":"IF(B158>0,(VLOOKUP($B158,'Engag Pup'!$A$10:$G$109,7,FALSE)),\" \")","v":" "},{"$f":"IF(B158>0,(VLOOKUP($B158,'Engag Pup'!$A$10:$G$109,3,FALSE)),\" \")","v":" "},{"$f":"IF(B158>0,(VLOOKUP($B158,'Engag Pup'!$A$10:$G$109,4,FALSE)),\" \")","v":" "},{"$f":"IF(B158>0,(VLOOKUP($B158,'Engag Pup'!$A$10:$G$109,5,FALSE)),\" \")","v":" "},{"$f":"IF(B158>0,(VLOOKUP($B158,'Engag Pup'!$A$10:$G$109,6,FALSE)),\" \")","v":" "},null,null," ",{"$f":"IF(COUNTIF($G$10:$G158,G158)<2,$G158,\" \")","v":" "},47,{"$f":"IF(COUNTIF($G$10:$G158,I158)<3,$G158,\" \")","v":" "},47,"",1000]
[48,null,{"$f":"IF(A159>0,(VLOOKUP($A57,'Engag Pre'!$A$10:$G$74,3,FALSE)),\" \")","v":{"$error":"#N/A"}},{"$f":"IF(B159>0,(VLOOKUP($B159,'Engag Pup'!$A$10:$G$109,7,FALSE)),\" \")","v":" "},{"$f":"IF(B159>0,(VLOOKUP($B159,'Engag Pup'!$A$10:$G$109,3,FALSE)),\" \")","v":" "},{"$f":"IF(B159>0,(VLOOKUP($B159,'Engag Pup'!$A$10:$G$109,4,FALSE)),\" \")","v":" "},{"$f":"IF(B159>0,(VLOOKUP($B159,'Engag Pup'!$A$10:$G$109,5,FALSE)),\" \")","v":" "},{"$f":"IF(B159>0,(VLOOKUP($B159,'Engag Pup'!$A$10:$G$109,6,FALSE)),\" \")","v":" "},null,null," ",{"$f":"IF(COUNTIF($G$10:$G159,G159)<2,$G159,\" \")","v":" "},48,{"$f":"IF(COUNTIF($G$10:$G159,I159)<3,$G159,\" \")","v":" "},48,"",1000]
[49,null,{"$f":"IF(A160>0,(VLOOKUP($A58,'Engag Pre'!$A$10:$G$74,3,FALSE)),\" \")","v":{"$error":"#N/A"}},{"$f":"IF(B160>0,(VLOOKUP($B160,'Engag Pup'!$A$10:$G$109,7,FALSE)),\" \")","v":" "},{"$f":"IF(B160>0,(VLOOKUP($B160,'Engag Pup'!$A$10:$G$109,3,FALSE)),\" \")","v":" "},{"$f":"IF(B160>0,(VLOOKUP($B160,'Engag Pup'!$A$10:$G$109,4,FALSE)),\" \")","v":" "},{"$f":"IF(B160>0,(VLOOKUP($B160,'Engag Pup'!$A$10:$G$109,5,FALSE)),\" \")","v":" "},{"$f":"IF(B160>0,(VLOOKUP($B160,'Engag Pup'!$A$10:$G$109,6,FALSE)),\" \")","v":" "},null,null," ",{"$f":"IF(COUNTIF($G$10:$G160,G160)<2,$G160,\" \")","v":" "},49,{"$f":"IF(COUNTIF($G$10:$G160,I160)<3,$G160,\" \")","v":" "},49,"",1000]
[50,null,{"$f":"IF(A161>0,(VLOOKUP($A59,'Engag Pre'!$A$10:$G$74,3,FALSE)),\" \")","v":{"$error":"#N/A"}},{"$f":"IF(B161>0,(VLOOKUP($B161,'Engag Pup'!$A$10:$G$109,7,FALSE)),\" \")","v":" "},{"$f":"IF(B161>0,(VLOOKUP($B161,'Engag Pup'!$A$10:$G$109,3,FALSE)),\" \")","v":" "},{"$f":"IF(B161>0,(VLOOKUP($B161,'Engag Pup'!$A$10:$G$109,4,FALSE)),\" \")","v":" "},{"$f":"IF(B161>0,(VLOOKUP($B161,'Engag Pup'!$A$10:$G$109,5,FALSE)),\" \")","v":" "},{"$f":"IF(B161>0,(VLOOKUP($B161,'Engag Pup'!$A$10:$G$109,6,FALSE)),\" \")","v":" "},null,null," ",{"$f":"IF(COUNTIF($G$10:$G161,G161)<2,$G161,\" \")","v":" "},50,{"$f":"IF(COUNTIF($G$10:$G161,I161)<3,$G161,\" \")","v":" "},50,"",1000]
[51,null,{"$f":"IF(A162>0,(VLOOKUP($A60,'Engag Pre'!$A$10:$G$74,3,FALSE)),\" \")","v":{"$error":"#N/A"}},{"$f":"IF(B162>0,(VLOOKUP($B162,'Engag Pup'!$A$10:$G$109,7,FALSE)),\" \")","v":" "},{"$f":"IF(B162>0,(VLOOKUP($B162,'Engag Pup'!$A$10:$G$109,3,FALSE)),\" \")","v":" "},{"$f":"IF(B162>0,(VLOOKUP($B162,'Engag Pup'!$A$10:$G$109,4,FALSE)),\" \")","v":" "},{"$f":"IF(B162>0,(VLOOKUP($B162,'Engag Pup'!$A$10:$G$109,5,FALSE)),\" \")","v":" "},{"$f":"IF(B162>0,(VLOOKUP($B162,'Engag Pup'!$A$10:$G$109,6,FALSE)),\" \")","v":" "},null,null," ",{"$f":"IF(COUNTIF($G$10:$G162,G162)<2,$G162,\" \")","v":" "},51,{"$f":"IF(COUNTIF($G$10:$G162,I162)<3,$G162,\" \")","v":" "},51,"",1000]
[52,null,{"$f":"IF(A163>0,(VLOOKUP($A61,'Engag Pre'!$A$10:$G$74,3,FALSE)),\" \")","v":{"$error":"#N/A"}},{"$f":"IF(B163>0,(VLOOKUP($B163,'Engag Pup'!$A$10:$G$109,7,FALSE)),\" \")","v":" "},{"$f":"IF(B163>0,(VLOOKUP($B163,'Engag Pup'!$A$10:$G$109,3,FALSE)),\" \")","v":" "},{"$f":"IF(B163>0,(VLOOKUP($B163,'Engag Pup'!$A$10:$G$109,4,FALSE)),\" \")","v":" "},{"$f":"IF(B163>0,(VLOOKUP($B163,'Engag Pup'!$A$10:$G$109,5,FALSE)),\" \")","v":" "},{"$f":"IF(B163>0,(VLOOKUP($B163,'Engag Pup'!$A$10:$G$109,6,FALSE)),\" \")","v":" "},null,null," ",{"$f":"IF(COUNTIF($G$10:$G163,G163)<2,$G163,\" \")","v":" "},52,{"$f":"IF(COUNTIF($G$10:$G163,I163)<3,$G163,\" \")","v":" "},52,"",1000]
[53,null,{"$f":"IF(A164>0,(VLOOKUP($A62,'Engag Pre'!$A$10:$G$74,3,FALSE)),\" \")","v":{"$error":"#N/A"}},{"$f":"IF(B164>0,(VLOOKUP($B164,'Engag Pup'!$A$10:$G$109,7,FALSE)),\" \")","v":" "},{"$f":"IF(B164>0,(VLOOKUP($B164,'Engag Pup'!$A$10:$G$109,3,FALSE)),\" \")","v":" "},{"$f":"IF(B164>0,(VLOOKUP($B164,'Engag Pup'!$A$10:$G$109,4,FALSE)),\" \")","v":" "},{"$f":"IF(B164>0,(VLOOKUP($B164,'Engag Pup'!$A$10:$G$109,5,FALSE)),\" \")","v":" "},{"$f":"IF(B164>0,(VLOOKUP($B164,'Engag Pup'!$A$10:$G$109,6,FALSE)),\" \")","v":" "},null,null," ",{"$f":"IF(COUNTIF($G$10:$G164,G164)<2,$G164,\" \")","v":" "},53,{"$f":"IF(COUNTIF($G$10:$G164,I164)<3,$G164,\" \")","v":" "},53,"",1000]
[54,null,{"$f":"IF(A165>0,(VLOOKUP($A63,'Engag Pre'!$A$10:$G$74,3,FALSE)),\" \")","v":{"$error":"#N/A"}},{"$f":"IF(B165>0,(VLOOKUP($B165,'Engag Pup'!$A$10:$G$109,7,FALSE)),\" \")","v":" "},{"$f":"IF(B165>0,(VLOOKUP($B165,'Engag Pup'!$A$10:$G$109,3,FALSE)),\" \")","v":" "},{"$f":"IF(B165>0,(VLOOKUP($B165,'Engag Pup'!$A$10:$G$109,4,FALSE)),\" \")","v":" "},{"$f":"IF(B165>0,(VLOOKUP($B165,'Engag Pup'!$A$10:$G$109,5,FALSE)),\" \")","v":" "},{"$f":"IF(B165>0,(VLOOKUP($B165,'Engag Pup'!$A$10:$G$109,6,FALSE)),\" \")","v":" "},null,null," ",{"$f":"IF(COUNTIF($G$10:$G165,G165)<2,$G165,\" \")","v":" "},54,{"$f":"IF(COUNTIF($G$10:$G165,I165)<3,$G165,\" \")","v":" "},54,"",1000]
[55,null,{"$f":"IF(A166>0,(VLOOKUP($A64,'Engag Pre'!$A$10:$G$74,3,FALSE)),\" \")","v":{"$error":"#N/A"}},{"$f":"IF(B166>0,(VLOOKUP($B166,'Engag Pup'!$A$10:$G$109,7,FALSE)),\" \")","v":" "},{"$f":"IF(B166>0,(VLOOKUP($B166,'Engag Pup'!$A$10:$G$109,3,FALSE)),\" \")","v":" "},{"$f":"IF(B166>0,(VLOOKUP($B166,'Engag Pup'!$A$10:$G$109,4,FALSE)),\" \")","v":" "},{"$f":"IF(B166>0,(VLOOKUP($B166,'Engag Pup'!$A$10:$G$109,5,FALSE)),\" \")","v":" "},{"$f":"IF(B166>0,(VLOOKUP($B166,'Engag Pup'!$A$10:$G$109,6,FALSE)),\" \")","v":" "},null,null," ",{"$f":"IF(COUNTIF($G$10:$G166,G166)<2,$G166,\" \")","v":" "},55,{"$f":"IF(COUNTIF($G$10:$G166,I166)<3,$G166,\" \")","v":" "},55,"",1000]
[56,null,{"$f":"IF(A167>0,(VLOOKUP($A65,'Engag Pre'!$A$10:$G$74,3,FALSE)),\" \")","v":{"$error":"#N/A"}},{"$f":"IF(B167>0,(VLOOKUP($B167,'Engag Pup'!$A$10:$G$109,7,FALSE)),\" \")","v":" "},{"$f":"IF(B167>0,(VLOOKUP($B167,'Engag Pup'!$A$10:$G$109,3,FALSE)),\" \")","v":" "},{"$f":"IF(B167>0,(VLOOKUP($B167,'Engag Pup'!$A$10:$G$109,4,FALSE)),\" \")","v":" "},{"$f":"IF(B167>0,(VLOOKUP($B167,'Engag Pup'!$A$10:$G$109,5,FALSE)),\" \")","v":" "},{"$f":"IF(B167>0,(VLOOKUP($B167,'Engag Pup'!$A$10:$G$109,6,FALSE)),\" \")","v":" "},null,null," ",{"$f":"IF(COUNTIF($G$10:$G167,G167)<2,$G167,\" \")","v":" "},56,{"$f":"IF(COUNTIF($G$10:$G167,I167)<3,$G167,\" \")","v":" "},56,"",1000]
[57,null,{"$f":"IF(A168>0,(VLOOKUP($A66,'Engag Pre'!$A$10:$G$74,3,FALSE)),\" \")","v":{"$error":"#N/A"}},{"$f":"IF(B168>0,(VLOOKUP($B168,'Engag Pup'!$A$10:$G$109,7,FALSE)),\" \")","v":" "},{"$f":"IF(B168>0,(VLOOKUP($B168,'Engag Pup'!$A$10:$G$109,3,FALSE)),\" \")","v":" "},{"$f":"IF(B168>0,(VLOOKUP($B168,'Engag Pup'!$A$10:$G$109,4,FALSE)),\" \")","v":" "},{"$f":"IF(B168>0,(VLOOKUP($B168,'Engag Pup'!$A$10:$G$109,5,FALSE)),\" \")","v":" "},{"$f":"IF(B168>0,(VLOOKUP($B168,'Engag Pup'!$A$10:$G$109,6,FALSE)),\" \")","v":" "},null,null," ",{"$f":"IF(COUNTIF($G$10:$G168,G168)<2,$G168,\" \")","v":" "},57,{"$f":"IF(COUNTIF($G$10:$G168,I168)<3,$G168,\" \")","v":" "},57,"",1000]
[58,null,{"$f":"IF(A169>0,(VLOOKUP($A67,'Engag Pre'!$A$10:$G$74,3,FALSE)),\" \")","v":{"$error":"#N/A"}},{"$f":"IF(B169>0,(VLOOKUP($B169,'Engag Pup'!$A$10:$G$109,7,FALSE)),\" \")","v":" "},{"$f":"IF(B169>0,(VLOOKUP($B169,'Engag Pup'!$A$10:$G$109,3,FALSE)),\" \")","v":" "},{"$f":"IF(B169>0,(VLOOKUP($B169,'Engag Pup'!$A$10:$G$109,4,FALSE)),\" \")","v":" "},{"$f":"IF(B169>0,(VLOOKUP($B169,'Engag Pup'!$A$10:$G$109,5,FALSE)),\" \")","v":" "},{"$f":"IF(B169>0,(VLOOKUP($B169,'Engag Pup'!$A$10:$G$109,6,FALSE)),\" \")","v":" "},null,null," ",{"$f":"IF(COUNTIF($G$10:$G169,G169)<2,$G169,\" \")","v":" "},58,{"$f":"IF(COUNTIF($G$10:$G169,I169)<3,$G169,\" \")","v":" "},58,"",1000]
[59,null,{"$f":"IF(A170>0,(VLOOKUP($A68,'Engag Pre'!$A$10:$G$74,3,FALSE)),\" \")","v":{"$error":"#N/A"}},{"$f":"IF(B170>0,(VLOOKUP($B170,'Engag Pup'!$A$10:$G$109,7,FALSE)),\" \")","v":" "},{"$f":"IF(B170>0,(VLOOKUP($B170,'Engag Pup'!$A$10:$G$109,3,FALSE)),\" \")","v":" "},{"$f":"IF(B170>0,(VLOOKUP($B170,'Engag Pup'!$A$10:$G$109,4,FALSE)),\" \")","v":" "},{"$f":"IF(B170>0,(VLOOKUP($B170,'Engag Pup'!$A$10:$G$109,5,FALSE)),\" \")","v":" "},{"$f":"IF(B170>0,(VLOOKUP($B170,'Engag Pup'!$A$10:$G$109,6,FALSE)),\" \")","v":" "},null,null," ",{"$f":"IF(COUNTIF($G$10:$G170,G170)<2,$G170,\" \")","v":" "},59,{"$f":"IF(COUNTIF($G$10:$G170,I170)<3,$G170,\" \")","v":" "},59,"",1000]
[60,null,{"$f":"IF(A171>0,(VLOOKUP($A69,'Engag Pre'!$A$10:$G$74,3,FALSE)),\" \")","v":{"$error":"#N/A"}},{"$f":"IF(B171>0,(VLOOKUP($B171,'Engag Pup'!$A$10:$G$109,7,FALSE)),\" \")","v":" "},{"$f":"IF(B171>0,(VLOOKUP($B171,'Engag Pup'!$A$10:$G$109,3,FALSE)),\" \")","v":" "},{"$f":"IF(B171>0,(VLOOKUP($B171,'Engag Pup'!$A$10:$G$109,4,FALSE)),\" \")","v":" "},{"$f":"IF(B171>0,(VLOOKUP($B171,'Engag Pup'!$A$10:$G$109,5,FALSE)),\" \")","v":" "},{"$f":"IF(B171>0,(VLOOKUP($B171,'Engag Pup'!$A$10:$G$109,6,FALSE)),\" \")","v":" "},null,null," ",{"$f":"IF(COUNTIF($G$10:$G171,G171)<2,$G171,\" \")","v":" "},60,{"$f":"IF(COUNTIF($G$10:$G171,I171)<3,$G171,\" \")","v":" "},60,"",1000]
[61,null,{"$f":"IF(A172>0,(VLOOKUP($A70,'Engag Pre'!$A$10:$G$74,3,FALSE)),\" \")","v":{"$error":"#N/A"}},{"$f":"IF(B172>0,(VLOOKUP($B172,'Engag Pup'!$A$10:$G$109,7,FALSE)),\" \")","v":" "},{"$f":"IF(B172>0,(VLOOKUP($B172,'Engag Pup'!$A$10:$G$109,3,FALSE)),\" \")","v":" "},{"$f":"IF(B172>0,(VLOOKUP($B172,'Engag Pup'!$A$10:$G$109,4,FALSE)),\" \")","v":" "},{"$f":"IF(B172>0,(VLOOKUP($B172,'Engag Pup'!$A$10:$G$109,5,FALSE)),\" \")","v":" "},{"$f":"IF(B172>0,(VLOOKUP($B172,'Engag Pup'!$A$10:$G$109,6,FALSE)),\" \")","v":" "},null,null," ",{"$f":"IF(COUNTIF($G$10:$G172,G172)<2,$G172,\" \")","v":" "},61,{"$f":"IF(COUNTIF($G$10:$G172,I172)<3,$G172,\" \")","v":" "},61,"",1000]
[62,null,{"$f":"IF(A173>0,(VLOOKUP($A71,'Engag Pre'!$A$10:$G$74,3,FALSE)),\" \")","v":{"$error":"#N/A"}},{"$f":"IF(B173>0,(VLOOKUP($B173,'Engag Pup'!$A$10:$G$109,7,FALSE)),\" \")","v":" "},{"$f":"IF(B173>0,(VLOOKUP($B173,'Engag Pup'!$A$10:$G$109,3,FALSE)),\" \")","v":" "},{"$f":"IF(B173>0,(VLOOKUP($B173,'Engag Pup'!$A$10:$G$109,4,FALSE)),\" \")","v":" "},{"$f":"IF(B173>0,(VLOOKUP($B173,'Engag Pup'!$A$10:$G$109,5,FALSE)),\" \")","v":" "},{"$f":"IF(B173>0,(VLOOKUP($B173,'Engag Pup'!$A$10:$G$109,6,FALSE)),\" \")","v":" "},null,null," ",{"$f":"IF(COUNTIF($G$10:$G173,G173)<2,$G173,\" \")","v":" "},62,{"$f":"IF(COUNTIF($G$10:$G173,I173)<3,$G173,\" \")","v":" "},62,"",1000]
[63,null,{"$f":"IF(A174>0,(VLOOKUP($A72,'Engag Pre'!$A$10:$G$74,3,FALSE)),\" \")","v":{"$error":"#N/A"}},{"$f":"IF(B174>0,(VLOOKUP($B174,'Engag Pup'!$A$10:$G$109,7,FALSE)),\" \")","v":" "},{"$f":"IF(B174>0,(VLOOKUP($B174,'Engag Pup'!$A$10:$G$109,3,FALSE)),\" \")","v":" "},{"$f":"IF(B174>0,(VLOOKUP($B174,'Engag Pup'!$A$10:$G$109,4,FALSE)),\" \")","v":" "},{"$f":"IF(B174>0,(VLOOKUP($B174,'Engag Pup'!$A$10:$G$109,5,FALSE)),\" \")","v":" "},{"$f":"IF(B174>0,(VLOOKUP($B174,'Engag Pup'!$A$10:$G$109,6,FALSE)),\" \")","v":" "},null,null," ",{"$f":"IF(COUNTIF($G$10:$G174,G174)<2,$G174,\" \")","v":" "},63,{"$f":"IF(COUNTIF($G$10:$G174,I174)<3,$G174,\" \")","v":" "},63,"",1000]
[64,null,{"$f":"IF(A175>0,(VLOOKUP($A73,'Engag Pre'!$A$10:$G$74,3,FALSE)),\" \")","v":{"$error":"#N/A"}},{"$f":"IF(B175>0,(VLOOKUP($B175,'Engag Pup'!$A$10:$G$109,7,FALSE)),\" \")","v":" "},{"$f":"IF(B175>0,(VLOOKUP($B175,'Engag Pup'!$A$10:$G$109,3,FALSE)),\" \")","v":" "},{"$f":"IF(B175>0,(VLOOKUP($B175,'Engag Pup'!$A$10:$G$109,4,FALSE)),\" \")","v":" "},{"$f":"IF(B175>0,(VLOOKUP($B175,'Engag Pup'!$A$10:$G$109,5,FALSE)),\" \")","v":" "},{"$f":"IF(B175>0,(VLOOKUP($B175,'Engag Pup'!$A$10:$G$109,6,FALSE)),\" \")","v":" "},null,null," ",{"$f":"IF(COUNTIF($G$10:$G175,G175)<2,$G175,\" \")","v":" "},64,{"$f":"IF(COUNTIF($G$10:$G175,I175)<3,$G175,\" \")","v":" "},64,"",1000]
[65,null,{"$f":"IF(A176>0,(VLOOKUP($A74,'Engag Pre'!$A$10:$G$74,3,FALSE)),\" \")","v":{"$error":"#N/A"}},{"$f":"IF(B176>0,(VLOOKUP($B176,'Engag Pup'!$A$10:$G$109,7,FALSE)),\" \")","v":" "},{"$f":"IF(B176>0,(VLOOKUP($B176,'Engag Pup'!$A$10:$G$109,3,FALSE)),\" \")","v":" "},{"$f":"IF(B176>0,(VLOOKUP($B176,'Engag Pup'!$A$10:$G$109,4,FALSE)),\" \")","v":" "},{"$f":"IF(B176>0,(VLOOKUP($B176,'Engag Pup'!$A$10:$G$109,5,FALSE)),\" \")","v":" "},{"$f":"IF(B176>0,(VLOOKUP($B176,'Engag Pup'!$A$10:$G$109,6,FALSE)),\" \")","v":" "},null,null," ",{"$f":"IF(COUNTIF($G$10:$G176,G176)<2,$G176,\" \")","v":" "},65,{"$f":"IF(COUNTIF($G$10:$G176,I176)<3,$G176,\" \")","v":" "},65,"",1000]
[66,null,{"$f":"IF(A177>0,(VLOOKUP($A75,'Engag Pre'!$A$10:$G$74,3,FALSE)),\" \")","v":{"$error":"#N/A"}},{"$f":"IF(B177>0,(VLOOKUP($B177,'Engag Pup'!$A$10:$G$109,7,FALSE)),\" \")","v":" "},{"$f":"IF(B177>0,(VLOOKUP($B177,'Engag Pup'!$A$10:$G$109,3,FALSE)),\" \")","v":" "},{"$f":"IF(B177>0,(VLOOKUP($B177,'Engag Pup'!$A$10:$G$109,4,FALSE)),\" \")","v":" "},{"$f":"IF(B177>0,(VLOOKUP($B177,'Engag Pup'!$A$10:$G$109,5,FALSE)),\" \")","v":" "},{"$f":"IF(B177>0,(VLOOKUP($B177,'Engag Pup'!$A$10:$G$109,6,FALSE)),\" \")","v":" "},null,null,{"$f":"IF(COUNTIF($B$10:$B$109,B177)>1,\"Déjà classé\",\" \")","v":" "},{"$f":"IF(COUNTIF($G$10:$G177,G177)<2,$G177,\" \")","v":" "},{"$f":"IF($G$6<5,1000,(IF(L177=G177,A177,\"\")))","v":66},{"$f":"IF(COUNTIF($G$10:$G177,I177)<3,$G177,\" \")","v":" "},{"$f":"IF(N177=$G177,$A177,\"\")","v":66},{"$f":"IF(N177=L177,\"\",N177)","v":""},{"$f":"IF($G$6<5,1000,(IF(P177=$G177,$A177,1000)))","v":1000}]
[67,null,{"$f":"IF(A178>0,(VLOOKUP($A76,'Engag Pre'!$A$10:$G$74,3,FALSE)),\" \")","v":{"$error":"#N/A"}},{"$f":"IF(B178>0,(VLOOKUP($B178,'Engag Pup'!$A$10:$G$109,7,FALSE)),\" \")","v":" "},{"$f":"IF(B178>0,(VLOOKUP($B178,'Engag Pup'!$A$10:$G$109,3,FALSE)),\" \")","v":" "},{"$f":"IF(B178>0,(VLOOKUP($B178,'Engag Pup'!$A$10:$G$109,4,FALSE)),\" \")","v":" "},{"$f":"IF(B178>0,(VLOOKUP($B178,'Engag Pup'!$A$10:$G$109,5,FALSE)),\" \")","v":" "},{"$f":"IF(B178>0,(VLOOKUP($B178,'Engag Pup'!$A$10:$G$109,6,FALSE)),\" \")","v":" "},null,null," ",{"$f":"IF(COUNTIF($G$10:$G178,G178)<2,$G178,\" \")","v":" "},67,{"$f":"IF(COUNTIF($G$10:$G178,I178)<3,$G178,\" \")","v":" "},67,"",1000]
[68,null,{"$f":"IF(A179>0,(VLOOKUP($A77,'Engag Pre'!$A$10:$G$74,3,FALSE)),\" \")","v":{"$error":"#N/A"}},{"$f":"IF(B179>0,(VLOOKUP($B179,'Engag Pup'!$A$10:$G$109,7,FALSE)),\" \")","v":" "},{"$f":"IF(B179>0,(VLOOKUP($B179,'Engag Pup'!$A$10:$G$109,3,FALSE)),\" \")","v":" "},{"$f":"IF(B179>0,(VLOOKUP($B179,'Engag Pup'!$A$10:$G$109,4,FALSE)),\" \")","v":" "},{"$f":"IF(B179>0,(VLOOKUP($B179,'Engag Pup'!$A$10:$G$109,5,FALSE)),\" \")","v":" "},{"$f":"IF(B179>0,(VLOOKUP($B179,'Engag Pup'!$A$10:$G$109,6,FALSE)),\" \")","v":" "},null,null," ",{"$f":"IF(COUNTIF($G$10:$G179,G179)<2,$G179,\" \")","v":" "},68,{"$f":"IF(COUNTIF($G$10:$G179,I179)<3,$G179,\" \")","v":" "},68,"",1000]
[69,null,{"$f":"IF(A180>0,(VLOOKUP($A78,'Engag Pre'!$A$10:$G$74,3,FALSE)),\" \")","v":{"$error":"#N/A"}},{"$f":"IF(B180>0,(VLOOKUP($B180,'Engag Pup'!$A$10:$G$109,7,FALSE)),\" \")","v":" "},{"$f":"IF(B180>0,(VLOOKUP($B180,'Engag Pup'!$A$10:$G$109,3,FALSE)),\" \")","v":" "},{"$f":"IF(B180>0,(VLOOKUP($B180,'Engag Pup'!$A$10:$G$109,4,FALSE)),\" \")","v":" "},{"$f":"IF(B180>0,(VLOOKUP($B180,'Engag Pup'!$A$10:$G$109,5,FALSE)),\" \")","v":" "},{"$f":"IF(B180>0,(VLOOKUP($B180,'Engag Pup'!$A$10:$G$109,6,FALSE)),\" \")","v":" "},null,null," ",{"$f":"IF(COUNTIF($G$10:$G180,G180)<2,$G180,\" \")","v":" "},69,{"$f":"IF(COUNTIF($G$10:$G180,I180)<3,$G180,\" \")","v":" "},69,"",1000]
[70,null,{"$f":"IF(A181>0,(VLOOKUP($A79,'Engag Pre'!$A$10:$G$74,3,FALSE)),\" \")","v":{"$error":"#N/A"}},{"$f":"IF(B181>0,(VLOOKUP($B181,'Engag Pup'!$A$10:$G$109,7,FALSE)),\" \")","v":" "},{"$f":"IF(B181>0,(VLOOKUP($B181,'Engag Pup'!$A$10:$G$109,3,FALSE)),\" \")","v":" "},{"$f":"IF(B181>0,(VLOOKUP($B181,'Engag Pup'!$A$10:$G$109,4,FALSE)),\" \")","v":" "},{"$f":"IF(B181>0,(VLOOKUP($B181,'Engag Pup'!$A$10:$G$109,5,FALSE)),\" \")","v":" "},{"$f":"IF(B181>0,(VLOOKUP($B181,'Engag Pup'!$A$10:$G$109,6,FALSE)),\" \")","v":" "},null,null," ",{"$f":"IF(COUNTIF($G$10:$G181,G181)<2,$G181,\" \")","v":" "},70,{"$f":"IF(COUNTIF($G$10:$G181,I181)<3,$G181,\" \")","v":" "},70,"",1000]
[71,null,{"$f":"IF(A182>0,(VLOOKUP($A80,'Engag Pre'!$A$10:$G$74,3,FALSE)),\" \")","v":{"$error":"#N/A"}},{"$f":"IF(B182>0,(VLOOKUP($B182,'Engag Pup'!$A$10:$G$109,7,FALSE)),\" \")","v":" "},{"$f":"IF(B182>0,(VLOOKUP($B182,'Engag Pup'!$A$10:$G$109,3,FALSE)),\" \")","v":" "},{"$f":"IF(B182>0,(VLOOKUP($B182,'Engag Pup'!$A$10:$G$109,4,FALSE)),\" \")","v":" "},{"$f":"IF(B182>0,(VLOOKUP($B182,'Engag Pup'!$A$10:$G$109,5,FALSE)),\" \")","v":" "},{"$f":"IF(B182>0,(VLOOKUP($B182,'Engag Pup'!$A$10:$G$109,6,FALSE)),\" \")","v":" "},null,null," ",{"$f":"IF(COUNTIF($G$10:$G182,G182)<2,$G182,\" \")","v":" "},71,{"$f":"IF(COUNTIF($G$10:$G182,I182)<3,$G182,\" \")","v":" "},71,"",1000]
[72,null,{"$f":"IF(A183>0,(VLOOKUP($A81,'Engag Pre'!$A$10:$G$74,3,FALSE)),\" \")","v":{"$error":"#N/A"}},{"$f":"IF(B183>0,(VLOOKUP($B183,'Engag Pup'!$A$10:$G$109,7,FALSE)),\" \")","v":" "},{"$f":"IF(B183>0,(VLOOKUP($B183,'Engag Pup'!$A$10:$G$109,3,FALSE)),\" \")","v":" "},{"$f":"IF(B183>0,(VLOOKUP($B183,'Engag Pup'!$A$10:$G$109,4,FALSE)),\" \")","v":" "},{"$f":"IF(B183>0,(VLOOKUP($B183,'Engag Pup'!$A$10:$G$109,5,FALSE)),\" \")","v":" "},{"$f":"IF(B183>0,(VLOOKUP($B183,'Engag Pup'!$A$10:$G$109,6,FALSE)),\" \")","v":" "},null,null," ",{"$f":"IF(COUNTIF($G$10:$G183,G183)<2,$G183,\" \")","v":" "},72,{"$f":"IF(COUNTIF($G$10:$G183,I183)<3,$G183,\" \")","v":" "},72,"",1000]
[73,null,{"$f":"IF(A184>0,(VLOOKUP($A82,'Engag Pre'!$A$10:$G$74,3,FALSE)),\" \")","v":{"$error":"#N/A"}},{"$f":"IF(B184>0,(VLOOKUP($B184,'Engag Pup'!$A$10:$G$109,7,FALSE)),\" \")","v":" "},{"$f":"IF(B184>0,(VLOOKUP($B184,'Engag Pup'!$A$10:$G$109,3,FALSE)),\" \")","v":" "},{"$f":"IF(B184>0,(VLOOKUP($B184,'Engag Pup'!$A$10:$G$109,4,FALSE)),\" \")","v":" "},{"$f":"IF(B184>0,(VLOOKUP($B184,'Engag Pup'!$A$10:$G$109,5,FALSE)),\" \")","v":" "},{"$f":"IF(B184>0,(VLOOKUP($B184,'Engag Pup'!$A$10:$G$109,6,FALSE)),\" \")","v":" "},null,null," ",{"$f":"IF(COUNTIF($G$10:$G184,G184)<2,$G184,\" \")","v":" "},73,{"$f":"IF(COUNTIF($G$10:$G184,I184)<3,$G184,\" \")","v":" "},73,"",1000]
[74,null,{"$f":"IF(A185>0,(VLOOKUP($A83,'Engag Pre'!$A$10:$G$74,3,FALSE)),\" \")","v":{"$error":"#N/A"}},{"$f":"IF(B185>0,(VLOOKUP($B185,'Engag Pup'!$A$10:$G$109,7,FALSE)),\" \")","v":" "},{"$f":"IF(B185>0,(VLOOKUP($B185,'Engag Pup'!$A$10:$G$109,3,FALSE)),\" \")","v":" "},{"$f":"IF(B185>0,(VLOOKUP($B185,'Engag Pup'!$A$10:$G$109,4,FALSE)),\" \")","v":" "},{"$f":"IF(B185>0,(VLOOKUP($B185,'Engag Pup'!$A$10:$G$109,5,FALSE)),\" \")","v":" "},{"$f":"IF(B185>0,(VLOOKUP($B185,'Engag Pup'!$A$10:$G$109,6,FALSE)),\" \")","v":" "},null,null," ",{"$f":"IF(COUNTIF($G$10:$G185,G185)<2,$G185,\" \")","v":" "},74,{"$f":"IF(COUNTIF($G$10:$G185,I185)<3,$G185,\" \")","v":" "},74,"",1000]
[75,null,{"$f":"IF(A186>0,(VLOOKUP($A84,'Engag Pre'!$A$10:$G$74,3,FALSE)),\" \")","v":{"$error":"#N/A"}},{"$f":"IF(B186>0,(VLOOKUP($B186,'Engag Pup'!$A$10:$G$109,7,FALSE)),\" \")","v":" "},{"$f":"IF(B186>0,(VLOOKUP($B186,'Engag Pup'!$A$10:$G$109,3,FALSE)),\" \")","v":" "},{"$f":"IF(B186>0,(VLOOKUP($B186,'Engag Pup'!$A$10:$G$109,4,FALSE)),\" \")","v":" "},{"$f":"IF(B186>0,(VLOOKUP($B186,'Engag Pup'!$A$10:$G$109,5,FALSE)),\" \")","v":" "},{"$f":"IF(B186>0,(VLOOKUP($B186,'Engag Pup'!$A$10:$G$109,6,FALSE)),\" \")","v":" "},null,null," ",{"$f":"IF(COUNTIF($G$10:$G186,G186)<2,$G186,\" \")","v":" "},75,{"$f":"IF(COUNTIF($G$10:$G186,I186)<3,$G186,\" \")","v":" "},75,"",1000]
[76,null,{"$f":"IF(A187>0,(VLOOKUP($A85,'Engag Pre'!$A$10:$G$74,3,FALSE)),\" \")","v":{"$error":"#N/A"}},{"$f":"IF(B187>0,(VLOOKUP($B187,'Engag Pup'!$A$10:$G$109,7,FALSE)),\" \")","v":" "},{"$f":"IF(B187>0,(VLOOKUP($B187,'Engag Pup'!$A$10:$G$109,3,FALSE)),\" \")","v":" "},{"$f":"IF(B187>0,(VLOOKUP($B187,'Engag Pup'!$A$10:$G$109,4,FALSE)),\" \")","v":" "},{"$f":"IF(B187>0,(VLOOKUP($B187,'Engag Pup'!$A$10:$G$109,5,FALSE)),\" \")","v":" "},{"$f":"IF(B187>0,(VLOOKUP($B187,'Engag Pup'!$A$10:$G$109,6,FALSE)),\" \")","v":" "},null,null," ",{"$f":"IF(COUNTIF($G$10:$G187,G187)<2,$G187,\" \")","v":" "},76,{"$f":"IF(COUNTIF($G$10:$G187,I187)<3,$G187,\" \")","v":" "},76,"",1000]
[77,null,{"$f":"IF(A188>0,(VLOOKUP($A86,'Engag Pre'!$A$10:$G$74,3,FALSE)),\" \")","v":{"$error":"#N/A"}},{"$f":"IF(B188>0,(VLOOKUP($B188,'Engag Pup'!$A$10:$G$109,7,FALSE)),\" \")","v":" "},{"$f":"IF(B188>0,(VLOOKUP($B188,'Engag Pup'!$A$10:$G$109,3,FALSE)),\" \")","v":" "},{"$f":"IF(B188>0,(VLOOKUP($B188,'Engag Pup'!$A$10:$G$109,4,FALSE)),\" \")","v":" "},{"$f":"IF(B188>0,(VLOOKUP($B188,'Engag Pup'!$A$10:$G$109,5,FALSE)),\" \")","v":" "},{"$f":"IF(B188>0,(VLOOKUP($B188,'Engag Pup'!$A$10:$G$109,6,FALSE)),\" \")","v":" "},null,null," ",{"$f":"IF(COUNTIF($G$10:$G188,G188)<2,$G188,\" \")","v":" "},77,{"$f":"IF(COUNTIF($G$10:$G188,I188)<3,$G188,\" \")","v":" "},77,"",1000]
[78,null,{"$f":"IF(A189>0,(VLOOKUP($A87,'Engag Pre'!$A$10:$G$74,3,FALSE)),\" \")","v":{"$error":"#N/A"}},{"$f":"IF(B189>0,(VLOOKUP($B189,'Engag Pup'!$A$10:$G$109,7,FALSE)),\" \")","v":" "},{"$f":"IF(B189>0,(VLOOKUP($B189,'Engag Pup'!$A$10:$G$109,3,FALSE)),\" \")","v":" "},{"$f":"IF(B189>0,(VLOOKUP($B189,'Engag Pup'!$A$10:$G$109,4,FALSE)),\" \")","v":" "},{"$f":"IF(B189>0,(VLOOKUP($B189,'Engag Pup'!$A$10:$G$109,5,FALSE)),\" \")","v":" "},{"$f":"IF(B189>0,(VLOOKUP($B189,'Engag Pup'!$A$10:$G$109,6,FALSE)),\" \")","v":" "},null,null," ",{"$f":"IF(COUNTIF($G$10:$G189,G189)<2,$G189,\" \")","v":" "},78,{"$f":"IF(COUNTIF($G$10:$G189,I189)<3,$G189,\" \")","v":" "},78,"",1000]
[79,null,{"$f":"IF(A190>0,(VLOOKUP($A88,'Engag Pre'!$A$10:$G$74,3,FALSE)),\" \")","v":{"$error":"#N/A"}},{"$f":"IF(B190>0,(VLOOKUP($B190,'Engag Pup'!$A$10:$G$109,7,FALSE)),\" \")","v":" "},{"$f":"IF(B190>0,(VLOOKUP($B190,'Engag Pup'!$A$10:$G$109,3,FALSE)),\" \")","v":" "},{"$f":"IF(B190>0,(VLOOKUP($B190,'Engag Pup'!$A$10:$G$109,4,FALSE)),\" \")","v":" "},{"$f":"IF(B190>0,(VLOOKUP($B190,'Engag Pup'!$A$10:$G$109,5,FALSE)),\" \")","v":" "},{"$f":"IF(B190>0,(VLOOKUP($B190,'Engag Pup'!$A$10:$G$109,6,FALSE)),\" \")","v":" "},null,null," ",{"$f":"IF(COUNTIF($G$10:$G190,G190)<2,$G190,\" \")","v":" "},79,{"$f":"IF(COUNTIF($G$10:$G190,I190)<3,$G190,\" \")","v":" "},79,"",1000]
[80,null,{"$f":"IF(A191>0,(VLOOKUP($A89,'Engag Pre'!$A$10:$G$74,3,FALSE)),\" \")","v":{"$error":"#N/A"}},{"$f":"IF(B191>0,(VLOOKUP($B191,'Engag Pup'!$A$10:$G$109,7,FALSE)),\" \")","v":" "},{"$f":"IF(B191>0,(VLOOKUP($B191,'Engag Pup'!$A$10:$G$109,3,FALSE)),\" \")","v":" "},{"$f":"IF(B191>0,(VLOOKUP($B191,'Engag Pup'!$A$10:$G$109,4,FALSE)),\" \")","v":" "},{"$f":"IF(B191>0,(VLOOKUP($B191,'Engag Pup'!$A$10:$G$109,5,FALSE)),\" \")","v":" "},{"$f":"IF(B191>0,(VLOOKUP($B191,'Engag Pup'!$A$10:$G$109,6,FALSE)),\" \")","v":" "},null,null," ",{"$f":"IF(COUNTIF($G$10:$G191,G191)<2,$G191,\" \")","v":" "},80,{"$f":"IF(COUNTIF($G$10:$G191,I191)<3,$G191,\" \")","v":" "},80,"",1000]
[81,null,{"$f":"IF(A192>0,(VLOOKUP($A90,'Engag Pre'!$A$10:$G$74,3,FALSE)),\" \")","v":{"$error":"#N/A"}},{"$f":"IF(B192>0,(VLOOKUP($B192,'Engag Pup'!$A$10:$G$109,7,FALSE)),\" \")","v":" "},{"$f":"IF(B192>0,(VLOOKUP($B192,'Engag Pup'!$A$10:$G$109,3,FALSE)),\" \")","v":" "},{"$f":"IF(B192>0,(VLOOKUP($B192,'Engag Pup'!$A$10:$G$109,4,FALSE)),\" \")","v":" "},{"$f":"IF(B192>0,(VLOOKUP($B192,'Engag Pup'!$A$10:$G$109,5,FALSE)),\" \")","v":" "},{"$f":"IF(B192>0,(VLOOKUP($B192,'Engag Pup'!$A$10:$G$109,6,FALSE)),\" \")","v":" "},null,null," ",{"$f":"IF(COUNTIF($G$10:$G192,G192)<2,$G192,\" \")","v":" "},81,{"$f":"IF(COUNTIF($G$10:$G192,I192)<3,$G192,\" \")","v":" "},81,"",1000]
[82,null,{"$f":"IF(A193>0,(VLOOKUP($A91,'Engag Pre'!$A$10:$G$74,3,FALSE)),\" \")","v":{"$error":"#N/A"}},{"$f":"IF(B193>0,(VLOOKUP($B193,'Engag Pup'!$A$10:$G$109,7,FALSE)),\" \")","v":" "},{"$f":"IF(B193>0,(VLOOKUP($B193,'Engag Pup'!$A$10:$G$109,3,FALSE)),\" \")","v":" "},{"$f":"IF(B193>0,(VLOOKUP($B193,'Engag Pup'!$A$10:$G$109,4,FALSE)),\" \")","v":" "},{"$f":"IF(B193>0,(VLOOKUP($B193,'Engag Pup'!$A$10:$G$109,5,FALSE)),\" \")","v":" "},{"$f":"IF(B193>0,(VLOOKUP($B193,'Engag Pup'!$A$10:$G$109,6,FALSE)),\" \")","v":" "},null,null," ",{"$f":"IF(COUNTIF($G$10:$G193,G193)<2,$G193,\" \")","v":" "},82,{"$f":"IF(COUNTIF($G$10:$G193,I193)<3,$G193,\" \")","v":" "},82,"",1000]
[83,null,{"$f":"IF(A194>0,(VLOOKUP($A92,'Engag Pre'!$A$10:$G$74,3,FALSE)),\" \")","v":{"$error":"#N/A"}},{"$f":"IF(B194>0,(VLOOKUP($B194,'Engag Pup'!$A$10:$G$109,7,FALSE)),\" \")","v":" "},{"$f":"IF(B194>0,(VLOOKUP($B194,'Engag Pup'!$A$10:$G$109,3,FALSE)),\" \")","v":" "},{"$f":"IF(B194>0,(VLOOKUP($B194,'Engag Pup'!$A$10:$G$109,4,FALSE)),\" \")","v":" "},{"$f":"IF(B194>0,(VLOOKUP($B194,'Engag Pup'!$A$10:$G$109,5,FALSE)),\" \")","v":" "},{"$f":"IF(B194>0,(VLOOKUP($B194,'Engag Pup'!$A$10:$G$109,6,FALSE)),\" \")","v":" "},null,null," ",{"$f":"IF(COUNTIF($G$10:$G194,G194)<2,$G194,\" \")","v":" "},83,{"$f":"IF(COUNTIF($G$10:$G194,I194)<3,$G194,\" \")","v":" "},83,"",1000]
[84,null,{"$f":"IF(A195>0,(VLOOKUP($A93,'Engag Pre'!$A$10:$G$74,3,FALSE)),\" \")","v":{"$error":"#N/A"}},{"$f":"IF(B195>0,(VLOOKUP($B195,'Engag Pup'!$A$10:$G$109,7,FALSE)),\" \")","v":" "},{"$f":"IF(B195>0,(VLOOKUP($B195,'Engag Pup'!$A$10:$G$109,3,FALSE)),\" \")","v":" "},{"$f":"IF(B195>0,(VLOOKUP($B195,'Engag Pup'!$A$10:$G$109,4,FALSE)),\" \")","v":" "},{"$f":"IF(B195>0,(VLOOKUP($B195,'Engag Pup'!$A$10:$G$109,5,FALSE)),\" \")","v":" "},{"$f":"IF(B195>0,(VLOOKUP($B195,'Engag Pup'!$A$10:$G$109,6,FALSE)),\" \")","v":" "},null,null," ",{"$f":"IF(COUNTIF($G$10:$G195,G195)<2,$G195,\" \")","v":" "},84,{"$f":"IF(COUNTIF($G$10:$G195,I195)<3,$G195,\" \")","v":" "},84,"",1000]
[85,null,{"$f":"IF(A196>0,(VLOOKUP($A94,'Engag Pre'!$A$10:$G$74,3,FALSE)),\" \")","v":{"$error":"#N/A"}},{"$f":"IF(B196>0,(VLOOKUP($B196,'Engag Pup'!$A$10:$G$109,7,FALSE)),\" \")","v":" "},{"$f":"IF(B196>0,(VLOOKUP($B196,'Engag Pup'!$A$10:$G$109,3,FALSE)),\" \")","v":" "},{"$f":"IF(B196>0,(VLOOKUP($B196,'Engag Pup'!$A$10:$G$109,4,FALSE)),\" \")","v":" "},{"$f":"IF(B196>0,(VLOOKUP($B196,'Engag Pup'!$A$10:$G$109,5,FALSE)),\" \")","v":" "},{"$f":"IF(B196>0,(VLOOKUP($B196,'Engag Pup'!$A$10:$G$109,6,FALSE)),\" \")","v":" "},null,null," ",{"$f":"IF(COUNTIF($G$10:$G196,G196)<2,$G196,\" \")","v":" "},85,{"$f":"IF(COUNTIF($G$10:$G196,I196)<3,$G196,\" \")","v":" "},85,"",1000]
[86,null,{"$f":"IF(A197>0,(VLOOKUP($A95,'Engag Pre'!$A$10:$G$74,3,FALSE)),\" \")","v":{"$error":"#N/A"}},{"$f":"IF(B197>0,(VLOOKUP($B197,'Engag Pup'!$A$10:$G$109,7,FALSE)),\" \")","v":" "},{"$f":"IF(B197>0,(VLOOKUP($B197,'Engag Pup'!$A$10:$G$109,3,FALSE)),\" \")","v":" "},{"$f":"IF(B197>0,(VLOOKUP($B197,'Engag Pup'!$A$10:$G$109,4,FALSE)),\" \")","v":" "},{"$f":"IF(B197>0,(VLOOKUP($B197,'Engag Pup'!$A$10:$G$109,5,FALSE)),\" \")","v":" "},{"$f":"IF(B197>0,(VLOOKUP($B197,'Engag Pup'!$A$10:$G$109,6,FALSE)),\" \")","v":" "},null,null," ",{"$f":"IF(COUNTIF($G$10:$G197,G197)<2,$G197,\" \")","v":" "},86,{"$f":"IF(COUNTIF($G$10:$G197,I197)<3,$G197,\" \")","v":" "},86,"",1000]
[87,null,{"$f":"IF(A198>0,(VLOOKUP($A96,'Engag Pre'!$A$10:$G$74,3,FALSE)),\" \")","v":{"$error":"#N/A"}},{"$f":"IF(B198>0,(VLOOKUP($B198,'Engag Pup'!$A$10:$G$109,7,FALSE)),\" \")","v":" "},{"$f":"IF(B198>0,(VLOOKUP($B198,'Engag Pup'!$A$10:$G$109,3,FALSE)),\" \")","v":" "},{"$f":"IF(B198>0,(VLOOKUP($B198,'Engag Pup'!$A$10:$G$109,4,FALSE)),\" \")","v":" "},{"$f":"IF(B198>0,(VLOOKUP($B198,'Engag Pup'!$A$10:$G$109,5,FALSE)),\" \")","v":" "},{"$f":"IF(B198>0,(VLOOKUP($B198,'Engag Pup'!$A$10:$G$109,6,FALSE)),\" \")","v":" "},null,null," ",{"$f":"IF(COUNTIF($G$10:$G198,G198)<2,$G198,\" \")","v":" "},87,{"$f":"IF(COUNTIF($G$10:$G198,I198)<3,$G198,\" \")","v":" "},87,"",1000]
[88,null,{"$f":"IF(A199>0,(VLOOKUP($A97,'Engag Pre'!$A$10:$G$74,3,FALSE)),\" \")","v":{"$error":"#N/A"}},{"$f":"IF(B199>0,(VLOOKUP($B199,'Engag Pup'!$A$10:$G$109,7,FALSE)),\" \")","v":" "},{"$f":"IF(B199>0,(VLOOKUP($B199,'Engag Pup'!$A$10:$G$109,3,FALSE)),\" \")","v":" "},{"$f":"IF(B199>0,(VLOOKUP($B199,'Engag Pup'!$A$10:$G$109,4,FALSE)),\" \")","v":" "},{"$f":"IF(B199>0,(VLOOKUP($B199,'Engag Pup'!$A$10:$G$109,5,FALSE)),\" \")","v":" "},{"$f":"IF(B199>0,(VLOOKUP($B199,'Engag Pup'!$A$10:$G$109,6,FALSE)),\" \")","v":" "},null,null," ",{"$f":"IF(COUNTIF($G$10:$G199,G199)<2,$G199,\" \")","v":" "},88,{"$f":"IF(COUNTIF($G$10:$G199,I199)<3,$G199,\" \")","v":" "},88,"",1000]
[89,null,{"$f":"IF(A200>0,(VLOOKUP($A98,'Engag Pre'!$A$10:$G$74,3,FALSE)),\" \")","v":{"$error":"#N/A"}},{"$f":"IF(B200>0,(VLOOKUP($B200,'Engag Pup'!$A$10:$G$109,7,FALSE)),\" \")","v":" "},{"$f":"IF(B200>0,(VLOOKUP($B200,'Engag Pup'!$A$10:$G$109,3,FALSE)),\" \")","v":" "},{"$f":"IF(B200>0,(VLOOKUP($B200,'Engag Pup'!$A$10:$G$109,4,FALSE)),\" \")","v":" "},{"$f":"IF(B200>0,(VLOOKUP($B200,'Engag Pup'!$A$10:$G$109,5,FALSE)),\" \")","v":" "},{"$f":"IF(B200>0,(VLOOKUP($B200,'Engag Pup'!$A$10:$G$109,6,FALSE)),\" \")","v":" "},null,null," ",{"$f":"IF(COUNTIF($G$10:$G200,G200)<2,$G200,\" \")","v":" "},89,{"$f":"IF(COUNTIF($G$10:$G200,I200)<3,$G200,\" \")","v":" "},89,"",1000]
[90,null,{"$f":"IF(A201>0,(VLOOKUP($A99,'Engag Pre'!$A$10:$G$74,3,FALSE)),\" \")","v":{"$error":"#N/A"}},{"$f":"IF(B201>0,(VLOOKUP($B201,'Engag Pup'!$A$10:$G$109,7,FALSE)),\" \")","v":" "},{"$f":"IF(B201>0,(VLOOKUP($B201,'Engag Pup'!$A$10:$G$109,3,FALSE)),\" \")","v":" "},{"$f":"IF(B201>0,(VLOOKUP($B201,'Engag Pup'!$A$10:$G$109,4,FALSE)),\" \")","v":" "},{"$f":"IF(B201>0,(VLOOKUP($B201,'Engag Pup'!$A$10:$G$109,5,FALSE)),\" \")","v":" "},{"$f":"IF(B201>0,(VLOOKUP($B201,'Engag Pup'!$A$10:$G$109,6,FALSE)),\" \")","v":" "},null,null," ",{"$f":"IF(COUNTIF($G$10:$G201,G201)<2,$G201,\" \")","v":" "},90,{"$f":"IF(COUNTIF($G$10:$G201,I201)<3,$G201,\" \")","v":" "},90,"",1000]
[91,null,{"$f":"IF(A202>0,(VLOOKUP($A100,'Engag Pre'!$A$10:$G$74,3,FALSE)),\" \")","v":{"$error":"#N/A"}},{"$f":"IF(B202>0,(VLOOKUP($B202,'Engag Pup'!$A$10:$G$109,7,FALSE)),\" \")","v":" "},{"$f":"IF(B202>0,(VLOOKUP($B202,'Engag Pup'!$A$10:$G$109,3,FALSE)),\" \")","v":" "},{"$f":"IF(B202>0,(VLOOKUP($B202,'Engag Pup'!$A$10:$G$109,4,FALSE)),\" \")","v":" "},{"$f":"IF(B202>0,(VLOOKUP($B202,'Engag Pup'!$A$10:$G$109,5,FALSE)),\" \")","v":" "},{"$f":"IF(B202>0,(VLOOKUP($B202,'Engag Pup'!$A$10:$G$109,6,FALSE)),\" \")","v":" "},null,null," ",{"$f":"IF(COUNTIF($G$10:$G202,G202)<2,$G202,\" \")","v":" "},91,{"$f":"IF(COUNTIF($G$10:$G202,I202)<3,$G202,\" \")","v":" "},91,"",1000]
[92,null,{"$f":"IF(A203>0,(VLOOKUP($A101,'Engag Pre'!$A$10:$G$74,3,FALSE)),\" \")","v":{"$error":"#N/A"}},{"$f":"IF(B203>0,(VLOOKUP($B203,'Engag Pup'!$A$10:$G$109,7,FALSE)),\" \")","v":" "},{"$f":"IF(B203>0,(VLOOKUP($B203,'Engag Pup'!$A$10:$G$109,3,FALSE)),\" \")","v":" "},{"$f":"IF(B203>0,(VLOOKUP($B203,'Engag Pup'!$A$10:$G$109,4,FALSE)),\" \")","v":" "},{"$f":"IF(B203>0,(VLOOKUP($B203,'Engag Pup'!$A$10:$G$109,5,FALSE)),\" \")","v":" "},{"$f":"IF(B203>0,(VLOOKUP($B203,'Engag Pup'!$A$10:$G$109,6,FALSE)),\" \")","v":" "},null,null," ",{"$f":"IF(COUNTIF($G$10:$G203,G203)<2,$G203,\" \")","v":" "},92,{"$f":"IF(COUNTIF($G$10:$G203,I203)<3,$G203,\" \")","v":" "},92,"",1000]
[93,null,{"$f":"IF(A204>0,(VLOOKUP($A102,'Engag Pre'!$A$10:$G$74,3,FALSE)),\" \")","v":{"$error":"#N/A"}},{"$f":"IF(B204>0,(VLOOKUP($B204,'Engag Pup'!$A$10:$G$109,7,FALSE)),\" \")","v":" "},{"$f":"IF(B204>0,(VLOOKUP($B204,'Engag Pup'!$A$10:$G$109,3,FALSE)),\" \")","v":" "},{"$f":"IF(B204>0,(VLOOKUP($B204,'Engag Pup'!$A$10:$G$109,4,FALSE)),\" \")","v":" "},{"$f":"IF(B204>0,(VLOOKUP($B204,'Engag Pup'!$A$10:$G$109,5,FALSE)),\" \")","v":" "},{"$f":"IF(B204>0,(VLOOKUP($B204,'Engag Pup'!$A$10:$G$109,6,FALSE)),\" \")","v":" "},null,null," ",{"$f":"IF(COUNTIF($G$10:$G204,G204)<2,$G204,\" \")","v":" "},93,{"$f":"IF(COUNTIF($G$10:$G204,I204)<3,$G204,\" \")","v":" "},93,"",1000]
[94,null,{"$f":"IF(A205>0,(VLOOKUP($A103,'Engag Pre'!$A$10:$G$74,3,FALSE)),\" \")","v":{"$error":"#N/A"}},{"$f":"IF(B205>0,(VLOOKUP($B205,'Engag Pup'!$A$10:$G$109,7,FALSE)),\" \")","v":" "},{"$f":"IF(B205>0,(VLOOKUP($B205,'Engag Pup'!$A$10:$G$109,3,FALSE)),\" \")","v":" "},{"$f":"IF(B205>0,(VLOOKUP($B205,'Engag Pup'!$A$10:$G$109,4,FALSE)),\" \")","v":" "},{"$f":"IF(B205>0,(VLOOKUP($B205,'Engag Pup'!$A$10:$G$109,5,FALSE)),\" \")","v":" "},{"$f":"IF(B205>0,(VLOOKUP($B205,'Engag Pup'!$A$10:$G$109,6,FALSE)),\" \")","v":" "},null,null," ",{"$f":"IF(COUNTIF($G$10:$G205,G205)<2,$G205,\" \")","v":" "},94,{"$f":"IF(COUNTIF($G$10:$G205,I205)<3,$G205,\" \")","v":" "},94,"",1000]
[95,null,{"$f":"IF(A206>0,(VLOOKUP($A104,'Engag Pre'!$A$10:$G$74,3,FALSE)),\" \")","v":{"$error":"#N/A"}},{"$f":"IF(B206>0,(VLOOKUP($B206,'Engag Pup'!$A$10:$G$109,7,FALSE)),\" \")","v":" "},{"$f":"IF(B206>0,(VLOOKUP($B206,'Engag Pup'!$A$10:$G$109,3,FALSE)),\" \")","v":" "},{"$f":"IF(B206>0,(VLOOKUP($B206,'Engag Pup'!$A$10:$G$109,4,FALSE)),\" \")","v":" "},{"$f":"IF(B206>0,(VLOOKUP($B206,'Engag Pup'!$A$10:$G$109,5,FALSE)),\" \")","v":" "},{"$f":"IF(B206>0,(VLOOKUP($B206,'Engag Pup'!$A$10:$G$109,6,FALSE)),\" \")","v":" "},null,null," ",{"$f":"IF(COUNTIF($G$10:$G206,G206)<2,$G206,\" \")","v":" "},95,{"$f":"IF(COUNTIF($G$10:$G206,I206)<3,$G206,\" \")","v":" "},95,"",1000]
[96,null,{"$f":"IF(A207>0,(VLOOKUP($A105,'Engag Pre'!$A$10:$G$74,3,FALSE)),\" \")","v":{"$error":"#N/A"}},{"$f":"IF(B207>0,(VLOOKUP($B207,'Engag Pup'!$A$10:$G$109,7,FALSE)),\" \")","v":" "},{"$f":"IF(B207>0,(VLOOKUP($B207,'Engag Pup'!$A$10:$G$109,3,FALSE)),\" \")","v":" "},{"$f":"IF(B207>0,(VLOOKUP($B207,'Engag Pup'!$A$10:$G$109,4,FALSE)),\" \")","v":" "},{"$f":"IF(B207>0,(VLOOKUP($B207,'Engag Pup'!$A$10:$G$109,5,FALSE)),\" \")","v":" "},{"$f":"IF(B207>0,(VLOOKUP($B207,'Engag Pup'!$A$10:$G$109,6,FALSE)),\" \")","v":" "},null,null," ",{"$f":"IF(COUNTIF($G$10:$G207,G207)<2,$G207,\" \")","v":" "},96,{"$f":"IF(COUNTIF($G$10:$G207,I207)<3,$G207,\" \")","v":" "},96,"",1000]
[97,null,{"$f":"IF(A208>0,(VLOOKUP($A106,'Engag Pre'!$A$10:$G$74,3,FALSE)),\" \")","v":{"$error":"#N/A"}},{"$f":"IF(B208>0,(VLOOKUP($B208,'Engag Pup'!$A$10:$G$109,7,FALSE)),\" \")","v":" "},{"$f":"IF(B208>0,(VLOOKUP($B208,'Engag Pup'!$A$10:$G$109,3,FALSE)),\" \")","v":" "},{"$f":"IF(B208>0,(VLOOKUP($B208,'Engag Pup'!$A$10:$G$109,4,FALSE)),\" \")","v":" "},{"$f":"IF(B208>0,(VLOOKUP($B208,'Engag Pup'!$A$10:$G$109,5,FALSE)),\" \")","v":" "},{"$f":"IF(B208>0,(VLOOKUP($B208,'Engag Pup'!$A$10:$G$109,6,FALSE)),\" \")","v":" "},null,null," ",{"$f":"IF(COUNTIF($G$10:$G208,G208)<2,$G208,\" \")","v":" "},97,{"$f":"IF(COUNTIF($G$10:$G208,I208)<3,$G208,\" \")","v":" "},97,"",1000]
[98,null,{"$f":"IF(A209>0,(VLOOKUP($A107,'Engag Pre'!$A$10:$G$74,3,FALSE)),\" \")","v":{"$error":"#N/A"}},{"$f":"IF(B209>0,(VLOOKUP($B209,'Engag Pup'!$A$10:$G$109,7,FALSE)),\" \")","v":" "},{"$f":"IF(B209>0,(VLOOKUP($B209,'Engag Pup'!$A$10:$G$109,3,FALSE)),\" \")","v":" "},{"$f":"IF(B209>0,(VLOOKUP($B209,'Engag Pup'!$A$10:$G$109,4,FALSE)),\" \")","v":" "},{"$f":"IF(B209>0,(VLOOKUP($B209,'Engag Pup'!$A$10:$G$109,5,FALSE)),\" \")","v":" "},{"$f":"IF(B209>0,(VLOOKUP($B209,'Engag Pup'!$A$10:$G$109,6,FALSE)),\" \")","v":" "},null,null," ",{"$f":"IF(COUNTIF($G$10:$G209,G209)<2,$G209,\" \")","v":" "},98,{"$f":"IF(COUNTIF($G$10:$G209,I209)<3,$G209,\" \")","v":" "},98,"",1000]
[99,null,{"$f":"IF(A210>0,(VLOOKUP($A108,'Engag Pre'!$A$10:$G$74,3,FALSE)),\" \")","v":{"$error":"#N/A"}},{"$f":"IF(B210>0,(VLOOKUP($B210,'Engag Pup'!$A$10:$G$109,7,FALSE)),\" \")","v":" "},{"$f":"IF(B210>0,(VLOOKUP($B210,'Engag Pup'!$A$10:$G$109,3,FALSE)),\" \")","v":" "},{"$f":"IF(B210>0,(VLOOKUP($B210,'Engag Pup'!$A$10:$G$109,4,FALSE)),\" \")","v":" "},{"$f":"IF(B210>0,(VLOOKUP($B210,'Engag Pup'!$A$10:$G$109,5,FALSE)),\" \")","v":" "},{"$f":"IF(B210>0,(VLOOKUP($B210,'Engag Pup'!$A$10:$G$109,6,FALSE)),\" \")","v":" "},null,null," ",{"$f":"IF(COUNTIF($G$10:$G210,G210)<2,$G210,\" \")","v":" "},99,{"$f":"IF(COUNTIF($G$10:$G210,I210)<3,$G210,\" \")","v":" "},99,"",1000]
[100,null,{"$f":"IF(A211>0,(VLOOKUP($A109,'Engag Pre'!$A$10:$G$74,3,FALSE)),\" \")","v":{"$error":"#N/A"}},{"$f":"IF(B211>0,(VLOOKUP($B211,'Engag Pup'!$A$10:$G$109,7,FALSE)),\" \")","v":" "},{"$f":"IF(B211>0,(VLOOKUP($B211,'Engag Pup'!$A$10:$G$109,3,FALSE)),\" \")","v":" "},{"$f":"IF(B211>0,(VLOOKUP($B211,'Engag Pup'!$A$10:$G$109,4,FALSE)),\" \")","v":" "},{"$f":"IF(B211>0,(VLOOKUP($B211,'Engag Pup'!$A$10:$G$109,5,FALSE)),\" \")","v":" "},{"$f":"IF(B211>0,(VLOOKUP($B211,'Engag Pup'!$A$10:$G$109,6,FALSE)),\" \")","v":" "},null,null," ",{"$f":"IF(COUNTIF($G$10:$G211,G211)<2,$G211,\" \")","v":" "},100,{"$f":"IF(COUNTIF($G$10:$G211,I211)<3,$G211,\" \")","v":" "},100,"",1000]

{"sheet":"Res Ben","index":10,"n_rows":211,"n_cols":17,"rows_kept":211,"merged":[[0,4,0,5],[0,7,0,8],[1,4,1,5],[2,4,2,7],[7,0,7,9],[109,0,109,9]]}
[{"$nulls":3},"Nom de l'épreuve :",{"$f":"'Etat de Résultat'!I20","v":0},null,"Catégories :",{"$f":"'Engag Ben'!D5","v":"Benjamins"}]
[{"$nulls":3},"Ville :",{"$f":"'Etat de Résultat'!E17","v":"AULNAY SOUS BOIS"},null,"Département :",{"$f":"'Etat de Résultat'!R17","v":93}]
[{"$nulls":3},"Organisateur (s) :",{"$f":"'Etat de Résultat'!I21","v":"EC AULNAY"}]
[{"$nulls":5},"N° /Catégorie Epreuve :"]
[{"$nulls":3},"Engagés :",{"$f":"'Engag Ben'!D6","v":69},"Partants :",{"$f":"'Engag Ben'!F6","v":51},"Classés :",{"$f":"SUM(I6:I7)","v":53}]
[{"$nulls":3},"Benjamins 1 :",{"$f":"'Engag Ben'!D7","v":33},"Benjamins 1 :",{"$f":"'Engag Ben'!F7","v":23},"Benjamins 1 :",{"$f":"COUNTA(B10:B109)","v":25}]
[{"$nulls":3},"Benjamins 2 :",{"$f":"'Engag Ben'!D8","v":36},"Benjamins 2 :",{"$f":"'Engag Ben'!F8","v":28},"Benjamins 2 :",{"$f":"COUNTA(B112:B211)","v":28}]
["CLASSEMENT BENJAMINS 1"]
["Rang","Doss","Code UCI","Licence","Nom","Prénom","Club","Catégorie","Temps","Ecart"]
[1,20,{"$f":"IF(A10>0,(VLOOKUP($A10,'Engag Pre'!$A$10:$G$74,3,FALSE)),\" \")","v":{"$error":"#N/A"}},{"$f":"IF(B10>0,(VLOOKUP($B10,'Engag Ben'!$A$10:$G$109,7,FALSE)),\" \")","v":"1295729016"},{"$f":"IF(B10>0,(VLOOKUP($B10,'Engag Ben'!$A$10:$G$109,3,FALSE)),\" \")","v":"GRIGNON"},{"$f":"IF(B10>0,(VLOOKUP($B10,'Engag Ben'!$A$10:$G$109,4,FALSE)),\" \")","v":"Alexandre"},{"$f":"IF(B10>0,(VLOOKUP($B10,'Engag Ben'!$A$10:$G$109,5,FALSE)),\" \")","v":"EC OSNY PONTOISE"},{"$f":"IF(B10>0,(VLOOKUP($B10,'Engag Ben'!$A$10:$G$109,6,FALSE)),\" \")","v":"Benjamin 1"},null,null,{"$f":"IF(COUNTIF($B$10:$B$109,B10)>1,\"Déjà classé\",\" \")","v":" "},{"$f":"IF(COUNTIF($G$10:$G10,G10)<2,$G10,\" \")","v":"EC OSNY PONTOISE"},{"$f":"IF($G$6<5,1000,(IF(L10=G10,A10,\"\")))","v":1},{"$f":"IF(COUNTIF($G$10:$G10,G10)<3,$G10,\" \")","v":"EC OSNY PONTOISE"},{"$f":"IF(N10=$G10,$A10,\"\")","v":1},{"$f":"IF(N10=L10,\"\",N10)","v":""},{"$f":"IF($G$6<5,1000,(IF(P10=$G10,$A10,1000)))","v":1000}]
[2,14,{"$f":"IF(A11>0,(VLOOKUP($A11,'Engag Pre'!$A$10:$G$74,3,FALSE)),\" \")","v":{"$error":"#N/A"}},{"$f":"IF(B11>0,(VLOOKUP($B11,'Engag Ben'!$A$10:$G$109,7,FALSE)),\" \")","v":"1293524092"},{"$f":"IF(B11>0,(VLOOKUP($B11,'Engag Ben'!$A$10:$G$109,3,FALSE)),\" \")","v":"GAJIC"},{"$f":"IF(B11>0,(VLOOKUP($B11,'Engag Ben'!$A$10:$G$109,4,FALSE)),\" \")","v":"Kristian"},{"$f":"IF(B11>0,(VLOOKUP($B11,'Engag Ben'!$A$10:$G$109,5,FALSE)),\" \")","v":"CS VILLETANEUSE"},{"$f":"IF(B11>0,(VLOOKUP($B11,'Engag Ben'!$A$10:$G$109,6,FALSE)),\" \")","v":"Benjamin 1"},null,null,{"$f":"IF(COUNTIF($B$10:$B$109,B11)>1,\"Déjà classé\",\" \")","v":" "},{"$f":"IF(COUNTIF($G$10:$G11,G11)<2,$G11,\" \")","v":"CS VILLETANEUSE"},{"$f":"IF($G$6<5,1000,(IF(L11=G11,A11,\"\")))","v":2},{"$f":"IF(COUNTIF($G$10:$G11,G11)<3,$G11,\" \")","v":"CS VILLETANEUSE"},{"$f":"IF(N11=$G11,$A11,\"\")","v":2},{"$f":"IF(N11=L11,\"\",N11)","v":""},{"$f":"IF($G$6<5,1000,(IF(P11=$G11,$A11,1000)))","v":1000}]
[3,7,{"$f":"IF(A12>0,(VLOOKUP($A12,'Engag Pre'!$A$10:$G$74,3,FALSE)),\" \")","v":{"$error":"#N/A"}},{"$f":"IF(B12>0,(VLOOKUP($B12,'Engag Ben'!$A$10:$G$109,7,FALSE)),\" \")","v":"1960034012"},{"$f":"IF(B12>0,(VLOOKUP($B12,'Engag Ben'!$A$10:$G$109,3,FALSE)),\" \")","v":"RICHE"},{"$f":"IF(B12>0,(VLOOKUP($B12,'Engag Ben'!$A$10:$G$109,4,FALSE)),\" \")","v":"Tony"},{"$f":"IF(B12>0,(VLOOKUP($B12,'Engag Ben'!$A$10:$G$109,5,FALSE)),\" \")","v":"VC MERUVIEN"},{"$f":"IF(B12>0,(VLOOKUP($B12,'Engag Ben'!$A$10:$G$109,6,FALSE)),\" \")","v":"Benjamin 1"},null,null," ",{"$f":"IF(COUNTIF($G$10:$G12,G12)<2,$G12,\" \")","v":"VC MERUVIEN"},3,{"$f":"IF(COUNTIF($G$10:$G12,G12)<3,$G12,\" \")","v":"VC MERUVIEN"},3,"",1000]
[4,6,{"$f":"IF(A13>0,(VLOOKUP($A13,'Engag Pre'!$A$10:$G$74,3,FALSE)),\" \")","v":{"$error":"#N/A"}},{"$f":"IF(B13>0,(VLOOKUP($B13,'Engag Ben'!$A$10:$G$109,7,FALSE)),\" \")","v":"1960034080"},{"$f":"IF(B13>0,(VLOOKUP($B13,'Engag Ben'!$A$10:$G$109,3,FALSE)),\" \")","v":"CHAVANAT"},{"$f":"IF(B13>0,(VLOOKUP($B13,'Engag Ben'!$A$10:$G$109,4,FALSE)),\" \")","v":"Julien"},{"$f":"IF(B13>0,(VLOOKUP($B13,'Engag Ben'!$A$10:$G$109,5,FALSE)),\" \")","v":"VC MERUVIEN"},{"$f":"IF(B13>0,(VLOOKUP($B13,'Engag Ben'!$A$10:$G$109,6,FALSE)),\" \")","v":"Benjamin 1"},null,null," ",{"$f":"IF(COUNTIF($G$10:$G13,G13)<2,$G13,\" \")","v":" "},"",{"$f":"IF(COUNTIF($G$10:$G13,G13)<3,$G13,\" \")","v":"VC MERUVIEN"},4,"VC MERUVIEN",4]
[5,3,{"$f":"IF(A14>0,(VLOOKUP($A14,'Engag Pre'!$A$10:$G$74,3,FALSE)),\" \")","v":{"$error":"#N/A"}},{"$f":"IF(B14>0,(VLOOKUP($B14,'Engag Ben'!$A$10:$G$109,7,FALSE)),\" \")","v":"1294601064"},{"$f":"IF(B14>0,(VLOOKUP($B14,'Engag Ben'!$A$10:$G$109,3,FALSE)),\" \")","v":"PANOR"},{"$f":"IF(B14>0,(VLOOKUP($B14,'Engag Ben'!$A$10:$G$109,4,FALSE)),\" \")","v":"Enzo"},{"$f":"IF(B14>0,(VLOOKUP($B14,'Engag Ben'!$A$10:$G$109,5,FALSE)),\" \")","v":"TEAM 94 VILLENEUVOISE"},{"$f":"IF(B14>0,(VLOOKUP($B14,'Engag Ben'!$A$10:$G$109,6,FALSE)),\" \")","v":"Benjamin 1"},null,null," ",{"$f":"IF(COUNTIF($G$10:$G14,G14)<2,$G14,\" \")","v":"TEAM 94 VILLENEUVOISE"},5,{"$f":"IF(COUNTIF($G$10:$G14,G14)<3,$G14,\" \")","v":"TEAM 94 VILLENEUVOISE"},5,"",1000]
[6,34,{"$f":"IF(A15>0,(VLOOKUP($A15,'Engag Pre'!$A$10:$G$74,3,FALSE)),\" \")","v":{"$error":"#N/A"}},{"$f":"IF(B15>0,(VLOOKUP($B15,'Engag Ben'!$A$10:$G$109,7,FALSE)),\" \")","v":0},{"$f":"IF(B15>0,(VLOOKUP($B15,'Engag Ben'!$A$10:$G$109,3,FALSE)),\" \")","v":"PANCE"},{"$f":"IF(B15>0,(VLOOKUP($B15,'Engag Ben'!$A$10:$G$109,4,FALSE)),\" \")","v":"Octave"},{"$f":"IF(B15>0,(VLOOKUP($B15,'Engag Ben'!$A$10:$G$109,5,FALSE)),\" \")","v":"CSM PUTEAUX"},{"$f":"IF(B15>0,(VLOOKUP($B15,'Engag Ben'!$A$10:$G$109,6,FALSE)),\" \")","v":0},null,null," ",{"$f":"IF(COUNTIF($G$10:$G15,G15)<2,$G15,\" \")","v":"CSM PUTEAUX"},6,{"$f":"IF(COUNTIF($G$10:$G15,G15)<3,$G15,\" \")","v":"CSM PUTEAUX"},6,"",1000]
[7,15,{"$f":"IF(A16>0,(VLOOKUP($A16,'Engag Pre'!$A$10:$G$74,3,FALSE)),\" \")","v":{"$error":"#N/A"}},{"$f":"IF(B16>0,(VLOOKUP($B16,'Engag Ben'!$A$10:$G$109,7,FALSE)),\" \")","v":"1293524017"},{"$f":"IF(B16>0,(VLOOKUP($B16,'Engag Ben'!$A$10:$G$109,3,FALSE)),\" \")","v":"HABI"},{"$f":"IF(B16>0,(VLOOKUP($B16,'Engag Ben'!$A$10:$G$109,4,FALSE)),\" \")","v":"Wassim"},{"$f":"IF(B16>0,(VLOOKUP($B16,'Engag Ben'!$A$10:$G$109,5,FALSE)),\" \")","v":"CS VILLETANEUSE"},{"$f":"IF(B16>0,(VLOOKUP($B16,'Engag Ben'!$A$10:$G$109,6,FALSE)),\" \")","v":"Benjamin 1"},null,null," ",{"$f":"IF(COUNTIF($G$10:$G16,G16)<2,$G16,\" \")","v":" "},"",{"$f":"IF(COUNTIF($G$10:$G16,G16)<3,$G16,\" \")","v":"CS VILLETANEUSE"},7,"CS VILLETANEUSE",7]
[8,29,{"$f":"IF(A17>0,(VLOOKUP($A17,'Engag Pre'!$A$10:$G$74,3,FALSE)),\" \")","v":{"$error":"#N/A"}},{"$f":"IF(B17>0,(VLOOKUP($B17,'Engag Ben'!$A$10:$G$109,7,FALSE)),\" \")","v":"1294604040"},{"$f":"IF(B17>0,(VLOOKUP($B17,'Engag Ben'!$A$10:$G$109,3,FALSE)),\" \")","v":"COUHE"},{"$f":"IF(B17>0,(VLOOKUP($B17,'Engag Ben'!$A$10:$G$109,4,FALSE)),\" \")","v":"Enzo"},{"$f":"IF(B17>0,(VLOOKUP($B17,'Engag Ben'!$A$10:$G$109,5,FALSE)),\" \")","v":"US CRETEIL"},{"$f":"IF(B17>0,(VLOOKUP($B17,'Engag Ben'!$A$10:$G$109,6,FALSE)),\" \")","v":"Benjamin 1"},null,null," ",{"$f":"IF(COUNTIF($G$10:$G17,G17)<2,$G17,\" \")","v":"US CRETEIL"},8,{"$f":"IF(COUNTIF($G$10:$G17,G17)<3,$G17,\" \")","v":"US CRETEIL"},8,"",1000]
[9,24,{"$f":"IF(A18>0,(VLOOKUP($A18,'Engag Pre'!$A$10:$G$74,3,FALSE)),\" \")","v":{"$error":"#N/A"}},{"$f":"IF(B18>0,(VLOOKUP($B18,'Engag Ben'!$A$10:$G$109,7,FALSE)),\" \")","v":"1293505008"},{"$f":"IF(B18>0,(VLOOKUP($B18,'Engag Ben'!$A$10:$G$109,3,FALSE)),\" \")","v":"KAROUIA"},{"$f":"IF(B18>0,(VLOOKUP($B18,'Engag Ben'!$A$10:$G$109,4,FALSE)),\" \")","v":"Sonia"},{"$f":"IF(B18>0,(VLOOKUP($B18,'Engag Ben'!$A$10:$G$109,5,FALSE)),\" \")","v":"CM AUBERVILLIERS 93"},{"$f":"IF(B18>0,(VLOOKUP($B18,'Engag Ben'!$A$10:$G$109,6,FALSE)),\" \")","v":"Benjamin 1"},null,null," ",{"$f":"IF(COUNTIF($G$10:$G18,G18)<2,$G18,\" \")","v":"CM AUBERVILLIERS 93"},9,{"$f":"IF(COUNTIF($G$10:$G18,G18)<3,$G18,\" \")","v":"CM AUBERVILLIERS 93"},9,"",1000]
[10,12,{"$f":"IF(A19>0,(VLOOKUP($A19,'Engag Pre'!$A$10:$G$74,3,FALSE)),\" \")","v":{"$error":"#N/A"}},{"$f":"IF(B19>0,(VLOOKUP($B19,'Engag Ben'!$A$10:$G$109,7,FALSE)),\" \")","v":"1292401303"},{"$f":"IF(B19>0,(VLOOKUP($B19,'Engag Ben'!$A$10:$G$109,3,FALSE)),\" \")","v":"MERGUIN"},{"$f":"IF(B19>0,(VLOOKUP($B19,'Engag Ben'!$A$10:$G$109,4,FALSE)),\" \")","v":"Sacha"},{"$f":"IF(B19>0,(VLOOKUP($B19,'Engag Ben'!$A$10:$G$109,5,FALSE)),\" \")","v":"CSM PUTEAUX"},{"$f":"IF(B19>0,(VLOOKUP($B19,'Engag Ben'!$A$10:$G$109,6,FALSE)),\" \")","v":"Benjamin 1"},null,null," ",{"$f":"IF(COUNTIF($G$10:$G19,G19)<2,$G19,\" \")","v":" "},"",{"$f":"IF(COUNTIF($G$10:$G19,G19)<3,$G19,\" \")","v":"CSM PUTEAUX"},10,"CSM PUTEAUX",10]
[11,1,{"$f":"IF(A20>0,(VLOOKUP($A20,'Engag Pre'!$A$10:$G$74,3,FALSE)),\" \")","v":{"$error":"#N/A"}},{"$f":"IF(B20>0,(VLOOKUP($B20,'Engag Ben'!$A$10:$G$109,7,FALSE)),\" \")","v":"1293515075"},{"$f":"IF(B20>0,(VLOOKUP($B20,'Engag Ben'!$A$10:$G$109,3,FALSE)),\" \")","v":"LINVAL"},{"$f":"IF(B20>0,(VLOOKUP($B20,'Engag Ben'!$A$10:$G$109,4,FALSE)),\" \")","v":"Florian"},{"$f":"IF(B20>0,(VLOOKUP($B20,'Engag Ben'!$A$10:$G$109,5,FALSE)),\" \")","v":"EC AULNAY"},{"$f":"IF(B20>0,(VLOOKUP($B20,'Engag Ben'!$A$10:$G$109,6,FALSE)),\" \")","v":"Benjamin 1"},null,null," ",{"$f":"IF(COUNTIF($G$10:$G20,G20)<2,$G20,\" \")","v":"EC AULNAY"},11,{"$f":"IF(COUNTIF($G$10:$G20,G20)<3,$G20,\" \")","v":"EC AULNAY"},11,"",1000]
[12,19,{"$f":"IF(A21>0,(VLOOKUP($A21,'Engag Pre'!$A$10:$G$74,3,FALSE)),\" \")","v":{"$error":"#N/A"}},{"$f":"IF(B21>0,(VLOOKUP($B21,'Engag Ben'!$A$10:$G$109,7,FALSE)),\" \")","v":"1275024136"},{"$f":"IF(B21>0,(VLOOKUP($B21,'Engag Ben'!$A$10:$G$109,3,FALSE)),\" \")","v":"LETAILLEUR"},{"$f":"IF(B21>0,(VLOOKUP($B21,'Engag Ben'!$A$10:$G$109,4,FALSE)),\" \")","v":"Shirine"},{"$f":"IF(B21>0,(VLOOKUP($B21,'Engag Ben'!$A$10:$G$109,5,FALSE)),\" \")","v":"US METRO TRANSPORTS"},{"$f":"IF(B21>0,(VLOOKUP($B21,'Engag Ben'!$A$10:$G$109,6,FALSE)),\" \")","v":"Benjamin 1"},null,null," ",{"$f":"IF(COUNTIF($G$10:$G21,G21)<2,$G21,\" \")","v":"US METRO TRANSPORTS"},12,{"$f":"IF(COUNTIF($G$10:$G21,G21)<3,$G21,\" \")","v":"US METRO TRANSPORTS"},12,"",1000]
[13,23,{"$f":"IF(A22>0,(VLOOKUP($A22,'Engag Pre'!$A$10:$G$74,3,FALSE)),\" \")","v":{"$error":"#N/A"}},{"$f":"IF(B22>0,(VLOOKUP($B22,'Engag Ben'!$A$10:$G$109,7,FALSE)),\" \")","v":"1295708067"},{"$f":"IF(B22>0,(VLOOKUP($B22,'Engag Ben'!$A$10:$G$109,3,FALSE)),\" \")","v":"SLIWINSKI"},{"$f":"IF(B22>0,(VLOOKUP($B22,'Engag Ben'!$A$10:$G$109,4,FALSE)),\" \")","v":"Antoni"},{"$f":"IF(B22>0,(VLOOKUP($B22,'Engag Ben'!$A$10:$G$109,5,FALSE)),\" \")","v":"ARGENTEUIL VAL DE SEINE 95"},{"$f":"IF(B22>0,(VLOOKUP($B22,'Engag Ben'!$A$10:$G$109,6,FALSE)),\" \")","v":"Benjamin 1"},null,null," ",{"$f":"IF(COUNTIF($G$10:$G22,G22)<2,$G22,\" \")","v":"ARGENTEUIL VAL DE SEINE 95"},13,{"$f":"IF(COUNTIF($G$10:$G22,G22)<3,$G22,\" \")","v":"ARGENTEUIL VAL DE SEINE 95"},13,"",1000]
[14,33,{"$f":"IF(A23>0,(VLOOKUP($A23,'Engag Pre'!$A$10:$G$74,3,FALSE)),\" \")","v":{"$error":"#N/A"}},{"$f":"IF(B23>0,(VLOOKUP($B23,'Engag Ben'!$A$10:$G$109,7,FALSE)),\" \")","v":"1293502251"},{"$f":"IF(B23>0,(VLOOKUP($B23,'Engag Ben'!$A$10:$G$109,3,FALSE)),\" \")","v":"TAYAR"},{"$f":"IF(B23>0,(VLOOKUP($B23,'Engag Ben'!$A$10:$G$109,4,FALSE)),\" \")","v":"Yildiz"},{"$f":"IF(B23>0,(VLOOKUP($B23,'Engag Ben'!$A$10:$G$109,5,FALSE)),\" \")","v":"CSM EPINAY SUR SEINE"},{"$f":"IF(B23>0,(VLOOKUP($B23,'Engag Ben'!$A$10:$G$109,6,FALSE)),\" \")","v":"Benjamin 1"},null,null," ",{"$f":"IF(COUNTIF($G$10:$G23,G23)<2,$G23,\" \")","v":"CSM EPINAY SUR SEINE"},14,{"$f":"IF(COUNTIF($G$10:$G23,G23)<3,$G23,\" \")","v":"CSM EPINAY SUR SEINE"},14,"",1000]
[15,8,{"$f":"IF(A24>0,(VLOOKUP($A24,'Engag Pre'!$A$10:$G$74,3,FALSE)),\" \")","v":{"$error":"#N/A"}},{"$f":"IF(B24>0,(VLOOKUP($B24,'Engag Ben'!$A$10:$G$109,7,FALSE)),\" \")","v":"1293513033"},{"$f":"IF(B24>0,(VLOOKUP($B24,'Engag Ben'!$A$10:$G$109,3,FALSE)),\" \")","v":"BOURDEAU"},{"$f":"IF(B24>0,(VLOOKUP($B24,'Engag Ben'!$A$10:$G$109,4,FALSE)),\" \")","v":"Lucas"},{"$f":"IF(B24>0,(VLOOKUP($B24,'Engag Ben'!$A$10:$G$109,5,FALSE)),\" \")","v":"USM GAGNY"},{"$f":"IF(B24>0,(VLOOKUP($B24,'Engag Ben'!$A$10:$G$109,6,FALSE)),\" \")","v":"Benjamin 1"},null,null," ",{"$f":"IF(COUNTIF($G$10:$G24,G24)<2,$G24,\" \")","v":"USM GAGNY"},15,{"$f":"IF(COUNTIF($G$10:$G24,G24)<3,$G24,\" \")","v":"USM GAGNY"},15,"",1000]
[16,28,{"$f":"IF(A25>0,(VLOOKUP($A25,'Engag Pre'!$A$10:$G$74,3,FALSE)),\" \")","v":{"$error":"#N/A"}},{"$f":"IF(B25>0,(VLOOKUP($B25,'Engag Ben'!$A$10:$G$109,7,FALSE)),\" \")","v":"1292420038"},{"$f":"IF(B25>0,(VLOOKUP($B25,'Engag Ben'!$A$10:$G$109,3,FALSE)),\" \")","v":"L`HOTELLIER"},{"$f":"IF(B25>0,(VLOOKUP($B25,'Engag Ben'!$A$10:$G$109,4,FALSE)),\" \")","v":"Tom"},{"$f":"IF(B25>0,(VLOOKUP($B25,'Engag Ben'!$A$10:$G$109,5,FALSE)),\" \")","v":"CSM VILLENEUVE GARENNE"},{"$f":"IF(B25>0,(VLOOKUP($B25,'Engag Ben'!$A$10:$G$109,6,FALSE)),\" \")","v":"Benjamin 1"},null,null," ",{"$f":"IF(COUNTIF($G$10:$G25,G25)<2,$G25,\" \")","v":"CSM VILLENEUVE GARENNE"},16,{"$f":"IF(COUNTIF($G$10:$G25,G25)<3,$G25,\" \")","v":"CSM VILLENEUVE GARENNE"},16,"",1000]
[17,18,{"$f":"IF(A26>0,(VLOOKUP($A26,'Engag Pre'!$A$10:$G$74,3,FALSE)),\" \")","v":{"$error":"#N/A"}},{"$f":"IF(B26>0,(VLOOKUP($B26,'Engag Ben'!$A$10:$G$109,7,FALSE)),\" \")","v":"1277101113"},{"$f":"IF(B26>0,(VLOOKUP($B26,'Engag Ben'!$A$10:$G$109,3,FALSE)),\" \")","v":"DROLON"},{"$f":"IF(B26>0,(VLOOKUP($B26,'Engag Ben'!$A$10:$G$109,4,FALSE)),\" \")","v":"Mathis"},{"$f":"IF(B26>0,(VLOOKUP($B26,'Engag Ben'!$A$10:$G$109,5,FALSE)),\" \")","v":"ESC MEAUX"},{"$f":"IF(B26>0,(VLOOKUP($B26,'Engag Ben'!$A$10:$G$109,6,FALSE)),\" \")","v":"Benjamin 1"},null,null," ",{"$f":"IF(COUNTIF($G$10:$G26,G26)<2,$G26,\" \")","v":"ESC MEAUX"},17,{"$f":"IF(COUNTIF($G$10:$G26,G26)<3,$G26,\" \")","v":"ESC MEAUX"},17,"",1000]
[18,32,{"$f":"IF(A27>0,(VLOOKUP($A27,'Engag Pre'!$A$10:$G$74,3,FALSE)),\" \")","v":{"$error":"#N/A"}},{"$f":"IF(B27>0,(VLOOKUP($B27,'Engag Ben'!$A$10:$G$109,7,FALSE)),\" \")","v":"1293502058"},{"$f":"IF(B27>0,(VLOOKUP($B27,'Engag Ben'!$A$10:$G$109,3,FALSE)),\" \")","v":"LEBRETON"},{"$f":"IF(B27>0,(VLOOKUP($B27,'Engag Ben'!$A$10:$G$109,4,FALSE)),\" \")","v":"Louis"},{"$f":"IF(B27>0,(VLOOKUP($B27,'Engag Ben'!$A$10:$G$109,5,FALSE)),\" \")","v":"CSM EPINAY SUR SEINE"},{"$f":"IF(B27>0,(VLOOKUP($B27,'Engag Ben'!$A$10:$G$109,6,FALSE)),\" \")","v":"Benjamin 1"},null,null," ",{"$f":"IF(COUNTIF($G$10:$G27,G27)<2,$G27,\" \")","v":" "},"",{"$f":"IF(COUNTIF($G$10:$G27,G27)<3,$G27,\" \")","v":"CSM EPINAY SUR SEINE"},18,"CSM EPINAY SUR SEINE",18]
[19,17,{"$f":"IF(A28>0,(VLOOKUP($A28,'Engag Pre'!$A$10:$G$74,3,FALSE)),\" \")","v":{"$error":"#N/A"}},{"$f":"IF(B28>0,(VLOOKUP($B28,'Engag Ben'!$A$10:$G$109,7,FALSE)),\" \")","v":"1294616042"},{"$f":"IF(B28>0,(VLOOKUP($B28,'Engag Ben'!$A$10:$G$109,3,FALSE)),\" \")","v":"RODRIGUES"},{"$f":"IF(B28>0,(VLOOKUP($B28,'Engag Ben'!$A$10:$G$109,4,FALSE)),\" \")","v":"Emilie"},{"$f":"IF(B28>0,(VLOOKUP($B28,'Engag Ben'!$A$10:$G$109,5,FALSE)),\" \")","v":"UC BORDS DE MARNE"},{"$f":"IF(B28>0,(VLOOKUP($B28,'Engag Ben'!$A$10:$G$109,6,FALSE)),\" \")","v":"Benjamin 1"},null,null," ",{"$f":"IF(COUNTIF($G$10:$G28,G28)<2,$G28,\" \")","v":"UC BORDS DE MARNE"},19,{"$f":"IF(COUNTIF($G$10:$G28,G28)<3,$G28,\" \")","v":"UC BORDS DE MARNE"},19,"",1000]
[20,26,{"$f":"IF(A29>0,(VLOOKUP($A29,'Engag Pre'!$A$10:$G$74,3,FALSE)),\" \")","v":{"$error":"#N/A"}},{"$f":"IF(B29>0,(VLOOKUP($B29,'Engag Ben'!$A$10:$G$109,7,FALSE)),\" \")","v":"1295713015"},{"$f":"IF(B29>0,(VLOOKUP($B29,'Engag Ben'!$A$10:$G$109,3,FALSE)),\" \")","v":"DONNAES"},{"$f":"IF(B29>0,(VLOOKUP($B29,'Engag Ben'!$A$10:$G$109,4,FALSE)),\" \")","v":"Timéo"},{"$f":"IF(B29>0,(VLOOKUP($B29,'Engag Ben'!$A$10:$G$109,5,FALSE)),\" \")","v":"A. SOISY ENGHIEN LA BARRE"},{"$f":"IF(B29>0,(VLOOKUP($B29,'Engag Ben'!$A$10:$G$109,6,FALSE)),\" \")","v":"Benjamin 1"},null,null," ",{"$f":"IF(COUNTIF($G$10:$G29,G29)<2,$G29,\" \")","v":"A. SOISY ENGHIEN LA BARRE"},20,{"$f":"IF(COUNTIF($G$10:$G29,G29)<3,$G29,\" \")","v":"A. SOISY ENGHIEN LA BARRE"},20,"",1000]
[21,25,{"$f":"IF(A30>0,(VLOOKUP($A30,'Engag Pre'!$A$10:$G$74,3,FALSE)),\" \")","v":{"$error":"#N/A"}},{"$f":"IF(B30>0,(VLOOKUP($B30,'Engag Ben'!$A$10:$G$109,7,FALSE)),\" \")","v":"1295732080"},{"$f":"IF(B30>0,(VLOOKUP($B30,'Engag Ben'!$A$10:$G$109,3,FALSE)),\" \")","v":"MANIKON"},{"$f":"IF(B30>0,(VLOOKUP($B30,'Engag Ben'!$A$10:$G$109,4,FALSE)),\" \")","v":"Lynsha"},{"$f":"IF(B30>0,(VLOOKUP($B30,'Engag Ben'!$A$10:$G$109,5,FALSE)),\" \")","v":"EC GOUSSAINVILLE PUISEUX"},{"$f":"IF(B30>0,(VLOOKUP($B30,'Engag Ben'!$A$10:$G$109,6,FALSE)),\" \")","v":"Benjamin 1"},null,null," ",{"$f":"IF(COUNTIF($G$10:$G30,G30)<2,$G30,\" \")","v":"EC GOUSSAINVILLE PUISEUX"},21,{"$f":"IF(COUNTIF($G$10:$G30,G30)<3,$G30,\" \")","v":"EC GOUSSAINVILLE PUISEUX"},21,"",1000]
[22,4,{"$f":"IF(A31>0,(VLOOKUP($A31,'Engag Pre'!$A$10:$G$74,3,FALSE)),\" \")","v":{"$error":"#N/A"}},{"$f":"IF(B31>0,(VLOOKUP($B31,'Engag Ben'!$A$10:$G$109,7,FALSE)),\" \")","v":"1294601078"},{"$f":"IF(B31>0,(VLOOKUP($B31,'Engag Ben'!$A$10:$G$109,3,FALSE)),\" \")","v":"PRUDENT"},{"$f":"IF(B31>0,(VLOOKUP($B31,'Engag Ben'!$A$10:$G$109,4,FALSE)),\" \")","v":"Farrah"},{"$f":"IF(B31>0,(VLOOKUP($B31,'Engag Ben'!$A$10:$G$109,5,FALSE)),\" \")","v":"TEAM 94 VILLENEUVOISE"},{"$f":"IF(B31>0,(VLOOKUP($B31,'Engag Ben'!$A$10:$G$109,6,FALSE)),\" \")","v":"Benjamin 1"},null,null," ",{"$f":"IF(COUNTIF($G$10:$G31,G31)<2,$G31,\" \")","v":" "},"",{"$f":"IF(COUNTIF($G$10:$G31,G31)<3,$G31,\" \")","v":"TEAM 94 VILLENEUVOISE"},22,"TEAM 94 VILLENEUVOISE",22]
[23,2,{"$f":"IF(A32>0,(VLOOKUP($A32,'Engag Pre'!$A$10:$G$74,3,FALSE)),\" \")","v":{"$error":"#N/A"}},{"$f":"IF(B32>0,(VLOOKUP($B32,'Engag Ben'!$A$10:$G$109,7,FALSE)),\" \")","v":"1293515083"},{"$f":"IF(B32>0,(VLOOKUP($B32,'Engag Ben'!$A$10:$G$109,3,FALSE)),\" \")","v":"MALOUM"},{"$f":"IF(B32>0,(VLOOKUP($B32,'Engag Ben'!$A$10:$G$109,4,FALSE)),\" \")","v":"Mélina"},{"$f":"IF(B32>0,(VLOOKUP($B32,'Engag Ben'!$A$10:$G$109,5,FALSE)),\" \")","v":"EC AULNAY"},{"$f":"IF(B32>0,(VLOOKUP($B32,'Engag Ben'!$A$10:$G$109,6,FALSE)),\" \")","v":"Benjamin 1"},null,null," ",{"$f":"IF(COUNTIF($G$10:$G32,G32)<2,$G32,\" \")","v":" "},"",{"$f":"IF(COUNTIF($G$10:$G32,G32)<3,$G32,\" \")","v":"EC AULNAY"},23,"EC AULNAY",23]
[24,35,{"$f":"IF(A33>0,(VLOOKUP($A33,'Engag Pre'!$A$10:$G$74,3,FALSE)),\" \")","v":{"$error":"#N/A"}},{"$f":"IF(B33>0,(VLOOKUP($B33,'Engag Ben'!$A$10:$G$109,7,FALSE)),\" \")","v":0},{"$f":"IF(B33>0,(VLOOKUP($B33,'Engag Ben'!$A$10:$G$109,3,FALSE)),\" \")","v":"BREGERE"},{"$f":"IF(B33>0,(VLOOKUP($B33,'Engag Ben'!$A$10:$G$109,4,FALSE)),\" \")","v":"Léa"},{"$f":"IF(B33>0,(VLOOKUP($B33,'Engag Ben'!$A$10:$G$109,5,FALSE)),\" \")","v":"ES STAINS"},{"$f":"IF(B33>0,(VLOOKUP($B33,'Engag Ben'!$A$10:$G$109,6,FALSE)),\" \")","v":0},null,null," ",{"$f":"IF(COUNTIF($G$10:$G33,G33)<2,$G33,\" \")","v":"ES STAINS"},24,{"$f":"IF(COUNTIF($G$10:$G33,G33)<3,$G33,\" \")","v":"ES STAINS"},24,"",1000]
[25,5,{"$f":"IF(A34>0,(VLOOKUP($A34,'Engag Pre'!$A$10:$G$74,3,FALSE)),\" \")","v":{"$error":"#N/A"}},{"$f":"IF(B34>0,(VLOOKUP($B34,'Engag Ben'!$A$10:$G$109,7,FALSE)),\" \")","v":"1294601076"},{"$f":"IF(B34>0,(VLOOKUP($B34,'Engag Ben'!$A$10:$G$109,3,FALSE)),\" \")","v":"RIGOT"},{"$f":"IF(B34>0,(VLOOKUP($B34,'Engag Ben'!$A$10:$G$109,4,FALSE)),\" \")","v":"Kimberly"},{"$f":"IF(B34>0,(VLOOKUP($B34,'Engag Ben'!$A$10:$G$109,5,FALSE)),\" \")","v":"TEAM 94 VILLENEUVOISE"},{"$f":"IF(B34>0,(VLOOKUP($B34,'Engag Ben'!$A$10:$G$109,6,FALSE)),\" \")","v":"Benjamin 1"},null,null," ",{"$f":"IF(COUNTIF($G$10:$G34,G34)<2,$G34,\" \")","v":" "},"",{"$f":"IF(COUNTIF($G$10:$G34,G34)<3,$G34,\" \")","v":" "},"","",1000]
[26,null,{"$f":"IF(A35>0,(VLOOKUP($A35,'Engag Pre'!$A$10:$G$74,3,FALSE)),\" \")","v":{"$error":"#N/A"}},{"$f":"IF(B35>0,(VLOOKUP($B35,'Engag Ben'!$A$10:$G$109,7,FALSE)),\" \")","v":" "},{"$f":"IF(B35>0,(VLOOKUP($B35,'Engag Ben'!$A$10:$G$109,3,FALSE)),\" \")","v":" "},{"$f":"IF(B35>0,(VLOOKUP($B35,'Engag Ben'!$A$10:$G$109,4,FALSE)),\" \")","v":" "},{"$f":"IF(B35>0,(VLOOKUP($B35,'Engag Ben'!$A$10:$G$109,5,FALSE)),\" \")","v":" "},{"$f":"IF(B35>0,(VLOOKUP($B35,'Engag Ben'!$A$10:$G$109,6,FALSE)),\" \")","v":" "},null,null," ",{"$f":"IF(COUNTIF($G$10:$G35,G35)<2,$G35,\" \")","v":" "},26,{"$f":"IF(COUNTIF($G$10:$G35,G35)<3,$G35,\" \")","v":" "},26,"",1000]
[27,null,{"$f":"IF(A36>0,(VLOOKUP($A36,'Engag Pre'!$A$10:$G$74,3,FALSE)),\" \")","v":{"$error":"#N/A"}},{"$f":"IF(B36>0,(VLOOKUP($B36,'Engag Ben'!$A$10:$G$109,7,FALSE)),\" \")","v":" "},{"$f":"IF(B36>0,(VLOOKUP($B36,'Engag Ben'!$A$10:$G$109,3,FALSE)),\" \")","v":" "},{"$f":"IF(B36>0,(VLOOKUP($B36,'Engag Ben'!$A$10:$G$109,4,FALSE)),\" \")","v":" "},{"$f":"IF(B36>0,(VLOOKUP($B36,'Engag Ben'!$A$10:$G$109,5,FALSE)),\" \")","v":" "},{"$f":"IF(B36>0,(VLOOKUP($B36,'Engag Ben'!$A$10:$G$109,6,FALSE)),\" \")","v":" "},null,null," ",{"$f":"IF(COUNTIF($G$10:$G36,G36)<2,$G36,\" \")","v":" "},27,{"$f":"IF(COUNTIF($G$10:$G36,G36)<3,$G36,\" \")","v":" "},27,"",1000]
[28,null,{"$f":"IF(A37>0,(VLOOKUP($A37,'Engag Pre'!$A$10:$G$74,3,FALSE)),\" \")","v":{"$error":"#N/A"}},{"$f":"IF(B37>0,(VLOOKUP($B37,'Engag Ben'!$A$10:$G$109,7,FALSE)),\" \")","v":" "},{"$f":"IF(B37>0,(VLOOKUP($B37,'Engag Ben'!$A$10:$G$109,3,FALSE)),\" \")","v":" "},{"$f":"IF(B37>0,(VLOOKUP($B37,'Engag Ben'!$A$10:$G$109,4,FALSE)),\" \")","v":" "},{"$f":"IF(B37>0,(VLOOKUP($B37,'Engag Ben'!$A$10:$G$109,5,FALSE)),\" \")","v":" "},{"$f":"IF(B37>0,(VLOOKUP($B37,'Engag Ben'!$A$10:$G$109,6,FALSE)),\" \")","v":" "},null,null," ",{"$f":"IF(COUNTIF($G$10:$G37,G37)<2,$G37,\" \")","v":" "},28,{"$f":"IF(COUNTIF($G$10:$G37,G37)<3,$G37,\" \")","v":" "},28,"",1000]
[29,null,{"$f":"IF(A38>0,(VLOOKUP($A38,'Engag Pre'!$A$10:$G$74,3,FALSE)),\" \")","v":{"$error":"#N/A"}},{"$f":"IF(B38>0,(VLOOKUP($B38,'Engag Ben'!$A$10:$G$109,7,FALSE)),\" \")","v":" "},{"$f":"IF(B38>0,(VLOOKUP($B38,'Engag Ben'!$A$10:$G$109,3,FALSE)),\" \")","v":" "},{"$f":"IF(B38>0,(VLOOKUP($B38,'Engag Ben'!$A$10:$G$109,4,FALSE)),\" \")","v":" "},{"$f":"IF(B38>0,(VLOOKUP($B38,'Engag Ben'!$A$10:$G$109,5,FALSE)),\" \")","v":" "},{"$f":"IF(B38>0,(VLOOKUP($B38,'Engag Ben'!$A$10:$G$109,6,FALSE)),\" \")","v":" "},null,null," ",{"$f":"IF(COUNTIF($G$10:$G38,G38)<2,$G38,\" \")","v":" "},29,{"$f":"IF(COUNTIF($G$10:$G38,G38)<3,$G38,\" \")","v":" "},29,"",1000]
[30,null,{"$f":"IF(A39>0,(VLOOKUP($A39,'Engag Pre'!$A$10:$G$74,3,FALSE)),\" \")","v":{"$error":"#N/A"}},{"$f":"IF(B39>0,(VLOOKUP($B39,'Engag Ben'!$A$10:$G$109,7,FALSE)),\" \")","v":" "},{"$f":"IF(B39>0,(VLOOKUP($B39,'Engag Ben'!$A$10:$G$109,3,FALSE)),\" \")","v":" "},{"$f":"IF(B39>0,(VLOOKUP($B39,'Engag Ben'!$A$10:$G$109,4,FALSE)),\" \")","v":" "},{"$f":"IF(B39>0,(VLOOKUP($B39,'Engag Ben'!$A$10:$G$109,5,FALSE)),\" \")","v":" "},{"$f":"IF(B39>0,(VLOOKUP($B39,'Engag Ben'!$A$10:$G$109,6,FALSE)),\" \")","v":" "},null,null," ",{"$f":"IF(COUNTIF($G$10:$G39,G39)<2,$G39,\" \")","v":" "},30,{"$f":"IF(COUNTIF($G$10:$G39,G39)<3,$G39,\" \")","v":" "},30,"",1000]
[31,null,{"$f":"IF(A40>0,(VLOOKUP($A40,'Engag Pre'!$A$10:$G$74,3,FALSE)),\" \")","v":{"$error":"#N/A"}},{"$f":"IF(B40>0,(VLOOKUP($B40,'Engag Ben'!$A$10:$G$109,7,FALSE)),\" \")","v":" "},{"$f":"IF(B40>0,(VLOOKUP($B40,'Engag Ben'!$A$10:$G$109,3,FALSE)),\" \")","v":" "},{"$f":"IF(B40>0,(VLOOKUP($B40,'Engag Ben'!$A$10:$G$109,4,FALSE)),\" \")","v":" "},{"$f":"IF(B40>0,(VLOOKUP($B40,'Engag Ben'!$A$10:$G$109,5,FALSE)),\" \")","v":" "},{"$f":"IF(B40>0,(VLOOKUP($B40,'Engag Ben'!$A$10:$G$109,6,FALSE)),\" \")","v":" "},null,null," ",{"$f":"IF(COUNTIF($G$10:$G40,G40)<2,$G40,\" \")","v":" "},31,{"$f":"IF(COUNTIF($G$10:$G40,G40)<3,$G40,\" \")","v":" "},31,"",1000]
[32,null,{"$f":"IF(A41>0,(VLOOKUP($A41,'Engag Pre'!$A$10:$G$74,3,FALSE)),\" \")","v":{"$error":"#N/A"}},{"$f":"IF(B41>0,(VLOOKUP($B41,'Engag Ben'!$A$10:$G$109,7,FALSE)),\" \")","v":" "},{"$f":"IF(B41>0,(VLOOKUP($B41,'Engag Ben'!$A$10:$G$109,3,FALSE)),\" \")","v":" "},{"$f":"IF(B41>0,(VLOOKUP($B41,'Engag Ben'!$A$10:$G$109,4,FALSE)),\" \")","v":" "},{"$f":"IF(B41>0,(VLOOKUP($B41,'Engag Ben'!$A$10:$G$109,5,FALSE)),\" \")","v":" "},{"$f":"IF(B41>0,(VLOOKUP($B41,'Engag Ben'!$A$10:$G$109,6,FALSE)),\" \")","v":" "},null,null," ",{"$f":"IF(COUNTIF($G$10:$G41,G41)<2,$G41,\" \")","v":" "},32,{"$f":"IF(COUNTIF($G$10:$G41,G41)<3,$G41,\" \")","v":" "},32,"",1000]
[33,null,{"$f":"IF(A42>0,(VLOOKUP($A42,'Engag Pre'!$A$10:$G$74,3,FALSE)),\" \")","v":{"$error":"#N/A"}},{"$f":"IF(B42>0,(VLOOKUP($B42,'Engag Ben'!$A$10:$G$109,7,FALSE)),\" \")","v":" "},{"$f":"IF(B42>0,(VLOOKUP($B42,'Engag Ben'!$A$10:$G$109,3,FALSE)),\" \")","v":" "},{"$f":"IF(B42>0,(VLOOKUP($B42,'Engag Ben'!$A$10:$G$109,4,FALSE)),\" \")","v":" "},{"$f":"IF(B42>0,(VLOOKUP($B42,'Engag Ben'!$A$10:$G$109,5,FALSE)),\" \")","v":" "},{"$f":"IF(B42>0,(VLOOKUP($B42,'Engag Ben'!$A$10:$G$109,6,FALSE)),\" \")","v":" "},null,null," ",{"$f":"IF(COUNTIF($G$10:$G42,G42)<2,$G42,\" \")","v":" "},33,{"$f":"IF(COUNTIF($G$10:$G42,G42)<3,$G42,\" \")","v":" "},33,"",1000]
[34,null,{"$f":"IF(A43>0,(VLOOKUP($A43,'Engag Pre'!$A$10:$G$74,3,FALSE)),\" \")","v":{"$error":"#N/A"}},{"$f":"IF(B43>0,(VLOOKUP($B43,'Engag Ben'!$A$10:$G$109,7,FALSE)),\" \")","v":" "},{"$f":"IF(B43>0,(VLOOKUP($B43,'Engag Ben'!$A$10:$G$109,3,FALSE)),\" \")","v":" "},{"$f":"IF(B43>0,(VLOOKUP($B43,'Engag Ben'!$A$10:$G$109,4,FALSE)),\" \")","v":" "},{"$f":"IF(B43>0,(VLOOKUP($B43,'Engag Ben'!$A$10:$G$109,5,FALSE)),\" \")","v":" "},{"$f":"IF(B43>0,(VLOOKUP($B43,'Engag Ben'!$A$10:$G$109,6,FALSE)),\" \")","v":" "},null,null," ",{"$f":"IF(COUNTIF($G$10:$G43,G43)<2,$G43,\" \")","v":" "},34,{"$f":"IF(COUNTIF($G$10:$G43,G43)<3,$G43,\" \")","v":" "},34,"",1000]
[35,null,{"$f":"IF(A44>0,(VLOOKUP($A44,'Engag Pre'!$A$10:$G$74,3,FALSE)),\" \")","v":{"$error":"#N/A"}},{"$f":"IF(B44>0,(VLOOKUP($B44,'Engag Ben'!$A$10:$G$109,7,FALSE)),\" \")","v":" "},{"$f":"IF(B44>0,(VLOOKUP($B44,'Engag Ben'!$A$10:$G$109,3,FALSE)),\" \")","v":" "},{"$f":"IF(B44>0,(VLOOKUP($B44,'Engag Ben'!$A$10:$G$109,4,FALSE)),\" \")","v":" "},{"$f":"IF(B44>0,(VLOOKUP($B44,'Engag Ben'!$A$10:$G$109,5,FALSE)),\" \")","v":" "},{"$f":"IF(B44>0,(VLOOKUP($B44,'Engag Ben'!$A$10:$G$109,6,FALSE)),\" \")","v":" "},null,null," ",{"$f":"IF(COUNTIF($G$10:$G44,G44)<2,$G44,\" \")","v":" "},35,{"$f":"IF(COUNTIF($G$10:$G44,G44)<3,$G44,\" \")","v":" "},35,"",1000]
[36,null,{"$f":"IF(A45>0,(VLOOKUP($A45,'Engag Pre'!$A$10:$G$74,3,FALSE)),\" \")","v":{"$error":"#N/A"}},{"$f":"IF(B45>0,(VLOOKUP($B45,'Engag Ben'!$A$10:$G$109,7,FALSE)),\" \")","v":" "},{"$f":"IF(B45>0,(VLOOKUP($B45,'Engag Ben'!$A$10:$G$109,3,FALSE)),\" \")","v":" "},{"$f":"IF(B45>0,(VLOOKUP($B45,'Engag Ben'!$A$10:$G$109,4,FALSE)),\" \")","v":" "},{"$f":"IF(B45>0,(VLOOKUP($B45,'Engag Ben'!$A$10:$G$109,5,FALSE)),\" \")","v":" "},{"$f":"IF(B45>0,(VLOOKUP($B45,'Engag Ben'!$A$10:$G$109,6,FALSE)),\" \")","v":" "},null,null," ",{"$f":"IF(COUNTIF($G$10:$G45,G45)<2,$G45,\" \")","v":" "},36,{"$f":"IF(COUNTIF($G$10:$G45,G45)<3,$G45,\" \")","v":" "},36,"",1000]
[37,null,{"$f":"IF(A46>0,(VLOOKUP($A46,'Engag Pre'!$A$10:$G$74,3,FALSE)),\" \")","v":{"$error":"#N/A"}},{"$f":"IF(B46>0,(VLOOKUP($B46,'Engag Ben'!$A$10:$G$109,7,FALSE)),\" \")","v":" "},{"$f":"IF(B46>0,(VLOOKUP($B46,'Engag Ben'!$A$10:$G$109,3,FALSE)),\" \")","v":" "},{"$f":"IF(B46>0,(VLOOKUP($B46,'Engag Ben'!$A$10:$G$109,4,FALSE)),\" \")","v":" "},{"$f":"IF(B46>0,(VLOOKUP($B46,'Engag Ben'!$A$10:$G$109,5,FALSE)),\" \")","v":" "},{"$f":"IF(B46>0,(VLOOKUP($B46,'Engag Ben'!$A$10:$G$109,6,FALSE)),\" \")","v":" "},null,null," ",{"$f":"IF(COUNTIF($G$10:$G46,G46)<2,$G46,\" \")","v":" "},37,{"$f":"IF(COUNTIF($G$10:$G46,G46)<3,$G46,\" \")","v":" "},37,"",1000]
[38,null,{"$f":"IF(A47>0,(VLOOKUP($A47,'Engag Pre'!$A$10:$G$74,3,FALSE)),\" \")","v":{"$error":"#N/A"}},{"$f":"IF(B47>0,(VLOOKUP($B47,'Engag Ben'!$A$10:$G$109,7,FALSE)),\" \")","v":" "},{"$f":"IF(B47>0,(VLOOKUP($B47,'Engag Ben'!$A$10:$G$109,3,FALSE)),\" \")","v":" "},{"$f":"IF(B47>0,(VLOOKUP($B47,'Engag Ben'!$A$10:$G$109,4,FALSE)),\" \")","v":" "},{"$f":"IF(B47>0,(VLOOKUP($B47,'Engag Ben'!$A$10:$G$109,5,FALSE)),\" \")","v":" "},{"$f":"IF(B47>0,(VLOOKUP($B47,'Engag Ben'!$A$10:$G$109,6,FALSE)),\" \")","v":" "},null,null," ",{"$f":"IF(COUNTIF($G$10:$G47,G47)<2,$G47,\" \")","v":" "},38,{"$f":"IF(COUNTIF($G$10:$G47,G47)<3,$G47,\" \")","v":" "},38,"",1000]
[39,null,{"$f":"IF(A48>0,(VLOOKUP($A48,'Engag Pre'!$A$10:$G$74,3,FALSE)),\" \")","v":{"$error":"#N/A"}},{"$f":"IF(B48>0,(VLOOKUP($B48,'Engag Ben'!$A$10:$G$109,7,FALSE)),\" \")","v":" "},{"$f":"IF(B48>0,(VLOOKUP($B48,'Engag Ben'!$A$10:$G$109,3,FALSE)),\" \")","v":" "},{"$f":"IF(B48>0,(VLOOKUP($B48,'Engag Ben'!$A$10:$G$109,4,FALSE)),\" \")","v":" "},{"$f":"IF(B48>0,(VLOOKUP($B48,'Engag Ben'!$A$10:$G$109,5,FALSE)),\" \")","v":" "},{"$f":"IF(B48>0,(VLOOKUP($B48,'Engag Ben'!$A$10:$G$109,6,FALSE)),\" \")","v":" "},null,null," ",{"$f":"IF(COUNTIF($G$10:$G48,G48)<2,$G48,\" \")","v":" "},39,{"$f":"IF(COUNTIF($G$10:$G48,G48)<3,$G48,\" \")","v":" "},39,"",1000]
[40,null,{"$f":"IF(A49>0,(VLOOKUP($A49,'Engag Pre'!$A$10:$G$74,3,FALSE)),\" \")","v":{"$error":"#N/A"}},{"$f":"IF(B49>0,(VLOOKUP($B49,'Engag Ben'!$A$10:$G$109,7,FALSE)),\" \")","v":" "},{"$f":"IF(B49>0,(VLOOKUP($B49,'Engag Ben'!$A$10:$G$109,3,FALSE)),\" \")","v":" "},{"$f":"IF(B49>0,(VLOOKUP($B49,'Engag Ben'!$A$10:$G$109,4,FALSE)),\" \")","v":" "},{"$f":"IF(B49>0,(VLOOKUP($B49,'Engag Ben'!$A$10:$G$109,5,FALSE)),\" \")","v":" "},{"$f":"IF(B49>0,(VLOOKUP($B49,'Engag Ben'!$A$10:$G$109,6,FALSE)),\" \")","v":" "},null,null," ",{"$f":"IF(COUNTIF($G$10:$G49,G49)<2,$G49,\" \")","v":" "},40,{"$f":"IF(COUNTIF($G$10:$G49,G49)<3,$G49,\" \")","v":" "},40,"",1000]
[41,null,{"$f":"IF(A50>0,(VLOOKUP($A50,'Engag Pre'!$A$10:$G$74,3,FALSE)),\" \")","v":{"$error":"#N/A"}},{"$f":"IF(B50>0,(VLOOKUP($B50,'Engag Ben'!$A$10:$G$109,7,FALSE)),\" \")","v":" "},{"$f":"IF(B50>0,(VLOOKUP($B50,'Engag Ben'!$A$10:$G$109,3,FALSE)),\" \")","v":" "},{"$f":"IF(B50>0,(VLOOKUP($B50,'Engag Ben'!$A$10:$G$109,4,FALSE)),\" \")","v":" "},{"$f":"IF(B50>0,(VLOOKUP($B50,'Engag Ben'!$A$10:$G$109,5,FALSE)),\" \")","v":" "},{"$f":"IF(B50>0,(VLOOKUP($B50,'Engag Ben'!$A$10:$G$109,6,FALSE)),\" \")","v":" "},null,null," ",{"$f":"IF(COUNTIF($G$10:$G50,G50)<2,$G50,\" \")","v":" "},41,{"$f":"IF(COUNTIF($G$10:$G50,G50)<3,$G50,\" \")","v":" "},41,"",1000]
[42,null,{"$f":"IF(A51>0,(VLOOKUP($A51,'Engag Pre'!$A$10:$G$74,3,FALSE)),\" \")","v":{"$error":"#N/A"}},{"$f":"IF(B51>0,(VLOOKUP($B51,'Engag Ben'!$A$10:$G$109,7,FALSE)),\" \")","v":" "},{"$f":"IF(B51>0,(VLOOKUP($B51,'Engag Ben'!$A$10:$G$109,3,FALSE)),\" \")","v":" "},{"$f":"IF(B51>0,(VLOOKUP($B51,'Engag Ben'!$A$10:$G$109,4,FALSE)),\" \")","v":" "},{"$f":"IF(B51>0,(VLOOKUP($B51,'Engag Ben'!$A$10:$G$109,5,FALSE)),\" \")","v":" "},{"$f":"IF(B51>0,(VLOOKUP($B51,'Engag Ben'!$A$10:$G$109,6,FALSE)),\" \")","v":" "},null,null," ",{"$f":"IF(COUNTIF($G$10:$G51,G51)<2,$G51,\" \")","v":" "},42,{"$f":"IF(COUNTIF($G$10:$G51,G51)<3,$G51,\" \")","v":" "},42,"",1000]
[43,null,{"$f":"IF(A52>0,(VLOOKUP($A52,'Engag Pre'!$A$10:$G$74,3,FALSE)),\" \")","v":{"$error":"#N/A"}},{"$f":"IF(B52>0,(VLOOKUP($B52,'Engag Ben'!$A$10:$G$109,7,FALSE)),\" \")","v":" "},{"$f":"IF(B52>0,(VLOOKUP($B52,'Engag Ben'!$A$10:$G$109,3,FALSE)),\" \")","v":" "},{"$f":"IF(B52>0,(VLOOKUP($B52,'Engag Ben'!$A$10:$G$109,4,FALSE)),\" \")","v":" "},{"$f":"IF(B52>0,(VLOOKUP($B52,'Engag Ben'!$A$10:$G$109,5,FALSE)),\" \")","v":" "},{"$f":"IF(B52>0,(VLOOKUP($B52,'Engag Ben'!$A$10:$G$109,6,FALSE)),\" \")","v":" "},null,null," ",{"$f":"IF(COUNTIF($G$10:$G52,G52)<2,$G52,\" \")","v":" "},43,{"$f":"IF(COUNTIF($G$10:$G52,G52)<3,$G52,\" \")","v":" "},43,"",1000]
[44,null,{"$f":"IF(A53>0,(VLOOKUP($A53,'Engag Pre'!$A$10:$G$74,3,FALSE)),\" \")","v":{"$error":"#N/A"}},{"$f":"IF(B53>0,(VLOOKUP($B53,'Engag Ben'!$A$10:$G$109,7,FALSE)),\" \")","v":" "},{"$f":"IF(B53>0,(VLOOKUP($B53,'Engag Ben'!$A$10:$G$109,3,FALSE)),\" \")","v":" "},{"$f":"IF(B53>0,(VLOOKUP($B53,'Engag Ben'!$A$10:$G$109,4,FALSE)),\" \")","v":" "},{"$f":"IF(B53>0,(VLOOKUP($B53,'Engag Ben'!$A$10:$G$109,5,FALSE)),\" \")","v":" "},{"$f":"IF(B53>0,(VLOOKUP($B53,'Engag Ben'!$A$10:$G$109,6,FALSE)),\" \")","v":" "},null,null," ",{"$f":"IF(COUNTIF($G$10:$G53,G53)<2,$G53,\" \")","v":" "},44,{"$f":"IF(COUNTIF($G$10:$G53,G53)<3,$G53,\" \")","v":" "},44,"",1000]
[45,null,{"$f":"IF(A54>0,(VLOOKUP($A54,'Engag Pre'!$A$10:$G$74,3,FALSE)),\" \")","v":{"$error":"#N/A"}},{"$f":"IF(B54>0,(VLOOKUP($B54,'Engag Ben'!$A$10:$G$109,7,FALSE)),\" \")","v":" "},{"$f":"IF(B54>0,(VLOOKUP($B54,'Engag Ben'!$A$10:$G$109,3,FALSE)),\" \")","v":" "},{"$f":"IF(B54>0,(VLOOKUP($B54,'Engag Ben'!$A$10:$G$109,4,FALSE)),\" \")","v":" "},{"$f":"IF(B54>0,(VLOOKUP($B54,'Engag Ben'!$A$10:$G$109,5,FALSE)),\" \")","v":" "},{"$f":"IF(B54>0,(VLOOKUP($B54,'Engag Ben'!$A$10:$G$109,6,FALSE)),\" \")","v":" "},null,null," ",{"$f":"IF(COUNTIF($G$10:$G54,G54)<2,$G54,\" \")","v":" "},45,{"$f":"IF(COUNTIF($G$10:$G54,G54)<3,$G54,\" \")","v":" "},45,"",1000]
[46,null,{"$f":"IF(A55>0,(VLOOKUP($A55,'Engag Pre'!$A$10:$G$74,3,FALSE)),\" \")","v":{"$error":"#N/A"}},{"$f":"IF(B55>0,(VLOOKUP($B55,'Engag Ben'!$A$10:$G$109,7,FALSE)),\" \")","v":" "},{"$f":"IF(B55>0,(VLOOKUP($B55,'Engag Ben'!$A$10:$G$109,3,FALSE)),\" \")","v":" "},{"$f":"IF(B55>0,(VLOOKUP($B55,'Engag Ben'!$A$10:$G$109,4,FALSE)),\" \")","v":" "},{"$f":"IF(B55>0,(VLOOKUP($B55,'Engag Ben'!$A$10:$G$109,5,FALSE)),\" \")","v":" "},{"$f":"IF(B55>0,(VLOOKUP($B55,'Engag Ben'!$A$10:$G$109,6,FALSE)),\" \")","v":" "},null,null," ",{"$f":"IF(COUNTIF($G$10:$G55,G55)<2,$G55,\" \")","v":" "},46,{"$f":"IF(COUNTIF($G$10:$G55,G55)<3,$G55,\" \")","v":" "},46,"",1000]
[47,null,{"$f":"IF(A56>0,(VLOOKUP($A56,'Engag Pre'!$A$10:$G$74,3,FALSE)),\" \")","v":{"$error":"#N/A"}},{"$f":"IF(B56>0,(VLOOKUP($B56,'Engag Ben'!$A$10:$G$109,7,FALSE)),\" \")","v":" "},{"$f":"IF(B56>0,(VLOOKUP($B56,'Engag Ben'!$A$10:$G$109,3,FALSE)),\" \")","v":" "},{"$f":"IF(B56>0,(VLOOKUP($B56,'Engag Ben'!$A$10:$G$109,4,FALSE)),\" \")","v":" "},{"$f":"IF(B56>0,(VLOOKUP($B56,'Engag Ben'!$A$10:$G$109,5,FALSE)),\" \")","v":" "},{"$f":"IF(B56>0,(VLOOKUP($B56,'Engag Ben'!$A$10:$G$109,6,FALSE)),\" \")","v":" "},null,null," ",{"$f":"IF(COUNTIF($G$10:$G56,G56)<2,$G56,\" \")","v":" "},47,{"$f":"IF(COUNTIF($G$10:$G56,G56)<3,$G56,\" \")","v":" "},47,"",1000]
[48,null,{"$f":"IF(A57>0,(VLOOKUP($A57,'Engag Pre'!$A$10:$G$74,3,FALSE)),\" \")","v":{"$error":"#N/A"}},{"$f":"IF(B57>0,(VLOOKUP($B57,'Engag Ben'!$A$10:$G$109,7,FALSE)),\" \")","v":" "},{"$f":"IF(B57>0,(VLOOKUP($B57,'Engag Ben'!$A$10:$G$109,3,FALSE)),\" \")","v":" "},{"$f":"IF(B57>0,(VLOOKUP($B57,'Engag Ben'!$A$10:$G$109,4,FALSE)),\" \")","v":" "},{"$f":"IF(B57>0,(VLOOKUP($B57,'Engag Ben'!$A$10:$G$109,5,FALSE)),\" \")","v":" "},{"$f":"IF(B57>0,(VLOOKUP($B57,'Engag Ben'!$A$10:$G$109,6,FALSE)),\" \")","v":" "},null,null," ",{"$f":"IF(COUNTIF($G$10:$G57,G57)<2,$G57,\" \")","v":" "},48,{"$f":"IF(COUNTIF($G$10:$G57,G57)<3,$G57,\" \")","v":" "},48,"",1000]
[49,null,{"$f":"IF(A58>0,(VLOOKUP($A58,'Engag Pre'!$A$10:$G$74,3,FALSE)),\" \")","v":{"$error":"#N/A"}},{"$f":"IF(B58>0,(VLOOKUP($B58,'Engag Ben'!$A$10:$G$109,7,FALSE)),\" \")","v":" "},{"$f":"IF(B58>0,(VLOOKUP($B58,'Engag Ben'!$A$10:$G$109,3,FALSE)),\" \")","v":" "},{"$f":"IF(B58>0,(VLOOKUP($B58,'Engag Ben'!$A$10:$G$109,4,FALSE)),\" \")","v":" "},{"$f":"IF(B58>0,(VLOOKUP($B58,'Engag Ben'!$A$10:$G$109,5,FALSE)),\" \")","v":" "},{"$f":"IF(B58>0,(VLOOKUP($B58,'Engag Ben'!$A$10:$G$109,6,FALSE)),\" \")","v":" "},null,null," ",{"$f":"IF(COUNTIF($G$10:$G58,G58)<2,$G58,\" \")","v":" "},49,{"$f":"IF(COUNTIF($G$10:$G58,G58)<3,$G58,\" \")","v":" "},49,"",1000]
[50,null,{"$f":"IF(A59>0,(VLOOKUP($A59,'Engag Pre'!$A$10:$G$74,3,FALSE)),\" \")","v":{"$error":"#N/A"}},{"$f":"IF(B59>0,(VLOOKUP($B59,'Engag Ben'!$A$10:$G$109,7,FALSE)),\" \")","v":" "},{"$f":"IF(B59>0,(VLOOKUP($B59,'Engag Ben'!$A$10:$G$109,3,FALSE)),\" \")","v":" "},{"$f":"IF(B59>0,(VLOOKUP($B59,'Engag Ben'!$A$10:$G$109,4,FALSE)),\" \")","v":" "},{"$f":"IF(B59>0,(VLOOKUP($B59,'Engag Ben'!$A$10:$G$109,5,FALSE)),\" \")","v":" "},{"$f":"IF(B59>0,(VLOOKUP($B59,'Engag Ben'!$A$10:$G$109,6,FALSE)),\" \")","v":" "},null,null," ",{"$f":"IF(COUNTIF($G$10:$G59,G59)<2,$G59,\" \")","v":" "},50,{"$f":"IF(COUNTIF($G$10:$G59,G59)<3,$G59,\" \")","v":" "},50,"",1000]
[51,null,{"$f":"IF(A60>0,(VLOOKUP($A60,'Engag Pre'!$A$10:$G$74,3,FALSE)),\" \")","v":{"$error":"#N/A"}},{"$f":"IF(B60>0,(VLOOKUP($B60,'Engag Ben'!$A$10:$G$109,7,FALSE)),\" \")","v":" "},{"$f":"IF(B60>0,(VLOOKUP($B60,'Engag Ben'!$A$10:$G$109,3,FALSE)),\" \")","v":" "},{"$f":"IF(B60>0,(VLOOKUP($B60,'Engag Ben'!$A$10:$G$109,4,FALSE)),\" \")","v":" "},{"$f":"IF(B60>0,(VLOOKUP($B60,'Engag Ben'!$A$10:$G$109,5,FALSE)),\" \")","v":" "},{"$f":"IF(B60>0,(VLOOKUP($B60,'Engag Ben'!$A$10:$G$109,6,FALSE)),\" \")","v":" "},null,null," ",{"$f":"IF(COUNTIF($G$10:$G60,G60)<2,$G60,\" \")","v":" "},51,{"$f":"IF(COUNTIF($G$10:$G60,G60)<3,$G60,\" \")","v":" "},51,"",1000]
[52,null,{"$f":"IF(A61>0,(VLOOKUP($A61,'Engag Pre'!$A$10:$G$74,3,FALSE)),\" \")","v":{"$error":"#N/A"}},{"$f":"IF(B61>0,(VLOOKUP($B61,'Engag Ben'!$A$10:$G$109,7,FALSE)),\" \")","v":" "},{"$f":"IF(B61>0,(VLOOKUP($B61,'Engag Ben'!$A$10:$G$109,3,FALSE)),\" \")","v":" "},{"$f":"IF(B61>0,(VLOOKUP($B61,'Engag Ben'!$A$10:$G$109,4,FALSE)),\" \")","v":" "},{"$f":"IF(B61>0,(VLOOKUP($B61,'Engag Ben'!$A$10:$G$109,5,FALSE)),\" \")","v":" "},{"$f":"IF(B61>0,(VLOOKUP($B61,'Engag Ben'!$A$10:$G$109,6,FALSE)),\" \")","v":" "},null,null," ",{"$f":"IF(COUNTIF($G$10:$G61,G61)<2,$G61,\" \")","v":" "},52,{"$f":"IF(COUNTIF($G$10:$G61,G61)<3,$G61,\" \")","v":" "},52,"",1000]
[53,null,{"$f":"IF(A62>0,(VLOOKUP($A62,'Engag Pre'!$A$10:$G$74,3,FALSE)),\" \")","v":{"$error":"#N/A"}},{"$f":"IF(B62>0,(VLOOKUP($B62,'Engag Ben'!$A$10:$G$109,7,FALSE)),\" \")","v":" "},{"$f":"IF(B62>0,(VLOOKUP($B62,'Engag Ben'!$A$10:$G$109,3,FALSE)),\" \")","v":" "},{"$f":"IF(B62>0,(VLOOKUP($B62,'Engag Ben'!$A$10:$G$109,4,FALSE)),\" \")","v":" "},{"$f":"IF(B62>0,(VLOOKUP($B62,'Engag Ben'!$A$10:$G$109,5,FALSE)),\" \")","v":" "},{"$f":"IF(B62>0,(VLOOKUP($B62,'Engag Ben'!$A$10:$G$109,6,FALSE)),\" \")","v":" "},null,null," ",{"$f":"IF(COUNTIF($G$10:$G62,G62)<2,$G62,\" \")","v":" "},53,{"$f":"IF(COUNTIF($G$10:$G62,G62)<3,$G62,\" \")","v":" "},53,"",1000]
[54,null,{"$f":"IF(A63>0,(VLOOKUP($A63,'Engag Pre'!$A$10:$G$74,3,FALSE)),\" \")","v":{"$error":"#N/A"}},{"$f":"IF(B63>0,(VLOOKUP($B63,'Engag Ben'!$A$10:$G$109,7,FALSE)),\" \")","v":" "},{"$f":"IF(B63>0,(VLOOKUP($B63,'Engag Ben'!$A$10:$G$109,3,FALSE)),\" \")","v":" "},{"$f":"IF(B63>0,(VLOOKUP($B63,'Engag Ben'!$A$10:$G$109,4,FALSE)),\" \")","v":" "},{"$f":"IF(B63>0,(VLOOKUP($B63,'Engag Ben'!$A$10:$G$109,5,FALSE)),\" \")","v":" "},{"$f":"IF(B63>0,(VLOOKUP($B63,'Engag Ben'!$A$10:$G$109,6,FALSE)),\" \")","v":" "},null,null," ",{"$f":"IF(COUNTIF($G$10:$G63,G63)<2,$G63,\" \")","v":" "},54,{"$f":"IF(COUNTIF($G$10:$G63,G63)<3,$G63,\" \")","v":" "},54,"",1000]
[55,null,{"$f":"IF(A64>0,(VLOOKUP($A64,'Engag Pre'!$A$10:$G$74,3,FALSE)),\" \")","v":{"$error":"#N/A"}},{"$f":"IF(B64>0,(VLOOKUP($B64,'Engag Ben'!$A$10:$G$109,7,FALSE)),\" \")","v":" "},{"$f":"IF(B64>0,(VLOOKUP($B64,'Engag Ben'!$A$10:$G$109,3,FALSE)),\" \")","v":" "},{"$f":"IF(B64>0,(VLOOKUP($B64,'Engag Ben'!$A$10:$G$109,4,FALSE)),\" \")","v":" "},{"$f":"IF(B64>0,(VLOOKUP($B64,'Engag Ben'!$A$10:$G$109,5,FALSE)),\" \")","v":" "},{"$f":"IF(B64>0,(VLOOKUP($B64,'Engag Ben'!$A$10:$G$109,6,FALSE)),\" \")","v":" "},null,null," ",{"$f":"IF(COUNTIF($G$10:$G64,G64)<2,$G64,\" \")","v":" "},55,{"$f":"IF(COUNTIF($G$10:$G64,G64)<3,$G64,\" \")","v":" "},55,"",1000]
[56,null,{"$f":"IF(A65>0,(VLOOKUP($A65,'Engag Pre'!$A$10:$G$74,3,FALSE)),\" \")","v":{"$error":"#N/A"}},{"$f":"IF(B65>0,(VLOOKUP($B65,'Engag Ben'!$A$10:$G$109,7,FALSE)),\" \")","v":" "},{"$f":"IF(B65>0,(VLOOKUP($B65,'Engag Ben'!$A$10:$G$109,3,FALSE)),\" \")","v":" "},{"$f":"IF(B65>0,(VLOOKUP($B65,'Engag Ben'!$A$10:$G$109,4,FALSE)),\" \")","v":" "},{"$f":"IF(B65>0,(VLOOKUP($B65,'Engag Ben'!$A$10:$G$109,5,FALSE)),\" \")","v":" "},{"$f":"IF(B65>0,(VLOOKUP($B65,'Engag Ben'!$A$10:$G$109,6,FALSE)),\" \")","v":" "},null,null," ",{"$f":"IF(COUNTIF($G$10:$G65,G65)<2,$G65,\" \")","v":" "},56,{"$f":"IF(COUNTIF($G$10:$G65,G65)<3,$G65,\" \")","v":" "},56,"",1000]
[57,null,{"$f":"IF(A66>0,(VLOOKUP($A66,'Engag Pre'!$A$10:$G$74,3,FALSE)),\" \")","v":{"$error":"#N/A"}},{"$f":"IF(B66>0,(VLOOKUP($B66,'Engag Ben'!$A$10:$G$109,7,FALSE)),\" \")","v":" "},{"$f":"IF(B66>0,(VLOOKUP($B66,'Engag Ben'!$A$10:$G$109,3,FALSE)),\" \")","v":" "},{"$f":"IF(B66>0,(VLOOKUP($B66,'Engag Ben'!$A$10:$G$109,4,FALSE)),\" \")","v":" "},{"$f":"IF(B66>0,(VLOOKUP($B66,'Engag Ben'!$A$10:$G$109,5,FALSE)),\" \")","v":" "},{"$f":"IF(B66>0,(VLOOKUP($B66,'Engag Ben'!$A$10:$G$109,6,FALSE)),\" \")","v":" "},null,null," ",{"$f":"IF(COUNTIF($G$10:$G66,G66)<2,$G66,\" \")","v":" "},57,{"$f":"IF(COUNTIF($G$10:$G66,G66)<3,$G66,\" \")","v":" "},57,"",1000]
[58,null,{"$f":"IF(A67>0,(VLOOKUP($A67,'Engag Pre'!$A$10:$G$74,3,FALSE)),\" \")","v":{"$error":"#N/A"}},{"$f":"IF(B67>0,(VLOOKUP($B67,'Engag Ben'!$A$10:$G$109,7,FALSE)),\" \")","v":" "},{"$f":"IF(B67>0,(VLOOKUP($B67,'Engag Ben'!$A$10:$G$109,3,FALSE)),\" \")","v":" "},{"$f":"IF(B67>0,(VLOOKUP($B67,'Engag Ben'!$A$10:$G$109,4,FALSE)),\" \")","v":" "},{"$f":"IF(B67>0,(VLOOKUP($B67,'Engag Ben'!$A$10:$G$109,5,FALSE)),\" \")","v":" "},{"$f":"IF(B67>0,(VLOOKUP($B67,'Engag Ben'!$A$10:$G$109,6,FALSE)),\" \")","v":" "},null,null," ",{"$f":"IF(COUNTIF($G$10:$G67,G67)<2,$G67,\" \")","v":" "},58,{"$f":"IF(COUNTIF($G$10:$G67,G67)<3,$G67,\" \")","v":" "},58,"",1000]
[59,null,{"$f":"IF(A68>0,(VLOOKUP($A68,'Engag Pre'!$A$10:$G$74,3,FALSE)),\" \")","v":{"$error":"#N/A"}},{"$f":"IF(B68>0,(VLOOKUP($B68,'Engag Ben'!$A$10:$G$109,7,FALSE)),\" \")","v":" "},{"$f":"IF(B68>0,(VLOOKUP($B68,'Engag Ben'!$A$10:$G$109,3,FALSE)),\" \")","v":" "},{"$f":"IF(B68>0,(VLOOKUP($B68,'Engag Ben'!$A$10:$G$109,4,FALSE)),\" \")","v":" "},{"$f":"IF(B68>0,(VLOOKUP($B68,'Engag Ben'!$A$10:$G$109,5,FALSE)),\" \")","v":" "},{"$f":"IF(B68>0,(VLOOKUP($B68,'Engag Ben'!$A$10:$G$109,6,FALSE)),\" \")","v":" "},null,null," ",{"$f":"IF(COUNTIF($G$10:$G68,G68)<2,$G68,\" \")","v":" "},59,{"$f":"IF(COUNTIF($G$10:$G68,G68)<3,$G68,\" \")","v":" "},59,"",1000]
[60,null,{"$f":"IF(A69>0,(VLOOKUP($A69,'Engag Pre'!$A$10:$G$74,3,FALSE)),\" \")","v":{"$error":"#N/A"}},{"$f":"IF(B69>0,(VLOOKUP($B69,'Engag Ben'!$A$10:$G$109,7,FALSE)),\" \")","v":" "},{"$f":"IF(B69>0,(VLOOKUP($B69,'Engag Ben'!$A$10:$G$109,3,FALSE)),\" \")","v":" "},{"$f":"IF(B69>0,(VLOOKUP($B69,'Engag Ben'!$A$10:$G$109,4,FALSE)),\" \")","v":" "},{"$f":"IF(B69>0,(VLOOKUP($B69,'Engag Ben'!$A$10:$G$109,5,FALSE)),\" \")","v":" "},{"$f":"IF(B69>0,(VLOOKUP($B69,'Engag Ben'!$A$10:$G$109,6,FALSE)),\" \")","v":" "},null,null," ",{"$f":"IF(COUNTIF($G$10:$G69,G69)<2,$G69,\" \")","v":" "},60,{"$f":"IF(COUNTIF($G$10:$G69,G69)<3,$G69,\" \")","v":" "},60,"",1000]
[61,null,{"$f":"IF(A70>0,(VLOOKUP($A70,'Engag Pre'!$A$10:$G$74,3,FALSE)),\" \")","v":{"$error":"#N/A"}},{"$f":"IF(B70>0,(VLOOKUP($B70,'Engag Ben'!$A$10:$G$109,7,FALSE)),\" \")","v":" "},{"$f":"IF(B70>0,(VLOOKUP($B70,'Engag Ben'!$A$10:$G$109,3,FALSE)),\" \")","v":" "},{"$f":"IF(B70>0,(VLOOKUP($B70,'Engag Ben'!$A$10:$G$109,4,FALSE)),\" \")","v":" "},{"$f":"IF(B70>0,(VLOOKUP($B70,'Engag Ben'!$A$10:$G$109,5,FALSE)),\" \")","v":" "},{"$f":"IF(B70>0,(VLOOKUP($B70,'Engag Ben'!$A$10:$G$109,6,FALSE)),\" \")","v":" "},null,null," ",{"$f":"IF(COUNTIF($G$10:$G70,G70)<2,$G70,\" \")","v":" "},61,{"$f":"IF(COUNTIF($G$10:$G70,G70)<3,$G70,\" \")","v":" "},61,"",1000]
[62,null,{"$f":"IF(A71>0,(VLOOKUP($A71,'Engag Pre'!$A$10:$G$74,3,FALSE)),\" \")","v":{"$error":"#N/A"}},{"$f":"IF(B71>0,(VLOOKUP($B71,'Engag Ben'!$A$10:$G$109,7,FALSE)),\" \")","v":" "},{"$f":"IF(B71>0,(VLOOKUP($B71,'Engag Ben'!$A$10:$G$109,3,FALSE)),\" \")","v":" "},{"$f":"IF(B71>0,(VLOOKUP($B71,'Engag Ben'!$A$10:$G$109,4,FALSE)),\" \")","v":" "},{"$f":"IF(B71>0,(VLOOKUP($B71,'Engag Ben'!$A$10:$G$109,5,FALSE)),\" \")","v":" "},{"$f":"IF(B71>0,(VLOOKUP($B71,'Engag Ben'!$A$10:$G$109,6,FALSE)),\" \")","v":" "},null,null," ",{"$f":"IF(COUNTIF($G$10:$G71,G71)<2,$G71,\" \")","v":" "},62,{"$f":"IF(COUNTIF($G$10:$G71,G71)<3,$G71,\" \")","v":" "},62,"",1000]
[63,null,{"$f":"IF(A72>0,(VLOOKUP($A72,'Engag Pre'!$A$10:$G$74,3,FALSE)),\" \")","v":{"$error":"#N/A"}},{"$f":"IF(B72>0,(VLOOKUP($B72,'Engag Ben'!$A$10:$G$109,7,FALSE)),\" \")","v":" "},{"$f":"IF(B72>0,(VLOOKUP($B72,'Engag Ben'!$A$10:$G$109,3,FALSE)),\" \")","v":" "},{"$f":"IF(B72>0,(VLOOKUP($B72,'Engag Ben'!$A$10:$G$109,4,FALSE)),\" \")","v":" "},{"$f":"IF(B72>0,(VLOOKUP($B72,'Engag Ben'!$A$10:$G$109,5,FALSE)),\" \")","v":" "},{"$f":"IF(B72>0,(VLOOKUP($B72,'Engag Ben'!$A$10:$G$109,6,FALSE)),\" \")","v":" "},null,null," ",{"$f":"IF(COUNTIF($G$10:$G72,G72)<2,$G72,\" \")","v":" "},63,{"$f":"IF(COUNTIF($G$10:$G72,G72)<3,$G72,\" \")","v":" "},63,"",1000]
[64,null,{"$f":"IF(A73>0,(VLOOKUP($A73,'Engag Pre'!$A$10:$G$74,3,FALSE)),\" \")","v":{"$error":"#N/A"}},{"$f":"IF(B73>0,(VLOOKUP($B73,'Engag Ben'!$A$10:$G$109,7,FALSE)),\" \")","v":" "},{"$f":"IF(B73>0,(VLOOKUP($B73,'Engag Ben'!$A$10:$G$109,3,FALSE)),\" \")","v":" "},{"$f":"IF(B73>0,(VLOOKUP($B73,'Engag Ben'!$A$10:$G$109,4,FALSE)),\" \")","v":" "},{"$f":"IF(B73>0,(VLOOKUP($B73,'Engag Ben'!$A$10:$G$109,5,FALSE)),\" \")","v":" "},{"$f":"IF(B73>0,(VLOOKUP($B73,'Engag Ben'!$A$10:$G$109,6,FALSE)),\" \")","v":" "},null,null," ",{"$f":"IF(COUNTIF($G$10:$G73,G73)<2,$G73,\" \")","v":" "},64,{"$f":"IF(COUNTIF($G$10:$G73,G73)<3,$G73,\" \")","v":" "},64,"",1000]
[65,null,{"$f":"IF(A74>0,(VLOOKUP($A74,'Engag Pre'!$A$10:$G$74,3,FALSE)),\" \")","v":{"$error":"#N/A"}},{"$f":"IF(B74>0,(VLOOKUP($B74,'Engag Ben'!$A$10:$G$109,7,FALSE)),\" \")","v":" "},{"$f":"IF(B74>0,(VLOOKUP($B74,'Engag Ben'!$A$10:$G$109,3,FALSE)),\" \")","v":" "},{"$f":"IF(B74>0,(VLOOKUP($B74,'Engag Ben'!$A$10:$G$109,4,FALSE)),\" \")","v":" "},{"$f":"IF(B74>0,(VLOOKUP($B74,'Engag Ben'!$A$10:$G$109,5,FALSE)),\" \")","v":" "},{"$f":"IF(B74>0,(VLOOKUP($B74,'Engag Ben'!$A$10:$G$109,6,FALSE)),\" \")","v":" "},null,null," ",{"$f":"IF(COUNTIF($G$10:$G74,G74)<2,$G74,\" \")","v":" "},65,{"$f":"IF(COUNTIF($G$10:$G74,G74)<3,$G74,\" \")","v":" "},65,"",1000]
[66,null,{"$f":"IF(A75>0,(VLOOKUP($A75,'Engag Pre'!$A$10:$G$74,3,FALSE)),\" \")","v":{"$error":"#N/A"}},{"$f":"IF(B75>0,(VLOOKUP($B75,'Engag Ben'!$A$10:$G$109,7,FALSE)),\" \")","v":" "},{"$f":"IF(B75>0,(VLOOKUP($B75,'Engag Ben'!$A$10:$G$109,3,FALSE)),\" \")","v":" "},{"$f":"IF(B75>0,(VLOOKUP($B75,'Engag Ben'!$A$10:$G$109,4,FALSE)),\" \")","v":" "},{"$f":"IF(B75>0,(VLOOKUP($B75,'Engag Ben'!$A$10:$G$109,5,FALSE)),\" \")","v":" "},{"$f":"IF(B75>0,(VLOOKUP($B75,'Engag Ben'!$A$10:$G$109,6,FALSE)),\" \")","v":" "},null,null,{"$f":"IF(COUNTIF($B$10:$B$109,B75)>1,\"Déjà classé\",\" \")","v":" "},{"$f":"IF(COUNTIF($G$10:$G75,G75)<2,$G75,\" \")","v":" "},{"$f":"IF($G$6<5,1000,(IF(L75=G75,A75,\"\")))","v":66},{"$f":"IF(COUNTIF($G$10:$G75,G75)<3,$G75,\" \")","v":" "},{"$f":"IF(N75=$G75,$A75,\"\")","v":66},{"$f":"IF(N75=L75,\"\",N75)","v":""},{"$f":"IF($G$6<5,1000,(IF(P75=$G75,$A75,1000)))","v":1000}]
[67,null,{"$f":"IF(A76>0,(VLOOKUP($A76,'Engag Pre'!$A$10:$G$74,3,FALSE)),\" \")","v":{"$error":"#N/A"}},{"$f":"IF(B76>0,(VLOOKUP($B76,'Engag Ben'!$A$10:$G$109,7,FALSE)),\" \")","v":" "},{"$f":"IF(B76>0,(VLOOKUP($B76,'Engag Ben'!$A$10:$G$109,3,FALSE)),\" \")","v":" "},{"$f":"IF(B76>0,(VLOOKUP($B76,'Engag Ben'!$A$10:$G$109,4,FALSE)),\" \")","v":" "},{"$f":"IF(B76>0,(VLOOKUP($B76,'Engag Ben'!$A$10:$G$109,5,FALSE)),\" \")","v":" "},{"$f":"IF(B76>0,(VLOOKUP($B76,'Engag Ben'!$A$10:$G$109,6,FALSE)),\" \")","v":" "},null,null," ",{"$f":"IF(COUNTIF($G$10:$G76,G76)<2,$G76,\" \")","v":" "},67,{"$f":"IF(COUNTIF($G$10:$G76,G76)<3,$G76,\" \")","v":" "},67,"",1000]
[68,null,{"$f":"IF(A77>0,(VLOOKUP($A77,'Engag Pre'!$A$10:$G$74,3,FALSE)),\" \")","v":{"$error":"#N/A"}},{"$f":"IF(B77>0,(VLOOKUP($B77,'Engag Ben'!$A$10:$G$109,7,FALSE)),\" \")","v":" "},{"$f":"IF(B77>0,(VLOOKUP($B77,'Engag Ben'!$A$10:$G$109,3,FALSE)),\" \")","v":" "},{"$f":"IF(B77>0,(VLOOKUP($B77,'Engag Ben'!$A$10:$G$109,4,FALSE)),\" \")","v":" "},{"$f":"IF(B77>0,(VLOOKUP($B77,'Engag Ben'!$A$10:$G$109,5,FALSE)),\" \")","v":" "},{"$f":"IF(B77>0,(VLOOKUP($B77,'Engag Ben'!$A$10:$G$109,6,FALSE)),\" \")","v":" "},null,null," ",{"$f":"IF(COUNTIF($G$10:$G77,G77)<2,$G77,\" \")","v":" "},68,{"$f":"IF(COUNTIF($G$10:$G77,G77)<3,$G77,\" \")","v":" "},68,"",1000]
[69,null,{"$f":"IF(A78>0,(VLOOKUP($A78,'Engag Pre'!$A$10:$G$74,3,FALSE)),\" \")","v":{"$error":"#N/A"}},{"$f":"IF(B78>0,(VLOOKUP($B78,'Engag Ben'!$A$10:$G$109,7,FALSE)),\" \")","v":" "},{"$f":"IF(B78>0,(VLOOKUP($B78,'Engag Ben'!$A$10:$G$109,3,FALSE)),\" \")","v":" "},{"$f":"IF(B78>0,(VLOOKUP($B78,'Engag Ben'!$A$10:$G$109,4,FALSE)),\" \")","v":" "},{"$f":"IF(B78>0,(VLOOKUP($B78,'Engag Ben'!$A$10:$G$109,5,FALSE)),\" \")","v":" "},{"$f":"IF(B78>0,(VLOOKUP($B78,'Engag Ben'!$A$10:$G$109,6,FALSE)),\" \")","v":" "},null,null," ",{"$f":"IF(COUNTIF($G$10:$G78,G78)<2,$G78,\" \")","v":" "},69,{"$f":"IF(COUNTIF($G$10:$G78,G78)<3,$G78,\" \")","v":" "},69,"",1000]
[70,null,{"$f":"IF(A79>0,(VLOOKUP($A79,'Engag Pre'!$A$10:$G$74,3,FALSE)),\" \")","v":{"$error":"#N/A"}},{"$f":"IF(B79>0,(VLOOKUP($B79,'Engag Ben'!$A$10:$G$109,7,FALSE)),\" \")","v":" "},{"$f":"IF(B79>0,(VLOOKUP($B79,'Engag Ben'!$A$10:$G$109,3,FALSE)),\" \")","v":" "},{"$f":"IF(B79>0,(VLOOKUP($B79,'Engag Ben'!$A$10:$G$109,4,FALSE)),\" \")","v":" "},{"$f":"IF(B79>0,(VLOOKUP($B79,'Engag Ben'!$A$10:$G$109,5,FALSE)),\" \")","v":" "},{"$f":"IF(B79>0,(VLOOKUP($B79,'Engag Ben'!$A$10:$G$109,6,FALSE)),\" \")","v":" "},null,null," ",{"$f":"IF(COUNTIF($G$10:$G79,G79)<2,$G79,\" \")","v":" "},70,{"$f":"IF(COUNTIF($G$10:$G79,G79)<3,$G79,\" \")","v":" "},70,"",1000]
[71,null,{"$f":"IF(A80>0,(VLOOKUP($A80,'Engag Pre'!$A$10:$G$74,3,FALSE)),\" \")","v":{"$error":"#N/A"}},{"$f":"IF(B80>0,(VLOOKUP($B80,'Engag Ben'!$A$10:$G$109,7,FALSE)),\" \")","v":" "},{"$f":"IF(B80>0,(VLOOKUP($B80,'Engag Ben'!$A$10:$G$109,3,FALSE)),\" \")","v":" "},{"$f":"IF(B80>0,(VLOOKUP($B80,'Engag Ben'!$A$10:$G$109,4,FALSE)),\" \")","v":" "},{"$f":"IF(B80>0,(VLOOKUP($B80,'Engag Ben'!$A$10:$G$109,5,FALSE)),\" \")","v":" "},{"$f":"IF(B80>0,(VLOOKUP($B80,'Engag Ben'!$A$10:$G$109,6,FALSE)),\" \")","v":" "},null,null," ",{"$f":"IF(COUNTIF($G$10:$G80,G80)<2,$G80,\" \")","v":" "},71,{"$f":"IF(COUNTIF($G$10:$G80,G80)<3,$G80,\" \")","v":" "},71,"",1000]
[72,null,{"$f":"IF(A81>0,(VLOOKUP($A81,'Engag Pre'!$A$10:$G$74,3,FALSE)),\" \")","v":{"$error":"#N/A"}},{"$f":"IF(B81>0,(VLOOKUP($B81,'Engag Ben'!$A$10:$G$109,7,FALSE)),\" \")","v":" "},{"$f":"IF(B81>0,(VLOOKUP($B81,'Engag Ben'!$A$10:$G$109,3,FALSE)),\" \")","v":" "},{"$f":"IF(B81>0,(VLOOKUP($B81,'Engag Ben'!$A$10:$G$109,4,FALSE)),\" \")","v":" "},{"$f":"IF(B81>0,(VLOOKUP($B81,'Engag Ben'!$A$10:$G$109,5,FALSE)),\" \")","v":" "},{"$f":"IF(B81>0,(VLOOKUP($B81,'Engag Ben'!$A$10:$G$109,6,FALSE)),\" \")","v":" "},null,null," ",{"$f":"IF(COUNTIF($G$10:$G81,G81)<2,$G81,\" \")","v":" "},72,{"$f":"IF(COUNTIF($G$10:$G81,G81)<3,$G81,\" \")","v":" "},72,"",1000]
[73,null,{"$f":"IF(A82>0,(VLOOKUP($A82,'Engag Pre'!$A$10:$G$74,3,FALSE)),\" \")","v":{"$error":"#N/A"}},{"$f":"IF(B82>0,(VLOOKUP($B82,'Engag Ben'!$A$10:$G$109,7,FALSE)),\" \")","v":" "},{"$f":"IF(B82>0,(VLOOKUP($B82,'Engag Ben'!$A$10:$G$109,3,FALSE)),\" \")","v":" "},{"$f":"IF(B82>0,(VLOOKUP($B82,'Engag Ben'!$A$10:$G$109,4,FALSE)),\" \")","v":" "},{"$f":"IF(B82>0,(VLOOKUP($B82,'Engag Ben'!$A$10:$G$109,5,FALSE)),\" \")","v":" "},{"$f":"IF(B82>0,(VLOOKUP($B82,'Engag Ben'!$A$10:$G$109,6,FALSE)),\" \")","v":" "},null,null," ",{"$f":"IF(COUNTIF($G$10:$G82,G82)<2,$G82,\" \")","v":" "},73,{"$f":"IF(COUNTIF($G$10:$G82,G82)<3,$G82,\" \")","v":" "},73,"",1000]
[74,null,{"$f":"IF(A83>0,(VLOOKUP($A83,'Engag Pre'!$A$10:$G$74,3,FALSE)),\" \")","v":{"$error":"#N/A"}},{"$f":"IF(B83>0,(VLOOKUP($B83,'Engag Ben'!$A$10:$G$109,7,FALSE)),\" \")","v":" "},{"$f":"IF(B83>0,(VLOOKUP($B83,'Engag Ben'!$A$10:$G$109,3,FALSE)),\" \")","v":" "},{"$f":"IF(B83>0,(VLOOKUP($B83,'Engag Ben'!$A$10:$G$109,4,FALSE)),\" \")","v":" "},{"$f":"IF(B83>0,(VLOOKUP($B83,'Engag Ben'!$A$10:$G$109,5,FALSE)),\" \")","v":" "},{"$f":"IF(B83>0,(VLOOKUP($B83,'Engag Ben'!$A$10:$G$109,6,FALSE)),\" \")","v":" "},null,null," ",{"$f":"IF(COUNTIF($G$10:$G83,G83)<2,$G83,\" \")","v":" "},74,{"$f":"IF(COUNTIF($G$10:$G83,G83)<3,$G83,\" \")","v":" "},74,"",1000]
[75,null,{"$f":"IF(A84>0,(VLOOKUP($A84,'Engag Pre'!$A$10:$G$74,3,FALSE)),\" \")","v":{"$error":"#N/A"}},{"$f":"IF(B84>0,(VLOOKUP($B84,'Engag Ben'!$A$10:$G$109,7,FALSE)),\" \")","v":" "},{"$f":"IF(B84>0,(VLOOKUP($B84,'Engag Ben'!$A$10:$G$109,3,FALSE)),\" \")","v":" "},{"$f":"IF(B84>0,(VLOOKUP($B84,'Engag Ben'!$A$10:$G$109,4,FALSE)),\" \")","v":" "},{"$f":"IF(B84>0,(VLOOKUP($B84,'Engag Ben'!$A$10:$G$109,5,FALSE)),\" \")","v":" "},{"$f":"IF(B84>0,(VLOOKUP($B84,'Engag Ben'!$A$10:$G$109,6,FALSE)),\" \")","v":" "},null,null," ",{"$f":"IF(COUNTIF($G$10:$G84,G84)<2,$G84,\" \")","v":" "},75,{"$f":"IF(COUNTIF($G$10:$G84,G84)<3,$G84,\" \")","v":" "},75,"",1000]
[76,null,{"$f":"IF(A85>0,(VLOOKUP($A85,'Engag Pre'!$A$10:$G$74,3,FALSE)),\" \")","v":{"$error":"#N/A"}},{"$f":"IF(B85>0,(VLOOKUP($B85,'Engag Ben'!$A$10:$G$109,7,FALSE)),\" \")","v":" "},{"$f":"IF(B85>0,(VLOOKUP($B85,'Engag Ben'!$A$10:$G$109,3,FALSE)),\" \")","v":" "},{"$f":"IF(B85>0,(VLOOKUP($B85,'Engag Ben'!$A$10:$G$109,4,FALSE)),\" \")","v":" "},{"$f":"IF(B85>0,(VLOOKUP($B85,'Engag Ben'!$A$10:$G$109,5,FALSE)),\" \")","v":" "},{"$f":"IF(B85>0,(VLOOKUP($B85,'Engag Ben'!$A$10:$G$109,6,FALSE)),\" \")","v":" "},null,null," ",{"$f":"IF(COUNTIF($G$10:$G85,G85)<2,$G85,\" \")","v":" "},76,{"$f":"IF(COUNTIF($G$10:$G85,G85)<3,$G85,\" \")","v":" "},76,"",1000]
[77,null,{"$f":"IF(A86>0,(VLOOKUP($A86,'Engag Pre'!$A$10:$G$74,3,FALSE)),\" \")","v":{"$error":"#N/A"}},{"$f":"IF(B86>0,(VLOOKUP($B86,'Engag Ben'!$A$10:$G$109,7,FALSE)),\" \")","v":" "},{"$f":"IF(B86>0,(VLOOKUP($B86,'Engag Ben'!$A$10:$G$109,3,FALSE)),\" \")","v":" "},{"$f":"IF(B86>0,(VLOOKUP($B86,'Engag Ben'!$A$10:$G$109,4,FALSE)),\" \")","v":" "},{"$f":"IF(B86>0,(VLOOKUP($B86,'Engag Ben'!$A$10:$G$109,5,FALSE)),\" \")","v":" "},{"$f":"IF(B86>0,(VLOOKUP($B86,'Engag Ben'!$A$10:$G$109,6,FALSE)),\" \")","v":" "},null,null," ",{"$f":"IF(COUNTIF($G$10:$G86,G86)<2,$G86,\" \")","v":" "},77,{"$f":"IF(COUNTIF($G$10:$G86,G86)<3,$G86,\" \")","v":" "},77,"",1000]
[78,null,{"$f":"IF(A87>0,(VLOOKUP($A87,'Engag Pre'!$A$10:$G$74,3,FALSE)),\" \")","v":{"$error":"#N/A"}},{"$f":"IF(B87>0,(VLOOKUP($B87,'Engag Ben'!$A$10:$G$109,7,FALSE)),\" \")","v":" "},{"$f":"IF(B87>0,(VLOOKUP($B87,'Engag Ben'!$A$10:$G$109,3,FALSE)),\" \")","v":" "},{"$f":"IF(B87>0,(VLOOKUP($B87,'Engag Ben'!$A$10:$G$109,4,FALSE)),\" \")","v":" "},{"$f":"IF(B87>0,(VLOOKUP($B87,'Engag Ben'!$A$10:$G$109,5,FALSE)),\" \")","v":" "},{"$f":"IF(B87>0,(VLOOKUP($B87,'Engag Ben'!$A$10:$G$109,6,FALSE)),\" \")","v":" "},null,null," ",{"$f":"IF(COUNTIF($G$10:$G87,G87)<2,$G87,\" \")","v":" "},78,{"$f":"IF(COUNTIF($G$10:$G87,G87)<3,$G87,\" \")","v":" "},78,"",1000]
[79,null,{"$f":"IF(A88>0,(VLOOKUP($A88,'Engag Pre'!$A$10:$G$74,3,FALSE)),\" \")","v":{"$error":"#N/A"}},{"$f":"IF(B88>0,(VLOOKUP($B88,'Engag Ben'!$A$10:$G$109,7,FALSE)),\" \")","v":" "},{"$f":"IF(B88>0,(VLOOKUP($B88,'Engag Ben'!$A$10:$G$109,3,FALSE)),\" \")","v":" "},{"$f":"IF(B88>0,(VLOOKUP($B88,'Engag Ben'!$A$10:$G$109,4,FALSE)),\" \")","v":" "},{"$f":"IF(B88>0,(VLOOKUP($B88,'Engag Ben'!$A$10:$G$109,5,FALSE)),\" \")","v":" "},{"$f":"IF(B88>0,(VLOOKUP($B88,'Engag Ben'!$A$10:$G$109,6,FALSE)),\" \")","v":" "},null,null," ",{"$f":"IF(COUNTIF($G$10:$G88,G88)<2,$G88,\" \")","v":" "},79,{"$f":"IF(COUNTIF($G$10:$G88,G88)<3,$G88,\" \")","v":" "},79,"",1000]
[80,null,{"$f":"IF(A89>0,(VLOOKUP($A89,'Engag Pre'!$A$10:$G$74,3,FALSE)),\" \")","v":{"$error":"#N/A"}},{"$f":"IF(B89>0,(VLOOKUP($B89,'Engag Ben'!$A$10:$G$109,7,FALSE)),\" \")","v":" "},{"$f":"IF(B89>0,(VLOOKUP($B89,'Engag Ben'!$A$10:$G$109,3,FALSE)),\" \")","v":" "},{"$f":"IF(B89>0,(VLOOKUP($B89,'Engag Ben'!$A$10:$G$109,4,FALSE)),\" \")","v":" "},{"$f":"IF(B89>0,(VLOOKUP($B89,'Engag Ben'!$A$10:$G$109,5,FALSE)),\" \")","v":" "},{"$f":"IF(B89>0,(VLOOKUP($B89,'Engag Ben'!$A$10:$G$109,6,FALSE)),\" \")","v":" "},null,null," ",{"$f":"IF(COUNTIF($G$10:$G89,G89)<2,$G89,\" \")","v":" "},80,{"$f":"IF(COUNTIF($G$10:$G89,G89)<3,$G89,\" \")","v":" "},80,"",1000]
[81,null,{"$f":"IF(A90>0,(VLOOKUP($A90,'Engag Pre'!$A$10:$G$74,3,FALSE)),\" \")","v":{"$error":"#N/A"}},{"$f":"IF(B90>0,(VLOOKUP($B90,'Engag Ben'!$A$10:$G$109,7,FALSE)),\" \")","v":" "},{"$f":"IF(B90>0,(VLOOKUP($B90,'Engag Ben'!$A$10:$G$109,3,FALSE)),\" \")","v":" "},{"$f":"IF(B90>0,(VLOOKUP($B90,'Engag Ben'!$A$10:$G$109,4,FALSE)),\" \")","v":" "},{"$f":"IF(B90>0,(VLOOKUP($B90,'Engag Ben'!$A$10:$G$109,5,FALSE)),\" \")","v":" "},{"$f":"IF(B90>0,(VLOOKUP($B90,'Engag Ben'!$A$10:$G$109,6,FALSE)),\" \")","v":" "},null,null," ",{"$f":"IF(COUNTIF($G$10:$G90,G90)<2,$G90,\" \")","v":" "},81,{"$f":"IF(COUNTIF($G$10:$G90,G90)<3,$G90,\" \")","v":" "},81,"",1000]
[82,null,{"$f":"IF(A91>0,(VLOOKUP($A91,'Engag Pre'!$A$10:$G$74,3,FALSE)),\" \")","v":{"$error":"#N/A"}},{"$f":"IF(B91>0,(VLOOKUP($B91,'Engag Ben'!$A$10:$G$109,7,FALSE)),\" \")","v":" "},{"$f":"IF(B91>0,(VLOOKUP($B91,'Engag Ben'!$A$10:$G$109,3,FALSE)),\" \")","v":" "},{"$f":"IF(B91>0,(VLOOKUP($B91,'Engag Ben'!$A$10:$G$109,4,FALSE)),\" \")","v":" "},{"$f":"IF(B91>0,(VLOOKUP($B91,'Engag Ben'!$A$10:$G$109,5,FALSE)),\" \")","v":" "},{"$f":"IF(B91>0,(VLOOKUP($B91,'Engag Ben'!$A$10:$G$109,6,FALSE)),\" \")","v":" "},null,null," ",{"$f":"IF(COUNTIF($G$10:$G91,G91)<2,$G91,\" \")","v":" "},82,{"$f":"IF(COUNTIF($G$10:$G91,G91)<3,$G91,\" \")","v":" "},82,"",1000]
[83,null,{"$f":"IF(A92>0,(VLOOKUP($A92,'Engag Pre'!$A$10:$G$74,3,FALSE)),\" \")","v":{"$error":"#N/A"}},{"$f":"IF(B92>0,(VLOOKUP($B92,'Engag Ben'!$A$10:$G$109,7,FALSE)),\" \")","v":" "},{"$f":"IF(B92>0,(VLOOKUP($B92,'Engag Ben'!$A$10:$G$109,3,FALSE)),\" \")","v":" "},{"$f":"IF(B92>0,(VLOOKUP($B92,'Engag Ben'!$A$10:$G$109,4,FALSE)),\" \")","v":" "},{"$f":"IF(B92>0,(VLOOKUP($B92,'Engag Ben'!$A$10:$G$109,5,FALSE)),\" \")","v":" "},{"$f":"IF(B92>0,(VLOOKUP($B92,'Engag Ben'!$A$10:$G$109,6,FALSE)),\" \")","v":" "},null,null," ",{"$f":"IF(COUNTIF($G$10:$G92,G92)<2,$G92,\" \")","v":" "},83,{"$f":"IF(COUNTIF($G$10:$G92,G92)<3,$G92,\" \")","v":" "},83,"",1000]
[84,null,{"$f":"IF(A93>0,(VLOOKUP($A93,'Engag Pre'!$A$10:$G$74,3,FALSE)),\" \")","v":{"$error":"#N/A"}},{"$f":"IF(B93>0,(VLOOKUP($B93,'Engag Ben'!$A$10:$G$109,7,FALSE)),\" \")","v":" "},{"$f":"IF(B93>0,(VLOOKUP($B93,'Engag Ben'!$A$10:$G$109,3,FALSE)),\" \")","v":" "},{"$f":"IF(B93>0,(VLOOKUP($B93,'Engag Ben'!$A$10:$G$109,4,FALSE)),\" \")","v":" "},{"$f":"IF(B93>0,(VLOOKUP($B93,'Engag Ben'!$A$10:$G$109,5,FALSE)),\" \")","v":" "},{"$f":"IF(B93>0,(VLOOKUP($B93,'Engag Ben'!$A$10:$G$109,6,FALSE)),\" \")","v":" "},null,null," ",{"$f":"IF(COUNTIF($G$10:$G93,G93)<2,$G93,\" \")","v":" "},84,{"$f":"IF(COUNTIF($G$10:$G93,G93)<3,$G93,\" \")","v":" "},84,"",1000]
[85,null,{"$f":"IF(A94>0,(VLOOKUP($A94,'Engag Pre'!$A$10:$G$74,3,FALSE)),\" \")","v":{"$error":"#N/A"}},{"$f":"IF(B94>0,(VLOOKUP($B94,'Engag Ben'!$A$10:$G$109,7,FALSE)),\" \")","v":" "},{"$f":"IF(B94>0,(VLOOKUP($B94,'Engag Ben'!$A$10:$G$109,3,FALSE)),\" \")","v":" "},{"$f":"IF(B94>0,(VLOOKUP($B94,'Engag Ben'!$A$10:$G$109,4,FALSE)),\" \")","v":" "},{"$f":"IF(B94>0,(VLOOKUP($B94,'Engag Ben'!$A$10:$G$109,5,FALSE)),\" \")","v":" "},{"$f":"IF(B94>0,(VLOOKUP($B94,'Engag Ben'!$A$10:$G$109,6,FALSE)),\" \")","v":" "},null,null," ",{"$f":"IF(COUNTIF($G$10:$G94,G94)<2,$G94,\" \")","v":" "},85,{"$f":"IF(COUNTIF($G$10:$G94,G94)<3,$G94,\" \")","v":" "},85,"",1000]
[86,null,{"$f":"IF(A95>0,(VLOOKUP($A95,'Engag Pre'!$A$10:$G$74,3,FALSE)),\" \")","v":{"$error":"#N/A"}},{"$f":"IF(B95>0,(VLOOKUP($B95,'Engag Ben'!$A$10:$G$109,7,FALSE)),\" \")","v":" "},{"$f":"IF(B95>0,(VLOOKUP($B95,'Engag Ben'!$A$10:$G$109,3,FALSE)),\" \")","v":" "},{"$f":"IF(B95>0,(VLOOKUP($B95,'Engag Ben'!$A$10:$G$109,4,FALSE)),\" \")","v":" "},{"$f":"IF(B95>0,(VLOOKUP($B95,'Engag Ben'!$A$10:$G$109,5,FALSE)),\" \")","v":" "},{"$f":"IF(B95>0,(VLOOKUP($B95,'Engag Ben'!$A$10:$G$109,6,FALSE)),\" \")","v":" "},null,null," ",{"$f":"IF(COUNTIF($G$10:$G95,G95)<2,$G95,\" \")","v":" "},86,{"$f":"IF(COUNTIF($G$10:$G95,G95)<3,$G95,\" \")","v":" "},86,"",1000]
[87,null,{"$f":"IF(A96>0,(VLOOKUP($A96,'Engag Pre'!$A$10:$G$74,3,FALSE)),\" \")","v":{"$error":"#N/A"}},{"$f":"IF(B96>0,(VLOOKUP($B96,'Engag Ben'!$A$10:$G$109,7,FALSE)),\" \")","v":" "},{"$f":"IF(B96>0,(VLOOKUP($B96,'Engag Ben'!$A$10:$G$109,3,FALSE)),\" \")","v":" "},{"$f":"IF(B96>0,(VLOOKUP($B96,'Engag Ben'!$A$10:$G$109,4,FALSE)),\" \")","v":" "},{"$f":"IF(B96>0,(VLOOKUP($B96,'Engag Ben'!$A$10:$G$109,5,FALSE)),\" \")","v":" "},{"$f":"IF(B96>0,(VLOOKUP($B96,'Engag Ben'!$A$10:$G$109,6,FALSE)),\" \")","v":" "},null,null," ",{"$f":"IF(COUNTIF($G$10:$G96,G96)<2,$G96,\" \")","v":" "},87,{"$f":"IF(COUNTIF($G$10:$G96,G96)<3,$G96,\" \")","v":" "},87,"",1000]
[88,null,{"$f":"IF(A97>0,(VLOOKUP($A97,'Engag Pre'!$A$10:$G$74,3,FALSE)),\" \")","v":{"$error":"#N/A"}},{"$f":"IF(B97>0,(VLOOKUP($B97,'Engag Ben'!$A$10:$G$109,7,FALSE)),\" \")","v":" "},{"$f":"IF(B97>0,(VLOOKUP($B97,'Engag Ben'!$A$10:$G$109,3,FALSE)),\" \")","v":" "},{"$f":"IF(B97>0,(VLOOKUP($B97,'Engag Ben'!$A$10:$G$109,4,FALSE)),\" \")","v":" "},{"$f":"IF(B97>0,(VLOOKUP($B97,'Engag Ben'!$A$10:$G$109,5,FALSE)),\" \")","v":" "},{"$f":"IF(B97>0,(VLOOKUP($B97,'Engag Ben'!$A$10:$G$109,6,FALSE)),\" \")","v":" "},null,null," ",{"$f":"IF(COUNTIF($G$10:$G97,G97)<2,$G97,\" \")","v":" "},88,{"$f":"IF(COUNTIF($G$10:$G97,G97)<3,$G97,\" \")","v":" "},88,"",1000]
[89,null,{"$f":"IF(A98>0,(VLOOKUP($A98,'Engag Pre'!$A$10:$G$74,3,FALSE)),\" \")","v":{"$error":"#N/A"}},{"$f":"IF(B98>0,(VLOOKUP($B98,'Engag Ben'!$A$10:$G$109,7,FALSE)),\" \")","v":" "},{"$f":"IF(B98>0,(VLOOKUP($B98,'Engag Ben'!$A$10:$G$109,3,FALSE)),\" \")","v":" "},{"$f":"IF(B98>0,(VLOOKUP($B98,'Engag Ben'!$A$10:$G$109,4,FALSE)),\" \")","v":" "},{"$f":"IF(B98>0,(VLOOKUP($B98,'Engag Ben'!$A$10:$G$109,5,FALSE)),\" \")","v":" "},{"$f":"IF(B98>0,(VLOOKUP($B98,'Engag Ben'!$A$10:$G$109,6,FALSE)),\" \")","v":" "},null,null," ",{"$f":"IF(COUNTIF($G$10:$G98,G98)<2,$G98,\" \")","v":" "},89,{"$f":"IF(COUNTIF($G$10:$G98,G98)<3,$G98,\" \")","v":" "},89,"",1000]
[90,null,{"$f":"IF(A99>0,(VLOOKUP($A99,'Engag Pre'!$A$10:$G$74,3,FALSE)),\" \")","v":{"$error":"#N/A"}},{"$f":"IF(B99>0,(VLOOKUP($B99,'Engag Ben'!$A$10:$G$109,7,FALSE)),\" \")","v":" "},{"$f":"IF(B99>0,(VLOOKUP($B99,'Engag Ben'!$A$10:$G$109,3,FALSE)),\" \")","v":" "},{"$f":"IF(B99>0,(VLOOKUP($B99,'Engag Ben'!$A$10:$G$109,4,FALSE)),\" \")","v":" "},{"$f":"IF(B99>0,(VLOOKUP($B99,'Engag Ben'!$A$10:$G$109,5,FALSE)),\" \")","v":" "},{"$f":"IF(B99>0,(VLOOKUP($B99,'Engag Ben'!$A$10:$G$109,6,FALSE)),\" \")","v":" "},null,null," ",{"$f":"IF(COUNTIF($G$10:$G99,G99)<2,$G99,\" \")","v":" "},90,{"$f":"IF(COUNTIF($G$10:$G99,G99)<3,$G99,\" \")","v":" "},90,"",1000]
[91,null,{"$f":"IF(A100>0,(VLOOKUP($A100,'Engag Pre'!$A$10:$G$74,3,FALSE)),\" \")","v":{"$error":"#N/A"}},{"$f":"IF(B100>0,(VLOOKUP($B100,'Engag Ben'!$A$10:$G$109,7,FALSE)),\" \")","v":" "},{"$f":"IF(B100>0,(VLOOKUP($B100,'Engag Ben'!$A$10:$G$109,3,FALSE)),\" \")","v":" "},{"$f":"IF(B100>0,(VLOOKUP($B100,'Engag Ben'!$A$10:$G$109,4,FALSE)),\" \")","v":" "},{"$f":"IF(B100>0,(VLOOKUP($B100,'Engag Ben'!$A$10:$G$109,5,FALSE)),\" \")","v":" "},{"$f":"IF(B100>0,(VLOOKUP($B100,'Engag Ben'!$A$10:$G$109,6,FALSE)),\" \")","v":" "},null,null," ",{"$f":"IF(COUNTIF($G$10:$G100,G100)<2,$G100,\" \")","v":" "},91,{"$f":"IF(COUNTIF($G$10:$G100,G100)<3,$G100,\" \")","v":" "},91,"",1000]
[92,null,{"$f":"IF(A101>0,(VLOOKUP($A101,'Engag Pre'!$A$10:$G$74,3,FALSE)),\" \")","v":{"$error":"#N/A"}},{"$f":"IF(B101>0,(VLOOKUP($B101,'Engag Ben'!$A$10:$G$109,7,FALSE)),\" \")","v":" "},{"$f":"IF(B101>0,(VLOOKUP($B101,'Engag Ben'!$A$10:$G$109,3,FALSE)),\" \")","v":" "},{"$f":"IF(B101>0,(VLOOKUP($B101,'Engag Ben'!$A$10:$G$109,4,FALSE)),\" \")","v":" "},{"$f":"IF(B101>0,(VLOOKUP($B101,'Engag Ben'!$A$10:$G$109,5,FALSE)),\" \")","v":" "},{"$f":"IF(B101>0,(VLOOKUP($B101,'Engag Ben'!$A$10:$G$109,6,FALSE)),\" \")","v":" "},null,null," ",{"$f":"IF(COUNTIF($G$10:$G101,G101)<2,$G101,\" \")","v":" "},92,{"$f":"IF(COUNTIF($G$10:$G101,G101)<3,$G101,\" \")","v":" "},92,"",1000]
[93,null,{"$f":"IF(A102>0,(VLOOKUP($A102,'Engag Pre'!$A$10:$G$74,3,FALSE)),\" \")","v":{"$error":"#N/A"}},{"$f":"IF(B102>0,(VLOOKUP($B102,'Engag Ben'!$A$10:$G$109,7,FALSE)),\" \")","v":" "},{"$f":"IF(B102>0,(VLOOKUP($B102,'Engag Ben'!$A$10:$G$109,3,FALSE)),\" \")","v":" "},{"$f":"IF(B102>0,(VLOOKUP($B102,'Engag Ben'!$A$10:$G$109,4,FALSE)),\" \")","v":" "},{"$f":"IF(B102>0,(VLOOKUP($B102,'Engag Ben'!$A$10:$G$109,5,FALSE)),\" \")","v":" "},{"$f":"IF(B102>0,(VLOOKUP($B102,'Engag Ben'!$A$10:$G$109,6,FALSE)),\" \")","v":" "},null,null," ",{"$f":"IF(COUNTIF($G$10:$G102,G102)<2,$G102,\" \")","v":" "},93,{"$f":"IF(COUNTIF($G$10:$G102,G102)<3,$G102,\" \")","v":" "},93,"",1000]
[94,null,{"$f":"IF(A103>0,(VLOOKUP($A103,'Engag Pre'!$A$10:$G$74,3,FALSE)),\" \")","v":{"$error":"#N/A"}},{"$f":"IF(B103>0,(VLOOKUP($B103,'Engag Ben'!$A$10:$G$109,7,FALSE)),\" \")","v":" "},{"$f":"IF(B103>0,(VLOOKUP($B103,'Engag Ben'!$A$10:$G$109,3,FALSE)),\" \")","v":" "},{"$f":"IF(B103>0,(VLOOKUP($B103,'Engag Ben'!$A$10:$G$109,4,FALSE)),\" \")","v":" "},{"$f":"IF(B103>0,(VLOOKUP($B103,'Engag Ben'!$A$10:$G$109,5,FALSE)),\" \")","v":" "},{"$f":"IF(B103>0,(VLOOKUP($B103,'Engag Ben'!$A$10:$G$109,6,FALSE)),\" \")","v":" "},null,null," ",{"$f":"IF(COUNTIF($G$10:$G103,G103)<2,$G103,\" \")","v":" "},94,{"$f":"IF(COUNTIF($G$10:$G103,G103)<3,$G103,\" \")","v":" "},94,"",1000]
[95,null,{"$f":"IF(A104>0,(VLOOKUP($A104,'Engag Pre'!$A$10:$G$74,3,FALSE)),\" \")","v":{"$error":"#N/A"}},{"$f":"IF(B104>0,(VLOOKUP($B104,'Engag Ben'!$A$10:$G$109,7,FALSE)),\" \")","v":" "},{"$f":"IF(B104>0,(VLOOKUP($B104,'Engag Ben'!$A$10:$G$109,3,FALSE)),\" \")","v":" "},{"$f":"IF(B104>0,(VLOOKUP($B104,'Engag Ben'!$A$10:$G$109,4,FALSE)),\" \")","v":" "},{"$f":"IF(B104>0,(VLOOKUP($B104,'Engag Ben'!$A$10:$G$109,5,FALSE)),\" \")","v":" "},{"$f":"IF(B104>0,(VLOOKUP($B104,'Engag Ben'!$A$10:$G$109,6,FALSE)),\" \")","v":" "},null,null," ",{"$f":"IF(COUNTIF($G$10:$G104,G104)<2,$G104,\" \")","v":" "},95,{"$f":"IF(COUNTIF($G$10:$G104,G104)<3,$G104,\" \")","v":" "},95,"",1000]
[96,null,{"$f":"IF(A105>0,(VLOOKUP($A105,'Engag Pre'!$A$10:$G$74,3,FALSE)),\" \")","v":{"$error":"#N/A"}},{"$f":"IF(B105>0,(VLOOKUP($B105,'Engag Ben'!$A$10:$G$109,7,FALSE)),\" \")","v":" "},{"$f":"IF(B105>0,(VLOOKUP($B105,'Engag Ben'!$A$10:$G$109,3,FALSE)),\" \")","v":" "},{"$f":"IF(B105>0,(VLOOKUP($B105,'Engag Ben'!$A$10:$G$109,4,FALSE)),\" \")","v":" "},{"$f":"IF(B105>0,(VLOOKUP($B105,'Engag Ben'!$A$10:$G$109,5,FALSE)),\" \")","v":" "},{"$f":"IF(B105>0,(VLOOKUP($B105,'Engag Ben'!$A$10:$G$109,6,FALSE)),\" \")","v":" "},null,null," ",{"$f":"IF(COUNTIF($G$10:$G105,G105)<2,$G105,\" \")","v":" "},96,{"$f":"IF(COUNTIF($G$10:$G105,G105)<3,$G105,\" \")","v":" "},96,"",1000]
[97,null,{"$f":"IF(A106>0,(VLOOKUP($A106,'Engag Pre'!$A$10:$G$74,3,FALSE)),\" \")","v":{"$error":"#N/A"}},{"$f":"IF(B106>0,(VLOOKUP($B106,'Engag Ben'!$A$10:$G$109,7,FALSE)),\" \")","v":" "},{"$f":"IF(B106>0,(VLOOKUP($B106,'Engag Ben'!$A$10:$G$109,3,FALSE)),\" \")","v":" "},{"$f":"IF(B106>0,(VLOOKUP($B106,'Engag Ben'!$A$10:$G$109,4,FALSE)),\" \")","v":" "},{"$f":"IF(B106>0,(VLOOKUP($B106,'Engag Ben'!$A$10:$G$109,5,FALSE)),\" \")","v":" "},{"$f":"IF(B106>0,(VLOOKUP($B106,'Engag Ben'!$A$10:$G$109,6,FALSE)),\" \")","v":" "},null,null," ",{"$f":"IF(COUNTIF($G$10:$G106,G106)<2,$G106,\" \")","v":" "},97,{"$f":"IF(COUNTIF($G$10:$G106,G106)<3,$G106,\" \")","v":" "},97,"",1000]
[98,null,{"$f":"IF(A107>0,(VLOOKUP($A107,'Engag Pre'!$A$10:$G$74,3,FALSE)),\" \")","v":{"$error":"#N/A"}},{"$f":"IF(B107>0,(VLOOKUP($B107,'Engag Ben'!$A$10:$G$109,7,FALSE)),\" \")","v":" "},{"$f":"IF(B107>0,(VLOOKUP($B107,'Engag Ben'!$A$10:$G$109,3,FALSE)),\" \")","v":" "},{"$f":"IF(B107>0,(VLOOKUP($B107,'Engag Ben'!$A$10:$G$109,4,FALSE)),\" \")","v":" "},{"$f":"IF(B107>0,(VLOOKUP($B107,'Engag Ben'!$A$10:$G$109,5,FALSE)),\" \")","v":" "},{"$f":"IF(B107>0,(VLOOKUP($B107,'Engag Ben'!$A$10:$G$109,6,FALSE)),\" \")","v":" "},null,null," ",{"$f":"IF(COUNTIF($G$10:$G107,G107)<2,$G107,\" \")","v":" "},98,{"$f":"IF(COUNTIF($G$10:$G107,G107)<3,$G107,\" \")","v":" "},98,"",1000]
[99,null,{"$f":"IF(A108>0,(VLOOKUP($A108,'Engag Pre'!$A$10:$G$74,3,FALSE)),\" \")","v":{"$error":"#N/A"}},{"$f":"IF(B108>0,(VLOOKUP($B108,'Engag Ben'!$A$10:$G$109,7,FALSE)),\" \")","v":" "},{"$f":"IF(B108>0,(VLOOKUP($B108,'Engag Ben'!$A$10:$G$109,3,FALSE)),\" \")","v":" "},{"$f":"IF(B108>0,(VLOOKUP($B108,'Engag Ben'!$A$10:$G$109,4,FALSE)),\" \")","v":" "},{"$f":"IF(B108>0,(VLOOKUP($B108,'Engag Ben'!$A$10:$G$109,5,FALSE)),\" \")","v":" "},{"$f":"IF(B108>0,(VLOOKUP($B108,'Engag Ben'!$A$10:$G$109,6,FALSE)),\" \")","v":" "},null,null," ",{"$f":"IF(COUNTIF($G$10:$G108,G108)<2,$G108,\" \")","v":" "},99,{"$f":"IF(COUNTIF($G$10:$G108,G108)<3,$G108,\" \")","v":" "},99,"",1000]
[100,null,{"$f":"IF(A109>0,(VLOOKUP($A109,'Engag Pre'!$A$10:$G$74,3,FALSE)),\" \")","v":{"$error":"#N/A"}},{"$f":"IF(B109>0,(VLOOKUP($B109,'Engag Ben'!$A$10:$G$109,7,FALSE)),\" \")","v":" "},{"$f":"IF(B109>0,(VLOOKUP($B109,'Engag Ben'!$A$10:$G$109,3,FALSE)),\" \")","v":" "},{"$f":"IF(B109>0,(VLOOKUP($B109,'Engag Ben'!$A$10:$G$109,4,FALSE)),\" \")","v":" "},{"$f":"IF(B109>0,(VLOOKUP($B109,'Engag Ben'!$A$10:$G$109,5,FALSE)),\" \")","v":" "},{"$f":"IF(B109>0,(VLOOKUP($B109,'Engag Ben'!$A$10:$G$109,6,FALSE)),\" \")","v":" "},null,null," ",{"$f":"IF(COUNTIF($G$10:$G109,G109)<2,$G109,\" \")","v":" "},100,{"$f":"IF(COUNTIF($G$10:$G109,G109)<3,$G109,\" \")","v":" "},100,"",1000]
["CLASSEMENT BENJAMINS 2"]
["Rang","Doss","Code UCI","Licence","Nom","Prénom","Club","Catégorie","Temps","Ecart"]
[1,63,{"$f":"IF(A112>0,(VLOOKUP($A112,'Engag Pre'!$A$10:$G$74,3,FALSE)),\" \")","v":{"$error":"#N/A"}},{"$f":"IF(B112>0,(VLOOKUP($B112,'Engag Ben'!$A$10:$G$109,7,FALSE)),\" \")","v":"1295732074"},{"$f":"IF(B112>0,(VLOOKUP($B112,'Engag Ben'!$A$10:$G$109,3,FALSE)),\" \")","v":"ORDON"},{"$f":"IF(B112>0,(VLOOKUP($B112,'Engag Ben'!$A$10:$G$109,4,FALSE)),\" \")","v":"Nahil"},{"$f":"IF(B112>0,(VLOOKUP($B112,'Engag Ben'!$A$10:$G$109,5,FALSE)),\" \")","v":"EC GOUSSAINVILLE PUISEUX"},{"$f":"IF(B112>0,(VLOOKUP($B112,'Engag Ben'!$A$10:$G$109,6,FALSE)),\" \")","v":"Benjamin 2"},null,null,{"$f":"IF(COUNTIF($B$10:$B$109,B112)>1,\"Déjà classé\",\" \")","v":" "},{"$f":"IF(COUNTIF($G$10:$G112,G112)<2,$G112,\" \")","v":" "},{"$f":"IF($G$6<5,1000,(IF(L112=G112,A112,\"\")))","v":""},{"$f":"IF(COUNTIF($G$10:$G112,G112)<3,$G112,\" \")","v":"EC GOUSSAINVILLE PUISEUX"},{"$f":"IF(N112=$G112,$A112,\"\")","v":1},{"$f":"IF(N112=L112,\"\",N112)","v":"EC GOUSSAINVILLE PUISEUX"},{"$f":"IF($G$6<5,1000,(IF(P112=$G112,$A112,1000)))","v":1}]
[2,42,{"$f":"IF(A113>0,(VLOOKUP($A113,'Engag Pre'!$A$10:$G$74,3,FALSE)),\" \")","v":{"$error":"#N/A"}},{"$f":"IF(B113>0,(VLOOKUP($B113,'Engag Ben'!$A$10:$G$109,7,FALSE)),\" \")","v":"1277104021"},{"$f":"IF(B113>0,(VLOOKUP($B113,'Engag Ben'!$A$10:$G$109,3,FALSE)),\" \")","v":"JACQ"},{"$f":"IF(B113>0,(VLOOKUP($B113,'Engag Ben'!$A$10:$G$109,4,FALSE)),\" \")","v":"Ghislain"},{"$f":"IF(B113>0,(VLOOKUP($B113,'Engag Ben'!$A$10:$G$109,5,FALSE)),\" \")","v":"PEDALE COMBS LA VILLAISE"},{"$f":"IF(B113>0,(VLOOKUP($B113,'Engag Ben'!$A$10:$G$109,6,FALSE)),\" \")","v":"Benjamin 2"},null,null,{"$f":"IF(COUNTIF($B$10:$B$109,B113)>1,\"Déjà classé\",\" \")","v":" "},{"$f":"IF(COUNTIF($G$10:$G113,G113)<2,$G113,\" \")","v":"PEDALE COMBS LA VILLAISE"},{"$f":"IF($G$6<5,1000,(IF(L113=G113,A113,\"\")))","v":2},{"$f":"IF(COUNTIF($G$10:$G113,G113)<3,$G113,\" \")","v":"PEDALE COMBS LA VILLAISE"},{"$f":"IF(N113=$G113,$A113,\"\")","v":2},{"$f":"IF(N113=L113,\"\",N113)","v":""},{"$f":"IF($G$6<5,1000,(IF(P113=$G113,$A113,1000)))","v":1000}]
[3,67,{"$f":"IF(A114>0,(VLOOKUP($A114,'Engag Pre'!$A$10:$G$74,3,FALSE)),\" \")","v":{"$error":"#N/A"}},{"$f":"IF(B114>0,(VLOOKUP($B114,'Engag Ben'!$A$10:$G$109,7,FALSE)),\" \")","v":"1980080031"},{"$f":"IF(B114>0,(VLOOKUP($B114,'Engag Ben'!$A$10:$G$109,3,FALSE)),\" \")","v":"RIFFLET"},{"$f":"IF(B114>0,(VLOOKUP($B114,'Engag Ben'!$A$10:$G$109,4,FALSE)),\" \")","v":"Théo"},{"$f":"IF(B114>0,(VLOOKUP($B114,'Engag Ben'!$A$10:$G$109,5,FALSE)),\" \")","v":"AC AILLY SUR SOMME"},{"$f":"IF(B114>0,(VLOOKUP($B114,'Engag Ben'!$A$10:$G$109,6,FALSE)),\" \")","v":"Benjamin 2"},null,null," ",{"$f":"IF(COUNTIF($G$10:$G114,G114)<2,$G114,\" \")","v":"AC AILLY SUR SOMME"},3,{"$f":"IF(COUNTIF($G$10:$G114,G114)<3,$G114,\" \")","v":"AC AILLY SUR SOMME"},3,"",1000]
[4,60,{"$f":"IF(A115>0,(VLOOKUP($A115,'Engag Pre'!$A$10:$G$74,3,FALSE)),\" \")","v":{"$error":"#N/A"}},{"$f":"IF(B115>0,(VLOOKUP($B115,'Engag Ben'!$A$10:$G$109,7,FALSE)),\" \")","v":"1295708453"},{"$f":"IF(B115>0,(VLOOKUP($B115,'Engag Ben'!$A$10:$G$109,3,FALSE)),\" \")","v":"GESNOUIN"},{"$f":"IF(B115>0,(VLOOKUP($B115,'Engag Ben'!$A$10:$G$109,4,FALSE)),\" \")","v":"Killian"},{"$f":"IF(B115>0,(VLOOKUP($B115,'Engag Ben'!$A$10:$G$109,5,FALSE)),\" \")","v":"ARGENTEUIL VAL DE SEINE 95"},{"$f":"IF(B115>0,(VLOOKUP($B115,'Engag Ben'!$A$10:$G$109,6,FALSE)),\" \")","v":"Benjamin 2"},null,null," ",{"$f":"IF(COUNTIF($G$10:$G115,G115)<2,$G115,\" \")","v":" "},"",{"$f":"IF(COUNTIF($G$10:$G115,G115)<3,$G115,\" \")","v":"ARGENTEUIL VAL DE SEINE 95"},4,"ARGENTEUIL VAL DE SEINE 95",4]
[5,65,{"$f":"IF(A116>0,(VLOOKUP($A116,'Engag Pre'!$A$10:$G$74,3,FALSE)),\" \")","v":{"$error":"#N/A"}},{"$f":"IF(B116>0,(VLOOKUP($B116,'Engag Ben'!$A$10:$G$109,7,FALSE)),\" \")","v":"1293525027"},{"$f":"IF(B116>0,(VLOOKUP($B116,'Engag Ben'!$A$10:$G$109,3,FALSE)),\" \")","v":"LABICHE"},{"$f":"IF(B116>0,(VLOOKUP($B116,'Engag Ben'!$A$10:$G$109,4,FALSE)),\" \")","v":"Loan"},{"$f":"IF(B116>0,(VLOOKUP($B116,'Engag Ben'!$A$10:$G$109,5,FALSE)),\" \")","v":"UC PIERREFITTOISE"},{"$f":"IF(B116>0,(VLOOKUP($B116,'Engag Ben'!$A$10:$G$109,6,FALSE)),\" \")","v":"Benjamin 2"},null,null," ",{"$f":"IF(COUNTIF($G$10:$G116,G116)<2,$G116,\" \")","v":"UC PIERREFITTOISE"},5,{"$f":"IF(COUNTIF($G$10:$G116,G116)<3,$G116,\" \")","v":"UC PIERREFITTOISE"},5,"",1000]
[6,48,{"$f":"IF(A117>0,(VLOOKUP($A117,'Engag Pre'!$A$10:$G$74,3,FALSE)),\" \")","v":{"$error":"#N/A"}},{"$f":"IF(B117>0,(VLOOKUP($B117,'Engag Ben'!$A$10:$G$109,7,FALSE)),\" \")","v":"1293527106"},{"$f":"IF(B117>0,(VLOOKUP($B117,'Engag Ben'!$A$10:$G$109,3,FALSE)),\" \")","v":"PRIGENT"},{"$f":"IF(B117>0,(VLOOKUP($B117,'Engag Ben'!$A$10:$G$109,4,FALSE)),\" \")","v":"Killian"},{"$f":"IF(B117>0,(VLOOKUP($B117,'Engag Ben'!$A$10:$G$109,5,FALSE)),\" \")","v":"VC CLICHY SOUS BOIS"},{"$f":"IF(B117>0,(VLOOKUP($B117,'Engag Ben'!$A$10:$G$109,6,FALSE)),\" \")","v":"Benjamin 2"},null,null," ",{"$f":"IF(COUNTIF($G$10:$G117,G117)<2,$G117,\" \")","v":"VC CLICHY SOUS BOIS"},6,{"$f":"IF(COUNTIF($G$10:$G117,G117)<3,$G117,\" \")","v":"VC CLICHY SOUS BOIS"},6,"",1000]
[7,47,{"$f":"IF(A118>0,(VLOOKUP($A118,'Engag Pre'!$A$10:$G$74,3,FALSE)),\" \")","v":{"$error":"#N/A"}},{"$f":"IF(B118>0,(VLOOKUP($B118,'Engag Ben'!$A$10:$G$109,7,FALSE)),\" \")","v":"1293527041"},{"$f":"IF(B118>0,(VLOOKUP($B118,'Engag Ben'!$A$10:$G$109,3,FALSE)),\" \")","v":"LEMAITRE"},{"$f":"IF(B118>0,(VLOOKUP($B118,'Engag Ben'!$A$10:$G$109,4,FALSE)),\" \")","v":"Léo"},{"$f":"IF(B118>0,(VLOOKUP($B118,'Engag Ben'!$A$10:$G$109,5,FALSE)),\" \")","v":"VC CLICHY SOUS BOIS"},{"$f":"IF(B118>0,(VLOOKUP($B118,'Engag Ben'!$A$10:$G$109,6,FALSE)),\" \")","v":"Benjamin 2"},null,null," ",{"$f":"IF(COUNTIF($G$10:$G118,G118)<2,$G118,\" \")","v":" "},"",{"$f":"IF(COUNTIF($G$10:$G118,G118)<3,$G118,\" \")","v":"VC CLICHY SOUS BOIS"},7,"VC CLICHY SOUS BOIS",7]
[8,58,{"$f":"IF(A119>0,(VLOOKUP($A119,'Engag Pre'!$A$10:$G$74,3,FALSE)),\" \")","v":{"$error":"#N/A"}},{"$f":"IF(B119>0,(VLOOKUP($B119,'Engag Ben'!$A$10:$G$109,7,FALSE)),\" \")","v":"1294616027"},{"$f":"IF(B119>0,(VLOOKUP($B119,'Engag Ben'!$A$10:$G$109,3,FALSE)),\" \")","v":"RODRIGUES"},{"$f":"IF(B119>0,(VLOOKUP($B119,'Engag Ben'!$A$10:$G$109,4,FALSE)),\" \")","v":"Tom"},{"$f":"IF(B119>0,(VLOOKUP($B119,'Engag Ben'!$A$10:$G$109,5,FALSE)),\" \")","v":"UC BORDS DE MARNE"},{"$f":"IF(B119>0,(VLOOKUP($B119,'Engag Ben'!$A$10:$G$109,6,FALSE)),\" \")","v":"Benjamin 2"},null,null," ",{"$f":"IF(COUNTIF($G$10:$G119,G119)<2,$G119,\" \")","v":" "},"",{"$f":"IF(COUNTIF($G$10:$G119,G119)<3,$G119,\" \")","v":"UC BORDS DE MARNE"},8,"UC BORDS DE MARNE",8]
[9,45,{"$f":"IF(A120>0,(VLOOKUP($A120,'Engag Pre'!$A$10:$G$74,3,FALSE)),\" \")","v":{"$error":"#N/A"}},{"$f":"IF(B120>0,(VLOOKUP($B120,'Engag Ben'!$A$10:$G$109,7,FALSE)),\" \")","v":"1277104163"},{"$f":"IF(B120>0,(VLOOKUP($B120,'Engag Ben'!$A$10:$G$109,3,FALSE)),\" \")","v":"MOREIRA"},{"$f":"IF(B120>0,(VLOOKUP($B120,'Engag Ben'!$A$10:$G$109,4,FALSE)),\" \")","v":"Théo"},{"$f":"IF(B120>0,(VLOOKUP($B120,'Engag Ben'!$A$10:$G$109,5,FALSE)),\" \")","v":"PEDALE COMBS LA VILLAISE"},{"$f":"IF(B120>0,(VLOOKUP($B120,'Engag Ben'!$A$10:$G$109,6,FALSE)),\" \")","v":"Benjamin 2"},null,null," ",{"$f":"IF(COUNTIF($G$10:$G120,G120)<2,$G120,\" \")","v":" "},"",{"$f":"IF(COUNTIF($G$10:$G120,G120)<3,$G120,\" \")","v":"PEDALE COMBS LA VILLAISE"},9,"PEDALE COMBS LA VILLAISE",9]
[10,55,{"$f":"IF(A121>0,(VLOOKUP($A121,'Engag Pre'!$A$10:$G$74,3,FALSE)),\" \")","v":{"$error":"#N/A"}},{"$f":"IF(B121>0,(VLOOKUP($B121,'Engag Ben'!$A$10:$G$109,7,FALSE)),\" \")","v":"1275016025"},{"$f":"IF(B121>0,(VLOOKUP($B121,'Engag Ben'!$A$10:$G$109,3,FALSE)),\" \")","v":"DELABRE"},{"$f":"IF(B121>0,(VLOOKUP($B121,'Engag Ben'!$A$10:$G$109,4,FALSE)),\" \")","v":"Axel"},{"$f":"IF(B121>0,(VLOOKUP($B121,'Engag Ben'!$A$10:$G$109,5,FALSE)),\" \")","v":"PARIS CYCLISTE OLYMPIQUE"},{"$f":"IF(B121>0,(VLOOKUP($B121,'Engag Ben'!$A$10:$G$109,6,FALSE)),\" \")","v":"Benjamin 2"},null,null," ",{"$f":"IF(COUNTIF($G$10:$G121,G121)<2,$G121,\" \")","v":"PARIS CYCLISTE OLYMPIQUE"},10,{"$f":"IF(COUNTIF($G$10:$G121,G121)<3,$G121,\" \")","v":"PARIS CYCLISTE OLYMPIQUE"},10,"",1000]
[11,39,{"$f":"IF(A122>0,(VLOOKUP($A122,'Engag Pre'!$A$10:$G$74,3,FALSE)),\" \")","v":{"$error":"#N/A"}},{"$f":"IF(B122>0,(VLOOKUP($B122,'Engag Ben'!$A$10:$G$109,7,FALSE)),\" \")","v":"1293515073"},{"$f":"IF(B122>0,(VLOOKUP($B122,'Engag Ben'!$A$10:$G$109,3,FALSE)),\" \")","v":"KANDISSOUNON"},{"$f":"IF(B122>0,(VLOOKUP($B122,'Engag Ben'!$A$10:$G$109,4,FALSE)),\" \")","v":"Arthur"},{"$f":"IF(B122>0,(VLOOKUP($B122,'Engag Ben'!$A$10:$G$109,5,FALSE)),\" \")","v":"EC AULNAY"},{"$f":"IF(B122>0,(VLOOKUP($B122,'Engag Ben'!$A$10:$G$109,6,FALSE)),\" \")","v":"Benjamin 2"},null,null," ",{"$f":"IF(COUNTIF($G$10:$G122,G122)<2,$G122,\" \")","v":" "},"",{"$f":"IF(COUNTIF($G$10:$G122,G122)<3,$G122,\" \")","v":" "},"","",1000]
[12,50,{"$f":"IF(A123>0,(VLOOKUP($A123,'Engag Pre'!$A$10:$G$74,3,FALSE)),\" \")","v":{"$error":"#N/A"}},{"$f":"IF(B123>0,(VLOOKUP($B123,'Engag Ben'!$A$10:$G$109,7,FALSE)),\" \")","v":"1293533179"},{"$f":"IF(B123>0,(VLOOKUP($B123,'Engag Ben'!$A$10:$G$109,3,FALSE)),\" \")","v":"LE POUL"},{"$f":"IF(B123>0,(VLOOKUP($B123,'Engag Ben'!$A$10:$G$109,4,FALSE)),\" \")","v":"Erwan"},{"$f":"IF(B123>0,(VLOOKUP($B123,'Engag Ben'!$A$10:$G$109,5,FALSE)),\" \")","v":"ES STAINS"},{"$f":"IF(B123>0,(VLOOKUP($B123,'Engag Ben'!$A$10:$G$109,6,FALSE)),\" \")","v":"Benjamin 2"},null,null," ",{"$f":"IF(COUNTIF($G$10:$G123,G123)<2,$G123,\" \")","v":" "},"",{"$f":"IF(COUNTIF($G$10:$G123,G123)<3,$G123,\" \")","v":"ES STAINS"},12,"ES STAINS",12]
[13,64,{"$f":"IF(A124>0,(VLOOKUP($A124,'Engag Pre'!$A$10:$G$74,3,FALSE)),\" \")","v":{"$error":"#N/A"}},{"$f":"IF(B124>0,(VLOOKUP($B124,'Engag Ben'!$A$10:$G$109,7,FALSE)),\" \")","v":"1295732076"},{"$f":"IF(B124>0,(VLOOKUP($B124,'Engag Ben'!$A$10:$G$109,3,FALSE)),\" \")","v":"ORDON"},{"$f":"IF(B124>0,(VLOOKUP($B124,'Engag Ben'!$A$10:$G$109,4,FALSE)),\" \")","v":"Yanis"},{"$f":"IF(B124>0,(VLOOKUP($B124,'Engag Ben'!$A$10:$G$109,5,FALSE)),\" \")","v":"EC GOUSSAINVILLE PUISEUX"},{"$f":"IF(B124>0,(VLOOKUP($B124,'Engag Ben'!$A$10:$G$109,6,FALSE)),\" \")","v":"Benjamin 2"},null,null," ",{"$f":"IF(COUNTIF($G$10:$G124,G124)<2,$G124,\" \")","v":" "},"",{"$f":"IF(COUNTIF($G$10:$G124,G124)<3,$G124,\" \")","v":" "},"","",1000]
[14,57,{"$f":"IF(A125>0,(VLOOKUP($A125,'Engag Pre'!$A$10:$G$74,3,FALSE)),\" \")","v":{"$error":"#N/A"}},{"$f":"IF(B125>0,(VLOOKUP($B125,'Engag Ben'!$A$10:$G$109,7,FALSE)),\" \")","v":"1291307181"},{"$f":"IF(B125>0,(VLOOKUP($B125,'Engag Ben'!$A$10:$G$109,3,FALSE)),\" \")","v":"FARDEAU"},{"$f":"IF(B125>0,(VLOOKUP($B125,'Engag Ben'!$A$10:$G$109,4,FALSE)),\" \")","v":"Robin"},{"$f":"IF(B125>0,(VLOOKUP($B125,'Engag Ben'!$A$10:$G$109,5,FALSE)),\" \")","v":"EC MONTGERON VIGNEUX"},{"$f":"IF(B125>0,(VLOOKUP($B125,'Engag Ben'!$A$10:$G$109,6,FALSE)),\" \")","v":"Benjamin 2"},null,null," ",{"$f":"IF(COUNTIF($G$10:$G125,G125)<2,$G125,\" \")","v":"EC MONTGERON VIGNEUX"},14,{"$f":"IF(COUNTIF($G$10:$G125,G125)<3,$G125,\" \")","v":"EC MONTGERON VIGNEUX"},14,"",1000]
[15,38,{"$f":"IF(A126>0,(VLOOKUP($A126,'Engag Pre'!$A$10:$G$74,3,FALSE)),\" \")","v":{"$error":"#N/A"}},{"$f":"IF(B126>0,(VLOOKUP($B126,'Engag Ben'!$A$10:$G$109,7,FALSE)),\" \")","v":"1293515003"},{"$f":"IF(B126>0,(VLOOKUP($B126,'Engag Ben'!$A$10:$G$109,3,FALSE)),\" \")","v":"CORBEL"},{"$f":"IF(B126>0,(VLOOKUP($B126,'Engag Ben'!$A$10:$G$109,4,FALSE)),\" \")","v":"Paul"},{"$f":"IF(B126>0,(VLOOKUP($B126,'Engag Ben'!$A$10:$G$109,5,FALSE)),\" \")","v":"EC AULNAY"},{"$f":"IF(B126>0,(VLOOKUP($B126,'Engag Ben'!$A$10:$G$109,6,FALSE)),\" \")","v":"Benjamin 2"},null,null," ",{"$f":"IF(COUNTIF($G$10:$G126,G126)<2,$G126,\" \")","v":" "},"",{"$f":"IF(COUNTIF($G$10:$G126,G126)<3,$G126,\" \")","v":" "},"","",1000]
[16,46,{"$f":"IF(A127>0,(VLOOKUP($A127,'Engag Pre'!$A$10:$G$74,3,FALSE)),\" \")","v":{"$error":"#N/A"}},{"$f":"IF(B127>0,(VLOOKUP($B127,'Engag Ben'!$A$10:$G$109,7,FALSE)),\" \")","v":"1293527020"},{"$f":"IF(B127>0,(VLOOKUP($B127,'Engag Ben'!$A$10:$G$109,3,FALSE)),\" \")","v":"BREBANT"},{"$f":"IF(B127>0,(VLOOKUP($B127,'Engag Ben'!$A$10:$G$109,4,FALSE)),\" \")","v":"Anaïs"},{"$f":"IF(B127>0,(VLOOKUP($B127,'Engag Ben'!$A$10:$G$109,5,FALSE)),\" \")","v":"VC CLICHY SOUS BOIS"},{"$f":"IF(B127>0,(VLOOKUP($B127,'Engag Ben'!$A$10:$G$109,6,FALSE)),\" \")","v":"Benjamin 2"},null,null," ",{"$f":"IF(COUNTIF($G$10:$G127,G127)<2,$G127,\" \")","v":" "},"",{"$f":"IF(COUNTIF($G$10:$G127,G127)<3,$G127,\" \")","v":" "},"","",1000]
[17,53,{"$f":"IF(A128>0,(VLOOKUP($A128,'Engag Pre'!$A$10:$G$74,3,FALSE)),\" \")","v":{"$error":"#N/A"}},{"$f":"IF(B128>0,(VLOOKUP($B128,'Engag Ben'!$A$10:$G$109,7,FALSE)),\" \")","v":"1292401241"},{"$f":"IF(B128>0,(VLOOKUP($B128,'Engag Ben'!$A$10:$G$109,3,FALSE)),\" \")","v":"DINELLI"},{"$f":"IF(B128>0,(VLOOKUP($B128,'Engag Ben'!$A$10:$G$109,4,FALSE)),\" \")","v":"Hugo"},{"$f":"IF(B128>0,(VLOOKUP($B128,'Engag Ben'!$A$10:$G$109,5,FALSE)),\" \")","v":"CSM PUTEAUX"},{"$f":"IF(B128>0,(VLOOKUP($B128,'Engag Ben'!$A$10:$G$109,6,FALSE)),\" \")","v":"Benjamin 2"},null,null," ",{"$f":"IF(COUNTIF($G$10:$G128,G128)<2,$G128,\" \")","v":" "},"",{"$f":"IF(COUNTIF($G$10:$G128,G128)<3,$G128,\" \")","v":" "},"","",1000]
[18,44,{"$f":"IF(A129>0,(VLOOKUP($A129,'Engag Pre'!$A$10:$G$74,3,FALSE)),\" \")","v":{"$error":"#N/A"}},{"$f":"IF(B129>0,(VLOOKUP($B129,'Engag Ben'!$A$10:$G$109,7,FALSE)),\" \")","v":"1277104180"},{"$f":"IF(B129>0,(VLOOKUP($B129,'Engag Ben'!$A$10:$G$109,3,FALSE)),\" \")","v":"MEZIERES"},{"$f":"IF(B129>0,(VLOOKUP($B129,'Engag Ben'!$A$10:$G$109,4,FALSE)),\" \")","v":"Hugo"},{"$f":"IF(B129>0,(VLOOKUP($B129,'Engag Ben'!$A$10:$G$109,5,FALSE)),\" \")","v":"PEDALE COMBS LA VILLAISE"},{"$f":"IF(B129>0,(VLOOKUP($B129,'Engag Ben'!$A$10:$G$109,6,FALSE)),\" \")","v":"Benjamin 2"},null,null," ",{"$f":"IF(COUNTIF($G$10:$G129,G129)<2,$G129,\" \")","v":" "},"",{"$f":"IF(COUNTIF($G$10:$G129,G129)<3,$G129,\" \")","v":" "},"","",1000]
[19,66,{"$f":"IF(A130>0,(VLOOKUP($A130,'Engag Pre'!$A$10:$G$74,3,FALSE)),\" \")","v":{"$error":"#N/A"}},{"$f":"IF(B130>0,(VLOOKUP($B130,'Engag Ben'!$A$10:$G$109,7,FALSE)),\" \")","v":"1293525013"},{"$f":"IF(B130>0,(VLOOKUP($B130,'Engag Ben'!$A$10:$G$109,3,FALSE)),\" \")","v":"MONTFORT"},{"$f":"IF(B130>0,(VLOOKUP($B130,'Engag Ben'!$A$10:$G$109,4,FALSE)),\" \")","v":"Dorian"},{"$f":"IF(B130>0,(VLOOKUP($B130,'Engag Ben'!$A$10:$G$109,5,FALSE)),\" \")","v":"UC PIERREFITTOISE"},{"$f":"IF(B130>0,(VLOOKUP($B130,'Engag Ben'!$A$10:$G$109,6,FALSE)),\" \")","v":"Benjamin 2"},null,null," ",{"$f":"IF(COUNTIF($G$10:$G130,G130)<2,$G130,\" \")","v":" "},"",{"$f":"IF(COUNTIF($G$10:$G130,G130)<3,$G130,\" \")","v":"UC PIERREFITTOISE"},19,"UC PIERREFITTOISE",19]
[20,54,{"$f":"IF(A131>0,(VLOOKUP($A131,'Engag Pre'!$A$10:$G$74,3,FALSE)),\" \")","v":{"$error":"#N/A"}},{"$f":"IF(B131>0,(VLOOKUP($B131,'Engag Ben'!$A$10:$G$109,7,FALSE)),\" \")","v":"1275016123"},{"$f":"IF(B131>0,(VLOOKUP($B131,'Engag Ben'!$A$10:$G$109,3,FALSE)),\" \")","v":"COLSY"},{"$f":"IF(B131>0,(VLOOKUP($B131,'Engag Ben'!$A$10:$G$109,4,FALSE)),\" \")","v":"Noé"},{"$f":"IF(B131>0,(VLOOKUP($B131,'Engag Ben'!$A$10:$G$109,5,FALSE)),\" \")","v":"PARIS CYCLISTE OLYMPIQUE"},{"$f":"IF(B131>0,(VLOOKUP($B131,'Engag Ben'!$A$10:$G$109,6,FALSE)),\" \")","v":"Benjamin 2"},null,null," ",{"$f":"IF(COUNTIF($G$10:$G131,G131)<2,$G131,\" \")","v":" "},"",{"$f":"IF(COUNTIF($G$10:$G131,G131)<3,$G131,\" \")","v":"PARIS CYCLISTE OLYMPIQUE"},20,"PARIS CYCLISTE OLYMPIQUE",20]
[21,62,{"$f":"IF(A132>0,(VLOOKUP($A132,'Engag Pre'!$A$10:$G$74,3,FALSE)),\" \")","v":{"$error":"#N/A"}},{"$f":"IF(B132>0,(VLOOKUP($B132,'Engag Ben'!$A$10:$G$109,7,FALSE)),\" \")","v":"1292402095"},{"$f":"IF(B132>0,(VLOOKUP($B132,'Engag Ben'!$A$10:$G$109,3,FALSE)),\" \")","v":"DELAMARRE"},{"$f":"IF(B132>0,(VLOOKUP($B132,'Engag Ben'!$A$10:$G$109,4,FALSE)),\" \")","v":"Cameron"},{"$f":"IF(B132>0,(VLOOKUP($B132,'Engag Ben'!$A$10:$G$109,5,FALSE)),\" \")","v":"LES BLEUS DE FRANCE"},{"$f":"IF(B132>0,(VLOOKUP($B132,'Engag Ben'!$A$10:$G$109,6,FALSE)),\" \")","v":"Benjamin 2"},null,null," ",{"$f":"IF(COUNTIF($G$10:$G132,G132)<2,$G132,\" \")","v":"LES BLEUS DE FRANCE"},21,{"$f":"IF(COUNTIF($G$10:$G132,G132)<3,$G132,\" \")","v":"LES BLEUS DE FRANCE"},21,"",1000]
[22,49,{"$f":"IF(A133>0,(VLOOKUP($A133,'Engag Pre'!$A$10:$G$74,3,FALSE)),\" \")","v":{"$error":"#N/A"}},{"$f":"IF(B133>0,(VLOOKUP($B133,'Engag Ben'!$A$10:$G$109,7,FALSE)),\" \")","v":"1293513179"},{"$f":"IF(B133>0,(VLOOKUP($B133,'Engag Ben'!$A$10:$G$109,3,FALSE)),\" \")","v":"JACQUIN"},{"$f":"IF(B133>0,(VLOOKUP($B133,'Engag Ben'!$A$10:$G$109,4,FALSE)),\" \")","v":"Anthony"},{"$f":"IF(B133>0,(VLOOKUP($B133,'Engag Ben'!$A$10:$G$109,5,FALSE)),\" \")","v":"USM GAGNY"},{"$f":"IF(B133>0,(VLOOKUP($B133,'Engag Ben'!$A$10:$G$109,6,FALSE)),\" \")","v":"Benjamin 2"},null,null," ",{"$f":"IF(COUNTIF($G$10:$G133,G133)<2,$G133,\" \")","v":" "},"",{"$f":"IF(COUNTIF($G$10:$G133,G133)<3,$G133,\" \")","v":"USM GAGNY"},22,"USM GAGNY",22]
[23,72,{"$f":"IF(A134>0,(VLOOKUP($A134,'Engag Pre'!$A$10:$G$74,3,FALSE)),\" \")","v":{"$error":"#N/A"}},{"$f":"IF(B134>0,(VLOOKUP($B134,'Engag Ben'!$A$10:$G$109,7,FALSE)),\" \")","v":"1293502139"},{"$f":"IF(B134>0,(VLOOKUP($B134,'Engag Ben'!$A$10:$G$109,3,FALSE)),\" \")","v":"FERAUD"},{"$f":"IF(B134>0,(VLOOKUP($B134,'Engag Ben'!$A$10:$G$109,4,FALSE)),\" \")","v":"Adam"},{"$f":"IF(B134>0,(VLOOKUP($B134,'Engag Ben'!$A$10:$G$109,5,FALSE)),\" \")","v":"CSM EPINAY SUR SEINE"},{"$f":"IF(B134>0,(VLOOKUP($B134,'Engag Ben'!$A$10:$G$109,6,FALSE)),\" \")","v":"Benjamin 2"},null,null," ",{"$f":"IF(COUNTIF($G$10:$G134,G134)<2,$G134,\" \")","v":" "},"",{"$f":"IF(COUNTIF($G$10:$G134,G134)<3,$G134,\" \")","v":" "},"","",1000]
[24,61,{"$f":"IF(A135>0,(VLOOKUP($A135,'Engag Pre'!$A$10:$G$74,3,FALSE)),\" \")","v":{"$error":"#N/A"}},{"$f":"IF(B135>0,(VLOOKUP($B135,'Engag Ben'!$A$10:$G$109,7,FALSE)),\" \")","v":"1295708125"},{"$f":"IF(B135>0,(VLOOKUP($B135,'Engag Ben'!$A$10:$G$109,3,FALSE)),\" \")","v":"PICQUOT"},{"$f":"IF(B135>0,(VLOOKUP($B135,'Engag Ben'!$A$10:$G$109,4,FALSE)),\" \")","v":"Alissia"},{"$f":"IF(B135>0,(VLOOKUP($B135,'Engag Ben'!$A$10:$G$109,5,FALSE)),\" \")","v":"ARGENTEUIL VAL DE SEINE 95"},{"$f":"IF(B135>0,(VLOOKUP($B135,'Engag Ben'!$A$10:$G$109,6,FALSE)),\" \")","v":"Benjamin 2"},null,null," ",{"$f":"IF(COUNTIF($G$10:$G135,G135)<2,$G135,\" \")","v":" "},"",{"$f":"IF(COUNTIF($G$10:$G135,G135)<3,$G135,\" \")","v":" "},"","",1000]
[25,43,{"$f":"IF(A136>0,(VLOOKUP($A136,'Engag Pre'!$A$10:$G$74,3,FALSE)),\" \")","v":{"$error":"#N/A"}},{"$f":"IF(B136>0,(VLOOKUP($B136,'Engag Ben'!$A$10:$G$109,7,FALSE)),\" \")","v":"1277104177"},{"$f":"IF(B136>0,(VLOOKUP($B136,'Engag Ben'!$A$10:$G$109,3,FALSE)),\" \")","v":"LEGROS"},{"$f":"IF(B136>0,(VLOOKUP($B136,'Engag Ben'!$A$10:$G$109,4,FALSE)),\" \")","v":"Christopher"},{"$f":"IF(B136>0,(VLOOKUP($B136,'Engag Ben'!$A$10:$G$109,5,FALSE)),\" \")","v":"PEDALE COMBS LA VILLAISE"},{"$f":"IF(B136>0,(VLOOKUP($B136,'Engag Ben'!$A$10:$G$109,6,FALSE)),\" \")","v":"Benjamin 2"},null,null," ",{"$f":"IF(COUNTIF($G$10:$G136,G136)<2,$G136,\" \")","v":" "},"",{"$f":"IF(COUNTIF($G$10:$G136,G136)<3,$G136,\" \")","v":" "},"","",1000]
[26,71,{"$f":"IF(A137>0,(VLOOKUP($A137,'Engag Pre'!$A$10:$G$74,3,FALSE)),\" \")","v":{"$error":"#N/A"}},{"$f":"IF(B137>0,(VLOOKUP($B137,'Engag Ben'!$A$10:$G$109,7,FALSE)),\" \")","v":"1293502038"},{"$f":"IF(B137>0,(VLOOKUP($B137,'Engag Ben'!$A$10:$G$109,3,FALSE)),\" \")","v":"EL MAGROUD"},{"$f":"IF(B137>0,(VLOOKUP($B137,'Engag Ben'!$A$10:$G$109,4,FALSE)),\" \")","v":"Leïla"},{"$f":"IF(B137>0,(VLOOKUP($B137,'Engag Ben'!$A$10:$G$109,5,FALSE)),\" \")","v":"CSM EPINAY SUR SEINE"},{"$f":"IF(B137>0,(VLOOKUP($B137,'Engag Ben'!$A$10:$G$109,6,FALSE)),\" \")","v":"Benjamin 2"},null,null," ",{"$f":"IF(COUNTIF($G$10:$G137,G137)<2,$G137,\" \")","v":" "},"",{"$f":"IF(COUNTIF($G$10:$G137,G137)<3,$G137,\" \")","v":" "},"","",1000]
[27,68,{"$f":"IF(A138>0,(VLOOKUP($A138,'Engag Pre'!$A$10:$G$74,3,FALSE)),\" \")","v":{"$error":"#N/A"}},{"$f":"IF(B138>0,(VLOOKUP($B138,'Engag Ben'!$A$10:$G$109,7,FALSE)),\" \")","v":"1295713113"},{"$f":"IF(B138>0,(VLOOKUP($B138,'Engag Ben'!$A$10:$G$109,3,FALSE)),\" \")","v":"ARZENS"},{"$f":"IF(B138>0,(VLOOKUP($B138,'Engag Ben'!$A$10:$G$109,4,FALSE)),\" \")","v":"Aaron"},{"$f":"IF(B138>0,(VLOOKUP($B138,'Engag Ben'!$A$10:$G$109,5,FALSE)),\" \")","v":"A. SOISY ENGHIEN LA BARRE"},{"$f":"IF(B138>0,(VLOOKUP($B138,'Engag Ben'!$A$10:$G$109,6,FALSE)),\" \")","v":"Benjamin 2"},null,null," ",{"$f":"IF(COUNTIF($G$10:$G138,G138)<2,$G138,\" \")","v":" "},"",{"$f":"IF(COUNTIF($G$10:$G138,G138)<3,$G138,\" \")","v":"A. SOISY ENGHIEN LA BARRE"},27,"A. SOISY ENGHIEN LA BARRE",27]
[28,73,{"$f":"IF(A139>0,(VLOOKUP($A139,'Engag Pre'!$A$10:$G$74,3,FALSE)),\" \")","v":{"$error":"#N/A"}},{"$f":"IF(B139>0,(VLOOKUP($B139,'Engag Ben'!$A$10:$G$109,7,FALSE)),\" \")","v":"1293510105"},{"$f":"IF(B139>0,(VLOOKUP($B139,'Engag Ben'!$A$10:$G$109,3,FALSE)),\" \")","v":"PIRES"},{"$f":"IF(B139>0,(VLOOKUP($B139,'Engag Ben'!$A$10:$G$109,4,FALSE)),\" \")","v":"Alessandro"},{"$f":"IF(B139>0,(VLOOKUP($B139,'Engag Ben'!$A$10:$G$109,5,FALSE)),\" \")","v":"VCA DU BOURGET"},{"$f":"IF(B139>0,(VLOOKUP($B139,'Engag Ben'!$A$10:$G$109,6,FALSE)),\" \")","v":"Benjamin 2"},null,null," ",{"$f":"IF(COUNTIF($G$10:$G139,G139)<2,$G139,\" \")","v":"VCA DU BOURGET"},28,{"$f":"IF(COUNTIF($G$10:$G139,G139)<3,$G139,\" \")","v":"VCA DU BOURGET"},28,"",1000]
[29,null,{"$f":"IF(A140>0,(VLOOKUP($A140,'Engag Pre'!$A$10:$G$74,3,FALSE)),\" \")","v":{"$error":"#N/A"}},{"$f":"IF(B140>0,(VLOOKUP($B140,'Engag Ben'!$A$10:$G$109,7,FALSE)),\" \")","v":" "},{"$f":"IF(B140>0,(VLOOKUP($B140,'Engag Ben'!$A$10:$G$109,3,FALSE)),\" \")","v":" "},{"$f":"IF(B140>0,(VLOOKUP($B140,'Engag Ben'!$A$10:$G$109,4,FALSE)),\" \")","v":" "},{"$f":"IF(B140>0,(VLOOKUP($B140,'Engag Ben'!$A$10:$G$109,5,FALSE)),\" \")","v":" "},{"$f":"IF(B140>0,(VLOOKUP($B140,'Engag Ben'!$A$10:$G$109,6,FALSE)),\" \")","v":" "},null,null," ",{"$f":"IF(COUNTIF($G$10:$G140,G140)<2,$G140,\" \")","v":" "},29,{"$f":"IF(COUNTIF($G$10:$G140,G140)<3,$G140,\" \")","v":" "},29,"",1000]
[30,null,{"$f":"IF(A141>0,(VLOOKUP($A141,'Engag Pre'!$A$10:$G$74,3,FALSE)),\" \")","v":{"$error":"#N/A"}},{"$f":"IF(B141>0,(VLOOKUP($B141,'Engag Ben'!$A$10:$G$109,7,FALSE)),\" \")","v":" "},{"$f":"IF(B141>0,(VLOOKUP($B141,'Engag Ben'!$A$10:$G$109,3,FALSE)),\" \")","v":" "},{"$f":"IF(B141>0,(VLOOKUP($B141,'Engag Ben'!$A$10:$G$109,4,FALSE)),\" \")","v":" "},{"$f":"IF(B141>0,(VLOOKUP($B141,'Engag Ben'!$A$10:$G$109,5,FALSE)),\" \")","v":" "},{"$f":"IF(B141>0,(VLOOKUP($B141,'Engag Ben'!$A$10:$G$109,6,FALSE)),\" \")","v":" "},null,null," ",{"$f":"IF(COUNTIF($G$10:$G141,G141)<2,$G141,\" \")","v":" "},30,{"$f":"IF(COUNTIF($G$10:$G141,G141)<3,$G141,\" \")","v":" "},30,"",1000]
[31,null,{"$f":"IF(A142>0,(VLOOKUP($A142,'Engag Pre'!$A$10:$G$74,3,FALSE)),\" \")","v":{"$error":"#N/A"}},{"$f":"IF(B142>0,(VLOOKUP($B142,'Engag Ben'!$A$10:$G$109,7,FALSE)),\" \")","v":" "},{"$f":"IF(B142>0,(VLOOKUP($B142,'Engag Ben'!$A$10:$G$109,3,FALSE)),\" \")","v":" "},{"$f":"IF(B142>0,(VLOOKUP($B142,'Engag Ben'!$A$10:$G$109,4,FALSE)),\" \")","v":" "},{"$f":"IF(B142>0,(VLOOKUP($B142,'Engag Ben'!$A$10:$G$109,5,FALSE)),\" \")","v":" "},{"$f":"IF(B142>0,(VLOOKUP($B142,'Engag Ben'!$A$10:$G$109,6,FALSE)),\" \")","v":" "},null,null," ",{"$f":"IF(COUNTIF($G$10:$G142,G142)<2,$G142,\" \")","v":" "},31,{"$f":"IF(COUNTIF($G$10:$G142,G142)<3,$G142,\" \")","v":" "},31,"",1000]
[32,null,{"$f":"IF(A143>0,(VLOOKUP($A143,'Engag Pre'!$A$10:$G$74,3,FALSE)),\" \")","v":{"$error":"#N/A"}},{"$f":"IF(B143>0,(VLOOKUP($B143,'Engag Ben'!$A$10:$G$109,7,FALSE)),\" \")","v":" "},{"$f":"IF(B143>0,(VLOOKUP($B143,'Engag Ben'!$A$10:$G$109,3,FALSE)),\" \")","v":" "},{"$f":"IF(B143>0,(VLOOKUP($B143,'Engag Ben'!$A$10:$G$109,4,FALSE)),\" \")","v":" "},{"$f":"IF(B143>0,(VLOOKUP($B143,'Engag Ben'!$A$10:$G$109,5,FALSE)),\" \")","v":" "},{"$f":"IF(B143>0,(VLOOKUP($B143,'Engag Ben'!$A$10:$G$109,6,FALSE)),\" \")","v":" "},null,null," ",{"$f":"IF(COUNTIF($G$10:$G143,G143)<2,$G143,\" \")","v":" "},32,{"$f":"IF(COUNTIF($G$10:$G143,G143)<3,$G143,\" \")","v":" "},32,"",1000]
[33,null,{"$f":"IF(A144>0,(VLOOKUP($A144,'Engag Pre'!$A$10:$G$74,3,FALSE)),\" \")","v":{"$error":"#N/A"}},{"$f":"IF(B144>0,(VLOOKUP($B144,'Engag Ben'!$A$10:$G$109,7,FALSE)),\" \")","v":" "},{"$f":"IF(B144>0,(VLOOKUP($B144,'Engag Ben'!$A$10:$G$109,3,FALSE)),\" \")","v":" "},{"$f":"IF(B144>0,(VLOOKUP($B144,'Engag Ben'!$A$10:$G$109,4,FALSE)),\" \")","v":" "},{"$f":"IF(B144>0,(VLOOKUP($B144,'Engag Ben'!$A$10:$G$109,5,FALSE)),\" \")","v":" "},{"$f":"IF(B144>0,(VLOOKUP($B144,'Engag Ben'!$A$10:$G$109,6,FALSE)),\" \")","v":" "},null,null," ",{"$f":"IF(COUNTIF($G$10:$G144,G144)<2,$G144,\" \")","v":" "},33,{"$f":"IF(COUNTIF($G$10:$G144,G144)<3,$G144,\" \")","v":" "},33,"",1000]
[34,null,{"$f":"IF(A145>0,(VLOOKUP($A145,'Engag Pre'!$A$10:$G$74,3,FALSE)),\" \")","v":{"$error":"#N/A"}},{"$f":"IF(B145>0,(VLOOKUP($B145,'Engag Ben'!$A$10:$G$109,7,FALSE)),\" \")","v":" "},{"$f":"IF(B145>0,(VLOOKUP($B145,'Engag Ben'!$A$10:$G$109,3,FALSE)),\" \")","v":" "},{"$f":"IF(B145>0,(VLOOKUP($B145,'Engag Ben'!$A$10:$G$109,4,FALSE)),\" \")","v":" "},{"$f":"IF(B145>0,(VLOOKUP($B145,'Engag Ben'!$A$10:$G$109,5,FALSE)),\" \")","v":" "},{"$f":"IF(B145>0,(VLOOKUP($B145,'Engag Ben'!$A$10:$G$109,6,FALSE)),\" \")","v":" "},null,null," ",{"$f":"IF(COUNTIF($G$10:$G145,G145)<2,$G145,\" \")","v":" "},34,{"$f":"IF(COUNTIF($G$10:$G145,G145)<3,$G145,\" \")","v":" "},34,"",1000]
[35,null,{"$f":"IF(A146>0,(VLOOKUP($A146,'Engag Pre'!$A$10:$G$74,3,FALSE)),\" \")","v":{"$error":"#N/A"}},{"$f":"IF(B146>0,(VLOOKUP($B146,'Engag Ben'!$A$10:$G$109,7,FALSE)),\" \")","v":" "},{"$f":"IF(B146>0,(VLOOKUP($B146,'Engag Ben'!$A$10:$G$109,3,FALSE)),\" \")","v":" "},{"$f":"IF(B146>0,(VLOOKUP($B146,'Engag Ben'!$A$10:$G$109,4,FALSE)),\" \")","v":" "},{"$f":"IF(B146>0,(VLOOKUP($B146,'Engag Ben'!$A$10:$G$109,5,FALSE)),\" \")","v":" "},{"$f":"IF(B146>0,(VLOOKUP($B146,'Engag Ben'!$A$10:$G$109,6,FALSE)),\" \")","v":" "},null,null," ",{"$f":"IF(COUNTIF($G$10:$G146,G146)<2,$G146,\" \")","v":" "},35,{"$f":"IF(COUNTIF($G$10:$G146,G146)<3,$G146,\" \")","v":" "},35,"",1000]
[36,null,{"$f":"IF(A147>0,(VLOOKUP($A147,'Engag Pre'!$A$10:$G$74,3,FALSE)),\" \")","v":{"$error":"#N/A"}},{"$f":"IF(B147>0,(VLOOKUP($B147,'Engag Ben'!$A$10:$G$109,7,FALSE)),\" \")","v":" "},{"$f":"IF(B147>0,(VLOOKUP($B147,'Engag Ben'!$A$10:$G$109,3,FALSE)),\" \")","v":" "},{"$f":"IF(B147>0,(VLOOKUP($B147,'Engag Ben'!$A$10:$G$109,4,FALSE)),\" \")","v":" "},{"$f":"IF(B147>0,(VLOOKUP($B147,'Engag Ben'!$A$10:$G$109,5,FALSE)),\" \")","v":" "},{"$f":"IF(B147>0,(VLOOKUP($B147,'Engag Ben'!$A$10:$G$109,6,FALSE)),\" \")","v":" "},null,null," ",{"$f":"IF(COUNTIF($G$10:$G147,G147)<2,$G147,\" \")","v":" "},36,{"$f":"IF(COUNTIF($G$10:$G147,G147)<3,$G147,\" \")","v":" "},36,"",1000]
[37,null,{"$f":"IF(A148>0,(VLOOKUP($A148,'Engag Pre'!$A$10:$G$74,3,FALSE)),\" \")","v":{"$error":"#N/A"}},{"$f":"IF(B148>0,(VLOOKUP($B148,'Engag Ben'!$A$10:$G$109,7,FALSE)),\" \")","v":" "},{"$f":"IF(B148>0,(VLOOKUP($B148,'Engag Ben'!$A$10:$G$109,3,FALSE)),\" \")","v":" "},{"$f":"IF(B148>0,(VLOOKUP($B148,'Engag Ben'!$A$10:$G$109,4,FALSE)),\" \")","v":" "},{"$f":"IF(B148>0,(VLOOKUP($B148,'Engag Ben'!$A$10:$G$109,5,FALSE)),\" \")","v":" "},{"$f":"IF(B148>0,(VLOOKUP($B148,'Engag Ben'!$A$10:$G$109,6,FALSE)),\" \")","v":" "},null,null," ",{"$f":"IF(COUNTIF($G$10:$G148,G148)<2,$G148,\" \")","v":" "},37,{"$f":"IF(COUNTIF($G$10:$G148,G148)<3,$G148,\" \")","v":" "},37,"",1000]
[38,null,{"$f":"IF(A149>0,(VLOOKUP($A149,'Engag Pre'!$A$10:$G$74,3,FALSE)),\" \")","v":{"$error":"#N/A"}},{"$f":"IF(B149>0,(VLOOKUP($B149,'Engag Ben'!$A$10:$G$109,7,FALSE)),\" \")","v":" "},{"$f":"IF(B149>0,(VLOOKUP($B149,'Engag Ben'!$A$10:$G$109,3,FALSE)),\" \")","v":" "},{"$f":"IF(B149>0,(VLOOKUP($B149,'Engag Ben'!$A$10:$G$109,4,FALSE)),\" \")","v":" "},{"$f":"IF(B149>0,(VLOOKUP($B149,'Engag Ben'!$A$10:$G$109,5,FALSE)),\" \")","v":" "},{"$f":"IF(B149>0,(VLOOKUP($B149,'Engag Ben'!$A$10:$G$109,6,FALSE)),\" \")","v":" "},null,null," ",{"$f":"IF(COUNTIF($G$10:$G149,G149)<2,$G149,\" \")","v":" "},38,{"$f":"IF(COUNTIF($G$10:$G149,G149)<3,$G149,\" \")","v":" "},38,"",1000]
[39,null,{"$f":"IF(A150>0,(VLOOKUP($A150,'Engag Pre'!$A$10:$G$74,3,FALSE)),\" \")","v":{"$error":"#N/A"}},{"$f":"IF(B150>0,(VLOOKUP($B150,'Engag Ben'!$A$10:$G$109,7,FALSE)),\" \")","v":" "},{"$f":"IF(B150>0,(VLOOKUP($B150,'Engag Ben'!$A$10:$G$109,3,FALSE)),\" \")","v":" "},{"$f":"IF(B150>0,(VLOOKUP($B150,'Engag Ben'!$A$10:$G$109,4,FALSE)),\" \")","v":" "},{"$f":"IF(B150>0,(VLOOKUP($B150,'Engag Ben'!$A$10:$G$109,5,FALSE)),\" \")","v":" "},{"$f":"IF(B150>0,(VLOOKUP($B150,'Engag Ben'!$A$10:$G$109,6,FALSE)),\" \")","v":" "},null,null," ",{"$f":"IF(COUNTIF($G$10:$G150,G150)<2,$G150,\" \")","v":" "},39,{"$f":"IF(COUNTIF($G$10:$G150,G150)<3,$G150,\" \")","v":" "},39,"",1000]
[40,null,{"$f":"IF(A151>0,(VLOOKUP($A151,'Engag Pre'!$A$10:$G$74,3,FALSE)),\" \")","v":{"$error":"#N/A"}},{"$f":"IF(B151>0,(VLOOKUP($B151,'Engag Ben'!$A$10:$G$109,7,FALSE)),\" \")","v":" "},{"$f":"IF(B151>0,(VLOOKUP($B151,'Engag Ben'!$A$10:$G$109,3,FALSE)),\" \")","v":" "},{"$f":"IF(B151>0,(VLOOKUP($B151,'Engag Ben'!$A$10:$G$109,4,FALSE)),\" \")","v":" "},{"$f":"IF(B151>0,(VLOOKUP($B151,'Engag Ben'!$A$10:$G$109,5,FALSE)),\" \")","v":" "},{"$f":"IF(B151>0,(VLOOKUP($B151,'Engag Ben'!$A$10:$G$109,6,FALSE)),\" \")","v":" "},null,null," ",{"$f":"IF(COUNTIF($G$10:$G151,G151)<2,$G151,\" \")","v":" "},40,{"$f":"IF(COUNTIF($G$10:$G151,G151)<3,$G151,\" \")","v":" "},40,"",1000]
[41,null,{"$f":"IF(A152>0,(VLOOKUP($A152,'Engag Pre'!$A$10:$G$74,3,FALSE)),\" \")","v":{"$error":"#N/A"}},{"$f":"IF(B152>0,(VLOOKUP($B152,'Engag Ben'!$A$10:$G$109,7,FALSE)),\" \")","v":" "},{"$f":"IF(B152>0,(VLOOKUP($B152,'Engag Ben'!$A$10:$G$109,3,FALSE)),\" \")","v":" "},{"$f":"IF(B152>0,(VLOOKUP($B152,'Engag Ben'!$A$10:$G$109,4,FALSE)),\" \")","v":" "},{"$f":"IF(B152>0,(VLOOKUP($B152,'Engag Ben'!$A$10:$G$109,5,FALSE)),\" \")","v":" "},{"$f":"IF(B152>0,(VLOOKUP($B152,'Engag Ben'!$A$10:$G$109,6,FALSE)),\" \")","v":" "},null,null," ",{"$f":"IF(COUNTIF($G$10:$G152,G152)<2,$G152,\" \")","v":" "},41,{"$f":"IF(COUNTIF($G$10:$G152,G152)<3,$G152,\" \")","v":" "},41,"",1000]
[42,null,{"$f":"IF(A153>0,(VLOOKUP($A153,'Engag Pre'!$A$10:$G$74,3,FALSE)),\" \")","v":{"$error":"#N/A"}},{"$f":"IF(B153>0,(VLOOKUP($B153,'Engag Ben'!$A$10:$G$109,7,FALSE)),\" \")","v":" "},{"$f":"IF(B153>0,(VLOOKUP($B153,'Engag Ben'!$A$10:$G$109,3,FALSE)),\" \")","v":" "},{"$f":"IF(B153>0,(VLOOKUP($B153,'Engag Ben'!$A$10:$G$109,4,FALSE)),\" \")","v":" "},{"$f":"IF(B153>0,(VLOOKUP($B153,'Engag Ben'!$A$10:$G$109,5,FALSE)),\" \")","v":" "},{"$f":"IF(B153>0,(VLOOKUP($B153,'Engag Ben'!$A$10:$G$109,6,FALSE)),\" \")","v":" "},null,null," ",{"$f":"IF(COUNTIF($G$10:$G153,G153)<2,$G153,\" \")","v":" "},42,{"$f":"IF(COUNTIF($G$10:$G153,G153)<3,$G153,\" \")","v":" "},42,"",1000]
[43,null,{"$f":"IF(A154>0,(VLOOKUP($A154,'Engag Pre'!$A$10:$G$74,3,FALSE)),\" \")","v":{"$error":"#N/A"}},{"$f":"IF(B154>0,(VLOOKUP($B154,'Engag Ben'!$A$10:$G$109,7,FALSE)),\" \")","v":" "},{"$f":"IF(B154>0,(VLOOKUP($B154,'Engag Ben'!$A$10:$G$109,3,FALSE)),\" \")","v":" "},{"$f":"IF(B154>0,(VLOOKUP($B154,'Engag Ben'!$A$10:$G$109,4,FALSE)),\" \")","v":" "},{"$f":"IF(B154>0,(VLOOKUP($B154,'Engag Ben'!$A$10:$G$109,5,FALSE)),\" \")","v":" "},{"$f":"IF(B154>0,(VLOOKUP($B154,'Engag Ben'!$A$10:$G$109,6,FALSE)),\" \")","v":" "},null,null," ",{"$f":"IF(COUNTIF($G$10:$G154,G154)<2,$G154,\" \")","v":" "},43,{"$f":"IF(COUNTIF($G$10:$G154,G154)<3,$G154,\" \")","v":" "},43,"",1000]
[44,null,{"$f":"IF(A155>0,(VLOOKUP($A155,'Engag Pre'!$A$10:$G$74,3,FALSE)),\" \")","v":{"$error":"#N/A"}},{"$f":"IF(B155>0,(VLOOKUP($B155,'Engag Ben'!$A$10:$G$109,7,FALSE)),\" \")","v":" "},{"$f":"IF(B155>0,(VLOOKUP($B155,'Engag Ben'!$A$10:$G$109,3,FALSE)),\" \")","v":" "},{"$f":"IF(B155>0,(VLOOKUP($B155,'Engag Ben'!$A$10:$G$109,4,FALSE)),\" \")","v":" "},{"$f":"IF(B155>0,(VLOOKUP($B155,'Engag Ben'!$A$10:$G$109,5,FALSE)),\" \")","v":" "},{"$f":"IF(B155>0,(VLOOKUP($B155,'Engag Ben'!$A$10:$G$109,6,FALSE)),\" \")","v":" "},null,null," ",{"$f":"IF(COUNTIF($G$10:$G155,G155)<2,$G155,\" \")","v":" "},44,{"$f":"IF(COUNTIF($G$10:$G155,G155)<3,$G155,\" \")","v":" "},44,"",1000]
[45,null,{"$f":"IF(A156>0,(VLOOKUP($A156,'Engag Pre'!$A$10:$G$74,3,FALSE)),\" \")","v":{"$error":"#N/A"}},{"$f":"IF(B156>0,(VLOOKUP($B156,'Engag Ben'!$A$10:$G$109,7,FALSE)),\" \")","v":" "},{"$f":"IF(B156>0,(VLOOKUP($B156,'Engag Ben'!$A$10:$G$109,3,FALSE)),\" \")","v":" "},{"$f":"IF(B156>0,(VLOOKUP($B156,'Engag Ben'!$A$10:$G$109,4,FALSE)),\" \")","v":" "},{"$f":"IF(B156>0,(VLOOKUP($B156,'Engag Ben'!$A$10:$G$109,5,FALSE)),\" \")","v":" "},{"$f":"IF(B156>0,(VLOOKUP($B156,'Engag Ben'!$A$10:$G$109,6,FALSE)),\" \")","v":" "},null,null," ",{"$f":"IF(COUNTIF($G$10:$G156,G156)<2,$G156,\" \")","v":" "},45,{"$f":"IF(COUNTIF($G$10:$G156,G156)<3,$G156,\" \")","v":" "},45,"",1000]
[46,null,{"$f":"IF(A157>0,(VLOOKUP($A157,'Engag Pre'!$A$10:$G$74,3,FALSE)),\" \")","v":{"$error":"#N/A"}},{"$f":"IF(B157>0,(VLOOKUP($B157,'Engag Ben'!$A$10:$G$109,7,FALSE)),\" \")","v":" "},{"$f":"IF(B157>0,(VLOOKUP($B157,'Engag Ben'!$A$10:$G$109,3,FALSE)),\" \")","v":" "},{"$f":"IF(B157>0,(VLOOKUP($B157,'Engag Ben'!$A$10:$G$109,4,FALSE)),\" \")","v":" "},{"$f":"IF(B157>0,(VLOOKUP($B157,'Engag Ben'!$A$10:$G$109,5,FALSE)),\" \")","v":" "},{"$f":"IF(B157>0,(VLOOKUP($B157,'Engag Ben'!$A$10:$G$109,6,FALSE)),\" \")","v":" "},null,null," ",{"$f":"IF(COUNTIF($G$10:$G157,G157)<2,$G157,\" \")","v":" "},46,{"$f":"IF(COUNTIF($G$10:$G157,G157)<3,$G157,\" \")","v":" "},46,"",1000]
[47,null,{"$f":"IF(A158>0,(VLOOKUP($A158,'Engag Pre'!$A$10:$G$74,3,FALSE)),\" \")","v":{"$error":"#N/A"}},{"$f":"IF(B158>0,(VLOOKUP($B158,'Engag Ben'!$A$10:$G$109,7,FALSE)),\" \")","v":" "},{"$f":"IF(B158>0,(VLOOKUP($B158,'Engag Ben'!$A$10:$G$109,3,FALSE)),\" \")","v":" "},{"$f":"IF(B158>0,(VLOOKUP($B158,'Engag Ben'!$A$10:$G$109,4,FALSE)),\" \")","v":" "},{"$f":"IF(B158>0,(VLOOKUP($B158,'Engag Ben'!$A$10:$G$109,5,FALSE)),\" \")","v":" "},{"$f":"IF(B158>0,(VLOOKUP($B158,'Engag Ben'!$A$10:$G$109,6,FALSE)),\" \")","v":" "},null,null," ",{"$f":"IF(COUNTIF($G$10:$G158,G158)<2,$G158,\" \")","v":" "},47,{"$f":"IF(COUNTIF($G$10:$G158,G158)<3,$G158,\" \")","v":" "},47,"",1000]
[48,null,{"$f":"IF(A159>0,(VLOOKUP($A159,'Engag Pre'!$A$10:$G$74,3,FALSE)),\" \")","v":{"$error":"#N/A"}},{"$f":"IF(B159>0,(VLOOKUP($B159,'Engag Ben'!$A$10:$G$109,7,FALSE)),\" \")","v":" "},{"$f":"IF(B159>0,(VLOOKUP($B159,'Engag Ben'!$A$10:$G$109,3,FALSE)),\" \")","v":" "},{"$f":"IF(B159>0,(VLOOKUP($B159,'Engag Ben'!$A$10:$G$109,4,FALSE)),\" \")","v":" "},{"$f":"IF(B159>0,(VLOOKUP($B159,'Engag Ben'!$A$10:$G$109,5,FALSE)),\" \")","v":" "},{"$f":"IF(B159>0,(VLOOKUP($B159,'Engag Ben'!$A$10:$G$109,6,FALSE)),\" \")","v":" "},null,null," ",{"$f":"IF(COUNTIF($G$10:$G159,G159)<2,$G159,\" \")","v":" "},48,{"$f":"IF(COUNTIF($G$10:$G159,G159)<3,$G159,\" \")","v":" "},48,"",1000]
[49,null,{"$f":"IF(A160>0,(VLOOKUP($A160,'Engag Pre'!$A$10:$G$74,3,FALSE)),\" \")","v":{"$error":"#N/A"}},{"$f":"IF(B160>0,(VLOOKUP($B160,'Engag Ben'!$A$10:$G$109,7,FALSE)),\" \")","v":" "},{"$f":"IF(B160>0,(VLOOKUP($B160,'Engag Ben'!$A$10:$G$109,3,FALSE)),\" \")","v":" "},{"$f":"IF(B160>0,(VLOOKUP($B160,'Engag Ben'!$A$10:$G$109,4,FALSE)),\" \")","v":" "},{"$f":"IF(B160>0,(VLOOKUP($B160,'Engag Ben'!$A$10:$G$109,5,FALSE)),\" \")","v":" "},{"$f":"IF(B160>0,(VLOOKUP($B160,'Engag Ben'!$A$10:$G$109,6,FALSE)),\" \")","v":" "},null,null," ",{"$f":"IF(COUNTIF($G$10:$G160,G160)<2,$G160,\" \")","v":" "},49,{"$f":"IF(COUNTIF($G$10:$G160,G160)<3,$G160,\" \")","v":" "},49,"",1000]
[50,null,{"$f":"IF(A161>0,(VLOOKUP($A161,'Engag Pre'!$A$10:$G$74,3,FALSE)),\" \")","v":{"$error":"#N/A"}},{"$f":"IF(B161>0,(VLOOKUP($B161,'Engag Ben'!$A$10:$G$109,7,FALSE)),\" \")","v":" "},{"$f":"IF(B161>0,(VLOOKUP($B161,'Engag Ben'!$A$10:$G$109,3,FALSE)),\" \")","v":" "},{"$f":"IF(B161>0,(VLOOKUP($B161,'Engag Ben'!$A$10:$G$109,4,FALSE)),\" \")","v":" "},{"$f":"IF(B161>0,(VLOOKUP($B161,'Engag Ben'!$A$10:$G$109,5,FALSE)),\" \")","v":" "},{"$f":"IF(B161>0,(VLOOKUP($B161,'Engag Ben'!$A$10:$G$109,6,FALSE)),\" \")","v":" "},null,null," ",{"$f":"IF(COUNTIF($G$10:$G161,G161)<2,$G161,\" \")","v":" "},50,{"$f":"IF(COUNTIF($G$10:$G161,G161)<3,$G161,\" \")","v":" "},50,"",1000]
[51,null,{"$f":"IF(A162>0,(VLOOKUP($A162,'Engag Pre'!$A$10:$G$74,3,FALSE)),\" \")","v":{"$error":"#N/A"}},{"$f":"IF(B162>0,(VLOOKUP($B162,'Engag Ben'!$A$10:$G$109,7,FALSE)),\" \")","v":" "},{"$f":"IF(B162>0,(VLOOKUP($B162,'Engag Ben'!$A$10:$G$109,3,FALSE)),\" \")","v":" "},{"$f":"IF(B162>0,(VLOOKUP($B162,'Engag Ben'!$A$10:$G$109,4,FALSE)),\" \")","v":" "},{"$f":"IF(B162>0,(VLOOKUP($B162,'Engag Ben'!$A$10:$G$109,5,FALSE)),\" \")","v":" "},{"$f":"IF(B162>0,(VLOOKUP($B162,'Engag Ben'!$A$10:$G$109,6,FALSE)),\" \")","v":" "},null,null," ",{"$f":"IF(COUNTIF($G$10:$G162,G162)<2,$G162,\" \")","v":" "},51,{"$f":"IF(COUNTIF($G$10:$G162,G162)<3,$G162,\" \")","v":" "},51,"",1000]
[52,null,{"$f":"IF(A163>0,(VLOOKUP($A163,'Engag Pre'!$A$10:$G$74,3,FALSE)),\" \")","v":{"$error":"#N/A"}},{"$f":"IF(B163>0,(VLOOKUP($B163,'Engag Ben'!$A$10:$G$109,7,FALSE)),\" \")","v":" "},{"$f":"IF(B163>0,(VLOOKUP($B163,'Engag Ben'!$A$10:$G$109,3,FALSE)),\" \")","v":" "},{"$f":"IF(B163>0,(VLOOKUP($B163,'Engag Ben'!$A$10:$G$109,4,FALSE)),\" \")","v":" "},{"$f":"IF(B163>0,(VLOOKUP($B163,'Engag Ben'!$A$10:$G$109,5,FALSE)),\" \")","v":" "},{"$f":"IF(B163>0,(VLOOKUP($B163,'Engag Ben'!$A$10:$G$109,6,FALSE)),\" \")","v":" "},null,null," ",{"$f":"IF(COUNTIF($G$10:$G163,G163)<2,$G163,\" \")","v":" "},52,{"$f":"IF(COUNTIF($G$10:$G163,G163)<3,$G163,\" \")","v":" "},52,"",1000]
[53,null,{"$f":"IF(A164>0,(VLOOKUP($A164,'Engag Pre'!$A$10:$G$74,3,FALSE)),\" \")","v":{"$error":"#N/A"}},{"$f":"IF(B164>0,(VLOOKUP($B164,'Engag Ben'!$A$10:$G$109,7,FALSE)),\" \")","v":" "},{"$f":"IF(B164>0,(VLOOKUP($B164,'Engag Ben'!$A$10:$G$109,3,FALSE)),\" \")","v":" "},{"$f":"IF(B164>0,(VLOOKUP($B164,'Engag Ben'!$A$10:$G$109,4,FALSE)),\" \")","v":" "},{"$f":"IF(B164>0,(VLOOKUP($B164,'Engag Ben'!$A$10:$G$109,5,FALSE)),\" \")","v":" "},{"$f":"IF(B164>0,(VLOOKUP($B164,'Engag Ben'!$A$10:$G$109,6,FALSE)),\" \")","v":" "},null,null," ",{"$f":"IF(COUNTIF($G$10:$G164,G164)<2,$G164,\" \")","v":" "},53,{"$f":"IF(COUNTIF($G$10:$G164,G164)<3,$G164,\" \")","v":" "},53,"",1000]
[54,null,{"$f":"IF(A165>0,(VLOOKUP($A165,'Engag Pre'!$A$10:$G$74,3,FALSE)),\" \")","v":{"$error":"#N/A"}},{"$f":"IF(B165>0,(VLOOKUP($B165,'Engag Ben'!$A$10:$G$109,7,FALSE)),\" \")","v":" "},{"$f":"IF(B165>0,(VLOOKUP($B165,'Engag Ben'!$A$10:$G$109,3,FALSE)),\" \")","v":" "},{"$f":"IF(B165>0,(VLOOKUP($B165,'Engag Ben'!$A$10:$G$109,4,FALSE)),\" \")","v":" "},{"$f":"IF(B165>0,(VLOOKUP($B165,'Engag Ben'!$A$10:$G$109,5,FALSE)),\" \")","v":" "},{"$f":"IF(B165>0,(VLOOKUP($B165,'Engag Ben'!$A$10:$G$109,6,FALSE)),\" \")","v":" "},null,null," ",{"$f":"IF(COUNTIF($G$10:$G165,G165)<2,$G165,\" \")","v":" "},54,{"$f":"IF(COUNTIF($G$10:$G165,G165)<3,$G165,\" \")","v":" "},54,"",1000]
[55,null,{"$f":"IF(A166>0,(VLOOKUP($A166,'Engag Pre'!$A$10:$G$74,3,FALSE)),\" \")","v":{"$error":"#N/A"}},{"$f":"IF(B166>0,(VLOOKUP($B166,'Engag Ben'!$A$10:$G$109,7,FALSE)),\" \")","v":" "},{"$f":"IF(B166>0,(VLOOKUP($B166,'Engag Ben'!$A$10:$G$109,3,FALSE)),\" \")","v":" "},{"$f":"IF(B166>0,(VLOOKUP($B166,'Engag Ben'!$A$10:$G$109,4,FALSE)),\" \")","v":" "},{"$f":"IF(B166>0,(VLOOKUP($B166,'Engag Ben'!$A$10:$G$109,5,FALSE)),\" \")","v":" "},{"$f":"IF(B166>0,(VLOOKUP($B166,'Engag Ben'!$A$10:$G$109,6,FALSE)),\" \")","v":" "},null,null," ",{"$f":"IF(COUNTIF($G$10:$G166,G166)<2,$G166,\" \")","v":" "},55,{"$f":"IF(COUNTIF($G$10:$G166,G166)<3,$G166,\" \")","v":" "},55,"",1000]
[56,null,{"$f":"IF(A167>0,(VLOOKUP($A167,'Engag Pre'!$A$10:$G$74,3,FALSE)),\" \")","v":{"$error":"#N/A"}},{"$f":"IF(B167>0,(VLOOKUP($B167,'Engag Ben'!$A$10:$G$109,7,FALSE)),\" \")","v":" "},{"$f":"IF(B167>0,(VLOOKUP($B167,'Engag Ben'!$A$10:$G$109,3,FALSE)),\" \")","v":" "},{"$f":"IF(B167>0,(VLOOKUP($B167,'Engag Ben'!$A$10:$G$109,4,FALSE)),\" \")","v":" "},{"$f":"IF(B167>0,(VLOOKUP($B167,'Engag Ben'!$A$10:$G$109,5,FALSE)),\" \")","v":" "},{"$f":"IF(B167>0,(VLOOKUP($B167,'Engag Ben'!$A$10:$G$109,6,FALSE)),\" \")","v":" "},null,null," ",{"$f":"IF(COUNTIF($G$10:$G167,G167)<2,$G167,\" \")","v":" "},56,{"$f":"IF(COUNTIF($G$10:$G167,G167)<3,$G167,\" \")","v":" "},56,"",1000]
[57,null,{"$f":"IF(A168>0,(VLOOKUP($A168,'Engag Pre'!$A$10:$G$74,3,FALSE)),\" \")","v":{"$error":"#N/A"}},{"$f":"IF(B168>0,(VLOOKUP($B168,'Engag Ben'!$A$10:$G$109,7,FALSE)),\" \")","v":" "},{"$f":"IF(B168>0,(VLOOKUP($B168,'Engag Ben'!$A$10:$G$109,3,FALSE)),\" \")","v":" "},{"$f":"IF(B168>0,(VLOOKUP($B168,'Engag Ben'!$A$10:$G$109,4,FALSE)),\" \")","v":" "},{"$f":"IF(B168>0,(VLOOKUP($B168,'Engag Ben'!$A$10:$G$109,5,FALSE)),\" \")","v":" "},{"$f":"IF(B168>0,(VLOOKUP($B168,'Engag Ben'!$A$10:$G$109,6,FALSE)),\" \")","v":" "},null,null," ",{"$f":"IF(COUNTIF($G$10:$G168,G168)<2,$G168,\" \")","v":" "},57,{"$f":"IF(COUNTIF($G$10:$G168,G168)<3,$G168,\" \")","v":" "},57,"",1000]
[58,null,{"$f":"IF(A169>0,(VLOOKUP($A169,'Engag Pre'!$A$10:$G$74,3,FALSE)),\" \")","v":{"$error":"#N/A"}},{"$f":"IF(B169>0,(VLOOKUP($B169,'Engag Ben'!$A$10:$G$109,7,FALSE)),\" \")","v":" "},{"$f":"IF(B169>0,(VLOOKUP($B169,'Engag Ben'!$A$10:$G$109,3,FALSE)),\" \")","v":" "},{"$f":"IF(B169>0,(VLOOKUP($B169,'Engag Ben'!$A$10:$G$109,4,FALSE)),\" \")","v":" "},{"$f":"IF(B169>0,(VLOOKUP($B169,'Engag Ben'!$A$10:$G$109,5,FALSE)),\" \")","v":" "},{"$f":"IF(B169>0,(VLOOKUP($B169,'Engag Ben'!$A$10:$G$109,6,FALSE)),\" \")","v":" "},null,null," ",{"$f":"IF(COUNTIF($G$10:$G169,G169)<2,$G169,\" \")","v":" "},58,{"$f":"IF(COUNTIF($G$10:$G169,G169)<3,$G169,\" \")","v":" "},58,"",1000]
[59,null,{"$f":"IF(A170>0,(VLOOKUP($A170,'Engag Pre'!$A$10:$G$74,3,FALSE)),\" \")","v":{"$error":"#N/A"}},{"$f":"IF(B170>0,(VLOOKUP($B170,'Engag Ben'!$A$10:$G$109,7,FALSE)),\" \")","v":" "},{"$f":"IF(B170>0,(VLOOKUP($B170,'Engag Ben'!$A$10:$G$109,3,FALSE)),\" \")","v":" "},{"$f":"IF(B170>0,(VLOOKUP($B170,'Engag Ben'!$A$10:$G$109,4,FALSE)),\" \")","v":" "},{"$f":"IF(B170>0,(VLOOKUP($B170,'Engag Ben'!$A$10:$G$109,5,FALSE)),\" \")","v":" "},{"$f":"IF(B170>0,(VLOOKUP($B170,'Engag Ben'!$A$10:$G$109,6,FALSE)),\" \")","v":" "},null,null," ",{"$f":"IF(COUNTIF($G$10:$G170,G170)<2,$G170,\" \")","v":" "},59,{"$f":"IF(COUNTIF($G$10:$G170,G170)<3,$G170,\" \")","v":" "},59,"",1000]
[60,null,{"$f":"IF(A171>0,(VLOOKUP($A171,'Engag Pre'!$A$10:$G$74,3,FALSE)),\" \")","v":{"$error":"#N/A"}},{"$f":"IF(B171>0,(VLOOKUP($B171,'Engag Ben'!$A$10:$G$109,7,FALSE)),\" \")","v":" "},{"$f":"IF(B171>0,(VLOOKUP($B171,'Engag Ben'!$A$10:$G$109,3,FALSE)),\" \")","v":" "},{"$f":"IF(B171>0,(VLOOKUP($B171,'Engag Ben'!$A$10:$G$109,4,FALSE)),\" \")","v":" "},{"$f":"IF(B171>0,(VLOOKUP($B171,'Engag Ben'!$A$10:$G$109,5,FALSE)),\" \")","v":" "},{"$f":"IF(B171>0,(VLOOKUP($B171,'Engag Ben'!$A$10:$G$109,6,FALSE)),\" \")","v":" "},null,null," ",{"$f":"IF(COUNTIF($G$10:$G171,G171)<2,$G171,\" \")","v":" "},60,{"$f":"IF(COUNTIF($G$10:$G171,G171)<3,$G171,\" \")","v":" "},60,"",1000]
[61,null,{"$f":"IF(A172>0,(VLOOKUP($A172,'Engag Pre'!$A$10:$G$74,3,FALSE)),\" \")","v":{"$error":"#N/A"}},{"$f":"IF(B172>0,(VLOOKUP($B172,'Engag Ben'!$A$10:$G$109,7,FALSE)),\" \")","v":" "},{"$f":"IF(B172>0,(VLOOKUP($B172,'Engag Ben'!$A$10:$G$109,3,FALSE)),\" \")","v":" "},{"$f":"IF(B172>0,(VLOOKUP($B172,'Engag Ben'!$A$10:$G$109,4,FALSE)),\" \")","v":" "},{"$f":"IF(B172>0,(VLOOKUP($B172,'Engag Ben'!$A$10:$G$109,5,FALSE)),\" \")","v":" "},{"$f":"IF(B172>0,(VLOOKUP($B172,'Engag Ben'!$A$10:$G$109,6,FALSE)),\" \")","v":" "},null,null," ",{"$f":"IF(COUNTIF($G$10:$G172,G172)<2,$G172,\" \")","v":" "},61,{"$f":"IF(COUNTIF($G$10:$G172,G172)<3,$G172,\" \")","v":" "},61,"",1000]
[62,null,{"$f":"IF(A173>0,(VLOOKUP($A173,'Engag Pre'!$A$10:$G$74,3,FALSE)),\" \")","v":{"$error":"#N/A"}},{"$f":"IF(B173>0,(VLOOKUP($B173,'Engag Ben'!$A$10:$G$109,7,FALSE)),\" \")","v":" "},{"$f":"IF(B173>0,(VLOOKUP($B173,'Engag Ben'!$A$10:$G$109,3,FALSE)),\" \")","v":" "},{"$f":"IF(B173>0,(VLOOKUP($B173,'Engag Ben'!$A$10:$G$109,4,FALSE)),\" \")","v":" "},{"$f":"IF(B173>0,(VLOOKUP($B173,'Engag Ben'!$A$10:$G$109,5,FALSE)),\" \")","v":" "},{"$f":"IF(B173>0,(VLOOKUP($B173,'Engag Ben'!$A$10:$G$109,6,FALSE)),\" \")","v":" "},null,null," ",{"$f":"IF(COUNTIF($G$10:$G173,G173)<2,$G173,\" \")","v":" "},62,{"$f":"IF(COUNTIF($G$10:$G173,G173)<3,$G173,\" \")","v":" "},62,"",1000]
[63,null,{"$f":"IF(A174>0,(VLOOKUP($A174,'Engag Pre'!$A$10:$G$74,3,FALSE)),\" \")","v":{"$error":"#N/A"}},{"$f":"IF(B174>0,(VLOOKUP($B174,'Engag Ben'!$A$10:$G$109,7,FALSE)),\" \")","v":" "},{"$f":"IF(B174>0,(VLOOKUP($B174,'Engag Ben'!$A$10:$G$109,3,FALSE)),\" \")","v":" "},{"$f":"IF(B174>0,(VLOOKUP($B174,'Engag Ben'!$A$10:$G$109,4,FALSE)),\" \")","v":" "},{"$f":"IF(B174>0,(VLOOKUP($B174,'Engag Ben'!$A$10:$G$109,5,FALSE)),\" \")","v":" "},{"$f":"IF(B174>0,(VLOOKUP($B174,'Engag Ben'!$A$10:$G$109,6,FALSE)),\" \")","v":" "},null,null," ",{"$f":"IF(COUNTIF($G$10:$G174,G174)<2,$G174,\" \")","v":" "},63,{"$f":"IF(COUNTIF($G$10:$G174,G174)<3,$G174,\" \")","v":" "},63,"",1000]
[64,null,{"$f":"IF(A175>0,(VLOOKUP($A175,'Engag Pre'!$A$10:$G$74,3,FALSE)),\" \")","v":{"$error":"#N/A"}},{"$f":"IF(B175>0,(VLOOKUP($B175,'Engag Ben'!$A$10:$G$109,7,FALSE)),\" \")","v":" "},{"$f":"IF(B175>0,(VLOOKUP($B175,'Engag Ben'!$A$10:$G$109,3,FALSE)),\" \")","v":" "},{"$f":"IF(B175>0,(VLOOKUP($B175,'Engag Ben'!$A$10:$G$109,4,FALSE)),\" \")","v":" "},{"$f":"IF(B175>0,(VLOOKUP($B175,'Engag Ben'!$A$10:$G$109,5,FALSE)),\" \")","v":" "},{"$f":"IF(B175>0,(VLOOKUP($B175,'Engag Ben'!$A$10:$G$109,6,FALSE)),\" \")","v":" "},null,null," ",{"$f":"IF(COUNTIF($G$10:$G175,G175)<2,$G175,\" \")","v":" "},64,{"$f":"IF(COUNTIF($G$10:$G175,G175)<3,$G175,\" \")","v":" "},64,"",1000]
[65,null,{"$f":"IF(A176>0,(VLOOKUP($A176,'Engag Pre'!$A$10:$G$74,3,FALSE)),\" \")","v":{"$error":"#N/A"}},{"$f":"IF(B176>0,(VLOOKUP($B176,'Engag Ben'!$A$10:$G$109,7,FALSE)),\" \")","v":" "},{"$f":"IF(B176>0,(VLOOKUP($B176,'Engag Ben'!$A$10:$G$109,3,FALSE)),\" \")","v":" "},{"$f":"IF(B176>0,(VLOOKUP($B176,'Engag Ben'!$A$10:$G$109,4,FALSE)),\" \")","v":" "},{"$f":"IF(B176>0,(VLOOKUP($B176,'Engag Ben'!$A$10:$G$109,5,FALSE)),\" \")","v":" "},{"$f":"IF(B176>0,(VLOOKUP($B176,'Engag Ben'!$A$10:$G$109,6,FALSE)),\" \")","v":" "},null,null," ",{"$f":"IF(COUNTIF($G$10:$G176,G176)<2,$G176,\" \")","v":" "},65,{"$f":"IF(COUNTIF($G$10:$G176,G176)<3,$G176,\" \")","v":" "},65,"",1000]
[66,null,{"$f":"IF(A177>0,(VLOOKUP($A177,'Engag Pre'!$A$10:$G$74,3,FALSE)),\" \")","v":{"$error":"#N/A"}},{"$f":"IF(B177>0,(VLOOKUP($B177,'Engag Ben'!$A$10:$G$109,7,FALSE)),\" \")","v":" "},{"$f":"IF(B177>0,(VLOOKUP($B177,'Engag Ben'!$A$10:$G$109,3,FALSE)),\" \")","v":" "},{"$f":"IF(B177>0,(VLOOKUP($B177,'Engag Ben'!$A$10:$G$109,4,FALSE)),\" \")","v":" "},{"$f":"IF(B177>0,(VLOOKUP($B177,'Engag Ben'!$A$10:$G$109,5,FALSE)),\" \")","v":" "},{"$f":"IF(B177>0,(VLOOKUP($B177,'Engag Ben'!$A$10:$G$109,6,FALSE)),\" \")","v":" "},null,null,{"$f":"IF(COUNTIF($B$10:$B$109,B177)>1,\"Déjà classé\",\" \")","v":" "},{"$f":"IF(COUNTIF($G$10:$G177,G177)<2,$G177,\" \")","v":" "},{"$f":"IF($G$6<5,1000,(IF(L177=G177,A177,\"\")))","v":66},{"$f":"IF(COUNTIF($G$10:$G177,G177)<3,$G177,\" \")","v":" "},{"$f":"IF(N177=$G177,$A177,\"\")","v":66},{"$f":"IF(N177=L177,\"\",N177)","v":""},{"$f":"IF($G$6<5,1000,(IF(P177=$G177,$A177,1000)))","v":1000}]
[67,null,{"$f":"IF(A178>0,(VLOOKUP($A178,'Engag Pre'!$A$10:$G$74,3,FALSE)),\" \")","v":{"$error":"#N/A"}},{"$f":"IF(B178>0,(VLOOKUP($B178,'Engag Ben'!$A$10:$G$109,7,FALSE)),\" \")","v":" "},{"$f":"IF(B178>0,(VLOOKUP($B178,'Engag Ben'!$A$10:$G$109,3,FALSE)),\" \")","v":" "},{"$f":"IF(B178>0,(VLOOKUP($B178,'Engag Ben'!$A$10:$G$109,4,FALSE)),\" \")","v":" "},{"$f":"IF(B178>0,(VLOOKUP($B178,'Engag Ben'!$A$10:$G$109,5,FALSE)),\" \")","v":" "},{"$f":"IF(B178>0,(VLOOKUP($B178,'Engag Ben'!$A$10:$G$109,6,FALSE)),\" \")","v":" "},null,null," ",{"$f":"IF(COUNTIF($G$10:$G178,G178)<2,$G178,\" \")","v":" "},67,{"$f":"IF(COUNTIF($G$10:$G178,G178)<3,$G178,\" \")","v":" "},67,"",1000]
[68,null,{"$f":"IF(A179>0,(VLOOKUP($A179,'Engag Pre'!$A$10:$G$74,3,FALSE)),\" \")","v":{"$error":"#N/A"}},{"$f":"IF(B179>0,(VLOOKUP($B179,'Engag Ben'!$A$10:$G$109,7,FALSE)),\" \")","v":" "},{"$f":"IF(B179>0,(VLOOKUP($B179,'Engag Ben'!$A$10:$G$109,3,FALSE)),\" \")","v":" "},{"$f":"IF(B179>0,(VLOOKUP($B179,'Engag Ben'!$A$10:$G$109,4,FALSE)),\" \")","v":" "},{"$f":"IF(B179>0,(VLOOKUP($B179,'Engag Ben'!$A$10:$G$109,5,FALSE)),\" \")","v":" "},{"$f":"IF(B179>0,(VLOOKUP($B179,'Engag Ben'!$A$10:$G$109,6,FALSE)),\" \")","v":" "},null,null," ",{"$f":"IF(COUNTIF($G$10:$G179,G179)<2,$G179,\" \")","v":" "},68,{"$f":"IF(COUNTIF($G$10:$G179,G179)<3,$G179,\" \")","v":" "},68,"",1000]
[69,null,{"$f":"IF(A180>0,(VLOOKUP($A180,'Engag Pre'!$A$10:$G$74,3,FALSE)),\" \")","v":{"$error":"#N/A"}},{"$f":"IF(B180>0,(VLOOKUP($B180,'Engag Ben'!$A$10:$G$109,7,FALSE)),\" \")","v":" "},{"$f":"IF(B180>0,(VLOOKUP($B180,'Engag Ben'!$A$10:$G$109,3,FALSE)),\" \")","v":" "},{"$f":"IF(B180>0,(VLOOKUP($B180,'Engag Ben'!$A$10:$G$109,4,FALSE)),\" \")","v":" "},{"$f":"IF(B180>0,(VLOOKUP($B180,'Engag Ben'!$A$10:$G$109,5,FALSE)),\" \")","v":" "},{"$f":"IF(B180>0,(VLOOKUP($B180,'Engag Ben'!$A$10:$G$109,6,FALSE)),\" \")","v":" "},null,null," ",{"$f":"IF(COUNTIF($G$10:$G180,G180)<2,$G180,\" \")","v":" "},69,{"$f":"IF(COUNTIF($G$10:$G180,G180)<3,$G180,\" \")","v":" "},69,"",1000]
[70,null,{"$f":"IF(A181>0,(VLOOKUP($A181,'Engag Pre'!$A$10:$G$74,3,FALSE)),\" \")","v":{"$error":"#N/A"}},{"$f":"IF(B181>0,(VLOOKUP($B181,'Engag Ben'!$A$10:$G$109,7,FALSE)),\" \")","v":" "},{"$f":"IF(B181>0,(VLOOKUP($B181,'Engag Ben'!$A$10:$G$109,3,FALSE)),\" \")","v":" "},{"$f":"IF(B181>0,(VLOOKUP($B181,'Engag Ben'!$A$10:$G$109,4,FALSE)),\" \")","v":" "},{"$f":"IF(B181>0,(VLOOKUP($B181,'Engag Ben'!$A$10:$G$109,5,FALSE)),\" \")","v":" "},{"$f":"IF(B181>0,(VLOOKUP($B181,'Engag Ben'!$A$10:$G$109,6,FALSE)),\" \")","v":" "},null,null," ",{"$f":"IF(COUNTIF($G$10:$G181,G181)<2,$G181,\" \")","v":" "},70,{"$f":"IF(COUNTIF($G$10:$G181,G181)<3,$G181,\" \")","v":" "},70,"",1000]
[71,null,{"$f":"IF(A182>0,(VLOOKUP($A182,'Engag Pre'!$A$10:$G$74,3,FALSE)),\" \")","v":{"$error":"#N/A"}},{"$f":"IF(B182>0,(VLOOKUP($B182,'Engag Ben'!$A$10:$G$109,7,FALSE)),\" \")","v":" "},{"$f":"IF(B182>0,(VLOOKUP($B182,'Engag Ben'!$A$10:$G$109,3,FALSE)),\" \")","v":" "},{"$f":"IF(B182>0,(VLOOKUP($B182,'Engag Ben'!$A$10:$G$109,4,FALSE)),\" \")","v":" "},{"$f":"IF(B182>0,(VLOOKUP($B182,'Engag Ben'!$A$10:$G$109,5,FALSE)),\" \")","v":" "},{"$f":"IF(B182>0,(VLOOKUP($B182,'Engag Ben'!$A$10:$G$109,6,FALSE)),\" \")","v":" "},null,null," ",{"$f":"IF(COUNTIF($G$10:$G182,G182)<2,$G182,\" \")","v":" "},71,{"$f":"IF(COUNTIF($G$10:$G182,G182)<3,$G182,\" \")","v":" "},71,"",1000]
[72,null,{"$f":"IF(A183>0,(VLOOKUP($A183,'Engag Pre'!$A$10:$G$74,3,FALSE)),\" \")","v":{"$error":"#N/A"}},{"$f":"IF(B183>0,(VLOOKUP($B183,'Engag Ben'!$A$10:$G$109,7,FALSE)),\" \")","v":" "},{"$f":"IF(B183>0,(VLOOKUP($B183,'Engag Ben'!$A$10:$G$109,3,FALSE)),\" \")","v":" "},{"$f":"IF(B183>0,(VLOOKUP($B183,'Engag Ben'!$A$10:$G$109,4,FALSE)),\" \")","v":" "},{"$f":"IF(B183>0,(VLOOKUP($B183,'Engag Ben'!$A$10:$G$109,5,FALSE)),\" \")","v":" "},{"$f":"IF(B183>0,(VLOOKUP($B183,'Engag Ben'!$A$10:$G$109,6,FALSE)),\" \")","v":" "},null,null," ",{"$f":"IF(COUNTIF($G$10:$G183,G183)<2,$G183,\" \")","v":" "},72,{"$f":"IF(COUNTIF($G$10:$G183,G183)<3,$G183,\" \")","v":" "},72,"",1000]
[73,null,{"$f":"IF(A184>0,(VLOOKUP($A184,'Engag Pre'!$A$10:$G$74,3,FALSE)),\" \")","v":{"$error":"#N/A"}},{"$f":"IF(B184>0,(VLOOKUP($B184,'Engag Ben'!$A$10:$G$109,7,FALSE)),\" \")","v":" "},{"$f":"IF(B184>0,(VLOOKUP($B184,'Engag Ben'!$A$10:$G$109,3,FALSE)),\" \")","v":" "},{"$f":"IF(B184>0,(VLOOKUP($B184,'Engag Ben'!$A$10:$G$109,4,FALSE)),\" \")","v":" "},{"$f":"IF(B184>0,(VLOOKUP($B184,'Engag Ben'!$A$10:$G$109,5,FALSE)),\" \")","v":" "},{"$f":"IF(B184>0,(VLOOKUP($B184,'Engag Ben'!$A$10:$G$109,6,FALSE)),\" \")","v":" "},null,null," ",{"$f":"IF(COUNTIF($G$10:$G184,G184)<2,$G184,\" \")","v":" "},73,{"$f":"IF(COUNTIF($G$10:$G184,G184)<3,$G184,\" \")","v":" "},73,"",1000]
[74,null,{"$f":"IF(A185>0,(VLOOKUP($A185,'Engag Pre'!$A$10:$G$74,3,FALSE)),\" \")","v":{"$error":"#N/A"}},{"$f":"IF(B185>0,(VLOOKUP($B185,'Engag Ben'!$A$10:$G$109,7,FALSE)),\" \")","v":" "},{"$f":"IF(B185>0,(VLOOKUP($B185,'Engag Ben'!$A$10:$G$109,3,FALSE)),\" \")","v":" "},{"$f":"IF(B185>0,(VLOOKUP($B185,'Engag Ben'!$A$10:$G$109,4,FALSE)),\" \")","v":" "},{"$f":"IF(B185>0,(VLOOKUP($B185,'Engag Ben'!$A$10:$G$109,5,FALSE)),\" \")","v":" "},{"$f":"IF(B185>0,(VLOOKUP($B185,'Engag Ben'!$A$10:$G$109,6,FALSE)),\" \")","v":" "},null,null," ",{"$f":"IF(COUNTIF($G$10:$G185,G185)<2,$G185,\" \")","v":" "},74,{"$f":"IF(COUNTIF($G$10:$G185,G185)<3,$G185,\" \")","v":" "},74,"",1000]
[75,null,{"$f":"IF(A186>0,(VLOOKUP($A186,'Engag Pre'!$A$10:$G$74,3,FALSE)),\" \")","v":{"$error":"#N/A"}},{"$f":"IF(B186>0,(VLOOKUP($B186,'Engag Ben'!$A$10:$G$109,7,FALSE)),\" \")","v":" "},{"$f":"IF(B186>0,(VLOOKUP($B186,'Engag Ben'!$A$10:$G$109,3,FALSE)),\" \")","v":" "},{"$f":"IF(B186>0,(VLOOKUP($B186,'Engag Ben'!$A$10:$G$109,4,FALSE)),\" \")","v":" "},{"$f":"IF(B186>0,(VLOOKUP($B186,'Engag Ben'!$A$10:$G$109,5,FALSE)),\" \")","v":" "},{"$f":"IF(B186>0,(VLOOKUP($B186,'Engag Ben'!$A$10:$G$109,6,FALSE)),\" \")","v":" "},null,null," ",{"$f":"IF(COUNTIF($G$10:$G186,G186)<2,$G186,\" \")","v":" "},75,{"$f":"IF(COUNTIF($G$10:$G186,G186)<3,$G186,\" \")","v":" "},75,"",1000]
[76,null,{"$f":"IF(A187>0,(VLOOKUP($A187,'Engag Pre'!$A$10:$G$74,3,FALSE)),\" \")","v":{"$error":"#N/A"}},{"$f":"IF(B187>0,(VLOOKUP($B187,'Engag Ben'!$A$10:$G$109,7,FALSE)),\" \")","v":" "},{"$f":"IF(B187>0,(VLOOKUP($B187,'Engag Ben'!$A$10:$G$109,3,FALSE)),\" \")","v":" "},{"$f":"IF(B187>0,(VLOOKUP($B187,'Engag Ben'!$A$10:$G$109,4,FALSE)),\" \")","v":" "},{"$f":"IF(B187>0,(VLOOKUP($B187,'Engag Ben'!$A$10:$G$109,5,FALSE)),\" \")","v":" "},{"$f":"IF(B187>0,(VLOOKUP($B187,'Engag Ben'!$A$10:$G$109,6,FALSE)),\" \")","v":" "},null,null," ",{"$f":"IF(COUNTIF($G$10:$G187,G187)<2,$G187,\" \")","v":" "},76,{"$f":"IF(COUNTIF($G$10:$G187,G187)<3,$G187,\" \")","v":" "},76,"",1000]
[77,null,{"$f":"IF(A188>0,(VLOOKUP($A188,'Engag Pre'!$A$10:$G$74,3,FALSE)),\" \")","v":{"$error":"#N/A"}},{"$f":"IF(B188>0,(VLOOKUP($B188,'Engag Ben'!$A$10:$G$109,7,FALSE)),\" \")","v":" "},{"$f":"IF(B188>0,(VLOOKUP($B188,'Engag Ben'!$A$10:$G$109,3,FALSE)),\" \")","v":" "},{"$f":"IF(B188>0,(VLOOKUP($B188,'Engag Ben'!$A$10:$G$109,4,FALSE)),\" \")","v":" "},{"$f":"IF(B188>0,(VLOOKUP($B188,'Engag Ben'!$A$10:$G$109,5,FALSE)),\" \")","v":" "},{"$f":"IF(B188>0,(VLOOKUP($B188,'Engag Ben'!$A$10:$G$109,6,FALSE)),\" \")","v":" "},null,null," ",{"$f":"IF(COUNTIF($G$10:$G188,G188)<2,$G188,\" \")","v":" "},77,{"$f":"IF(COUNTIF($G$10:$G188,G188)<3,$G188,\" \")","v":" "},77,"",1000]
[78,null,{"$f":"IF(A189>0,(VLOOKUP($A189,'Engag Pre'!$A$10:$G$74,3,FALSE)),\" \")","v":{"$error":"#N/A"}},{"$f":"IF(B189>0,(VLOOKUP($B189,'Engag Ben'!$A$10:$G$109,7,FALSE)),\" \")","v":" "},{"$f":"IF(B189>0,(VLOOKUP($B189,'Engag Ben'!$A$10:$G$109,3,FALSE)),\" \")","v":" "},{"$f":"IF(B189>0,(VLOOKUP($B189,'Engag Ben'!$A$10:$G$109,4,FALSE)),\" \")","v":" "},{"$f":"IF(B189>0,(VLOOKUP($B189,'Engag Ben'!$A$10:$G$109,5,FALSE)),\" \")","v":" "},{"$f":"IF(B189>0,(VLOOKUP($B189,'Engag Ben'!$A$10:$G$109,6,FALSE)),\" \")","v":" "},null,null," ",{"$f":"IF(COUNTIF($G$10:$G189,G189)<2,$G189,\" \")","v":" "},78,{"$f":"IF(COUNTIF($G$10:$G189,G189)<3,$G189,\" \")","v":" "},78,"",1000]
[79,null,{"$f":"IF(A190>0,(VLOOKUP($A190,'Engag Pre'!$A$10:$G$74,3,FALSE)),\" \")","v":{"$error":"#N/A"}},{"$f":"IF(B190>0,(VLOOKUP($B190,'Engag Ben'!$A$10:$G$109,7,FALSE)),\" \")","v":" "},{"$f":"IF(B190>0,(VLOOKUP($B190,'Engag Ben'!$A$10:$G$109,3,FALSE)),\" \")","v":" "},{"$f":"IF(B190>0,(VLOOKUP($B190,'Engag Ben'!$A$10:$G$109,4,FALSE)),\" \")","v":" "},{"$f":"IF(B190>0,(VLOOKUP($B190,'Engag Ben'!$A$10:$G$109,5,FALSE)),\" \")","v":" "},{"$f":"IF(B190>0,(VLOOKUP($B190,'Engag Ben'!$A$10:$G$109,6,FALSE)),\" \")","v":" "},null,null," ",{"$f":"IF(COUNTIF($G$10:$G190,G190)<2,$G190,\" \")","v":" "},79,{"$f":"IF(COUNTIF($G$10:$G190,G190)<3,$G190,\" \")","v":" "},79,"",1000]
[80,null,{"$f":"IF(A191>0,(VLOOKUP($A191,'Engag Pre'!$A$10:$G$74,3,FALSE)),\" \")","v":{"$error":"#N/A"}},{"$f":"IF(B191>0,(VLOOKUP($B191,'Engag Ben'!$A$10:$G$109,7,FALSE)),\" \")","v":" "},{"$f":"IF(B191>0,(VLOOKUP($B191,'Engag Ben'!$A$10:$G$109,3,FALSE)),\" \")","v":" "},{"$f":"IF(B191>0,(VLOOKUP($B191,'Engag Ben'!$A$10:$G$109,4,FALSE)),\" \")","v":" "},{"$f":"IF(B191>0,(VLOOKUP($B191,'Engag Ben'!$A$10:$G$109,5,FALSE)),\" \")","v":" "},{"$f":"IF(B191>0,(VLOOKUP($B191,'Engag Ben'!$A$10:$G$109,6,FALSE)),\" \")","v":" "},null,null," ",{"$f":"IF(COUNTIF($G$10:$G191,G191)<2,$G191,\" \")","v":" "},80,{"$f":"IF(COUNTIF($G$10:$G191,G191)<3,$G191,\" \")","v":" "},80,"",1000]
[81,null,{"$f":"IF(A192>0,(VLOOKUP($A192,'Engag Pre'!$A$10:$G$74,3,FALSE)),\" \")","v":{"$error":"#N/A"}},{"$f":"IF(B192>0,(VLOOKUP($B192,'Engag Ben'!$A$10:$G$109,7,FALSE)),\" \")","v":" "},{"$f":"IF(B192>0,(VLOOKUP($B192,'Engag Ben'!$A$10:$G$109,3,FALSE)),\" \")","v":" "},{"$f":"IF(B192>0,(VLOOKUP($B192,'Engag Ben'!$A$10:$G$109,4,FALSE)),\" \")","v":" "},{"$f":"IF(B192>0,(VLOOKUP($B192,'Engag Ben'!$A$10:$G$109,5,FALSE)),\" \")","v":" "},{"$f":"IF(B192>0,(VLOOKUP($B192,'Engag Ben'!$A$10:$G$109,6,FALSE)),\" \")","v":" "},null,null," ",{"$f":"IF(COUNTIF($G$10:$G192,G192)<2,$G192,\" \")","v":" "},81,{"$f":"IF(COUNTIF($G$10:$G192,G192)<3,$G192,\" \")","v":" "},81,"",1000]
[82,null,{"$f":"IF(A193>0,(VLOOKUP($A193,'Engag Pre'!$A$10:$G$74,3,FALSE)),\" \")","v":{"$error":"#N/A"}},{"$f":"IF(B193>0,(VLOOKUP($B193,'Engag Ben'!$A$10:$G$109,7,FALSE)),\" \")","v":" "},{"$f":"IF(B193>0,(VLOOKUP($B193,'Engag Ben'!$A$10:$G$109,3,FALSE)),\" \")","v":" "},{"$f":"IF(B193>0,(VLOOKUP($B193,'Engag Ben'!$A$10:$G$109,4,FALSE)),\" \")","v":" "},{"$f":"IF(B193>0,(VLOOKUP($B193,'Engag Ben'!$A$10:$G$109,5,FALSE)),\" \")","v":" "},{"$f":"IF(B193>0,(VLOOKUP($B193,'Engag Ben'!$A$10:$G$109,6,FALSE)),\" \")","v":" "},null,null," ",{"$f":"IF(COUNTIF($G$10:$G193,G193)<2,$G193,\" \")","v":" "},82,{"$f":"IF(COUNTIF($G$10:$G193,G193)<3,$G193,\" \")","v":" "},82,"",1000]
[83,null,{"$f":"IF(A194>0,(VLOOKUP($A194,'Engag Pre'!$A$10:$G$74,3,FALSE)),\" \")","v":{"$error":"#N/A"}},{"$f":"IF(B194>0,(VLOOKUP($B194,'Engag Ben'!$A$10:$G$109,7,FALSE)),\" \")","v":" "},{"$f":"IF(B194>0,(VLOOKUP($B194,'Engag Ben'!$A$10:$G$109,3,FALSE)),\" \")","v":" "},{"$f":"IF(B194>0,(VLOOKUP($B194,'Engag Ben'!$A$10:$G$109,4,FALSE)),\" \")","v":" "},{"$f":"IF(B194>0,(VLOOKUP($B194,'Engag Ben'!$A$10:$G$109,5,FALSE)),\" \")","v":" "},{"$f":"IF(B194>0,(VLOOKUP($B194,'Engag Ben'!$A$10:$G$109,6,FALSE)),\" \")","v":" "},null,null," ",{"$f":"IF(COUNTIF($G$10:$G194,G194)<2,$G194,\" \")","v":" "},83,{"$f":"IF(COUNTIF($G$10:$G194,G194)<3,$G194,\" \")","v":" "},83,"",1000]
[84,null,{"$f":"IF(A195>0,(VLOOKUP($A195,'Engag Pre'!$A$10:$G$74,3,FALSE)),\" \")","v":{"$error":"#N/A"}},{"$f":"IF(B195>0,(VLOOKUP($B195,'Engag Ben'!$A$10:$G$109,7,FALSE)),\" \")","v":" "},{"$f":"IF(B195>0,(VLOOKUP($B195,'Engag Ben'!$A$10:$G$109,3,FALSE)),\" \")","v":" "},{"$f":"IF(B195>0,(VLOOKUP($B195,'Engag Ben'!$A$10:$G$109,4,FALSE)),\" \")","v":" "},{"$f":"IF(B195>0,(VLOOKUP($B195,'Engag Ben'!$A$10:$G$109,5,FALSE)),\" \")","v":" "},{"$f":"IF(B195>0,(VLOOKUP($B195,'Engag Ben'!$A$10:$G$109,6,FALSE)),\" \")","v":" "},null,null," ",{"$f":"IF(COUNTIF($G$10:$G195,G195)<2,$G195,\" \")","v":" "},84,{"$f":"IF(COUNTIF($G$10:$G195,G195)<3,$G195,\" \")","v":" "},84,"",1000]
[85,null,{"$f":"IF(A196>0,(VLOOKUP($A196,'Engag Pre'!$A$10:$G$74,3,FALSE)),\" \")","v":{"$error":"#N/A"}},{"$f":"IF(B196>0,(VLOOKUP($B196,'Engag Ben'!$A$10:$G$109,7,FALSE)),\" \")","v":" "},{"$f":"IF(B196>0,(VLOOKUP($B196,'Engag Ben'!$A$10:$G$109,3,FALSE)),\" \")","v":" "},{"$f":"IF(B196>0,(VLOOKUP($B196,'Engag Ben'!$A$10:$G$109,4,FALSE)),\" \")","v":" "},{"$f":"IF(B196>0,(VLOOKUP($B196,'Engag Ben'!$A$10:$G$109,5,FALSE)),\" \")","v":" "},{"$f":"IF(B196>0,(VLOOKUP($B196,'Engag Ben'!$A$10:$G$109,6,FALSE)),\" \")","v":" "},null,null," ",{"$f":"IF(COUNTIF($G$10:$G196,G196)<2,$G196,\" \")","v":" "},85,{"$f":"IF(COUNTIF($G$10:$G196,G196)<3,$G196,\" \")","v":" "},85,"",1000]
[86,null,{"$f":"IF(A197>0,(VLOOKUP($A197,'Engag Pre'!$A$10:$G$74,3,FALSE)),\" \")","v":{"$error":"#N/A"}},{"$f":"IF(B197>0,(VLOOKUP($B197,'Engag Ben'!$A$10:$G$109,7,FALSE)),\" \")","v":" "},{"$f":"IF(B197>0,(VLOOKUP($B197,'Engag Ben'!$A$10:$G$109,3,FALSE)),\" \")","v":" "},{"$f":"IF(B197>0,(VLOOKUP($B197,'Engag Ben'!$A$10:$G$109,4,FALSE)),\" \")","v":" "},{"$f":"IF(B197>0,(VLOOKUP($B197,'Engag Ben'!$A$10:$G$109,5,FALSE)),\" \")","v":" "},{"$f":"IF(B197>0,(VLOOKUP($B197,'Engag Ben'!$A$10:$G$109,6,FALSE)),\" \")","v":" "},null,null," ",{"$f":"IF(COUNTIF($G$10:$G197,G197)<2,$G197,\" \")","v":" "},86,{"$f":"IF(COUNTIF($G$10:$G197,G197)<3,$G197,\" \")","v":" "},86,"",1000]
[87,null,{"$f":"IF(A198>0,(VLOOKUP($A198,'Engag Pre'!$A$10:$G$74,3,FALSE)),\" \")","v":{"$error":"#N/A"}},{"$f":"IF(B198>0,(VLOOKUP($B198,'Engag Ben'!$A$10:$G$109,7,FALSE)),\" \")","v":" "},{"$f":"IF(B198>0,(VLOOKUP($B198,'Engag Ben'!$A$10:$G$109,3,FALSE)),\" \")","v":" "},{"$f":"IF(B198>0,(VLOOKUP($B198,'Engag Ben'!$A$10:$G$109,4,FALSE)),\" \")","v":" "},{"$f":"IF(B198>0,(VLOOKUP($B198,'Engag Ben'!$A$10:$G$109,5,FALSE)),\" \")","v":" "},{"$f":"IF(B198>0,(VLOOKUP($B198,'Engag Ben'!$A$10:$G$109,6,FALSE)),\" \")","v":" "},null,null," ",{"$f":"IF(COUNTIF($G$10:$G198,G198)<2,$G198,\" \")","v":" "},87,{"$f":"IF(COUNTIF($G$10:$G198,G198)<3,$G198,\" \")","v":" "},87,"",1000]
[88,null,{"$f":"IF(A199>0,(VLOOKUP($A199,'Engag Pre'!$A$10:$G$74,3,FALSE)),\" \")","v":{"$error":"#N/A"}},{"$f":"IF(B199>0,(VLOOKUP($B199,'Engag Ben'!$A$10:$G$109,7,FALSE)),\" \")","v":" "},{"$f":"IF(B199>0,(VLOOKUP($B199,'Engag Ben'!$A$10:$G$109,3,FALSE)),\" \")","v":" "},{"$f":"IF(B199>0,(VLOOKUP($B199,'Engag Ben'!$A$10:$G$109,4,FALSE)),\" \")","v":" "},{"$f":"IF(B199>0,(VLOOKUP($B199,'Engag Ben'!$A$10:$G$109,5,FALSE)),\" \")","v":" "},{"$f":"IF(B199>0,(VLOOKUP($B199,'Engag Ben'!$A$10:$G$109,6,FALSE)),\" \")","v":" "},null,null," ",{"$f":"IF(COUNTIF($G$10:$G199,G199)<2,$G199,\" \")","v":" "},88,{"$f":"IF(COUNTIF($G$10:$G199,G199)<3,$G199,\" \")","v":" "},88,"",1000]
[89,null,{"$f":"IF(A200>0,(VLOOKUP($A200,'Engag Pre'!$A$10:$G$74,3,FALSE)),\" \")","v":{"$error":"#N/A"}},{"$f":"IF(B200>0,(VLOOKUP($B200,'Engag Ben'!$A$10:$G$109,7,FALSE)),\" \")","v":" "},{"$f":"IF(B200>0,(VLOOKUP($B200,'Engag Ben'!$A$10:$G$109,3,FALSE)),\" \")","v":" "},{"$f":"IF(B200>0,(VLOOKUP($B200,'Engag Ben'!$A$10:$G$109,4,FALSE)),\" \")","v":" "},{"$f":"IF(B200>0,(VLOOKUP($B200,'Engag Ben'!$A$10:$G$109,5,FALSE)),\" \")","v":" "},{"$f":"IF(B200>0,(VLOOKUP($B200,'Engag Ben'!$A$10:$G$109,6,FALSE)),\" \")","v":" "},null,null," ",{"$f":"IF(COUNTIF($G$10:$G200,G200)<2,$G200,\" \")","v":" "},89,{"$f":"IF(COUNTIF($G$10:$G200,G200)<3,$G200,\" \")","v":" "},89,"",1000]
[90,null,{"$f":"IF(A201>0,(VLOOKUP($A201,'Engag Pre'!$A$10:$G$74,3,FALSE)),\" \")","v":{"$error":"#N/A"}},{"$f":"IF(B201>0,(VLOOKUP($B201,'Engag Ben'!$A$10:$G$109,7,FALSE)),\" \")","v":" "},{"$f":"IF(B201>0,(VLOOKUP($B201,'Engag Ben'!$A$10:$G$109,3,FALSE)),\" \")","v":" "},{"$f":"IF(B201>0,(VLOOKUP($B201,'Engag Ben'!$A$10:$G$109,4,FALSE)),\" \")","v":" "},{"$f":"IF(B201>0,(VLOOKUP($B201,'Engag Ben'!$A$10:$G$109,5,FALSE)),\" \")","v":" "},{"$f":"IF(B201>0,(VLOOKUP($B201,'Engag Ben'!$A$10:$G$109,6,FALSE)),\" \")","v":" "},null,null," ",{"$f":"IF(COUNTIF($G$10:$G201,G201)<2,$G201,\" \")","v":" "},90,{"$f":"IF(COUNTIF($G$10:$G201,G201)<3,$G201,\" \")","v":" "},90,"",1000]
[91,null,{"$f":"IF(A202>0,(VLOOKUP($A202,'Engag Pre'!$A$10:$G$74,3,FALSE)),\" \")","v":{"$error":"#N/A"}},{"$f":"IF(B202>0,(VLOOKUP($B202,'Engag Ben'!$A$10:$G$109,7,FALSE)),\" \")","v":" "},{"$f":"IF(B202>0,(VLOOKUP($B202,'Engag Ben'!$A$10:$G$109,3,FALSE)),\" \")","v":" "},{"$f":"IF(B202>0,(VLOOKUP($B202,'Engag Ben'!$A$10:$G$109,4,FALSE)),\" \")","v":" "},{"$f":"IF(B202>0,(VLOOKUP($B202,'Engag Ben'!$A$10:$G$109,5,FALSE)),\" \")","v":" "},{"$f":"IF(B202>0,(VLOOKUP($B202,'Engag Ben'!$A$10:$G$109,6,FALSE)),\" \")","v":" "},null,null," ",{"$f":"IF(COUNTIF($G$10:$G202,G202)<2,$G202,\" \")","v":" "},91,{"$f":"IF(COUNTIF($G$10:$G202,G202)<3,$G202,\" \")","v":" "},91,"",1000]
[92,null,{"$f":"IF(A203>0,(VLOOKUP($A203,'Engag Pre'!$A$10:$G$74,3,FALSE)),\" \")","v":{"$error":"#N/A"}},{"$f":"IF(B203>0,(VLOOKUP($B203,'Engag Ben'!$A$10:$G$109,7,FALSE)),\" \")","v":" "},{"$f":"IF(B203>0,(VLOOKUP($B203,'Engag Ben'!$A$10:$G$109,3,FALSE)),\" \")","v":" "},{"$f":"IF(B203>0,(VLOOKUP($B203,'Engag Ben'!$A$10:$G$109,4,FALSE)),\" \")","v":" "},{"$f":"IF(B203>0,(VLOOKUP($B203,'Engag Ben'!$A$10:$G$109,5,FALSE)),\" \")","v":" "},{"$f":"IF(B203>0,(VLOOKUP($B203,'Engag Ben'!$A$10:$G$109,6,FALSE)),\" \")","v":" "},null,null," ",{"$f":"IF(COUNTIF($G$10:$G203,G203)<2,$G203,\" \")","v":" "},92,{"$f":"IF(COUNTIF($G$10:$G203,G203)<3,$G203,\" \")","v":" "},92,"",1000]
[93,null,{"$f":"IF(A204>0,(VLOOKUP($A204,'Engag Pre'!$A$10:$G$74,3,FALSE)),\" \")","v":{"$error":"#N/A"}},{"$f":"IF(B204>0,(VLOOKUP($B204,'Engag Ben'!$A$10:$G$109,7,FALSE)),\" \")","v":" "},{"$f":"IF(B204>0,(VLOOKUP($B204,'Engag Ben'!$A$10:$G$109,3,FALSE)),\" \")","v":" "},{"$f":"IF(B204>0,(VLOOKUP($B204,'Engag Ben'!$A$10:$G$109,4,FALSE)),\" \")","v":" "},{"$f":"IF(B204>0,(VLOOKUP($B204,'Engag Ben'!$A$10:$G$109,5,FALSE)),\" \")","v":" "},{"$f":"IF(B204>0,(VLOOKUP($B204,'Engag Ben'!$A$10:$G$109,6,FALSE)),\" \")","v":" "},null,null," ",{"$f":"IF(COUNTIF($G$10:$G204,G204)<2,$G204,\" \")","v":" "},93,{"$f":"IF(COUNTIF($G$10:$G204,G204)<3,$G204,\" \")","v":" "},93,"",1000]
[94,null,{"$f":"IF(A205>0,(VLOOKUP($A205,'Engag Pre'!$A$10:$G$74,3,FALSE)),\" \")","v":{"$error":"#N/A"}},{"$f":"IF(B205>0,(VLOOKUP($B205,'Engag Ben'!$A$10:$G$109,7,FALSE)),\" \")","v":" "},{"$f":"IF(B205>0,(VLOOKUP($B205,'Engag Ben'!$A$10:$G$109,3,FALSE)),\" \")","v":" "},{"$f":"IF(B205>0,(VLOOKUP($B205,'Engag Ben'!$A$10:$G$109,4,FALSE)),\" \")","v":" "},{"$f":"IF(B205>0,(VLOOKUP($B205,'Engag Ben'!$A$10:$G$109,5,FALSE)),\" \")","v":" "},{"$f":"IF(B205>0,(VLOOKUP($B205,'Engag Ben'!$A$10:$G$109,6,FALSE)),\" \")","v":" "},null,null," ",{"$f":"IF(COUNTIF($G$10:$G205,G205)<2,$G205,\" \")","v":" "},94,{"$f":"IF(COUNTIF($G$10:$G205,G205)<3,$G205,\" \")","v":" "},94,"",1000]
[95,null,{"$f":"IF(A206>0,(VLOOKUP($A206,'Engag Pre'!$A$10:$G$74,3,FALSE)),\" \")","v":{"$error":"#N/A"}},{"$f":"IF(B206>0,(VLOOKUP($B206,'Engag Ben'!$A$10:$G$109,7,FALSE)),\" \")","v":" "},{"$f":"IF(B206>0,(VLOOKUP($B206,'Engag Ben'!$A$10:$G$109,3,FALSE)),\" \")","v":" "},{"$f":"IF(B206>0,(VLOOKUP($B206,'Engag Ben'!$A$10:$G$109,4,FALSE)),\" \")","v":" "},{"$f":"IF(B206>0,(VLOOKUP($B206,'Engag Ben'!$A$10:$G$109,5,FALSE)),\" \")","v":" "},{"$f":"IF(B206>0,(VLOOKUP($B206,'Engag Ben'!$A$10:$G$109,6,FALSE)),\" \")","v":" "},null,null," ",{"$f":"IF(COUNTIF($G$10:$G206,G206)<2,$G206,\" \")","v":" "},95,{"$f":"IF(COUNTIF($G$10:$G206,G206)<3,$G206,\" \")","v":" "},95,"",1000]
[96,null,{"$f":"IF(A207>0,(VLOOKUP($A207,'Engag Pre'!$A$10:$G$74,3,FALSE)),\" \")","v":{"$error":"#N/A"}},{"$f":"IF(B207>0,(VLOOKUP($B207,'Engag Ben'!$A$10:$G$109,7,FALSE)),\" \")","v":" "},{"$f":"IF(B207>0,(VLOOKUP($B207,'Engag Ben'!$A$10:$G$109,3,FALSE)),\" \")","v":" "},{"$f":"IF(B207>0,(VLOOKUP($B207,'Engag Ben'!$A$10:$G$109,4,FALSE)),\" \")","v":" "},{"$f":"IF(B207>0,(VLOOKUP($B207,'Engag Ben'!$A$10:$G$109,5,FALSE)),\" \")","v":" "},{"$f":"IF(B207>0,(VLOOKUP($B207,'Engag Ben'!$A$10:$G$109,6,FALSE)),\" \")","v":" "},null,null," ",{"$f":"IF(COUNTIF($G$10:$G207,G207)<2,$G207,\" \")","v":" "},96,{"$f":"IF(COUNTIF($G$10:$G207,G207)<3,$G207,\" \")","v":" "},96,"",1000]
[97,null,{"$f":"IF(A208>0,(VLOOKUP($A208,'Engag Pre'!$A$10:$G$74,3,FALSE)),\" \")","v":{"$error":"#N/A"}},{"$f":"IF(B208>0,(VLOOKUP($B208,'Engag Ben'!$A$10:$G$109,7,FALSE)),\" \")","v":" "},{"$f":"IF(B208>0,(VLOOKUP($B208,'Engag Ben'!$A$10:$G$109,3,FALSE)),\" \")","v":" "},{"$f":"IF(B208>0,(VLOOKUP($B208,'Engag Ben'!$A$10:$G$109,4,FALSE)),\" \")","v":" "},{"$f":"IF(B208>0,(VLOOKUP($B208,'Engag Ben'!$A$10:$G$109,5,FALSE)),\" \")","v":" "},{"$f":"IF(B208>0,(VLOOKUP($B208,'Engag Ben'!$A$10:$G$109,6,FALSE)),\" \")","v":" "},null,null," ",{"$f":"IF(COUNTIF($G$10:$G208,G208)<2,$G208,\" \")","v":" "},97,{"$f":"IF(COUNTIF($G$10:$G208,G208)<3,$G208,\" \")","v":" "},97,"",1000]
[98,null,{"$f":"IF(A209>0,(VLOOKUP($A209,'Engag Pre'!$A$10:$G$74,3,FALSE)),\" \")","v":{"$error":"#N/A"}},{"$f":"IF(B209>0,(VLOOKUP($B209,'Engag Ben'!$A$10:$G$109,7,FALSE)),\" \")","v":" "},{"$f":"IF(B209>0,(VLOOKUP($B209,'Engag Ben'!$A$10:$G$109,3,FALSE)),\" \")","v":" "},{"$f":"IF(B209>0,(VLOOKUP($B209,'Engag Ben'!$A$10:$G$109,4,FALSE)),\" \")","v":" "},{"$f":"IF(B209>0,(VLOOKUP($B209,'Engag Ben'!$A$10:$G$109,5,FALSE)),\" \")","v":" "},{"$f":"IF(B209>0,(VLOOKUP($B209,'Engag Ben'!$A$10:$G$109,6,FALSE)),\" \")","v":" "},null,null," ",{"$f":"IF(COUNTIF($G$10:$G209,G209)<2,$G209,\" \")","v":" "},98,{"$f":"IF(COUNTIF($G$10:$G209,G209)<3,$G209,\" \")","v":" "},98,"",1000]
[99,null,{"$f":"IF(A210>0,(VLOOKUP($A210,'Engag Pre'!$A$10:$G$74,3,FALSE)),\" \")","v":{"$error":"#N/A"}},{"$f":"IF(B210>0,(VLOOKUP($B210,'Engag Ben'!$A$10:$G$109,7,FALSE)),\" \")","v":" "},{"$f":"IF(B210>0,(VLOOKUP($B210,'Engag Ben'!$A$10:$G$109,3,FALSE)),\" \")","v":" "},{"$f":"IF(B210>0,(VLOOKUP($B210,'Engag Ben'!$A$10:$G$109,4,FALSE)),\" \")","v":" "},{"$f":"IF(B210>0,(VLOOKUP($B210,'Engag Ben'!$A$10:$G$109,5,FALSE)),\" \")","v":" "},{"$f":"IF(B210>0,(VLOOKUP($B210,'Engag Ben'!$A$10:$G$109,6,FALSE)),\" \")","v":" "},null,null," ",{"$f":"IF(COUNTIF($G$10:$G210,G210)<2,$G210,\" \")","v":" "},99,{"$f":"IF(COUNTIF($G$10:$G210,G210)<3,$G210,\" \")","v":" "},99,"",1000]
[100,null,{"$f":"IF(A211>0,(VLOOKUP($A211,'Engag Pre'!$A$10:$G$74,3,FALSE)),\" \")","v":{"$error":"#N/A"}},{"$f":"IF(B211>0,(VLOOKUP($B211,'Engag Ben'!$A$10:$G$109,7,FALSE)),\" \")","v":" "},{"$f":"IF(B211>0,(VLOOKUP($B211,'Engag Ben'!$A$10:$G$109,3,FALSE)),\" \")","v":" "},{"$f":"IF(B211>0,(VLOOKUP($B211,'Engag Ben'!$A$10:$G$109,4,FALSE)),\" \")","v":" "},{"$f":"IF(B211>0,(VLOOKUP($B211,'Engag Ben'!$A$10:$G$109,5,FALSE)),\" \")","v":" "},{"$f":"IF(B211>0,(VLOOKUP($B211,'Engag Ben'!$A$10:$G$109,6,FALSE)),\" \")","v":" "},null,null," ",{"$f":"IF(COUNTIF($G$10:$G211,G211)<2,$G211,\" \")","v":" "},100,{"$f":"IF(COUNTIF($G$10:$G211,G211)<3,$G211,\" \")","v":" "},100,"",1000]

{"sheet":"Res Min","index":11,"n_rows":211,"n_cols":17,"rows_kept":211,"merged":[[0,4,0,5],[0,7,0,8],[1,4,1,5],[2,4,2,7],[7,0,7,9],[109,0,109,9]]}
[{"$nulls":3},"Nom de l'épreuve :",{"$f":"'Etat de Résultat'!I20","v":0},null,"Catégories :",{"$f":"'Engag Min'!D5","v":"Minimes"}]
[{"$nulls":3},"Ville :",{"$f":"'Etat de Résultat'!E17","v":"AULNAY SOUS BOIS"},null,"Département :",{"$f":"'Etat de Résultat'!R17","v":93}]
[{"$nulls":3},"Organisateur (s) :",{"$f":"'Etat de Résultat'!I21","v":"EC AULNAY"}]
[{"$nulls":5},"N° /Catégorie Epreuve :","C1295708039/7.03"]
[{"$nulls":3},"Engagés :",{"$f":"'Engag Min'!D6","v":0},"Partants :",{"$f":"'Engag Min'!F6","v":0},"Classés :",{"$f":"SUM(I6:I7)","v":0}]
[{"$nulls":3},"Minimes 1 :",{"$f":"'Engag Min'!D7","v":0},"Minimes 1 :",{"$f":"'Engag Min'!F7","v":0},"Minimes 1 :",{"$f":"COUNTA(B10:B109)","v":0}]
[{"$nulls":3},"Minimes 2 :",{"$f":"'Engag Min'!D8","v":0},"Minimes 2 :",{"$f":"'Engag Min'!F8","v":0},"Minimes 2 :",{"$f":"COUNTA(B112:B211)","v":0}]
["CLASSEMENT MINIMES 1"]
["Rang","Doss","Code UCI","Licence","Nom","Prénom","Club","Catégorie","Temps","Ecart"]
[1,null,{"$f":"IF(A10>0,(VLOOKUP($A10,'Engag Pre'!$A$10:$G$74,3,FALSE)),\" \")","v":{"$error":"#N/A"}},{"$f":"IF(B10>0,(VLOOKUP($B10,'Engag Min'!$A$10:$G$109,7,FALSE)),\" \")","v":" "},{"$f":"IF(B10>0,(VLOOKUP($B10,'Engag Min'!$A$10:$G$109,3,FALSE)),\" \")","v":" "},{"$f":"IF(B10>0,(VLOOKUP($B10,'Engag Min'!$A$10:$G$109,4,FALSE)),\" \")","v":" "},{"$f":"IF(B10>0,(VLOOKUP($B10,'Engag Min'!$A$10:$G$109,5,FALSE)),\" \")","v":" "},{"$f":"IF(B10>0,(VLOOKUP($B10,'Engag Min'!$A$10:$G$109,6,FALSE)),\" \")","v":" "},null,null,{"$f":"IF(COUNTIF($B$10:$B$109,B10)>1,\"Déjà classé\",\" \")","v":" "},{"$f":"IF(COUNTIF($G$10:$G10,G10)<2,$G10,\" \")","v":" "},{"$f":"IF($G$6<5,1000,(IF(L10=G10,A10,\"\")))","v":1000},{"$f":"IF(COUNTIF($G$10:$G10,G10)<3,$G10,\" \")","v":" "},{"$f":"IF(N10=$G10,$A10,\"\")","v":1},{"$f":"IF(N10=L10,\"\",N10)","v":""},{"$f":"IF($G$6<5,1000,(IF(P10=$G10,$A10,1000)))","v":1000}]
[2,null,{"$f":"IF(A11>0,(VLOOKUP($A11,'Engag Pre'!$A$10:$G$74,3,FALSE)),\" \")","v":{"$error":"#N/A"}},{"$f":"IF(B11>0,(VLOOKUP($B11,'Engag Min'!$A$10:$G$109,7,FALSE)),\" \")","v":" "},{"$f":"IF(B11>0,(VLOOKUP($B11,'Engag Min'!$A$10:$G$109,3,FALSE)),\" \")","v":" "},{"$f":"IF(B11>0,(VLOOKUP($B11,'Engag Min'!$A$10:$G$109,4,FALSE)),\" \")","v":" "},{"$f":"IF(B11>0,(VLOOKUP($B11,'Engag Min'!$A$10:$G$109,5,FALSE)),\" \")","v":" "},{"$f":"IF(B11>0,(VLOOKUP($B11,'Engag Min'!$A$10:$G$109,6,FALSE)),\" \")","v":" "},null,null,{"$f":"IF(COUNTIF($B$10:$B$109,B11)>1,\"Déjà classé\",\" \")","v":" "},{"$f":"IF(COUNTIF($G$10:$G11,G11)<2,$G11,\" \")","v":" "},{"$f":"IF($G$6<5,1000,(IF(L11=G11,A11,\"\")))","v":1000},{"$f":"IF(COUNTIF($G$10:$G11,G11)<3,$G11,\" \")","v":" "},{"$f":"IF(N11=$G11,$A11,\"\")","v":2},{"$f":"IF(N11=L11,\"\",N11)","v":""},{"$f":"IF($G$6<5,1000,(IF(P11=$G11,$A11,1000)))","v":1000}]
[3,null,{"$f":"IF(A12>0,(VLOOKUP($A12,'Engag Pre'!$A$10:$G$74,3,FALSE)),\" \")","v":{"$error":"#N/A"}},{"$f":"IF(B12>0,(VLOOKUP($B12,'Engag Min'!$A$10:$G$109,7,FALSE)),\" \")","v":" "},{"$f":"IF(B12>0,(VLOOKUP($B12,'Engag Min'!$A$10:$G$109,3,FALSE)),\" \")","v":" "},{"$f":"IF(B12>0,(VLOOKUP($B12,'Engag Min'!$A$10:$G$109,4,FALSE)),\" \")","v":" "},{"$f":"IF(B12>0,(VLOOKUP($B12,'Engag Min'!$A$10:$G$109,5,FALSE)),\" \")","v":" "},{"$f":"IF(B12>0,(VLOOKUP($B12,'Engag Min'!$A$10:$G$109,6,FALSE)),\" \")","v":" "},null,null," ",{"$f":"IF(COUNTIF($G$10:$G12,G12)<2,$G12,\" \")","v":" "},1000,{"$f":"IF(COUNTIF($G$10:$G12,G12)<3,$G12,\" \")","v":" "},3,"",1000]
[4,null,{"$f":"IF(A13>0,(VLOOKUP($A13,'Engag Pre'!$A$10:$G$74,3,FALSE)),\" \")","v":{"$error":"#N/A"}},{"$f":"IF(B13>0,(VLOOKUP($B13,'Engag Min'!$A$10:$G$109,7,FALSE)),\" \")","v":" "},{"$f":"IF(B13>0,(VLOOKUP($B13,'Engag Min'!$A$10:$G$109,3,FALSE)),\" \")","v":" "},{"$f":"IF(B13>0,(VLOOKUP($B13,'Engag Min'!$A$10:$G$109,4,FALSE)),\" \")","v":" "},{"$f":"IF(B13>0,(VLOOKUP($B13,'Engag Min'!$A$10:$G$109,5,FALSE)),\" \")","v":" "},{"$f":"IF(B13>0,(VLOOKUP($B13,'Engag Min'!$A$10:$G$109,6,FALSE)),\" \")","v":" "},null,null," ",{"$f":"IF(COUNTIF($G$10:$G13,G13)<2,$G13,\" \")","v":" "},1000,{"$f":"IF(COUNTIF($G$10:$G13,G13)<3,$G13,\" \")","v":" "},4,"",1000]
[5,null,{"$f":"IF(A14>0,(VLOOKUP($A14,'Engag Pre'!$A$10:$G$74,3,FALSE)),\" \")","v":{"$error":"#N/A"}},{"$f":"IF(B14>0,(VLOOKUP($B14,'Engag Min'!$A$10:$G$109,7,FALSE)),\" \")","v":" "},{"$f":"IF(B14>0,(VLOOKUP($B14,'Engag Min'!$A$10:$G$109,3,FALSE)),\" \")","v":" "},{"$f":"IF(B14>0,(VLOOKUP($B14,'Engag Min'!$A$10:$G$109,4,FALSE)),\" \")","v":" "},{"$f":"IF(B14>0,(VLOOKUP($B14,'Engag Min'!$A$10:$G$109,5,FALSE)),\" \")","v":" "},{"$f":"IF(B14>0,(VLOOKUP($B14,'Engag Min'!$A$10:$G$109,6,FALSE)),\" \")","v":" "},null,null," ",{"$f":"IF(COUNTIF($G$10:$G14,G14)<2,$G14,\" \")","v":" "},1000,{"$f":"IF(COUNTIF($G$10:$G14,G14)<3,$G14,\" \")","v":" "},5,"",1000]
[6,null,{"$f":"IF(A15>0,(VLOOKUP($A15,'Engag Pre'!$A$10:$G$74,3,FALSE)),\" \")","v":{"$error":"#N/A"}},{"$f":"IF(B15>0,(VLOOKUP($B15,'Engag Min'!$A$10:$G$109,7,FALSE)),\" \")","v":" "},{"$f":"IF(B15>0,(VLOOKUP($B15,'Engag Min'!$A$10:$G$109,3,FALSE)),\" \")","v":" "},{"$f":"IF(B15>0,(VLOOKUP($B15,'Engag Min'!$A$10:$G$109,4,FALSE)),\" \")","v":" "},{"$f":"IF(B15>0,(VLOOKUP($B15,'Engag Min'!$A$10:$G$109,5,FALSE)),\" \")","v":" "},{"$f":"IF(B15>0,(VLOOKUP($B15,'Engag Min'!$A$10:$G$109,6,FALSE)),\" \")","v":" "},null,null," ",{"$f":"IF(COUNTIF($G$10:$G15,G15)<2,$G15,\" \")","v":" "},1000,{"$f":"IF(COUNTIF($G$10:$G15,G15)<3,$G15,\" \")","v":" "},6,"",1000]
[7,null,{"$f":"IF(A16>0,(VLOOKUP($A16,'Engag Pre'!$A$10:$G$74,3,FALSE)),\" \")","v":{"$error":"#N/A"}},{"$f":"IF(B16>0,(VLOOKUP($B16,'Engag Min'!$A$10:$G$109,7,FALSE)),\" \")","v":" "},{"$f":"IF(B16>0,(VLOOKUP($B16,'Engag Min'!$A$10:$G$109,3,FALSE)),\" \")","v":" "},{"$f":"IF(B16>0,(VLOOKUP($B16,'Engag Min'!$A$10:$G$109,4,FALSE)),\" \")","v":" "},{"$f":"IF(B16>0,(VLOOKUP($B16,'Engag Min'!$A$10:$G$109,5,FALSE)),\" \")","v":" "},{"$f":"IF(B16>0,(VLOOKUP($B16,'Engag Min'!$A$10:$G$109,6,FALSE)),\" \")","v":" "},null,null," ",{"$f":"IF(COUNTIF($G$10:$G16,G16)<2,$G16,\" \")","v":" "},1000,{"$f":"IF(COUNTIF($G$10:$G16,G16)<3,$G16,\" \")","v":" "},7,"",1000]
[8,null,{"$f":"IF(A17>0,(VLOOKUP($A17,'Engag Pre'!$A$10:$G$74,3,FALSE)),\" \")","v":{"$error":"#N/A"}},{"$f":"IF(B17>0,(VLOOKUP($B17,'Engag Min'!$A$10:$G$109,7,FALSE)),\" \")","v":" "},{"$f":"IF(B17>0,(VLOOKUP($B17,'Engag Min'!$A$10:$G$109,3,FALSE)),\" \")","v":" "},{"$f":"IF(B17>0,(VLOOKUP($B17,'Engag Min'!$A$10:$G$109,4,FALSE)),\" \")","v":" "},{"$f":"IF(B17>0,(VLOOKUP($B17,'Engag Min'!$A$10:$G$109,5,FALSE)),\" \")","v":" "},{"$f":"IF(B17>0,(VLOOKUP($B17,'Engag Min'!$A$10:$G$109,6,FALSE)),\" \")","v":" "},null,null," ",{"$f":"IF(COUNTIF($G$10:$G17,G17)<2,$G17,\" \")","v":" "},1000,{"$f":"IF(COUNTIF($G$10:$G17,G17)<3,$G17,\" \")","v":" "},8,"",1000]
[9,null,{"$f":"IF(A18>0,(VLOOKUP($A18,'Engag Pre'!$A$10:$G$74,3,FALSE)),\" \")","v":{"$error":"#N/A"}},{"$f":"IF(B18>0,(VLOOKUP($B18,'Engag Min'!$A$10:$G$109,7,FALSE)),\" \")","v":" "},{"$f":"IF(B18>0,(VLOOKUP($B18,'Engag Min'!$A$10:$G$109,3,FALSE)),\" \")","v":" "},{"$f":"IF(B18>0,(VLOOKUP($B18,'Engag Min'!$A$10:$G$109,4,FALSE)),\" \")","v":" "},{"$f":"IF(B18>0,(VLOOKUP($B18,'Engag Min'!$A$10:$G$109,5,FALSE)),\" \")","v":" "},{"$f":"IF(B18>0,(VLOOKUP($B18,'Engag Min'!$A$10:$G$109,6,FALSE)),\" \")","v":" "},null,null," ",{"$f":"IF(COUNTIF($G$10:$G18,G18)<2,$G18,\" \")","v":" "},1000,{"$f":"IF(COUNTIF($G$10:$G18,G18)<3,$G18,\" \")","v":" "},9,"",1000]
[10,null,{"$f":"IF(A19>0,(VLOOKUP($A19,'Engag Pre'!$A$10:$G$74,3,FALSE)),\" \")","v":{"$error":"#N/A"}},{"$f":"IF(B19>0,(VLOOKUP($B19,'Engag Min'!$A$10:$G$109,7,FALSE)),\" \")","v":" "},{"$f":"IF(B19>0,(VLOOKUP($B19,'Engag Min'!$A$10:$G$109,3,FALSE)),\" \")","v":" "},{"$f":"IF(B19>0,(VLOOKUP($B19,'Engag Min'!$A$10:$G$109,4,FALSE)),\" \")","v":" "},{"$f":"IF(B19>0,(VLOOKUP($B19,'Engag Min'!$A$10:$G$109,5,FALSE)),\" \")","v":" "},{"$f":"IF(B19>0,(VLOOKUP($B19,'Engag Min'!$A$10:$G$109,6,FALSE)),\" \")","v":" "},null,null," ",{"$f":"IF(COUNTIF($G$10:$G19,G19)<2,$G19,\" \")","v":" "},1000,{"$f":"IF(COUNTIF($G$10:$G19,G19)<3,$G19,\" \")","v":" "},10,"",1000]
[11,null,{"$f":"IF(A20>0,(VLOOKUP($A20,'Engag Pre'!$A$10:$G$74,3,FALSE)),\" \")","v":{"$error":"#N/A"}},{"$f":"IF(B20>0,(VLOOKUP($B20,'Engag Min'!$A$10:$G$109,7,FALSE)),\" \")","v":" "},{"$f":"IF(B20>0,(VLOOKUP($B20,'Engag Min'!$A$10:$G$109,3,FALSE)),\" \")","v":" "},{"$f":"IF(B20>0,(VLOOKUP($B20,'Engag Min'!$A$10:$G$109,4,FALSE)),\" \")","v":" "},{"$f":"IF(B20>0,(VLOOKUP($B20,'Engag Min'!$A$10:$G$109,5,FALSE)),\" \")","v":" "},{"$f":"IF(B20>0,(VLOOKUP($B20,'Engag Min'!$A$10:$G$109,6,FALSE)),\" \")","v":" "},null,null," ",{"$f":"IF(COUNTIF($G$10:$G20,G20)<2,$G20,\" \")","v":" "},1000,{"$f":"IF(COUNTIF($G$10:$G20,G20)<3,$G20,\" \")","v":" "},11,"",1000]
[12,null,{"$f":"IF(A21>0,(VLOOKUP($A21,'Engag Pre'!$A$10:$G$74,3,FALSE)),\" \")","v":{"$error":"#N/A"}},{"$f":"IF(B21>0,(VLOOKUP($B21,'Engag Min'!$A$10:$G$109,7,FALSE)),\" \")","v":" "},{"$f":"IF(B21>0,(VLOOKUP($B21,'Engag Min'!$A$10:$G$109,3,FALSE)),\" \")","v":" "},{"$f":"IF(B21>0,(VLOOKUP($B21,'Engag Min'!$A$10:$G$109,4,FALSE)),\" \")","v":" "},{"$f":"IF(B21>0,(VLOOKUP($B21,'Engag Min'!$A$10:$G$109,5,FALSE)),\" \")","v":" "},{"$f":"IF(B21>0,(VLOOKUP($B21,'Engag Min'!$A$10:$G$109,6,FALSE)),\" \")","v":" "},null,null," ",{"$f":"IF(COUNTIF($G$10:$G21,G21)<2,$G21,\" \")","v":" "},1000,{"$f":"IF(COUNTIF($G$10:$G21,G21)<3,$G21,\" \")","v":" "},12,"",1000]
[13,null,{"$f":"IF(A22>0,(VLOOKUP($A22,'Engag Pre'!$A$10:$G$74,3,FALSE)),\" \")","v":{"$error":"#N/A"}},{"$f":"IF(B22>0,(VLOOKUP($B22,'Engag Min'!$A$10:$G$109,7,FALSE)),\" \")","v":" "},{"$f":"IF(B22>0,(VLOOKUP($B22,'Engag Min'!$A$10:$G$109,3,FALSE)),\" \")","v":" "},{"$f":"IF(B22>0,(VLOOKUP($B22,'Engag Min'!$A$10:$G$109,4,FALSE)),\" \")","v":" "},{"$f":"IF(B22>0,(VLOOKUP($B22,'Engag Min'!$A$10:$G$109,5,FALSE)),\" \")","v":" "},{"$f":"IF(B22>0,(VLOOKUP($B22,'Engag Min'!$A$10:$G$109,6,FALSE)),\" \")","v":" "},null,null," ",{"$f":"IF(COUNTIF($G$10:$G22,G22)<2,$G22,\" \")","v":" "},1000,{"$f":"IF(COUNTIF($G$10:$G22,G22)<3,$G22,\" \")","v":" "},13,"",1000]
[14,null,{"$f":"IF(A23>0,(VLOOKUP($A23,'Engag Pre'!$A$10:$G$74,3,FALSE)),\" \")","v":{"$error":"#N/A"}},{"$f":"IF(B23>0,(VLOOKUP($B23,'Engag Min'!$A$10:$G$109,7,FALSE)),\" \")","v":" "},{"$f":"IF(B23>0,(VLOOKUP($B23,'Engag Min'!$A$10:$G$109,3,FALSE)),\" \")","v":" "},{"$f":"IF(B23>0,(VLOOKUP($B23,'Engag Min'!$A$10:$G$109,4,FALSE)),\" \")","v":" "},{"$f":"IF(B23>0,(VLOOKUP($B23,'Engag Min'!$A$10:$G$109,5,FALSE)),\" \")","v":" "},{"$f":"IF(B23>0,(VLOOKUP($B23,'Engag Min'!$A$10:$G$109,6,FALSE)),\" \")","v":" "},null,null," ",{"$f":"IF(COUNTIF($G$10:$G23,G23)<2,$G23,\" \")","v":" "},1000,{"$f":"IF(COUNTIF($G$10:$G23,G23)<3,$G23,\" \")","v":" "},14,"",1000]
[15,null,{"$f":"IF(A24>0,(VLOOKUP($A24,'Engag Pre'!$A$10:$G$74,3,FALSE)),\" \")","v":{"$error":"#N/A"}},{"$f":"IF(B24>0,(VLOOKUP($B24,'Engag Min'!$A$10:$G$109,7,FALSE)),\" \")","v":" "},{"$f":"IF(B24>0,(VLOOKUP($B24,'Engag Min'!$A$10:$G$109,3,FALSE)),\" \")","v":" "},{"$f":"IF(B24>0,(VLOOKUP($B24,'Engag Min'!$A$10:$G$109,4,FALSE)),\" \")","v":" "},{"$f":"IF(B24>0,(VLOOKUP($B24,'Engag Min'!$A$10:$G$109,5,FALSE)),\" \")","v":" "},{"$f":"IF(B24>0,(VLOOKUP($B24,'Engag Min'!$A$10:$G$109,6,FALSE)),\" \")","v":" "},null,null," ",{"$f":"IF(COUNTIF($G$10:$G24,G24)<2,$G24,\" \")","v":" "},1000,{"$f":"IF(COUNTIF($G$10:$G24,G24)<3,$G24,\" \")","v":" "},15,"",1000]
[16,null,{"$f":"IF(A25>0,(VLOOKUP($A25,'Engag Pre'!$A$10:$G$74,3,FALSE)),\" \")","v":{"$error":"#N/A"}},{"$f":"IF(B25>0,(VLOOKUP($B25,'Engag Min'!$A$10:$G$109,7,FALSE)),\" \")","v":" "},{"$f":"IF(B25>0,(VLOOKUP($B25,'Engag Min'!$A$10:$G$109,3,FALSE)),\" \")","v":" "},{"$f":"IF(B25>0,(VLOOKUP($B25,'Engag Min'!$A$10:$G$109,4,FALSE)),\" \")","v":" "},{"$f":"IF(B25>0,(VLOOKUP($B25,'Engag Min'!$A$10:$G$109,5,FALSE)),\" \")","v":" "},{"$f":"IF(B25>0,(VLOOKUP($B25,'Engag Min'!$A$10:$G$109,6,FALSE)),\" \")","v":" "},null,null," ",{"$f":"IF(COUNTIF($G$10:$G25,G25)<2,$G25,\" \")","v":" "},1000,{"$f":"IF(COUNTIF($G$10:$G25,G25)<3,$G25,\" \")","v":" "},16,"",1000]
[17,null,{"$f":"IF(A26>0,(VLOOKUP($A26,'Engag Pre'!$A$10:$G$74,3,FALSE)),\" \")","v":{"$error":"#N/A"}},{"$f":"IF(B26>0,(VLOOKUP($B26,'Engag Min'!$A$10:$G$109,7,FALSE)),\" \")","v":" "},{"$f":"IF(B26>0,(VLOOKUP($B26,'Engag Min'!$A$10:$G$109,3,FALSE)),\" \")","v":" "},{"$f":"IF(B26>0,(VLOOKUP($B26,'Engag Min'!$A$10:$G$109,4,FALSE)),\" \")","v":" "},{"$f":"IF(B26>0,(VLOOKUP($B26,'Engag Min'!$A$10:$G$109,5,FALSE)),\" \")","v":" "},{"$f":"IF(B26>0,(VLOOKUP($B26,'Engag Min'!$A$10:$G$109,6,FALSE)),\" \")","v":" "},null,null," ",{"$f":"IF(COUNTIF($G$10:$G26,G26)<2,$G26,\" \")","v":" "},1000,{"$f":"IF(COUNTIF($G$10:$G26,G26)<3,$G26,\" \")","v":" "},17,"",1000]
[18,null,{"$f":"IF(A27>0,(VLOOKUP($A27,'Engag Pre'!$A$10:$G$74,3,FALSE)),\" \")","v":{"$error":"#N/A"}},{"$f":"IF(B27>0,(VLOOKUP($B27,'Engag Min'!$A$10:$G$109,7,FALSE)),\" \")","v":" "},{"$f":"IF(B27>0,(VLOOKUP($B27,'Engag Min'!$A$10:$G$109,3,FALSE)),\" \")","v":" "},{"$f":"IF(B27>0,(VLOOKUP($B27,'Engag Min'!$A$10:$G$109,4,FALSE)),\" \")","v":" "},{"$f":"IF(B27>0,(VLOOKUP($B27,'Engag Min'!$A$10:$G$109,5,FALSE)),\" \")","v":" "},{"$f":"IF(B27>0,(VLOOKUP($B27,'Engag Min'!$A$10:$G$109,6,FALSE)),\" \")","v":" "},null,null," ",{"$f":"IF(COUNTIF($G$10:$G27,G27)<2,$G27,\" \")","v":" "},1000,{"$f":"IF(COUNTIF($G$10:$G27,G27)<3,$G27,\" \")","v":" "},18,"",1000]
[19,null,{"$f":"IF(A28>0,(VLOOKUP($A28,'Engag Pre'!$A$10:$G$74,3,FALSE)),\" \")","v":{"$error":"#N/A"}},{"$f":"IF(B28>0,(VLOOKUP($B28,'Engag Min'!$A$10:$G$109,7,FALSE)),\" \")","v":" "},{"$f":"IF(B28>0,(VLOOKUP($B28,'Engag Min'!$A$10:$G$109,3,FALSE)),\" \")","v":" "},{"$f":"IF(B28>0,(VLOOKUP($B28,'Engag Min'!$A$10:$G$109,4,FALSE)),\" \")","v":" "},{"$f":"IF(B28>0,(VLOOKUP($B28,'Engag Min'!$A$10:$G$109,5,FALSE)),\" \")","v":" "},{"$f":"IF(B28>0,(VLOOKUP($B28,'Engag Min'!$A$10:$G$109,6,FALSE)),\" \")","v":" "},null,null," ",{"$f":"IF(COUNTIF($G$10:$G28,G28)<2,$G28,\" \")","v":" "},1000,{"$f":"IF(COUNTIF($G$10:$G28,G28)<3,$G28,\" \")","v":" "},19,"",1000]
[20,null,{"$f":"IF(A29>0,(VLOOKUP($A29,'Engag Pre'!$A$10:$G$74,3,FALSE)),\" \")","v":{"$error":"#N/A"}},{"$f":"IF(B29>0,(VLOOKUP($B29,'Engag Min'!$A$10:$G$109,7,FALSE)),\" \")","v":" "},{"$f":"IF(B29>0,(VLOOKUP($B29,'Engag Min'!$A$10:$G$109,3,FALSE)),\" \")","v":" "},{"$f":"IF(B29>0,(VLOOKUP($B29,'Engag Min'!$A$10:$G$109,4,FALSE)),\" \")","v":" "},{"$f":"IF(B29>0,(VLOOKUP($B29,'Engag Min'!$A$10:$G$109,5,FALSE)),\" \")","v":" "},{"$f":"IF(B29>0,(VLOOKUP($B29,'Engag Min'!$A$10:$G$109,6,FALSE)),\" \")","v":" "},null,null," ",{"$f":"IF(COUNTIF($G$10:$G29,G29)<2,$G29,\" \")","v":" "},1000,{"$f":"IF(COUNTIF($G$10:$G29,G29)<3,$G29,\" \")","v":" "},20,"",1000]
[21,null,{"$f":"IF(A30>0,(VLOOKUP($A30,'Engag Pre'!$A$10:$G$74,3,FALSE)),\" \")","v":{"$error":"#N/A"}},{"$f":"IF(B30>0,(VLOOKUP($B30,'Engag Min'!$A$10:$G$109,7,FALSE)),\" \")","v":" "},{"$f":"IF(B30>0,(VLOOKUP($B30,'Engag Min'!$A$10:$G$109,3,FALSE)),\" \")","v":" "},{"$f":"IF(B30>0,(VLOOKUP($B30,'Engag Min'!$A$10:$G$109,4,FALSE)),\" \")","v":" "},{"$f":"IF(B30>0,(VLOOKUP($B30,'Engag Min'!$A$10:$G$109,5,FALSE)),\" \")","v":" "},{"$f":"IF(B30>0,(VLOOKUP($B30,'Engag Min'!$A$10:$G$109,6,FALSE)),\" \")","v":" "},null,null," ",{"$f":"IF(COUNTIF($G$10:$G30,G30)<2,$G30,\" \")","v":" "},1000,{"$f":"IF(COUNTIF($G$10:$G30,G30)<3,$G30,\" \")","v":" "},21,"",1000]
[22,null,{"$f":"IF(A31>0,(VLOOKUP($A31,'Engag Pre'!$A$10:$G$74,3,FALSE)),\" \")","v":{"$error":"#N/A"}},{"$f":"IF(B31>0,(VLOOKUP($B31,'Engag Min'!$A$10:$G$109,7,FALSE)),\" \")","v":" "},{"$f":"IF(B31>0,(VLOOKUP($B31,'Engag Min'!$A$10:$G$109,3,FALSE)),\" \")","v":" "},{"$f":"IF(B31>0,(VLOOKUP($B31,'Engag Min'!$A$10:$G$109,4,FALSE)),\" \")","v":" "},{"$f":"IF(B31>0,(VLOOKUP($B31,'Engag Min'!$A$10:$G$109,5,FALSE)),\" \")","v":" "},{"$f":"IF(B31>0,(VLOOKUP($B31,'Engag Min'!$A$10:$G$109,6,FALSE)),\" \")","v":" "},null,null," ",{"$f":"IF(COUNTIF($G$10:$G31,G31)<2,$G31,\" \")","v":" "},1000,{"$f":"IF(COUNTIF($G$10:$G31,G31)<3,$G31,\" \")","v":" "},22,"",1000]
[23,null,{"$f":"IF(A32>0,(VLOOKUP($A32,'Engag Pre'!$A$10:$G$74,3,FALSE)),\" \")","v":{"$error":"#N/A"}},{"$f":"IF(B32>0,(VLOOKUP($B32,'Engag Min'!$A$10:$G$109,7,FALSE)),\" \")","v":" "},{"$f":"IF(B32>0,(VLOOKUP($B32,'Engag Min'!$A$10:$G$109,3,FALSE)),\" \")","v":" "},{"$f":"IF(B32>0,(VLOOKUP($B32,'Engag Min'!$A$10:$G$109,4,FALSE)),\" \")","v":" "},{"$f":"IF(B32>0,(VLOOKUP($B32,'Engag Min'!$A$10:$G$109,5,FALSE)),\" \")","v":" "},{"$f":"IF(B32>0,(VLOOKUP($B32,'Engag Min'!$A$10:$G$109,6,FALSE)),\" \")","v":" "},null,null," ",{"$f":"IF(COUNTIF($G$10:$G32,G32)<2,$G32,\" \")","v":" "},1000,{"$f":"IF(COUNTIF($G$10:$G32,G32)<3,$G32,\" \")","v":" "},23,"",1000]
[24,null,{"$f":"IF(A33>0,(VLOOKUP($A33,'Engag Pre'!$A$10:$G$74,3,FALSE)),\" \")","v":{"$error":"#N/A"}},{"$f":"IF(B33>0,(VLOOKUP($B33,'Engag Min'!$A$10:$G$109,7,FALSE)),\" \")","v":" "},{"$f":"IF(B33>0,(VLOOKUP($B33,'Engag Min'!$A$10:$G$109,3,FALSE)),\" \")","v":" "},{"$f":"IF(B33>0,(VLOOKUP($B33,'Engag Min'!$A$10:$G$109,4,FALSE)),\" \")","v":" "},{"$f":"IF(B33>0,(VLOOKUP($B33,'Engag Min'!$A$10:$G$109,5,FALSE)),\" \")","v":" "},{"$f":"IF(B33>0,(VLOOKUP($B33,'Engag Min'!$A$10:$G$109,6,FALSE)),\" \")","v":" "},null,null," ",{"$f":"IF(COUNTIF($G$10:$G33,G33)<2,$G33,\" \")","v":" "},1000,{"$f":"IF(COUNTIF($G$10:$G33,G33)<3,$G33,\" \")","v":" "},24,"",1000]
[25,null,{"$f":"IF(A34>0,(VLOOKUP($A34,'Engag Pre'!$A$10:$G$74,3,FALSE)),\" \")","v":{"$error":"#N/A"}},{"$f":"IF(B34>0,(VLOOKUP($B34,'Engag Min'!$A$10:$G$109,7,FALSE)),\" \")","v":" "},{"$f":"IF(B34>0,(VLOOKUP($B34,'Engag Min'!$A$10:$G$109,3,FALSE)),\" \")","v":" "},{"$f":"IF(B34>0,(VLOOKUP($B34,'Engag Min'!$A$10:$G$109,4,FALSE)),\" \")","v":" "},{"$f":"IF(B34>0,(VLOOKUP($B34,'Engag Min'!$A$10:$G$109,5,FALSE)),\" \")","v":" "},{"$f":"IF(B34>0,(VLOOKUP($B34,'Engag Min'!$A$10:$G$109,6,FALSE)),\" \")","v":" "},null,null," ",{"$f":"IF(COUNTIF($G$10:$G34,G34)<2,$G34,\" \")","v":" "},1000,{"$f":"IF(COUNTIF($G$10:$G34,G34)<3,$G34,\" \")","v":" "},25,"",1000]
[26,null,{"$f":"IF(A35>0,(VLOOKUP($A35,'Engag Pre'!$A$10:$G$74,3,FALSE)),\" \")","v":{"$error":"#N/A"}},{"$f":"IF(B35>0,(VLOOKUP($B35,'Engag Min'!$A$10:$G$109,7,FALSE)),\" \")","v":" "},{"$f":"IF(B35>0,(VLOOKUP($B35,'Engag Min'!$A$10:$G$109,3,FALSE)),\" \")","v":" "},{"$f":"IF(B35>0,(VLOOKUP($B35,'Engag Min'!$A$10:$G$109,4,FALSE)),\" \")","v":" "},{"$f":"IF(B35>0,(VLOOKUP($B35,'Engag Min'!$A$10:$G$109,5,FALSE)),\" \")","v":" "},{"$f":"IF(B35>0,(VLOOKUP($B35,'Engag Min'!$A$10:$G$109,6,FALSE)),\" \")","v":" "},null,null," ",{"$f":"IF(COUNTIF($G$10:$G35,G35)<2,$G35,\" \")","v":" "},1000,{"$f":"IF(COUNTIF($G$10:$G35,G35)<3,$G35,\" \")","v":" "},26,"",1000]
[27,null,{"$f":"IF(A36>0,(VLOOKUP($A36,'Engag Pre'!$A$10:$G$74,3,FALSE)),\" \")","v":{"$error":"#N/A"}},{"$f":"IF(B36>0,(VLOOKUP($B36,'Engag Min'!$A$10:$G$109,7,FALSE)),\" \")","v":" "},{"$f":"IF(B36>0,(VLOOKUP($B36,'Engag Min'!$A$10:$G$109,3,FALSE)),\" \")","v":" "},{"$f":"IF(B36>0,(VLOOKUP($B36,'Engag Min'!$A$10:$G$109,4,FALSE)),\" \")","v":" "},{"$f":"IF(B36>0,(VLOOKUP($B36,'Engag Min'!$A$10:$G$109,5,FALSE)),\" \")","v":" "},{"$f":"IF(B36>0,(VLOOKUP($B36,'Engag Min'!$A$10:$G$109,6,FALSE)),\" \")","v":" "},null,null," ",{"$f":"IF(COUNTIF($G$10:$G36,G36)<2,$G36,\" \")","v":" "},1000,{"$f":"IF(COUNTIF($G$10:$G36,G36)<3,$G36,\" \")","v":" "},27,"",1000]
[28,null,{"$f":"IF(A37>0,(VLOOKUP($A37,'Engag Pre'!$A$10:$G$74,3,FALSE)),\" \")","v":{"$error":"#N/A"}},{"$f":"IF(B37>0,(VLOOKUP($B37,'Engag Min'!$A$10:$G$109,7,FALSE)),\" \")","v":" "},{"$f":"IF(B37>0,(VLOOKUP($B37,'Engag Min'!$A$10:$G$109,3,FALSE)),\" \")","v":" "},{"$f":"IF(B37>0,(VLOOKUP($B37,'Engag Min'!$A$10:$G$109,4,FALSE)),\" \")","v":" "},{"$f":"IF(B37>0,(VLOOKUP($B37,'Engag Min'!$A$10:$G$109,5,FALSE)),\" \")","v":" "},{"$f":"IF(B37>0,(VLOOKUP($B37,'Engag Min'!$A$10:$G$109,6,FALSE)),\" \")","v":" "},null,null," ",{"$f":"IF(COUNTIF($G$10:$G37,G37)<2,$G37,\" \")","v":" "},1000,{"$f":"IF(COUNTIF($G$10:$G37,G37)<3,$G37,\" \")","v":" "},28,"",1000]
[29,null,{"$f":"IF(A38>0,(VLOOKUP($A38,'Engag Pre'!$A$10:$G$74,3,FALSE)),\" \")","v":{"$error":"#N/A"}},{"$f":"IF(B38>0,(VLOOKUP($B38,'Engag Min'!$A$10:$G$109,7,FALSE)),\" \")","v":" "},{"$f":"IF(B38>0,(VLOOKUP($B38,'Engag Min'!$A$10:$G$109,3,FALSE)),\" \")","v":" "},{"$f":"IF(B38>0,(VLOOKUP($B38,'Engag Min'!$A$10:$G$109,4,FALSE)),\" \")","v":" "},{"$f":"IF(B38>0,(VLOOKUP($B38,'Engag Min'!$A$10:$G$109,5,FALSE)),\" \")","v":" "},{"$f":"IF(B38>0,(VLOOKUP($B38,'Engag Min'!$A$10:$G$109,6,FALSE)),\" \")","v":" "},null,null," ",{"$f":"IF(COUNTIF($G$10:$G38,G38)<2,$G38,\" \")","v":" "},1000,{"$f":"IF(COUNTIF($G$10:$G38,G38)<3,$G38,\" \")","v":" "},29,"",1000]
[30,null,{"$f":"IF(A39>0,(VLOOKUP($A39,'Engag Pre'!$A$10:$G$74,3,FALSE)),\" \")","v":{"$error":"#N/A"}},{"$f":"IF(B39>0,(VLOOKUP($B39,'Engag Min'!$A$10:$G$109,7,FALSE)),\" \")","v":" "},{"$f":"IF(B39>0,(VLOOKUP($B39,'Engag Min'!$A$10:$G$109,3,FALSE)),\" \")","v":" "},{"$f":"IF(B39>0,(VLOOKUP($B39,'Engag Min'!$A$10:$G$109,4,FALSE)),\" \")","v":" "},{"$f":"IF(B39>0,(VLOOKUP($B39,'Engag Min'!$A$10:$G$109,5,FALSE)),\" \")","v":" "},{"$f":"IF(B39>0,(VLOOKUP($B39,'Engag Min'!$A$10:$G$109,6,FALSE)),\" \")","v":" "},null,null," ",{"$f":"IF(COUNTIF($G$10:$G39,G39)<2,$G39,\" \")","v":" "},1000,{"$f":"IF(COUNTIF($G$10:$G39,G39)<3,$G39,\" \")","v":" "},30,"",1000]
[31,null,{"$f":"IF(A40>0,(VLOOKUP($A40,'Engag Pre'!$A$10:$G$74,3,FALSE)),\" \")","v":{"$error":"#N/A"}},{"$f":"IF(B40>0,(VLOOKUP($B40,'Engag Min'!$A$10:$G$109,7,FALSE)),\" \")","v":" "},{"$f":"IF(B40>0,(VLOOKUP($B40,'Engag Min'!$A$10:$G$109,3,FALSE)),\" \")","v":" "},{"$f":"IF(B40>0,(VLOOKUP($B40,'Engag Min'!$A$10:$G$109,4,FALSE)),\" \")","v":" "},{"$f":"IF(B40>0,(VLOOKUP($B40,'Engag Min'!$A$10:$G$109,5,FALSE)),\" \")","v":" "},{"$f":"IF(B40>0,(VLOOKUP($B40,'Engag Min'!$A$10:$G$109,6,FALSE)),\" \")","v":" "},null,null," ",{"$f":"IF(COUNTIF($G$10:$G40,G40)<2,$G40,\" \")","v":" "},1000,{"$f":"IF(COUNTIF($G$10:$G40,G40)<3,$G40,\" \")","v":" "},31,"",1000]
[32,null,{"$f":"IF(A41>0,(VLOOKUP($A41,'Engag Pre'!$A$10:$G$74,3,FALSE)),\" \")","v":{"$error":"#N/A"}},{"$f":"IF(B41>0,(VLOOKUP($B41,'Engag Min'!$A$10:$G$109,7,FALSE)),\" \")","v":" "},{"$f":"IF(B41>0,(VLOOKUP($B41,'Engag Min'!$A$10:$G$109,3,FALSE)),\" \")","v":" "},{"$f":"IF(B41>0,(VLOOKUP($B41,'Engag Min'!$A$10:$G$109,4,FALSE)),\" \")","v":" "},{"$f":"IF(B41>0,(VLOOKUP($B41,'Engag Min'!$A$10:$G$109,5,FALSE)),\" \")","v":" "},{"$f":"IF(B41>0,(VLOOKUP($B41,'Engag Min'!$A$10:$G$109,6,FALSE)),\" \")","v":" "},null,null," ",{"$f":"IF(COUNTIF($G$10:$G41,G41)<2,$G41,\" \")","v":" "},1000,{"$f":"IF(COUNTIF($G$10:$G41,G41)<3,$G41,\" \")","v":" "},32,"",1000]
[33,null,{"$f":"IF(A42>0,(VLOOKUP($A42,'Engag Pre'!$A$10:$G$74,3,FALSE)),\" \")","v":{"$error":"#N/A"}},{"$f":"IF(B42>0,(VLOOKUP($B42,'Engag Min'!$A$10:$G$109,7,FALSE)),\" \")","v":" "},{"$f":"IF(B42>0,(VLOOKUP($B42,'Engag Min'!$A$10:$G$109,3,FALSE)),\" \")","v":" "},{"$f":"IF(B42>0,(VLOOKUP($B42,'Engag Min'!$A$10:$G$109,4,FALSE)),\" \")","v":" "},{"$f":"IF(B42>0,(VLOOKUP($B42,'Engag Min'!$A$10:$G$109,5,FALSE)),\" \")","v":" "},{"$f":"IF(B42>0,(VLOOKUP($B42,'Engag Min'!$A$10:$G$109,6,FALSE)),\" \")","v":" "},null,null," ",{"$f":"IF(COUNTIF($G$10:$G42,G42)<2,$G42,\" \")","v":" "},1000,{"$f":"IF(COUNTIF($G$10:$G42,G42)<3,$G42,\" \")","v":" "},33,"",1000]
[34,null,{"$f":"IF(A43>0,(VLOOKUP($A43,'Engag Pre'!$A$10:$G$74,3,FALSE)),\" \")","v":{"$error":"#N/A"}},{"$f":"IF(B43>0,(VLOOKUP($B43,'Engag Min'!$A$10:$G$109,7,FALSE)),\" \")","v":" "},{"$f":"IF(B43>0,(VLOOKUP($B43,'Engag Min'!$A$10:$G$109,3,FALSE)),\" \")","v":" "},{"$f":"IF(B43>0,(VLOOKUP($B43,'Engag Min'!$A$10:$G$109,4,FALSE)),\" \")","v":" "},{"$f":"IF(B43>0,(VLOOKUP($B43,'Engag Min'!$A$10:$G$109,5,FALSE)),\" \")","v":" "},{"$f":"IF(B43>0,(VLOOKUP($B43,'Engag Min'!$A$10:$G$109,6,FALSE)),\" \")","v":" "},null,null," ",{"$f":"IF(COUNTIF($G$10:$G43,G43)<2,$G43,\" \")","v":" "},1000,{"$f":"IF(COUNTIF($G$10:$G43,G43)<3,$G43,\" \")","v":" "},34,"",1000]
[35,null,{"$f":"IF(A44>0,(VLOOKUP($A44,'Engag Pre'!$A$10:$G$74,3,FALSE)),\" \")","v":{"$error":"#N/A"}},{"$f":"IF(B44>0,(VLOOKUP($B44,'Engag Min'!$A$10:$G$109,7,FALSE)),\" \")","v":" "},{"$f":"IF(B44>0,(VLOOKUP($B44,'Engag Min'!$A$10:$G$109,3,FALSE)),\" \")","v":" "},{"$f":"IF(B44>0,(VLOOKUP($B44,'Engag Min'!$A$10:$G$109,4,FALSE)),\" \")","v":" "},{"$f":"IF(B44>0,(VLOOKUP($B44,'Engag Min'!$A$10:$G$109,5,FALSE)),\" \")","v":" "},{"$f":"IF(B44>0,(VLOOKUP($B44,'Engag Min'!$A$10:$G$109,6,FALSE)),\" \")","v":" "},null,null," ",{"$f":"IF(COUNTIF($G$10:$G44,G44)<2,$G44,\" \")","v":" "},1000,{"$f":"IF(COUNTIF($G$10:$G44,G44)<3,$G44,\" \")","v":" "},35,"",1000]
[36,null,{"$f":"IF(A45>0,(VLOOKUP($A45,'Engag Pre'!$A$10:$G$74,3,FALSE)),\" \")","v":{"$error":"#N/A"}},{"$f":"IF(B45>0,(VLOOKUP($B45,'Engag Min'!$A$10:$G$109,7,FALSE)),\" \")","v":" "},{"$f":"IF(B45>0,(VLOOKUP($B45,'Engag Min'!$A$10:$G$109,3,FALSE)),\" \")","v":" "},{"$f":"IF(B45>0,(VLOOKUP($B45,'Engag Min'!$A$10:$G$109,4,FALSE)),\" \")","v":" "},{"$f":"IF(B45>0,(VLOOKUP($B45,'Engag Min'!$A$10:$G$109,5,FALSE)),\" \")","v":" "},{"$f":"IF(B45>0,(VLOOKUP($B45,'Engag Min'!$A$10:$G$109,6,FALSE)),\" \")","v":" "},null,null," ",{"$f":"IF(COUNTIF($G$10:$G45,G45)<2,$G45,\" \")","v":" "},1000,{"$f":"IF(COUNTIF($G$10:$G45,G45)<3,$G45,\" \")","v":" "},36,"",1000]
[37,null,{"$f":"IF(A46>0,(VLOOKUP($A46,'Engag Pre'!$A$10:$G$74,3,FALSE)),\" \")","v":{"$error":"#N/A"}},{"$f":"IF(B46>0,(VLOOKUP($B46,'Engag Min'!$A$10:$G$109,7,FALSE)),\" \")","v":" "},{"$f":"IF(B46>0,(VLOOKUP($B46,'Engag Min'!$A$10:$G$109,3,FALSE)),\" \")","v":" "},{"$f":"IF(B46>0,(VLOOKUP($B46,'Engag Min'!$A$10:$G$109,4,FALSE)),\" \")","v":" "},{"$f":"IF(B46>0,(VLOOKUP($B46,'Engag Min'!$A$10:$G$109,5,FALSE)),\" \")","v":" "},{"$f":"IF(B46>0,(VLOOKUP($B46,'Engag Min'!$A$10:$G$109,6,FALSE)),\" \")","v":" "},null,null," ",{"$f":"IF(COUNTIF($G$10:$G46,G46)<2,$G46,\" \")","v":" "},1000,{"$f":"IF(COUNTIF($G$10:$G46,G46)<3,$G46,\" \")","v":" "},37,"",1000]
[38,null,{"$f":"IF(A47>0,(VLOOKUP($A47,'Engag Pre'!$A$10:$G$74,3,FALSE)),\" \")","v":{"$error":"#N/A"}},{"$f":"IF(B47>0,(VLOOKUP($B47,'Engag Min'!$A$10:$G$109,7,FALSE)),\" \")","v":" "},{"$f":"IF(B47>0,(VLOOKUP($B47,'Engag Min'!$A$10:$G$109,3,FALSE)),\" \")","v":" "},{"$f":"IF(B47>0,(VLOOKUP($B47,'Engag Min'!$A$10:$G$109,4,FALSE)),\" \")","v":" "},{"$f":"IF(B47>0,(VLOOKUP($B47,'Engag Min'!$A$10:$G$109,5,FALSE)),\" \")","v":" "},{"$f":"IF(B47>0,(VLOOKUP($B47,'Engag Min'!$A$10:$G$109,6,FALSE)),\" \")","v":" "},null,null," ",{"$f":"IF(COUNTIF($G$10:$G47,G47)<2,$G47,\" \")","v":" "},1000,{"$f":"IF(COUNTIF($G$10:$G47,G47)<3,$G47,\" \")","v":" "},38,"",1000]
[39,null,{"$f":"IF(A48>0,(VLOOKUP($A48,'Engag Pre'!$A$10:$G$74,3,FALSE)),\" \")","v":{"$error":"#N/A"}},{"$f":"IF(B48>0,(VLOOKUP($B48,'Engag Min'!$A$10:$G$109,7,FALSE)),\" \")","v":" "},{"$f":"IF(B48>0,(VLOOKUP($B48,'Engag Min'!$A$10:$G$109,3,FALSE)),\" \")","v":" "},{"$f":"IF(B48>0,(VLOOKUP($B48,'Engag Min'!$A$10:$G$109,4,FALSE)),\" \")","v":" "},{"$f":"IF(B48>0,(VLOOKUP($B48,'Engag Min'!$A$10:$G$109,5,FALSE)),\" \")","v":" "},{"$f":"IF(B48>0,(VLOOKUP($B48,'Engag Min'!$A$10:$G$109,6,FALSE)),\" \")","v":" "},null,null," ",{"$f":"IF(COUNTIF($G$10:$G48,G48)<2,$G48,\" \")","v":" "},1000,{"$f":"IF(COUNTIF($G$10:$G48,G48)<3,$G48,\" \")","v":" "},39,"",1000]
[40,null,{"$f":"IF(A49>0,(VLOOKUP($A49,'Engag Pre'!$A$10:$G$74,3,FALSE)),\" \")","v":{"$error":"#N/A"}},{"$f":"IF(B49>0,(VLOOKUP($B49,'Engag Min'!$A$10:$G$109,7,FALSE)),\" \")","v":" "},{"$f":"IF(B49>0,(VLOOKUP($B49,'Engag Min'!$A$10:$G$109,3,FALSE)),\" \")","v":" "},{"$f":"IF(B49>0,(VLOOKUP($B49,'Engag Min'!$A$10:$G$109,4,FALSE)),\" \")","v":" "},{"$f":"IF(B49>0,(VLOOKUP($B49,'Engag Min'!$A$10:$G$109,5,FALSE)),\" \")","v":" "},{"$f":"IF(B49>0,(VLOOKUP($B49,'Engag Min'!$A$10:$G$109,6,FALSE)),\" \")","v":" "},null,null," ",{"$f":"IF(COUNTIF($G$10:$G49,G49)<2,$G49,\" \")","v":" "},1000,{"$f":"IF(COUNTIF($G$10:$G49,G49)<3,$G49,\" \")","v":" "},40,"",1000]
[41,null,{"$f":"IF(A50>0,(VLOOKUP($A50,'Engag Pre'!$A$10:$G$74,3,FALSE)),\" \")","v":{"$error":"#N/A"}},{"$f":"IF(B50>0,(VLOOKUP($B50,'Engag Min'!$A$10:$G$109,7,FALSE)),\" \")","v":" "},{"$f":"IF(B50>0,(VLOOKUP($B50,'Engag Min'!$A$10:$G$109,3,FALSE)),\" \")","v":" "},{"$f":"IF(B50>0,(VLOOKUP($B50,'Engag Min'!$A$10:$G$109,4,FALSE)),\" \")","v":" "},{"$f":"IF(B50>0,(VLOOKUP($B50,'Engag Min'!$A$10:$G$109,5,FALSE)),\" \")","v":" "},{"$f":"IF(B50>0,(VLOOKUP($B50,'Engag Min'!$A$10:$G$109,6,FALSE)),\" \")","v":" "},null,null," ",{"$f":"IF(COUNTIF($G$10:$G50,G50)<2,$G50,\" \")","v":" "},1000,{"$f":"IF(COUNTIF($G$10:$G50,G50)<3,$G50,\" \")","v":" "},41,"",1000]
[42,null,{"$f":"IF(A51>0,(VLOOKUP($A51,'Engag Pre'!$A$10:$G$74,3,FALSE)),\" \")","v":{"$error":"#N/A"}},{"$f":"IF(B51>0,(VLOOKUP($B51,'Engag Min'!$A$10:$G$109,7,FALSE)),\" \")","v":" "},{"$f":"IF(B51>0,(VLOOKUP($B51,'Engag Min'!$A$10:$G$109,3,FALSE)),\" \")","v":" "},{"$f":"IF(B51>0,(VLOOKUP($B51,'Engag Min'!$A$10:$G$109,4,FALSE)),\" \")","v":" "},{"$f":"IF(B51>0,(VLOOKUP($B51,'Engag Min'!$A$10:$G$109,5,FALSE)),\" \")","v":" "},{"$f":"IF(B51>0,(VLOOKUP($B51,'Engag Min'!$A$10:$G$109,6,FALSE)),\" \")","v":" "},null,null," ",{"$f":"IF(COUNTIF($G$10:$G51,G51)<2,$G51,\" \")","v":" "},1000,{"$f":"IF(COUNTIF($G$10:$G51,G51)<3,$G51,\" \")","v":" "},42,"",1000]
[43,null,{"$f":"IF(A52>0,(VLOOKUP($A52,'Engag Pre'!$A$10:$G$74,3,FALSE)),\" \")","v":{"$error":"#N/A"}},{"$f":"IF(B52>0,(VLOOKUP($B52,'Engag Min'!$A$10:$G$109,7,FALSE)),\" \")","v":" "},{"$f":"IF(B52>0,(VLOOKUP($B52,'Engag Min'!$A$10:$G$109,3,FALSE)),\" \")","v":" "},{"$f":"IF(B52>0,(VLOOKUP($B52,'Engag Min'!$A$10:$G$109,4,FALSE)),\" \")","v":" "},{"$f":"IF(B52>0,(VLOOKUP($B52,'Engag Min'!$A$10:$G$109,5,FALSE)),\" \")","v":" "},{"$f":"IF(B52>0,(VLOOKUP($B52,'Engag Min'!$A$10:$G$109,6,FALSE)),\" \")","v":" "},null,null," ",{"$f":"IF(COUNTIF($G$10:$G52,G52)<2,$G52,\" \")","v":" "},1000,{"$f":"IF(COUNTIF($G$10:$G52,G52)<3,$G52,\" \")","v":" "},43,"",1000]
[44,null,{"$f":"IF(A53>0,(VLOOKUP($A53,'Engag Pre'!$A$10:$G$74,3,FALSE)),\" \")","v":{"$error":"#N/A"}},{"$f":"IF(B53>0,(VLOOKUP($B53,'Engag Min'!$A$10:$G$109,7,FALSE)),\" \")","v":" "},{"$f":"IF(B53>0,(VLOOKUP($B53,'Engag Min'!$A$10:$G$109,3,FALSE)),\" \")","v":" "},{"$f":"IF(B53>0,(VLOOKUP($B53,'Engag Min'!$A$10:$G$109,4,FALSE)),\" \")","v":" "},{"$f":"IF(B53>0,(VLOOKUP($B53,'Engag Min'!$A$10:$G$109,5,FALSE)),\" \")","v":" "},{"$f":"IF(B53>0,(VLOOKUP($B53,'Engag Min'!$A$10:$G$109,6,FALSE)),\" \")","v":" "},null,null," ",{"$f":"IF(COUNTIF($G$10:$G53,G53)<2,$G53,\" \")","v":" "},1000,{"$f":"IF(COUNTIF($G$10:$G53,G53)<3,$G53,\" \")","v":" "},44,"",1000]
[45,null,{"$f":"IF(A54>0,(VLOOKUP($A54,'Engag Pre'!$A$10:$G$74,3,FALSE)),\" \")","v":{"$error":"#N/A"}},{"$f":"IF(B54>0,(VLOOKUP($B54,'Engag Min'!$A$10:$G$109,7,FALSE)),\" \")","v":" "},{"$f":"IF(B54>0,(VLOOKUP($B54,'Engag Min'!$A$10:$G$109,3,FALSE)),\" \")","v":" "},{"$f":"IF(B54>0,(VLOOKUP($B54,'Engag Min'!$A$10:$G$109,4,FALSE)),\" \")","v":" "},{"$f":"IF(B54>0,(VLOOKUP($B54,'Engag Min'!$A$10:$G$109,5,FALSE)),\" \")","v":" "},{"$f":"IF(B54>0,(VLOOKUP($B54,'Engag Min'!$A$10:$G$109,6,FALSE)),\" \")","v":" "},null,null," ",{"$f":"IF(COUNTIF($G$10:$G54,G54)<2,$G54,\" \")","v":" "},1000,{"$f":"IF(COUNTIF($G$10:$G54,G54)<3,$G54,\" \")","v":" "},45,"",1000]
[46,null,{"$f":"IF(A55>0,(VLOOKUP($A55,'Engag Pre'!$A$10:$G$74,3,FALSE)),\" \")","v":{"$error":"#N/A"}},{"$f":"IF(B55>0,(VLOOKUP($B55,'Engag Min'!$A$10:$G$109,7,FALSE)),\" \")","v":" "},{"$f":"IF(B55>0,(VLOOKUP($B55,'Engag Min'!$A$10:$G$109,3,FALSE)),\" \")","v":" "},{"$f":"IF(B55>0,(VLOOKUP($B55,'Engag Min'!$A$10:$G$109,4,FALSE)),\" \")","v":" "},{"$f":"IF(B55>0,(VLOOKUP($B55,'Engag Min'!$A$10:$G$109,5,FALSE)),\" \")","v":" "},{"$f":"IF(B55>0,(VLOOKUP($B55,'Engag Min'!$A$10:$G$109,6,FALSE)),\" \")","v":" "},null,null," ",{"$f":"IF(COUNTIF($G$10:$G55,G55)<2,$G55,\" \")","v":" "},1000,{"$f":"IF(COUNTIF($G$10:$G55,G55)<3,$G55,\" \")","v":" "},46,"",1000]
[47,null,{"$f":"IF(A56>0,(VLOOKUP($A56,'Engag Pre'!$A$10:$G$74,3,FALSE)),\" \")","v":{"$error":"#N/A"}},{"$f":"IF(B56>0,(VLOOKUP($B56,'Engag Min'!$A$10:$G$109,7,FALSE)),\" \")","v":" "},{"$f":"IF(B56>0,(VLOOKUP($B56,'Engag Min'!$A$10:$G$109,3,FALSE)),\" \")","v":" "},{"$f":"IF(B56>0,(VLOOKUP($B56,'Engag Min'!$A$10:$G$109,4,FALSE)),\" \")","v":" "},{"$f":"IF(B56>0,(VLOOKUP($B56,'Engag Min'!$A$10:$G$109,5,FALSE)),\" \")","v":" "},{"$f":"IF(B56>0,(VLOOKUP($B56,'Engag Min'!$A$10:$G$109,6,FALSE)),\" \")","v":" "},null,null," ",{"$f":"IF(COUNTIF($G$10:$G56,G56)<2,$G56,\" \")","v":" "},1000,{"$f":"IF(COUNTIF($G$10:$G56,G56)<3,$G56,\" \")","v":" "},47,"",1000]
[48,null,{"$f":"IF(A57>0,(VLOOKUP($A57,'Engag Pre'!$A$10:$G$74,3,FALSE)),\" \")","v":{"$error":"#N/A"}},{"$f":"IF(B57>0,(VLOOKUP($B57,'Engag Min'!$A$10:$G$109,7,FALSE)),\" \")","v":" "},{"$f":"IF(B57>0,(VLOOKUP($B57,'Engag Min'!$A$10:$G$109,3,FALSE)),\" \")","v":" "},{"$f":"IF(B57>0,(VLOOKUP($B57,'Engag Min'!$A$10:$G$109,4,FALSE)),\" \")","v":" "},{"$f":"IF(B57>0,(VLOOKUP($B57,'Engag Min'!$A$10:$G$109,5,FALSE)),\" \")","v":" "},{"$f":"IF(B57>0,(VLOOKUP($B57,'Engag Min'!$A$10:$G$109,6,FALSE)),\" \")","v":" "},null,null," ",{"$f":"IF(COUNTIF($G$10:$G57,G57)<2,$G57,\" \")","v":" "},1000,{"$f":"IF(COUNTIF($G$10:$G57,G57)<3,$G57,\" \")","v":" "},48,"",1000]
[49,null,{"$f":"IF(A58>0,(VLOOKUP($A58,'Engag Pre'!$A$10:$G$74,3,FALSE)),\" \")","v":{"$error":"#N/A"}},{"$f":"IF(B58>0,(VLOOKUP($B58,'Engag Min'!$A$10:$G$109,7,FALSE)),\" \")","v":" "},{"$f":"IF(B58>0,(VLOOKUP($B58,'Engag Min'!$A$10:$G$109,3,FALSE)),\" \")","v":" "},{"$f":"IF(B58>0,(VLOOKUP($B58,'Engag Min'!$A$10:$G$109,4,FALSE)),\" \")","v":" "},{"$f":"IF(B58>0,(VLOOKUP($B58,'Engag Min'!$A$10:$G$109,5,FALSE)),\" \")","v":" "},{"$f":"IF(B58>0,(VLOOKUP($B58,'Engag Min'!$A$10:$G$109,6,FALSE)),\" \")","v":" "},null,null," ",{"$f":"IF(COUNTIF($G$10:$G58,G58)<2,$G58,\" \")","v":" "},1000,{"$f":"IF(COUNTIF($G$10:$G58,G58)<3,$G58,\" \")","v":" "},49,"",1000]
[50,null,{"$f":"IF(A59>0,(VLOOKUP($A59,'Engag Pre'!$A$10:$G$74,3,FALSE)),\" \")","v":{"$error":"#N/A"}},{"$f":"IF(B59>0,(VLOOKUP($B59,'Engag Min'!$A$10:$G$109,7,FALSE)),\" \")","v":" "},{"$f":"IF(B59>0,(VLOOKUP($B59,'Engag Min'!$A$10:$G$109,3,FALSE)),\" \")","v":" "},{"$f":"IF(B59>0,(VLOOKUP($B59,'Engag Min'!$A$10:$G$109,4,FALSE)),\" \")","v":" "},{"$f":"IF(B59>0,(VLOOKUP($B59,'Engag Min'!$A$10:$G$109,5,FALSE)),\" \")","v":" "},{"$f":"IF(B59>0,(VLOOKUP($B59,'Engag Min'!$A$10:$G$109,6,FALSE)),\" \")","v":" "},null,null," ",{"$f":"IF(COUNTIF($G$10:$G59,G59)<2,$G59,\" \")","v":" "},1000,{"$f":"IF(COUNTIF($G$10:$G59,G59)<3,$G59,\" \")","v":" "},50,"",1000]
[51,null,{"$f":"IF(A60>0,(VLOOKUP($A60,'Engag Pre'!$A$10:$G$74,3,FALSE)),\" \")","v":{"$error":"#N/A"}},{"$f":"IF(B60>0,(VLOOKUP($B60,'Engag Min'!$A$10:$G$109,7,FALSE)),\" \")","v":" "},{"$f":"IF(B60>0,(VLOOKUP($B60,'Engag Min'!$A$10:$G$109,3,FALSE)),\" \")","v":" "},{"$f":"IF(B60>0,(VLOOKUP($B60,'Engag Min'!$A$10:$G$109,4,FALSE)),\" \")","v":" "},{"$f":"IF(B60>0,(VLOOKUP($B60,'Engag Min'!$A$10:$G$109,5,FALSE)),\" \")","v":" "},{"$f":"IF(B60>0,(VLOOKUP($B60,'Engag Min'!$A$10:$G$109,6,FALSE)),\" \")","v":" "},null,null," ",{"$f":"IF(COUNTIF($G$10:$G60,G60)<2,$G60,\" \")","v":" "},1000,{"$f":"IF(COUNTIF($G$10:$G60,G60)<3,$G60,\" \")","v":" "},51,"",1000]
[52,null,{"$f":"IF(A61>0,(VLOOKUP($A61,'Engag Pre'!$A$10:$G$74,3,FALSE)),\" \")","v":{"$error":"#N/A"}},{"$f":"IF(B61>0,(VLOOKUP($B61,'Engag Min'!$A$10:$G$109,7,FALSE)),\" \")","v":" "},{"$f":"IF(B61>0,(VLOOKUP($B61,'Engag Min'!$A$10:$G$109,3,FALSE)),\" \")","v":" "},{"$f":"IF(B61>0,(VLOOKUP($B61,'Engag Min'!$A$10:$G$109,4,FALSE)),\" \")","v":" "},{"$f":"IF(B61>0,(VLOOKUP($B61,'Engag Min'!$A$10:$G$109,5,FALSE)),\" \")","v":" "},{"$f":"IF(B61>0,(VLOOKUP($B61,'Engag Min'!$A$10:$G$109,6,FALSE)),\" \")","v":" "},null,null," ",{"$f":"IF(COUNTIF($G$10:$G61,G61)<2,$G61,\" \")","v":" "},1000,{"$f":"IF(COUNTIF($G$10:$G61,G61)<3,$G61,\" \")","v":" "},52,"",1000]
[53,null,{"$f":"IF(A62>0,(VLOOKUP($A62,'Engag Pre'!$A$10:$G$74,3,FALSE)),\" \")","v":{"$error":"#N/A"}},{"$f":"IF(B62>0,(VLOOKUP($B62,'Engag Min'!$A$10:$G$109,7,FALSE)),\" \")","v":" "},{"$f":"IF(B62>0,(VLOOKUP($B62,'Engag Min'!$A$10:$G$109,3,FALSE)),\" \")","v":" "},{"$f":"IF(B62>0,(VLOOKUP($B62,'Engag Min'!$A$10:$G$109,4,FALSE)),\" \")","v":" "},{"$f":"IF(B62>0,(VLOOKUP($B62,'Engag Min'!$A$10:$G$109,5,FALSE)),\" \")","v":" "},{"$f":"IF(B62>0,(VLOOKUP($B62,'Engag Min'!$A$10:$G$109,6,FALSE)),\" \")","v":" "},null,null," ",{"$f":"IF(COUNTIF($G$10:$G62,G62)<2,$G62,\" \")","v":" "},1000,{"$f":"IF(COUNTIF($G$10:$G62,G62)<3,$G62,\" \")","v":" "},53,"",1000]
[54,null,{"$f":"IF(A63>0,(VLOOKUP($A63,'Engag Pre'!$A$10:$G$74,3,FALSE)),\" \")","v":{"$error":"#N/A"}},{"$f":"IF(B63>0,(VLOOKUP($B63,'Engag Min'!$A$10:$G$109,7,FALSE)),\" \")","v":" "},{"$f":"IF(B63>0,(VLOOKUP($B63,'Engag Min'!$A$10:$G$109,3,FALSE)),\" \")","v":" "},{"$f":"IF(B63>0,(VLOOKUP($B63,'Engag Min'!$A$10:$G$109,4,FALSE)),\" \")","v":" "},{"$f":"IF(B63>0,(VLOOKUP($B63,'Engag Min'!$A$10:$G$109,5,FALSE)),\" \")","v":" "},{"$f":"IF(B63>0,(VLOOKUP($B63,'Engag Min'!$A$10:$G$109,6,FALSE)),\" \")","v":" "},null,null," ",{"$f":"IF(COUNTIF($G$10:$G63,G63)<2,$G63,\" \")","v":" "},1000,{"$f":"IF(COUNTIF($G$10:$G63,G63)<3,$G63,\" \")","v":" "},54,"",1000]
[55,null,{"$f":"IF(A64>0,(VLOOKUP($A64,'Engag Pre'!$A$10:$G$74,3,FALSE)),\" \")","v":{"$error":"#N/A"}},{"$f":"IF(B64>0,(VLOOKUP($B64,'Engag Min'!$A$10:$G$109,7,FALSE)),\" \")","v":" "},{"$f":"IF(B64>0,(VLOOKUP($B64,'Engag Min'!$A$10:$G$109,3,FALSE)),\" \")","v":" "},{"$f":"IF(B64>0,(VLOOKUP($B64,'Engag Min'!$A$10:$G$109,4,FALSE)),\" \")","v":" "},{"$f":"IF(B64>0,(VLOOKUP($B64,'Engag Min'!$A$10:$G$109,5,FALSE)),\" \")","v":" "},{"$f":"IF(B64>0,(VLOOKUP($B64,'Engag Min'!$A$10:$G$109,6,FALSE)),\" \")","v":" "},null,null," ",{"$f":"IF(COUNTIF($G$10:$G64,G64)<2,$G64,\" \")","v":" "},1000,{"$f":"IF(COUNTIF($G$10:$G64,G64)<3,$G64,\" \")","v":" "},55,"",1000]
[56,null,{"$f":"IF(A65>0,(VLOOKUP($A65,'Engag Pre'!$A$10:$G$74,3,FALSE)),\" \")","v":{"$error":"#N/A"}},{"$f":"IF(B65>0,(VLOOKUP($B65,'Engag Min'!$A$10:$G$109,7,FALSE)),\" \")","v":" "},{"$f":"IF(B65>0,(VLOOKUP($B65,'Engag Min'!$A$10:$G$109,3,FALSE)),\" \")","v":" "},{"$f":"IF(B65>0,(VLOOKUP($B65,'Engag Min'!$A$10:$G$109,4,FALSE)),\" \")","v":" "},{"$f":"IF(B65>0,(VLOOKUP($B65,'Engag Min'!$A$10:$G$109,5,FALSE)),\" \")","v":" "},{"$f":"IF(B65>0,(VLOOKUP($B65,'Engag Min'!$A$10:$G$109,6,FALSE)),\" \")","v":" "},null,null," ",{"$f":"IF(COUNTIF($G$10:$G65,G65)<2,$G65,\" \")","v":" "},1000,{"$f":"IF(COUNTIF($G$10:$G65,G65)<3,$G65,\" \")","v":" "},56,"",1000]
[57,null,{"$f":"IF(A66>0,(VLOOKUP($A66,'Engag Pre'!$A$10:$G$74,3,FALSE)),\" \")","v":{"$error":"#N/A"}},{"$f":"IF(B66>0,(VLOOKUP($B66,'Engag Min'!$A$10:$G$109,7,FALSE)),\" \")","v":" "},{"$f":"IF(B66>0,(VLOOKUP($B66,'Engag Min'!$A$10:$G$109,3,FALSE)),\" \")","v":" "},{"$f":"IF(B66>0,(VLOOKUP($B66,'Engag Min'!$A$10:$G$109,4,FALSE)),\" \")","v":" "},{"$f":"IF(B66>0,(VLOOKUP($B66,'Engag Min'!$A$10:$G$109,5,FALSE)),\" \")","v":" "},{"$f":"IF(B66>0,(VLOOKUP($B66,'Engag Min'!$A$10:$G$109,6,FALSE)),\" \")","v":" "},null,null," ",{"$f":"IF(COUNTIF($G$10:$G66,G66)<2,$G66,\" \")","v":" "},1000,{"$f":"IF(COUNTIF($G$10:$G66,G66)<3,$G66,\" \")","v":" "},57,"",1000]
[58,null,{"$f":"IF(A67>0,(VLOOKUP($A67,'Engag Pre'!$A$10:$G$74,3,FALSE)),\" \")","v":{"$error":"#N/A"}},{"$f":"IF(B67>0,(VLOOKUP($B67,'Engag Min'!$A$10:$G$109,7,FALSE)),\" \")","v":" "},{"$f":"IF(B67>0,(VLOOKUP($B67,'Engag Min'!$A$10:$G$109,3,FALSE)),\" \")","v":" "},{"$f":"IF(B67>0,(VLOOKUP($B67,'Engag Min'!$A$10:$G$109,4,FALSE)),\" \")","v":" "},{"$f":"IF(B67>0,(VLOOKUP($B67,'Engag Min'!$A$10:$G$109,5,FALSE)),\" \")","v":" "},{"$f":"IF(B67>0,(VLOOKUP($B67,'Engag Min'!$A$10:$G$109,6,FALSE)),\" \")","v":" "},null,null," ",{"$f":"IF(COUNTIF($G$10:$G67,G67)<2,$G67,\" \")","v":" "},1000,{"$f":"IF(COUNTIF($G$10:$G67,G67)<3,$G67,\" \")","v":" "},58,"",1000]
[59,null,{"$f":"IF(A68>0,(VLOOKUP($A68,'Engag Pre'!$A$10:$G$74,3,FALSE)),\" \")","v":{"$error":"#N/A"}},{"$f":"IF(B68>0,(VLOOKUP($B68,'Engag Min'!$A$10:$G$109,7,FALSE)),\" \")","v":" "},{"$f":"IF(B68>0,(VLOOKUP($B68,'Engag Min'!$A$10:$G$109,3,FALSE)),\" \")","v":" "},{"$f":"IF(B68>0,(VLOOKUP($B68,'Engag Min'!$A$10:$G$109,4,FALSE)),\" \")","v":" "},{"$f":"IF(B68>0,(VLOOKUP($B68,'Engag Min'!$A$10:$G$109,5,FALSE)),\" \")","v":" "},{"$f":"IF(B68>0,(VLOOKUP($B68,'Engag Min'!$A$10:$G$109,6,FALSE)),\" \")","v":" "},null,null," ",{"$f":"IF(COUNTIF($G$10:$G68,G68)<2,$G68,\" \")","v":" "},1000,{"$f":"IF(COUNTIF($G$10:$G68,G68)<3,$G68,\" \")","v":" "},59,"",1000]
[60,null,{"$f":"IF(A69>0,(VLOOKUP($A69,'Engag Pre'!$A$10:$G$74,3,FALSE)),\" \")","v":{"$error":"#N/A"}},{"$f":"IF(B69>0,(VLOOKUP($B69,'Engag Min'!$A$10:$G$109,7,FALSE)),\" \")","v":" "},{"$f":"IF(B69>0,(VLOOKUP($B69,'Engag Min'!$A$10:$G$109,3,FALSE)),\" \")","v":" "},{"$f":"IF(B69>0,(VLOOKUP($B69,'Engag Min'!$A$10:$G$109,4,FALSE)),\" \")","v":" "},{"$f":"IF(B69>0,(VLOOKUP($B69,'Engag Min'!$A$10:$G$109,5,FALSE)),\" \")","v":" "},{"$f":"IF(B69>0,(VLOOKUP($B69,'Engag Min'!$A$10:$G$109,6,FALSE)),\" \")","v":" "},null,null," ",{"$f":"IF(COUNTIF($G$10:$G69,G69)<2,$G69,\" \")","v":" "},1000,{"$f":"IF(COUNTIF($G$10:$G69,G69)<3,$G69,\" \")","v":" "},60,"",1000]
[61,null,{"$f":"IF(A70>0,(VLOOKUP($A70,'Engag Pre'!$A$10:$G$74,3,FALSE)),\" \")","v":{"$error":"#N/A"}},{"$f":"IF(B70>0,(VLOOKUP($B70,'Engag Min'!$A$10:$G$109,7,FALSE)),\" \")","v":" "},{"$f":"IF(B70>0,(VLOOKUP($B70,'Engag Min'!$A$10:$G$109,3,FALSE)),\" \")","v":" "},{"$f":"IF(B70>0,(VLOOKUP($B70,'Engag Min'!$A$10:$G$109,4,FALSE)),\" \")","v":" "},{"$f":"IF(B70>0,(VLOOKUP($B70,'Engag Min'!$A$10:$G$109,5,FALSE)),\" \")","v":" "},{"$f":"IF(B70>0,(VLOOKUP($B70,'Engag Min'!$A$10:$G$109,6,FALSE)),\" \")","v":" "},null,null," ",{"$f":"IF(COUNTIF($G$10:$G70,G70)<2,$G70,\" \")","v":" "},1000,{"$f":"IF(COUNTIF($G$10:$G70,G70)<3,$G70,\" \")","v":" "},61,"",1000]
[62,null,{"$f":"IF(A71>0,(VLOOKUP($A71,'Engag Pre'!$A$10:$G$74,3,FALSE)),\" \")","v":{"$error":"#N/A"}},{"$f":"IF(B71>0,(VLOOKUP($B71,'Engag Min'!$A$10:$G$109,7,FALSE)),\" \")","v":" "},{"$f":"IF(B71>0,(VLOOKUP($B71,'Engag Min'!$A$10:$G$109,3,FALSE)),\" \")","v":" "},{"$f":"IF(B71>0,(VLOOKUP($B71,'Engag Min'!$A$10:$G$109,4,FALSE)),\" \")","v":" "},{"$f":"IF(B71>0,(VLOOKUP($B71,'Engag Min'!$A$10:$G$109,5,FALSE)),\" \")","v":" "},{"$f":"IF(B71>0,(VLOOKUP($B71,'Engag Min'!$A$10:$G$109,6,FALSE)),\" \")","v":" "},null,null," ",{"$f":"IF(COUNTIF($G$10:$G71,G71)<2,$G71,\" \")","v":" "},1000,{"$f":"IF(COUNTIF($G$10:$G71,G71)<3,$G71,\" \")","v":" "},62,"",1000]
[63,null,{"$f":"IF(A72>0,(VLOOKUP($A72,'Engag Pre'!$A$10:$G$74,3,FALSE)),\" \")","v":{"$error":"#N/A"}},{"$f":"IF(B72>0,(VLOOKUP($B72,'Engag Min'!$A$10:$G$109,7,FALSE)),\" \")","v":" "},{"$f":"IF(B72>0,(VLOOKUP($B72,'Engag Min'!$A$10:$G$109,3,FALSE)),\" \")","v":" "},{"$f":"IF(B72>0,(VLOOKUP($B72,'Engag Min'!$A$10:$G$109,4,FALSE)),\" \")","v":" "},{"$f":"IF(B72>0,(VLOOKUP($B72,'Engag Min'!$A$10:$G$109,5,FALSE)),\" \")","v":" "},{"$f":"IF(B72>0,(VLOOKUP($B72,'Engag Min'!$A$10:$G$109,6,FALSE)),\" \")","v":" "},null,null," ",{"$f":"IF(COUNTIF($G$10:$G72,G72)<2,$G72,\" \")","v":" "},1000,{"$f":"IF(COUNTIF($G$10:$G72,G72)<3,$G72,\" \")","v":" "},63,"",1000]
[64,null,{"$f":"IF(A73>0,(VLOOKUP($A73,'Engag Pre'!$A$10:$G$74,3,FALSE)),\" \")","v":{"$error":"#N/A"}},{"$f":"IF(B73>0,(VLOOKUP($B73,'Engag Min'!$A$10:$G$109,7,FALSE)),\" \")","v":" "},{"$f":"IF(B73>0,(VLOOKUP($B73,'Engag Min'!$A$10:$G$109,3,FALSE)),\" \")","v":" "},{"$f":"IF(B73>0,(VLOOKUP($B73,'Engag Min'!$A$10:$G$109,4,FALSE)),\" \")","v":" "},{"$f":"IF(B73>0,(VLOOKUP($B73,'Engag Min'!$A$10:$G$109,5,FALSE)),\" \")","v":" "},{"$f":"IF(B73>0,(VLOOKUP($B73,'Engag Min'!$A$10:$G$109,6,FALSE)),\" \")","v":" "},null,null," ",{"$f":"IF(COUNTIF($G$10:$G73,G73)<2,$G73,\" \")","v":" "},1000,{"$f":"IF(COUNTIF($G$10:$G73,G73)<3,$G73,\" \")","v":" "},64,"",1000]
[65,null,{"$f":"IF(A74>0,(VLOOKUP($A74,'Engag Pre'!$A$10:$G$74,3,FALSE)),\" \")","v":{"$error":"#N/A"}},{"$f":"IF(B74>0,(VLOOKUP($B74,'Engag Min'!$A$10:$G$109,7,FALSE)),\" \")","v":" "},{"$f":"IF(B74>0,(VLOOKUP($B74,'Engag Min'!$A$10:$G$109,3,FALSE)),\" \")","v":" "},{"$f":"IF(B74>0,(VLOOKUP($B74,'Engag Min'!$A$10:$G$109,4,FALSE)),\" \")","v":" "},{"$f":"IF(B74>0,(VLOOKUP($B74,'Engag Min'!$A$10:$G$109,5,FALSE)),\" \")","v":" "},{"$f":"IF(B74>0,(VLOOKUP($B74,'Engag Min'!$A$10:$G$109,6,FALSE)),\" \")","v":" "},null,null," ",{"$f":"IF(COUNTIF($G$10:$G74,G74)<2,$G74,\" \")","v":" "},1000,{"$f":"IF(COUNTIF($G$10:$G74,G74)<3,$G74,\" \")","v":" "},65,"",1000]
[66,null,{"$f":"IF(A75>0,(VLOOKUP($A75,'Engag Pre'!$A$10:$G$74,3,FALSE)),\" \")","v":{"$error":"#N/A"}},{"$f":"IF(B75>0,(VLOOKUP($B75,'Engag Min'!$A$10:$G$109,7,FALSE)),\" \")","v":" "},{"$f":"IF(B75>0,(VLOOKUP($B75,'Engag Min'!$A$10:$G$109,3,FALSE)),\" \")","v":" "},{"$f":"IF(B75>0,(VLOOKUP($B75,'Engag Min'!$A$10:$G$109,4,FALSE)),\" \")","v":" "},{"$f":"IF(B75>0,(VLOOKUP($B75,'Engag Min'!$A$10:$G$109,5,FALSE)),\" \")","v":" "},{"$f":"IF(B75>0,(VLOOKUP($B75,'Engag Min'!$A$10:$G$109,6,FALSE)),\" \")","v":" "},null,null,{"$f":"IF(COUNTIF($B$10:$B$109,B75)>1,\"Déjà classé\",\" \")","v":" "},{"$f":"IF(COUNTIF($G$10:$G75,G75)<2,$G75,\" \")","v":" "},{"$f":"IF($G$6<5,1000,(IF(L75=G75,A75,\"\")))","v":1000},{"$f":"IF(COUNTIF($G$10:$G75,G75)<3,$G75,\" \")","v":" "},{"$f":"IF(N75=$G75,$A75,\"\")","v":66},{"$f":"IF(N75=L75,\"\",N75)","v":""},{"$f":"IF($G$6<5,1000,(IF(P75=$G75,$A75,1000)))","v":1000}]
[67,null,{"$f":"IF(A76>0,(VLOOKUP($A76,'Engag Pre'!$A$10:$G$74,3,FALSE)),\" \")","v":{"$error":"#N/A"}},{"$f":"IF(B76>0,(VLOOKUP($B76,'Engag Min'!$A$10:$G$109,7,FALSE)),\" \")","v":" "},{"$f":"IF(B76>0,(VLOOKUP($B76,'Engag Min'!$A$10:$G$109,3,FALSE)),\" \")","v":" "},{"$f":"IF(B76>0,(VLOOKUP($B76,'Engag Min'!$A$10:$G$109,4,FALSE)),\" \")","v":" "},{"$f":"IF(B76>0,(VLOOKUP($B76,'Engag Min'!$A$10:$G$109,5,FALSE)),\" \")","v":" "},{"$f":"IF(B76>0,(VLOOKUP($B76,'Engag Min'!$A$10:$G$109,6,FALSE)),\" \")","v":" "},null,null," ",{"$f":"IF(COUNTIF($G$10:$G76,G76)<2,$G76,\" \")","v":" "},1000,{"$f":"IF(COUNTIF($G$10:$G76,G76)<3,$G76,\" \")","v":" "},67,"",1000]
[68,null,{"$f":"IF(A77>0,(VLOOKUP($A77,'Engag Pre'!$A$10:$G$74,3,FALSE)),\" \")","v":{"$error":"#N/A"}},{"$f":"IF(B77>0,(VLOOKUP($B77,'Engag Min'!$A$10:$G$109,7,FALSE)),\" \")","v":" "},{"$f":"IF(B77>0,(VLOOKUP($B77,'Engag Min'!$A$10:$G$109,3,FALSE)),\" \")","v":" "},{"$f":"IF(B77>0,(VLOOKUP($B77,'Engag Min'!$A$10:$G$109,4,FALSE)),\" \")","v":" "},{"$f":"IF(B77>0,(VLOOKUP($B77,'Engag Min'!$A$10:$G$109,5,FALSE)),\" \")","v":" "},{"$f":"IF(B77>0,(VLOOKUP($B77,'Engag Min'!$A$10:$G$109,6,FALSE)),\" \")","v":" "},null,null," ",{"$f":"IF(COUNTIF($G$10:$G77,G77)<2,$G77,\" \")","v":" "},1000,{"$f":"IF(COUNTIF($G$10:$G77,G77)<3,$G77,\" \")","v":" "},68,"",1000]
[69,null,{"$f":"IF(A78>0,(VLOOKUP($A78,'Engag Pre'!$A$10:$G$74,3,FALSE)),\" \")","v":{"$error":"#N/A"}},{"$f":"IF(B78>0,(VLOOKUP($B78,'Engag Min'!$A$10:$G$109,7,FALSE)),\" \")","v":" "},{"$f":"IF(B78>0,(VLOOKUP($B78,'Engag Min'!$A$10:$G$109,3,FALSE)),\" \")","v":" "},{"$f":"IF(B78>0,(VLOOKUP($B78,'Engag Min'!$A$10:$G$109,4,FALSE)),\" \")","v":" "},{"$f":"IF(B78>0,(VLOOKUP($B78,'Engag Min'!$A$10:$G$109,5,FALSE)),\" \")","v":" "},{"$f":"IF(B78>0,(VLOOKUP($B78,'Engag Min'!$A$10:$G$109,6,FALSE)),\" \")","v":" "},null,null," ",{"$f":"IF(COUNTIF($G$10:$G78,G78)<2,$G78,\" \")","v":" "},1000,{"$f":"IF(COUNTIF($G$10:$G78,G78)<3,$G78,\" \")","v":" "},69,"",1000]
[70,null,{"$f":"IF(A79>0,(VLOOKUP($A79,'Engag Pre'!$A$10:$G$74,3,FALSE)),\" \")","v":{"$error":"#N/A"}},{"$f":"IF(B79>0,(VLOOKUP($B79,'Engag Min'!$A$10:$G$109,7,FALSE)),\" \")","v":" "},{"$f":"IF(B79>0,(VLOOKUP($B79,'Engag Min'!$A$10:$G$109,3,FALSE)),\" \")","v":" "},{"$f":"IF(B79>0,(VLOOKUP($B79,'Engag Min'!$A$10:$G$109,4,FALSE)),\" \")","v":" "},{"$f":"IF(B79>0,(VLOOKUP($B79,'Engag Min'!$A$10:$G$109,5,FALSE)),\" \")","v":" "},{"$f":"IF(B79>0,(VLOOKUP($B79,'Engag Min'!$A$10:$G$109,6,FALSE)),\" \")","v":" "},null,null," ",{"$f":"IF(COUNTIF($G$10:$G79,G79)<2,$G79,\" \")","v":" "},1000,{"$f":"IF(COUNTIF($G$10:$G79,G79)<3,$G79,\" \")","v":" "},70,"",1000]
[71,null,{"$f":"IF(A80>0,(VLOOKUP($A80,'Engag Pre'!$A$10:$G$74,3,FALSE)),\" \")","v":{"$error":"#N/A"}},{"$f":"IF(B80>0,(VLOOKUP($B80,'Engag Min'!$A$10:$G$109,7,FALSE)),\" \")","v":" "},{"$f":"IF(B80>0,(VLOOKUP($B80,'Engag Min'!$A$10:$G$109,3,FALSE)),\" \")","v":" "},{"$f":"IF(B80>0,(VLOOKUP($B80,'Engag Min'!$A$10:$G$109,4,FALSE)),\" \")","v":" "},{"$f":"IF(B80>0,(VLOOKUP($B80,'Engag Min'!$A$10:$G$109,5,FALSE)),\" \")","v":" "},{"$f":"IF(B80>0,(VLOOKUP($B80,'Engag Min'!$A$10:$G$109,6,FALSE)),\" \")","v":" "},null,null," ",{"$f":"IF(COUNTIF($G$10:$G80,G80)<2,$G80,\" \")","v":" "},1000,{"$f":"IF(COUNTIF($G$10:$G80,G80)<3,$G80,\" \")","v":" "},71,"",1000]
[72,null,{"$f":"IF(A81>0,(VLOOKUP($A81,'Engag Pre'!$A$10:$G$74,3,FALSE)),\" \")","v":{"$error":"#N/A"}},{"$f":"IF(B81>0,(VLOOKUP($B81,'Engag Min'!$A$10:$G$109,7,FALSE)),\" \")","v":" "},{"$f":"IF(B81>0,(VLOOKUP($B81,'Engag Min'!$A$10:$G$109,3,FALSE)),\" \")","v":" "},{"$f":"IF(B81>0,(VLOOKUP($B81,'Engag Min'!$A$10:$G$109,4,FALSE)),\" \")","v":" "},{"$f":"IF(B81>0,(VLOOKUP($B81,'Engag Min'!$A$10:$G$109,5,FALSE)),\" \")","v":" "},{"$f":"IF(B81>0,(VLOOKUP($B81,'Engag Min'!$A$10:$G$109,6,FALSE)),\" \")","v":" "},null,null," ",{"$f":"IF(COUNTIF($G$10:$G81,G81)<2,$G81,\" \")","v":" "},1000,{"$f":"IF(COUNTIF($G$10:$G81,G81)<3,$G81,\" \")","v":" "},72,"",1000]
[73,null,{"$f":"IF(A82>0,(VLOOKUP($A82,'Engag Pre'!$A$10:$G$74,3,FALSE)),\" \")","v":{"$error":"#N/A"}},{"$f":"IF(B82>0,(VLOOKUP($B82,'Engag Min'!$A$10:$G$109,7,FALSE)),\" \")","v":" "},{"$f":"IF(B82>0,(VLOOKUP($B82,'Engag Min'!$A$10:$G$109,3,FALSE)),\" \")","v":" "},{"$f":"IF(B82>0,(VLOOKUP($B82,'Engag Min'!$A$10:$G$109,4,FALSE)),\" \")","v":" "},{"$f":"IF(B82>0,(VLOOKUP($B82,'Engag Min'!$A$10:$G$109,5,FALSE)),\" \")","v":" "},{"$f":"IF(B82>0,(VLOOKUP($B82,'Engag Min'!$A$10:$G$109,6,FALSE)),\" \")","v":" "},null,null," ",{"$f":"IF(COUNTIF($G$10:$G82,G82)<2,$G82,\" \")","v":" "},1000,{"$f":"IF(COUNTIF($G$10:$G82,G82)<3,$G82,\" \")","v":" "},73,"",1000]
[74,null,{"$f":"IF(A83>0,(VLOOKUP($A83,'Engag Pre'!$A$10:$G$74,3,FALSE)),\" \")","v":{"$error":"#N/A"}},{"$f":"IF(B83>0,(VLOOKUP($B83,'Engag Min'!$A$10:$G$109,7,FALSE)),\" \")","v":" "},{"$f":"IF(B83>0,(VLOOKUP($B83,'Engag Min'!$A$10:$G$109,3,FALSE)),\" \")","v":" "},{"$f":"IF(B83>0,(VLOOKUP($B83,'Engag Min'!$A$10:$G$109,4,FALSE)),\" \")","v":" "},{"$f":"IF(B83>0,(VLOOKUP($B83,'Engag Min'!$A$10:$G$109,5,FALSE)),\" \")","v":" "},{"$f":"IF(B83>0,(VLOOKUP($B83,'Engag Min'!$A$10:$G$109,6,FALSE)),\" \")","v":" "},null,null," ",{"$f":"IF(COUNTIF($G$10:$G83,G83)<2,$G83,\" \")","v":" "},1000,{"$f":"IF(COUNTIF($G$10:$G83,G83)<3,$G83,\" \")","v":" "},74,"",1000]
[75,null,{"$f":"IF(A84>0,(VLOOKUP($A84,'Engag Pre'!$A$10:$G$74,3,FALSE)),\" \")","v":{"$error":"#N/A"}},{"$f":"IF(B84>0,(VLOOKUP($B84,'Engag Min'!$A$10:$G$109,7,FALSE)),\" \")","v":" "},{"$f":"IF(B84>0,(VLOOKUP($B84,'Engag Min'!$A$10:$G$109,3,FALSE)),\" \")","v":" "},{"$f":"IF(B84>0,(VLOOKUP($B84,'Engag Min'!$A$10:$G$109,4,FALSE)),\" \")","v":" "},{"$f":"IF(B84>0,(VLOOKUP($B84,'Engag Min'!$A$10:$G$109,5,FALSE)),\" \")","v":" "},{"$f":"IF(B84>0,(VLOOKUP($B84,'Engag Min'!$A$10:$G$109,6,FALSE)),\" \")","v":" "},null,null," ",{"$f":"IF(COUNTIF($G$10:$G84,G84)<2,$G84,\" \")","v":" "},1000,{"$f":"IF(COUNTIF($G$10:$G84,G84)<3,$G84,\" \")","v":" "},75,"",1000]
[76,null,{"$f":"IF(A85>0,(VLOOKUP($A85,'Engag Pre'!$A$10:$G$74,3,FALSE)),\" \")","v":{"$error":"#N/A"}},{"$f":"IF(B85>0,(VLOOKUP($B85,'Engag Min'!$A$10:$G$109,7,FALSE)),\" \")","v":" "},{"$f":"IF(B85>0,(VLOOKUP($B85,'Engag Min'!$A$10:$G$109,3,FALSE)),\" \")","v":" "},{"$f":"IF(B85>0,(VLOOKUP($B85,'Engag Min'!$A$10:$G$109,4,FALSE)),\" \")","v":" "},{"$f":"IF(B85>0,(VLOOKUP($B85,'Engag Min'!$A$10:$G$109,5,FALSE)),\" \")","v":" "},{"$f":"IF(B85>0,(VLOOKUP($B85,'Engag Min'!$A$10:$G$109,6,FALSE)),\" \")","v":" "},null,null," ",{"$f":"IF(COUNTIF($G$10:$G85,G85)<2,$G85,\" \")","v":" "},1000,{"$f":"IF(COUNTIF($G$10:$G85,G85)<3,$G85,\" \")","v":" "},76,"",1000]
[77,null,{"$f":"IF(A86>0,(VLOOKUP($A86,'Engag Pre'!$A$10:$G$74,3,FALSE)),\" \")","v":{"$error":"#N/A"}},{"$f":"IF(B86>0,(VLOOKUP($B86,'Engag Min'!$A$10:$G$109,7,FALSE)),\" \")","v":" "},{"$f":"IF(B86>0,(VLOOKUP($B86,'Engag Min'!$A$10:$G$109,3,FALSE)),\" \")","v":" "},{"$f":"IF(B86>0,(VLOOKUP($B86,'Engag Min'!$A$10:$G$109,4,FALSE)),\" \")","v":" "},{"$f":"IF(B86>0,(VLOOKUP($B86,'Engag Min'!$A$10:$G$109,5,FALSE)),\" \")","v":" "},{"$f":"IF(B86>0,(VLOOKUP($B86,'Engag Min'!$A$10:$G$109,6,FALSE)),\" \")","v":" "},null,null," ",{"$f":"IF(COUNTIF($G$10:$G86,G86)<2,$G86,\" \")","v":" "},1000,{"$f":"IF(COUNTIF($G$10:$G86,G86)<3,$G86,\" \")","v":" "},77,"",1000]
[78,null,{"$f":"IF(A87>0,(VLOOKUP($A87,'Engag Pre'!$A$10:$G$74,3,FALSE)),\" \")","v":{"$error":"#N/A"}},{"$f":"IF(B87>0,(VLOOKUP($B87,'Engag Min'!$A$10:$G$109,7,FALSE)),\" \")","v":" "},{"$f":"IF(B87>0,(VLOOKUP($B87,'Engag Min'!$A$10:$G$109,3,FALSE)),\" \")","v":" "},{"$f":"IF(B87>0,(VLOOKUP($B87,'Engag Min'!$A$10:$G$109,4,FALSE)),\" \")","v":" "},{"$f":"IF(B87>0,(VLOOKUP($B87,'Engag Min'!$A$10:$G$109,5,FALSE)),\" \")","v":" "},{"$f":"IF(B87>0,(VLOOKUP($B87,'Engag Min'!$A$10:$G$109,6,FALSE)),\" \")","v":" "},null,null," ",{"$f":"IF(COUNTIF($G$10:$G87,G87)<2,$G87,\" \")","v":" "},1000,{"$f":"IF(COUNTIF($G$10:$G87,G87)<3,$G87,\" \")","v":" "},78,"",1000]
[79,null,{"$f":"IF(A88>0,(VLOOKUP($A88,'Engag Pre'!$A$10:$G$74,3,FALSE)),\" \")","v":{"$error":"#N/A"}},{"$f":"IF(B88>0,(VLOOKUP($B88,'Engag Min'!$A$10:$G$109,7,FALSE)),\" \")","v":" "},{"$f":"IF(B88>0,(VLOOKUP($B88,'Engag Min'!$A$10:$G$109,3,FALSE)),\" \")","v":" "},{"$f":"IF(B88>0,(VLOOKUP($B88,'Engag Min'!$A$10:$G$109,4,FALSE)),\" \")","v":" "},{"$f":"IF(B88>0,(VLOOKUP($B88,'Engag Min'!$A$10:$G$109,5,FALSE)),\" \")","v":" "},{"$f":"IF(B88>0,(VLOOKUP($B88,'Engag Min'!$A$10:$G$109,6,FALSE)),\" \")","v":" "},null,null," ",{"$f":"IF(COUNTIF($G$10:$G88,G88)<2,$G88,\" \")","v":" "},1000,{"$f":"IF(COUNTIF($G$10:$G88,G88)<3,$G88,\" \")","v":" "},79,"",1000]
[80,null,{"$f":"IF(A89>0,(VLOOKUP($A89,'Engag Pre'!$A$10:$G$74,3,FALSE)),\" \")","v":{"$error":"#N/A"}},{"$f":"IF(B89>0,(VLOOKUP($B89,'Engag Min'!$A$10:$G$109,7,FALSE)),\" \")","v":" "},{"$f":"IF(B89>0,(VLOOKUP($B89,'Engag Min'!$A$10:$G$109,3,FALSE)),\" \")","v":" "},{"$f":"IF(B89>0,(VLOOKUP($B89,'Engag Min'!$A$10:$G$109,4,FALSE)),\" \")","v":" "},{"$f":"IF(B89>0,(VLOOKUP($B89,'Engag Min'!$A$10:$G$109,5,FALSE)),\" \")","v":" "},{"$f":"IF(B89>0,(VLOOKUP($B89,'Engag Min'!$A$10:$G$109,6,FALSE)),\" \")","v":" "},null,null," ",{"$f":"IF(COUNTIF($G$10:$G89,G89)<2,$G89,\" \")","v":" "},1000,{"$f":"IF(COUNTIF($G$10:$G89,G89)<3,$G89,\" \")","v":" "},80,"",1000]
[81,null,{"$f":"IF(A90>0,(VLOOKUP($A90,'Engag Pre'!$A$10:$G$74,3,FALSE)),\" \")","v":{"$error":"#N/A"}},{"$f":"IF(B90>0,(VLOOKUP($B90,'Engag Min'!$A$10:$G$109,7,FALSE)),\" \")","v":" "},{"$f":"IF(B90>0,(VLOOKUP($B90,'Engag Min'!$A$10:$G$109,3,FALSE)),\" \")","v":" "},{"$f":"IF(B90>0,(VLOOKUP($B90,'Engag Min'!$A$10:$G$109,4,FALSE)),\" \")","v":" "},{"$f":"IF(B90>0,(VLOOKUP($B90,'Engag Min'!$A$10:$G$109,5,FALSE)),\" \")","v":" "},{"$f":"IF(B90>0,(VLOOKUP($B90,'Engag Min'!$A$10:$G$109,6,FALSE)),\" \")","v":" "},null,null," ",{"$f":"IF(COUNTIF($G$10:$G90,G90)<2,$G90,\" \")","v":" "},1000,{"$f":"IF(COUNTIF($G$10:$G90,G90)<3,$G90,\" \")","v":" "},81,"",1000]
[82,null,{"$f":"IF(A91>0,(VLOOKUP($A91,'Engag Pre'!$A$10:$G$74,3,FALSE)),\" \")","v":{"$error":"#N/A"}},{"$f":"IF(B91>0,(VLOOKUP($B91,'Engag Min'!$A$10:$G$109,7,FALSE)),\" \")","v":" "},{"$f":"IF(B91>0,(VLOOKUP($B91,'Engag Min'!$A$10:$G$109,3,FALSE)),\" \")","v":" "},{"$f":"IF(B91>0,(VLOOKUP($B91,'Engag Min'!$A$10:$G$109,4,FALSE)),\" \")","v":" "},{"$f":"IF(B91>0,(VLOOKUP($B91,'Engag Min'!$A$10:$G$109,5,FALSE)),\" \")","v":" "},{"$f":"IF(B91>0,(VLOOKUP($B91,'Engag Min'!$A$10:$G$109,6,FALSE)),\" \")","v":" "},null,null," ",{"$f":"IF(COUNTIF($G$10:$G91,G91)<2,$G91,\" \")","v":" "},1000,{"$f":"IF(COUNTIF($G$10:$G91,G91)<3,$G91,\" \")","v":" "},82,"",1000]
[83,null,{"$f":"IF(A92>0,(VLOOKUP($A92,'Engag Pre'!$A$10:$G$74,3,FALSE)),\" \")","v":{"$error":"#N/A"}},{"$f":"IF(B92>0,(VLOOKUP($B92,'Engag Min'!$A$10:$G$109,7,FALSE)),\" \")","v":" "},{"$f":"IF(B92>0,(VLOOKUP($B92,'Engag Min'!$A$10:$G$109,3,FALSE)),\" \")","v":" "},{"$f":"IF(B92>0,(VLOOKUP($B92,'Engag Min'!$A$10:$G$109,4,FALSE)),\" \")","v":" "},{"$f":"IF(B92>0,(VLOOKUP($B92,'Engag Min'!$A$10:$G$109,5,FALSE)),\" \")","v":" "},{"$f":"IF(B92>0,(VLOOKUP($B92,'Engag Min'!$A$10:$G$109,6,FALSE)),\" \")","v":" "},null,null," ",{"$f":"IF(COUNTIF($G$10:$G92,G92)<2,$G92,\" \")","v":" "},1000,{"$f":"IF(COUNTIF($G$10:$G92,G92)<3,$G92,\" \")","v":" "},83,"",1000]
[84,null,{"$f":"IF(A93>0,(VLOOKUP($A93,'Engag Pre'!$A$10:$G$74,3,FALSE)),\" \")","v":{"$error":"#N/A"}},{"$f":"IF(B93>0,(VLOOKUP($B93,'Engag Min'!$A$10:$G$109,7,FALSE)),\" \")","v":" "},{"$f":"IF(B93>0,(VLOOKUP($B93,'Engag Min'!$A$10:$G$109,3,FALSE)),\" \")","v":" "},{"$f":"IF(B93>0,(VLOOKUP($B93,'Engag Min'!$A$10:$G$109,4,FALSE)),\" \")","v":" "},{"$f":"IF(B93>0,(VLOOKUP($B93,'Engag Min'!$A$10:$G$109,5,FALSE)),\" \")","v":" "},{"$f":"IF(B93>0,(VLOOKUP($B93,'Engag Min'!$A$10:$G$109,6,FALSE)),\" \")","v":" "},null,null," ",{"$f":"IF(COUNTIF($G$10:$G93,G93)<2,$G93,\" \")","v":" "},1000,{"$f":"IF(COUNTIF($G$10:$G93,G93)<3,$G93,\" \")","v":" "},84,"",1000]
[85,null,{"$f":"IF(A94>0,(VLOOKUP($A94,'Engag Pre'!$A$10:$G$74,3,FALSE)),\" \")","v":{"$error":"#N/A"}},{"$f":"IF(B94>0,(VLOOKUP($B94,'Engag Min'!$A$10:$G$109,7,FALSE)),\" \")","v":" "},{"$f":"IF(B94>0,(VLOOKUP($B94,'Engag Min'!$A$10:$G$109,3,FALSE)),\" \")","v":" "},{"$f":"IF(B94>0,(VLOOKUP($B94,'Engag Min'!$A$10:$G$109,4,FALSE)),\" \")","v":" "},{"$f":"IF(B94>0,(VLOOKUP($B94,'Engag Min'!$A$10:$G$109,5,FALSE)),\" \")","v":" "},{"$f":"IF(B94>0,(VLOOKUP($B94,'Engag Min'!$A$10:$G$109,6,FALSE)),\" \")","v":" "},null,null," ",{"$f":"IF(COUNTIF($G$10:$G94,G94)<2,$G94,\" \")","v":" "},1000,{"$f":"IF(COUNTIF($G$10:$G94,G94)<3,$G94,\" \")","v":" "},85,"",1000]
[86,null,{"$f":"IF(A95>0,(VLOOKUP($A95,'Engag Pre'!$A$10:$G$74,3,FALSE)),\" \")","v":{"$error":"#N/A"}},{"$f":"IF(B95>0,(VLOOKUP($B95,'Engag Min'!$A$10:$G$109,7,FALSE)),\" \")","v":" "},{"$f":"IF(B95>0,(VLOOKUP($B95,'Engag Min'!$A$10:$G$109,3,FALSE)),\" \")","v":" "},{"$f":"IF(B95>0,(VLOOKUP($B95,'Engag Min'!$A$10:$G$109,4,FALSE)),\" \")","v":" "},{"$f":"IF(B95>0,(VLOOKUP($B95,'Engag Min'!$A$10:$G$109,5,FALSE)),\" \")","v":" "},{"$f":"IF(B95>0,(VLOOKUP($B95,'Engag Min'!$A$10:$G$109,6,FALSE)),\" \")","v":" "},null,null," ",{"$f":"IF(COUNTIF($G$10:$G95,G95)<2,$G95,\" \")","v":" "},1000,{"$f":"IF(COUNTIF($G$10:$G95,G95)<3,$G95,\" \")","v":" "},86,"",1000]
[87,null,{"$f":"IF(A96>0,(VLOOKUP($A96,'Engag Pre'!$A$10:$G$74,3,FALSE)),\" \")","v":{"$error":"#N/A"}},{"$f":"IF(B96>0,(VLOOKUP($B96,'Engag Min'!$A$10:$G$109,7,FALSE)),\" \")","v":" "},{"$f":"IF(B96>0,(VLOOKUP($B96,'Engag Min'!$A$10:$G$109,3,FALSE)),\" \")","v":" "},{"$f":"IF(B96>0,(VLOOKUP($B96,'Engag Min'!$A$10:$G$109,4,FALSE)),\" \")","v":" "},{"$f":"IF(B96>0,(VLOOKUP($B96,'Engag Min'!$A$10:$G$109,5,FALSE)),\" \")","v":" "},{"$f":"IF(B96>0,(VLOOKUP($B96,'Engag Min'!$A$10:$G$109,6,FALSE)),\" \")","v":" "},null,null," ",{"$f":"IF(COUNTIF($G$10:$G96,G96)<2,$G96,\" \")","v":" "},1000,{"$f":"IF(COUNTIF($G$10:$G96,G96)<3,$G96,\" \")","v":" "},87,"",1000]
[88,null,{"$f":"IF(A97>0,(VLOOKUP($A97,'Engag Pre'!$A$10:$G$74,3,FALSE)),\" \")","v":{"$error":"#N/A"}},{"$f":"IF(B97>0,(VLOOKUP($B97,'Engag Min'!$A$10:$G$109,7,FALSE)),\" \")","v":" "},{"$f":"IF(B97>0,(VLOOKUP($B97,'Engag Min'!$A$10:$G$109,3,FALSE)),\" \")","v":" "},{"$f":"IF(B97>0,(VLOOKUP($B97,'Engag Min'!$A$10:$G$109,4,FALSE)),\" \")","v":" "},{"$f":"IF(B97>0,(VLOOKUP($B97,'Engag Min'!$A$10:$G$109,5,FALSE)),\" \")","v":" "},{"$f":"IF(B97>0,(VLOOKUP($B97,'Engag Min'!$A$10:$G$109,6,FALSE)),\" \")","v":" "},null,null," ",{"$f":"IF(COUNTIF($G$10:$G97,G97)<2,$G97,\" \")","v":" "},1000,{"$f":"IF(COUNTIF($G$10:$G97,G97)<3,$G97,\" \")","v":" "},88,"",1000]
[89,null,{"$f":"IF(A98>0,(VLOOKUP($A98,'Engag Pre'!$A$10:$G$74,3,FALSE)),\" \")","v":{"$error":"#N/A"}},{"$f":"IF(B98>0,(VLOOKUP($B98,'Engag Min'!$A$10:$G$109,7,FALSE)),\" \")","v":" "},{"$f":"IF(B98>0,(VLOOKUP($B98,'Engag Min'!$A$10:$G$109,3,FALSE)),\" \")","v":" "},{"$f":"IF(B98>0,(VLOOKUP($B98,'Engag Min'!$A$10:$G$109,4,FALSE)),\" \")","v":" "},{"$f":"IF(B98>0,(VLOOKUP($B98,'Engag Min'!$A$10:$G$109,5,FALSE)),\" \")","v":" "},{"$f":"IF(B98>0,(VLOOKUP($B98,'Engag Min'!$A$10:$G$109,6,FALSE)),\" \")","v":" "},null,null," ",{"$f":"IF(COUNTIF($G$10:$G98,G98)<2,$G98,\" \")","v":" "},1000,{"$f":"IF(COUNTIF($G$10:$G98,G98)<3,$G98,\" \")","v":" "},89,"",1000]
[90,null,{"$f":"IF(A99>0,(VLOOKUP($A99,'Engag Pre'!$A$10:$G$74,3,FALSE)),\" \")","v":{"$error":"#N/A"}},{"$f":"IF(B99>0,(VLOOKUP($B99,'Engag Min'!$A$10:$G$109,7,FALSE)),\" \")","v":" "},{"$f":"IF(B99>0,(VLOOKUP($B99,'Engag Min'!$A$10:$G$109,3,FALSE)),\" \")","v":" "},{"$f":"IF(B99>0,(VLOOKUP($B99,'Engag Min'!$A$10:$G$109,4,FALSE)),\" \")","v":" "},{"$f":"IF(B99>0,(VLOOKUP($B99,'Engag Min'!$A$10:$G$109,5,FALSE)),\" \")","v":" "},{"$f":"IF(B99>0,(VLOOKUP($B99,'Engag Min'!$A$10:$G$109,6,FALSE)),\" \")","v":" "},null,null," ",{"$f":"IF(COUNTIF($G$10:$G99,G99)<2,$G99,\" \")","v":" "},1000,{"$f":"IF(COUNTIF($G$10:$G99,G99)<3,$G99,\" \")","v":" "},90,"",1000]
[91,null,{"$f":"IF(A100>0,(VLOOKUP($A100,'Engag Pre'!$A$10:$G$74,3,FALSE)),\" \")","v":{"$error":"#N/A"}},{"$f":"IF(B100>0,(VLOOKUP($B100,'Engag Min'!$A$10:$G$109,7,FALSE)),\" \")","v":" "},{"$f":"IF(B100>0,(VLOOKUP($B100,'Engag Min'!$A$10:$G$109,3,FALSE)),\" \")","v":" "},{"$f":"IF(B100>0,(VLOOKUP($B100,'Engag Min'!$A$10:$G$109,4,FALSE)),\" \")","v":" "},{"$f":"IF(B100>0,(VLOOKUP($B100,'Engag Min'!$A$10:$G$109,5,FALSE)),\" \")","v":" "},{"$f":"IF(B100>0,(VLOOKUP($B100,'Engag Min'!$A$10:$G$109,6,FALSE)),\" \")","v":" "},null,null," ",{"$f":"IF(COUNTIF($G$10:$G100,G100)<2,$G100,\" \")","v":" "},1000,{"$f":"IF(COUNTIF($G$10:$G100,G100)<3,$G100,\" \")","v":" "},91,"",1000]
[92,null,{"$f":"IF(A101>0,(VLOOKUP($A101,'Engag Pre'!$A$10:$G$74,3,FALSE)),\" \")","v":{"$error":"#N/A"}},{"$f":"IF(B101>0,(VLOOKUP($B101,'Engag Min'!$A$10:$G$109,7,FALSE)),\" \")","v":" "},{"$f":"IF(B101>0,(VLOOKUP($B101,'Engag Min'!$A$10:$G$109,3,FALSE)),\" \")","v":" "},{"$f":"IF(B101>0,(VLOOKUP($B101,'Engag Min'!$A$10:$G$109,4,FALSE)),\" \")","v":" "},{"$f":"IF(B101>0,(VLOOKUP($B101,'Engag Min'!$A$10:$G$109,5,FALSE)),\" \")","v":" "},{"$f":"IF(B101>0,(VLOOKUP($B101,'Engag Min'!$A$10:$G$109,6,FALSE)),\" \")","v":" "},null,null," ",{"$f":"IF(COUNTIF($G$10:$G101,G101)<2,$G101,\" \")","v":" "},1000,{"$f":"IF(COUNTIF($G$10:$G101,G101)<3,$G101,\" \")","v":" "},92,"",1000]
[93,null,{"$f":"IF(A102>0,(VLOOKUP($A102,'Engag Pre'!$A$10:$G$74,3,FALSE)),\" \")","v":{"$error":"#N/A"}},{"$f":"IF(B102>0,(VLOOKUP($B102,'Engag Min'!$A$10:$G$109,7,FALSE)),\" \")","v":" "},{"$f":"IF(B102>0,(VLOOKUP($B102,'Engag Min'!$A$10:$G$109,3,FALSE)),\" \")","v":" "},{"$f":"IF(B102>0,(VLOOKUP($B102,'Engag Min'!$A$10:$G$109,4,FALSE)),\" \")","v":" "},{"$f":"IF(B102>0,(VLOOKUP($B102,'Engag Min'!$A$10:$G$109,5,FALSE)),\" \")","v":" "},{"$f":"IF(B102>0,(VLOOKUP($B102,'Engag Min'!$A$10:$G$109,6,FALSE)),\" \")","v":" "},null,null," ",{"$f":"IF(COUNTIF($G$10:$G102,G102)<2,$G102,\" \")","v":" "},1000,{"$f":"IF(COUNTIF($G$10:$G102,G102)<3,$G102,\" \")","v":" "},93,"",1000]
[94,null,{"$f":"IF(A103>0,(VLOOKUP($A103,'Engag Pre'!$A$10:$G$74,3,FALSE)),\" \")","v":{"$error":"#N/A"}},{"$f":"IF(B103>0,(VLOOKUP($B103,'Engag Min'!$A$10:$G$109,7,FALSE)),\" \")","v":" "},{"$f":"IF(B103>0,(VLOOKUP($B103,'Engag Min'!$A$10:$G$109,3,FALSE)),\" \")","v":" "},{"$f":"IF(B103>0,(VLOOKUP($B103,'Engag Min'!$A$10:$G$109,4,FALSE)),\" \")","v":" "},{"$f":"IF(B103>0,(VLOOKUP($B103,'Engag Min'!$A$10:$G$109,5,FALSE)),\" \")","v":" "},{"$f":"IF(B103>0,(VLOOKUP($B103,'Engag Min'!$A$10:$G$109,6,FALSE)),\" \")","v":" "},null,null," ",{"$f":"IF(COUNTIF($G$10:$G103,G103)<2,$G103,\" \")","v":" "},1000,{"$f":"IF(COUNTIF($G$10:$G103,G103)<3,$G103,\" \")","v":" "},94,"",1000]
[95,null,{"$f":"IF(A104>0,(VLOOKUP($A104,'Engag Pre'!$A$10:$G$74,3,FALSE)),\" \")","v":{"$error":"#N/A"}},{"$f":"IF(B104>0,(VLOOKUP($B104,'Engag Min'!$A$10:$G$109,7,FALSE)),\" \")","v":" "},{"$f":"IF(B104>0,(VLOOKUP($B104,'Engag Min'!$A$10:$G$109,3,FALSE)),\" \")","v":" "},{"$f":"IF(B104>0,(VLOOKUP($B104,'Engag Min'!$A$10:$G$109,4,FALSE)),\" \")","v":" "},{"$f":"IF(B104>0,(VLOOKUP($B104,'Engag Min'!$A$10:$G$109,5,FALSE)),\" \")","v":" "},{"$f":"IF(B104>0,(VLOOKUP($B104,'Engag Min'!$A$10:$G$109,6,FALSE)),\" \")","v":" "},null,null," ",{"$f":"IF(COUNTIF($G$10:$G104,G104)<2,$G104,\" \")","v":" "},1000,{"$f":"IF(COUNTIF($G$10:$G104,G104)<3,$G104,\" \")","v":" "},95,"",1000]
[96,null,{"$f":"IF(A105>0,(VLOOKUP($A105,'Engag Pre'!$A$10:$G$74,3,FALSE)),\" \")","v":{"$error":"#N/A"}},{"$f":"IF(B105>0,(VLOOKUP($B105,'Engag Min'!$A$10:$G$109,7,FALSE)),\" \")","v":" "},{"$f":"IF(B105>0,(VLOOKUP($B105,'Engag Min'!$A$10:$G$109,3,FALSE)),\" \")","v":" "},{"$f":"IF(B105>0,(VLOOKUP($B105,'Engag Min'!$A$10:$G$109,4,FALSE)),\" \")","v":" "},{"$f":"IF(B105>0,(VLOOKUP($B105,'Engag Min'!$A$10:$G$109,5,FALSE)),\" \")","v":" "},{"$f":"IF(B105>0,(VLOOKUP($B105,'Engag Min'!$A$10:$G$109,6,FALSE)),\" \")","v":" "},null,null," ",{"$f":"IF(COUNTIF($G$10:$G105,G105)<2,$G105,\" \")","v":" "},1000,{"$f":"IF(COUNTIF($G$10:$G105,G105)<3,$G105,\" \")","v":" "},96,"",1000]
[97,null,{"$f":"IF(A106>0,(VLOOKUP($A106,'Engag Pre'!$A$10:$G$74,3,FALSE)),\" \")","v":{"$error":"#N/A"}},{"$f":"IF(B106>0,(VLOOKUP($B106,'Engag Min'!$A$10:$G$109,7,FALSE)),\" \")","v":" "},{"$f":"IF(B106>0,(VLOOKUP($B106,'Engag Min'!$A$10:$G$109,3,FALSE)),\" \")","v":" "},{"$f":"IF(B106>0,(VLOOKUP($B106,'Engag Min'!$A$10:$G$109,4,FALSE)),\" \")","v":" "},{"$f":"IF(B106>0,(VLOOKUP($B106,'Engag Min'!$A$10:$G$109,5,FALSE)),\" \")","v":" "},{"$f":"IF(B106>0,(VLOOKUP($B106,'Engag Min'!$A$10:$G$109,6,FALSE)),\" \")","v":" "},null,null," ",{"$f":"IF(COUNTIF($G$10:$G106,G106)<2,$G106,\" \")","v":" "},1000,{"$f":"IF(COUNTIF($G$10:$G106,G106)<3,$G106,\" \")","v":" "},97,"",1000]
[98,null,{"$f":"IF(A107>0,(VLOOKUP($A107,'Engag Pre'!$A$10:$G$74,3,FALSE)),\" \")","v":{"$error":"#N/A"}},{"$f":"IF(B107>0,(VLOOKUP($B107,'Engag Min'!$A$10:$G$109,7,FALSE)),\" \")","v":" "},{"$f":"IF(B107>0,(VLOOKUP($B107,'Engag Min'!$A$10:$G$109,3,FALSE)),\" \")","v":" "},{"$f":"IF(B107>0,(VLOOKUP($B107,'Engag Min'!$A$10:$G$109,4,FALSE)),\" \")","v":" "},{"$f":"IF(B107>0,(VLOOKUP($B107,'Engag Min'!$A$10:$G$109,5,FALSE)),\" \")","v":" "},{"$f":"IF(B107>0,(VLOOKUP($B107,'Engag Min'!$A$10:$G$109,6,FALSE)),\" \")","v":" "},null,null," ",{"$f":"IF(COUNTIF($G$10:$G107,G107)<2,$G107,\" \")","v":" "},1000,{"$f":"IF(COUNTIF($G$10:$G107,G107)<3,$G107,\" \")","v":" "},98,"",1000]
[99,null,{"$f":"IF(A108>0,(VLOOKUP($A108,'Engag Pre'!$A$10:$G$74,3,FALSE)),\" \")","v":{"$error":"#N/A"}},{"$f":"IF(B108>0,(VLOOKUP($B108,'Engag Min'!$A$10:$G$109,7,FALSE)),\" \")","v":" "},{"$f":"IF(B108>0,(VLOOKUP($B108,'Engag Min'!$A$10:$G$109,3,FALSE)),\" \")","v":" "},{"$f":"IF(B108>0,(VLOOKUP($B108,'Engag Min'!$A$10:$G$109,4,FALSE)),\" \")","v":" "},{"$f":"IF(B108>0,(VLOOKUP($B108,'Engag Min'!$A$10:$G$109,5,FALSE)),\" \")","v":" "},{"$f":"IF(B108>0,(VLOOKUP($B108,'Engag Min'!$A$10:$G$109,6,FALSE)),\" \")","v":" "},null,null," ",{"$f":"IF(COUNTIF($G$10:$G108,G108)<2,$G108,\" \")","v":" "},1000,{"$f":"IF(COUNTIF($G$10:$G108,G108)<3,$G108,\" \")","v":" "},99,"",1000]
[100,null,{"$f":"IF(A109>0,(VLOOKUP($A109,'Engag Pre'!$A$10:$G$74,3,FALSE)),\" \")","v":{"$error":"#N/A"}},{"$f":"IF(B109>0,(VLOOKUP($B109,'Engag Min'!$A$10:$G$109,7,FALSE)),\" \")","v":" "},{"$f":"IF(B109>0,(VLOOKUP($B109,'Engag Min'!$A$10:$G$109,3,FALSE)),\" \")","v":" "},{"$f":"IF(B109>0,(VLOOKUP($B109,'Engag Min'!$A$10:$G$109,4,FALSE)),\" \")","v":" "},{"$f":"IF(B109>0,(VLOOKUP($B109,'Engag Min'!$A$10:$G$109,5,FALSE)),\" \")","v":" "},{"$f":"IF(B109>0,(VLOOKUP($B109,'Engag Min'!$A$10:$G$109,6,FALSE)),\" \")","v":" "},null,null," ",{"$f":"IF(COUNTIF($G$10:$G109,G109)<2,$G109,\" \")","v":" "},1000,{"$f":"IF(COUNTIF($G$10:$G109,G109)<3,$G109,\" \")","v":" "},100,"",1000]
["CLASSEMENT MINIMES 2"]
["Rang","Doss","Code UCI","Licence","Nom","Prénom","Club","Catégorie","Temps","Ecart"]
[1,null,{"$f":"IF(A112>0,(VLOOKUP($A112,'Engag Pre'!$A$10:$G$74,3,FALSE)),\" \")","v":{"$error":"#N/A"}},{"$f":"IF(B112>0,(VLOOKUP($B112,'Engag Min'!$A$10:$G$109,7,FALSE)),\" \")","v":" "},{"$f":"IF(B112>0,(VLOOKUP($B112,'Engag Min'!$A$10:$G$109,3,FALSE)),\" \")","v":" "},{"$f":"IF(B112>0,(VLOOKUP($B112,'Engag Min'!$A$10:$G$109,4,FALSE)),\" \")","v":" "},{"$f":"IF(B112>0,(VLOOKUP($B112,'Engag Min'!$A$10:$G$109,5,FALSE)),\" \")","v":" "},{"$f":"IF(B112>0,(VLOOKUP($B112,'Engag Min'!$A$10:$G$109,6,FALSE)),\" \")","v":" "},null,null,{"$f":"IF(COUNTIF($B$10:$B$109,B112)>1,\"Déjà classé\",\" \")","v":" "},{"$f":"IF(COUNTIF($G$10:$G112,G112)<2,$G112,\" \")","v":" "},{"$f":"IF($G$6<5,1000,(IF(L112=G112,A112,\"\")))","v":1000},{"$f":"IF(COUNTIF($G$10:$G112,G112)<3,$G112,\" \")","v":" "},{"$f":"IF(N112=$G112,$A112,\"\")","v":1},{"$f":"IF(N112=L112,\"\",N112)","v":""},{"$f":"IF($G$6<5,1000,(IF(P112=$G112,$A112,1000)))","v":1000}]
[2,null,{"$f":"IF(A113>0,(VLOOKUP($A113,'Engag Pre'!$A$10:$G$74,3,FALSE)),\" \")","v":{"$error":"#N/A"}},{"$f":"IF(B113>0,(VLOOKUP($B113,'Engag Min'!$A$10:$G$109,7,FALSE)),\" \")","v":" "},{"$f":"IF(B113>0,(VLOOKUP($B113,'Engag Min'!$A$10:$G$109,3,FALSE)),\" \")","v":" "},{"$f":"IF(B113>0,(VLOOKUP($B113,'Engag Min'!$A$10:$G$109,4,FALSE)),\" \")","v":" "},{"$f":"IF(B113>0,(VLOOKUP($B113,'Engag Min'!$A$10:$G$109,5,FALSE)),\" \")","v":" "},{"$f":"IF(B113>0,(VLOOKUP($B113,'Engag Min'!$A$10:$G$109,6,FALSE)),\" \")","v":" "},null,null,{"$f":"IF(COUNTIF($B$10:$B$109,B113)>1,\"Déjà classé\",\" \")","v":" "},{"$f":"IF(COUNTIF($G$10:$G113,G113)<2,$G113,\" \")","v":" "},{"$f":"IF($G$6<5,1000,(IF(L113=G113,A113,\"\")))","v":1000},{"$f":"IF(COUNTIF($G$10:$G113,G113)<3,$G113,\" \")","v":" "},{"$f":"IF(N113=$G113,$A113,\"\")","v":2},{"$f":"IF(N113=L113,\"\",N113)","v":""},{"$f":"IF($G$6<5,1000,(IF(P113=$G113,$A113,1000)))","v":1000}]
[3,null,{"$f":"IF(A114>0,(VLOOKUP($A114,'Engag Pre'!$A$10:$G$74,3,FALSE)),\" \")","v":{"$error":"#N/A"}},{"$f":"IF(B114>0,(VLOOKUP($B114,'Engag Min'!$A$10:$G$109,7,FALSE)),\" \")","v":" "},{"$f":"IF(B114>0,(VLOOKUP($B114,'Engag Min'!$A$10:$G$109,3,FALSE)),\" \")","v":" "},{"$f":"IF(B114>0,(VLOOKUP($B114,'Engag Min'!$A$10:$G$109,4,FALSE)),\" \")","v":" "},{"$f":"IF(B114>0,(VLOOKUP($B114,'Engag Min'!$A$10:$G$109,5,FALSE)),\" \")","v":" "},{"$f":"IF(B114>0,(VLOOKUP($B114,'Engag Min'!$A$10:$G$109,6,FALSE)),\" \")","v":" "},null,null," ",{"$f":"IF(COUNTIF($G$10:$G114,G114)<2,$G114,\" \")","v":" "},1000,{"$f":"IF(COUNTIF($G$10:$G114,G114)<3,$G114,\" \")","v":" "},3,"",1000]
[4,null,{"$f":"IF(A115>0,(VLOOKUP($A115,'Engag Pre'!$A$10:$G$74,3,FALSE)),\" \")","v":{"$error":"#N/A"}},{"$f":"IF(B115>0,(VLOOKUP($B115,'Engag Min'!$A$10:$G$109,7,FALSE)),\" \")","v":" "},{"$f":"IF(B115>0,(VLOOKUP($B115,'Engag Min'!$A$10:$G$109,3,FALSE)),\" \")","v":" "},{"$f":"IF(B115>0,(VLOOKUP($B115,'Engag Min'!$A$10:$G$109,4,FALSE)),\" \")","v":" "},{"$f":"IF(B115>0,(VLOOKUP($B115,'Engag Min'!$A$10:$G$109,5,FALSE)),\" \")","v":" "},{"$f":"IF(B115>0,(VLOOKUP($B115,'Engag Min'!$A$10:$G$109,6,FALSE)),\" \")","v":" "},null,null," ",{"$f":"IF(COUNTIF($G$10:$G115,G115)<2,$G115,\" \")","v":" "},1000,{"$f":"IF(COUNTIF($G$10:$G115,G115)<3,$G115,\" \")","v":" "},4,"",1000]
[5,null,{"$f":"IF(A116>0,(VLOOKUP($A116,'Engag Pre'!$A$10:$G$74,3,FALSE)),\" \")","v":{"$error":"#N/A"}},{"$f":"IF(B116>0,(VLOOKUP($B116,'Engag Min'!$A$10:$G$109,7,FALSE)),\" \")","v":" "},{"$f":"IF(B116>0,(VLOOKUP($B116,'Engag Min'!$A$10:$G$109,3,FALSE)),\" \")","v":" "},{"$f":"IF(B116>0,(VLOOKUP($B116,'Engag Min'!$A$10:$G$109,4,FALSE)),\" \")","v":" "},{"$f":"IF(B116>0,(VLOOKUP($B116,'Engag Min'!$A$10:$G$109,5,FALSE)),\" \")","v":" "},{"$f":"IF(B116>0,(VLOOKUP($B116,'Engag Min'!$A$10:$G$109,6,FALSE)),\" \")","v":" "},null,null," ",{"$f":"IF(COUNTIF($G$10:$G116,G116)<2,$G116,\" \")","v":" "},1000,{"$f":"IF(COUNTIF($G$10:$G116,G116)<3,$G116,\" \")","v":" "},5,"",1000]
[6,null,{"$f":"IF(A117>0,(VLOOKUP($A117,'Engag Pre'!$A$10:$G$74,3,FALSE)),\" \")","v":{"$error":"#N/A"}},{"$f":"IF(B117>0,(VLOOKUP($B117,'Engag Min'!$A$10:$G$109,7,FALSE)),\" \")","v":" "},{"$f":"IF(B117>0,(VLOOKUP($B117,'Engag Min'!$A$10:$G$109,3,FALSE)),\" \")","v":" "},{"$f":"IF(B117>0,(VLOOKUP($B117,'Engag Min'!$A$10:$G$109,4,FALSE)),\" \")","v":" "},{"$f":"IF(B117>0,(VLOOKUP($B117,'Engag Min'!$A$10:$G$109,5,FALSE)),\" \")","v":" "},{"$f":"IF(B117>0,(VLOOKUP($B117,'Engag Min'!$A$10:$G$109,6,FALSE)),\" \")","v":" "},null,null," ",{"$f":"IF(COUNTIF($G$10:$G117,G117)<2,$G117,\" \")","v":" "},1000,{"$f":"IF(COUNTIF($G$10:$G117,G117)<3,$G117,\" \")","v":" "},6,"",1000]
[7,null,{"$f":"IF(A118>0,(VLOOKUP($A118,'Engag Pre'!$A$10:$G$74,3,FALSE)),\" \")","v":{"$error":"#N/A"}},{"$f":"IF(B118>0,(VLOOKUP($B118,'Engag Min'!$A$10:$G$109,7,FALSE)),\" \")","v":" "},{"$f":"IF(B118>0,(VLOOKUP($B118,'Engag Min'!$A$10:$G$109,3,FALSE)),\" \")","v":" "},{"$f":"IF(B118>0,(VLOOKUP($B118,'Engag Min'!$A$10:$G$109,4,FALSE)),\" \")","v":" "},{"$f":"IF(B118>0,(VLOOKUP($B118,'Engag Min'!$A$10:$G$109,5,FALSE)),\" \")","v":" "},{"$f":"IF(B118>0,(VLOOKUP($B118,'Engag Min'!$A$10:$G$109,6,FALSE)),\" \")","v":" "},null,null," ",{"$f":"IF(COUNTIF($G$10:$G118,G118)<2,$G118,\" \")","v":" "},1000,{"$f":"IF(COUNTIF($G$10:$G118,G118)<3,$G118,\" \")","v":" "},7,"",1000]
[8,null,{"$f":"IF(A119>0,(VLOOKUP($A119,'Engag Pre'!$A$10:$G$74,3,FALSE)),\" \")","v":{"$error":"#N/A"}},{"$f":"IF(B119>0,(VLOOKUP($B119,'Engag Min'!$A$10:$G$109,7,FALSE)),\" \")","v":" "},{"$f":"IF(B119>0,(VLOOKUP($B119,'Engag Min'!$A$10:$G$109,3,FALSE)),\" \")","v":" "},{"$f":"IF(B119>0,(VLOOKUP($B119,'Engag Min'!$A$10:$G$109,4,FALSE)),\" \")","v":" "},{"$f":"IF(B119>0,(VLOOKUP($B119,'Engag Min'!$A$10:$G$109,5,FALSE)),\" \")","v":" "},{"$f":"IF(B119>0,(VLOOKUP($B119,'Engag Min'!$A$10:$G$109,6,FALSE)),\" \")","v":" "},null,null," ",{"$f":"IF(COUNTIF($G$10:$G119,G119)<2,$G119,\" \")","v":" "},1000,{"$f":"IF(COUNTIF($G$10:$G119,G119)<3,$G119,\" \")","v":" "},8,"",1000]
[9,null,{"$f":"IF(A120>0,(VLOOKUP($A120,'Engag Pre'!$A$10:$G$74,3,FALSE)),\" \")","v":{"$error":"#N/A"}},{"$f":"IF(B120>0,(VLOOKUP($B120,'Engag Min'!$A$10:$G$109,7,FALSE)),\" \")","v":" "},{"$f":"IF(B120>0,(VLOOKUP($B120,'Engag Min'!$A$10:$G$109,3,FALSE)),\" \")","v":" "},{"$f":"IF(B120>0,(VLOOKUP($B120,'Engag Min'!$A$10:$G$109,4,FALSE)),\" \")","v":" "},{"$f":"IF(B120>0,(VLOOKUP($B120,'Engag Min'!$A$10:$G$109,5,FALSE)),\" \")","v":" "},{"$f":"IF(B120>0,(VLOOKUP($B120,'Engag Min'!$A$10:$G$109,6,FALSE)),\" \")","v":" "},null,null," ",{"$f":"IF(COUNTIF($G$10:$G120,G120)<2,$G120,\" \")","v":" "},1000,{"$f":"IF(COUNTIF($G$10:$G120,G120)<3,$G120,\" \")","v":" "},9,"",1000]
[10,null,{"$f":"IF(A121>0,(VLOOKUP($A121,'Engag Pre'!$A$10:$G$74,3,FALSE)),\" \")","v":{"$error":"#N/A"}},{"$f":"IF(B121>0,(VLOOKUP($B121,'Engag Min'!$A$10:$G$109,7,FALSE)),\" \")","v":" "},{"$f":"IF(B121>0,(VLOOKUP($B121,'Engag Min'!$A$10:$G$109,3,FALSE)),\" \")","v":" "},{"$f":"IF(B121>0,(VLOOKUP($B121,'Engag Min'!$A$10:$G$109,4,FALSE)),\" \")","v":" "},{"$f":"IF(B121>0,(VLOOKUP($B121,'Engag Min'!$A$10:$G$109,5,FALSE)),\" \")","v":" "},{"$f":"IF(B121>0,(VLOOKUP($B121,'Engag Min'!$A$10:$G$109,6,FALSE)),\" \")","v":" "},null,null," ",{"$f":"IF(COUNTIF($G$10:$G121,G121)<2,$G121,\" \")","v":" "},1000,{"$f":"IF(COUNTIF($G$10:$G121,G121)<3,$G121,\" \")","v":" "},10,"",1000]
[11,null,{"$f":"IF(A122>0,(VLOOKUP($A122,'Engag Pre'!$A$10:$G$74,3,FALSE)),\" \")","v":{"$error":"#N/A"}},{"$f":"IF(B122>0,(VLOOKUP($B122,'Engag Min'!$A$10:$G$109,7,FALSE)),\" \")","v":" "},{"$f":"IF(B122>0,(VLOOKUP($B122,'Engag Min'!$A$10:$G$109,3,FALSE)),\" \")","v":" "},{"$f":"IF(B122>0,(VLOOKUP($B122,'Engag Min'!$A$10:$G$109,4,FALSE)),\" \")","v":" "},{"$f":"IF(B122>0,(VLOOKUP($B122,'Engag Min'!$A$10:$G$109,5,FALSE)),\" \")","v":" "},{"$f":"IF(B122>0,(VLOOKUP($B122,'Engag Min'!$A$10:$G$109,6,FALSE)),\" \")","v":" "},null,null," ",{"$f":"IF(COUNTIF($G$10:$G122,G122)<2,$G122,\" \")","v":" "},1000,{"$f":"IF(COUNTIF($G$10:$G122,G122)<3,$G122,\" \")","v":" "},11,"",1000]
[12,null,{"$f":"IF(A123>0,(VLOOKUP($A123,'Engag Pre'!$A$10:$G$74,3,FALSE)),\" \")","v":{"$error":"#N/A"}},{"$f":"IF(B123>0,(VLOOKUP($B123,'Engag Min'!$A$10:$G$109,7,FALSE)),\" \")","v":" "},{"$f":"IF(B123>0,(VLOOKUP($B123,'Engag Min'!$A$10:$G$109,3,FALSE)),\" \")","v":" "},{"$f":"IF(B123>0,(VLOOKUP($B123,'Engag Min'!$A$10:$G$109,4,FALSE)),\" \")","v":" "},{"$f":"IF(B123>0,(VLOOKUP($B123,'Engag Min'!$A$10:$G$109,5,FALSE)),\" \")","v":" "},{"$f":"IF(B123>0,(VLOOKUP($B123,'Engag Min'!$A$10:$G$109,6,FALSE)),\" \")","v":" "},null,null," ",{"$f":"IF(COUNTIF($G$10:$G123,G123)<2,$G123,\" \")","v":" "},1000,{"$f":"IF(COUNTIF($G$10:$G123,G123)<3,$G123,\" \")","v":" "},12,"",1000]
[13,null,{"$f":"IF(A124>0,(VLOOKUP($A124,'Engag Pre'!$A$10:$G$74,3,FALSE)),\" \")","v":{"$error":"#N/A"}},{"$f":"IF(B124>0,(VLOOKUP($B124,'Engag Min'!$A$10:$G$109,7,FALSE)),\" \")","v":" "},{"$f":"IF(B124>0,(VLOOKUP($B124,'Engag Min'!$A$10:$G$109,3,FALSE)),\" \")","v":" "},{"$f":"IF(B124>0,(VLOOKUP($B124,'Engag Min'!$A$10:$G$109,4,FALSE)),\" \")","v":" "},{"$f":"IF(B124>0,(VLOOKUP($B124,'Engag Min'!$A$10:$G$109,5,FALSE)),\" \")","v":" "},{"$f":"IF(B124>0,(VLOOKUP($B124,'Engag Min'!$A$10:$G$109,6,FALSE)),\" \")","v":" "},null,null," ",{"$f":"IF(COUNTIF($G$10:$G124,G124)<2,$G124,\" \")","v":" "},1000,{"$f":"IF(COUNTIF($G$10:$G124,G124)<3,$G124,\" \")","v":" "},13,"",1000]
[14,null,{"$f":"IF(A125>0,(VLOOKUP($A125,'Engag Pre'!$A$10:$G$74,3,FALSE)),\" \")","v":{"$error":"#N/A"}},{"$f":"IF(B125>0,(VLOOKUP($B125,'Engag Min'!$A$10:$G$109,7,FALSE)),\" \")","v":" "},{"$f":"IF(B125>0,(VLOOKUP($B125,'Engag Min'!$A$10:$G$109,3,FALSE)),\" \")","v":" "},{"$f":"IF(B125>0,(VLOOKUP($B125,'Engag Min'!$A$10:$G$109,4,FALSE)),\" \")","v":" "},{"$f":"IF(B125>0,(VLOOKUP($B125,'Engag Min'!$A$10:$G$109,5,FALSE)),\" \")","v":" "},{"$f":"IF(B125>0,(VLOOKUP($B125,'Engag Min'!$A$10:$G$109,6,FALSE)),\" \")","v":" "},null,null," ",{"$f":"IF(COUNTIF($G$10:$G125,G125)<2,$G125,\" \")","v":" "},1000,{"$f":"IF(COUNTIF($G$10:$G125,G125)<3,$G125,\" \")","v":" "},14,"",1000]
[15,null,{"$f":"IF(A126>0,(VLOOKUP($A126,'Engag Pre'!$A$10:$G$74,3,FALSE)),\" \")","v":{"$error":"#N/A"}},{"$f":"IF(B126>0,(VLOOKUP($B126,'Engag Min'!$A$10:$G$109,7,FALSE)),\" \")","v":" "},{"$f":"IF(B126>0,(VLOOKUP($B126,'Engag Min'!$A$10:$G$109,3,FALSE)),\" \")","v":" "},{"$f":"IF(B126>0,(VLOOKUP($B126,'Engag Min'!$A$10:$G$109,4,FALSE)),\" \")","v":" "},{"$f":"IF(B126>0,(VLOOKUP($B126,'Engag Min'!$A$10:$G$109,5,FALSE)),\" \")","v":" "},{"$f":"IF(B126>0,(VLOOKUP($B126,'Engag Min'!$A$10:$G$109,6,FALSE)),\" \")","v":" "},null,null," ",{"$f":"IF(COUNTIF($G$10:$G126,G126)<2,$G126,\" \")","v":" "},1000,{"$f":"IF(COUNTIF($G$10:$G126,G126)<3,$G126,\" \")","v":" "},15,"",1000]
[16,null,{"$f":"IF(A127>0,(VLOOKUP($A127,'Engag Pre'!$A$10:$G$74,3,FALSE)),\" \")","v":{"$error":"#N/A"}},{"$f":"IF(B127>0,(VLOOKUP($B127,'Engag Min'!$A$10:$G$109,7,FALSE)),\" \")","v":" "},{"$f":"IF(B127>0,(VLOOKUP($B127,'Engag Min'!$A$10:$G$109,3,FALSE)),\" \")","v":" "},{"$f":"IF(B127>0,(VLOOKUP($B127,'Engag Min'!$A$10:$G$109,4,FALSE)),\" \")","v":" "},{"$f":"IF(B127>0,(VLOOKUP($B127,'Engag Min'!$A$10:$G$109,5,FALSE)),\" \")","v":" "},{"$f":"IF(B127>0,(VLOOKUP($B127,'Engag Min'!$A$10:$G$109,6,FALSE)),\" \")","v":" "},null,null," ",{"$f":"IF(COUNTIF($G$10:$G127,G127)<2,$G127,\" \")","v":" "},1000,{"$f":"IF(COUNTIF($G$10:$G127,G127)<3,$G127,\" \")","v":" "},16,"",1000]
[17,null,{"$f":"IF(A128>0,(VLOOKUP($A128,'Engag Pre'!$A$10:$G$74,3,FALSE)),\" \")","v":{"$error":"#N/A"}},{"$f":"IF(B128>0,(VLOOKUP($B128,'Engag Min'!$A$10:$G$109,7,FALSE)),\" \")","v":" "},{"$f":"IF(B128>0,(VLOOKUP($B128,'Engag Min'!$A$10:$G$109,3,FALSE)),\" \")","v":" "},{"$f":"IF(B128>0,(VLOOKUP($B128,'Engag Min'!$A$10:$G$109,4,FALSE)),\" \")","v":" "},{"$f":"IF(B128>0,(VLOOKUP($B128,'Engag Min'!$A$10:$G$109,5,FALSE)),\" \")","v":" "},{"$f":"IF(B128>0,(VLOOKUP($B128,'Engag Min'!$A$10:$G$109,6,FALSE)),\" \")","v":" "},null,null," ",{"$f":"IF(COUNTIF($G$10:$G128,G128)<2,$G128,\" \")","v":" "},1000,{"$f":"IF(COUNTIF($G$10:$G128,G128)<3,$G128,\" \")","v":" "},17,"",1000]
[18,null,{"$f":"IF(A129>0,(VLOOKUP($A129,'Engag Pre'!$A$10:$G$74,3,FALSE)),\" \")","v":{"$error":"#N/A"}},{"$f":"IF(B129>0,(VLOOKUP($B129,'Engag Min'!$A$10:$G$109,7,FALSE)),\" \")","v":" "},{"$f":"IF(B129>0,(VLOOKUP($B129,'Engag Min'!$A$10:$G$109,3,FALSE)),\" \")","v":" "},{"$f":"IF(B129>0,(VLOOKUP($B129,'Engag Min'!$A$10:$G$109,4,FALSE)),\" \")","v":" "},{"$f":"IF(B129>0,(VLOOKUP($B129,'Engag Min'!$A$10:$G$109,5,FALSE)),\" \")","v":" "},{"$f":"IF(B129>0,(VLOOKUP($B129,'Engag Min'!$A$10:$G$109,6,FALSE)),\" \")","v":" "},null,null," ",{"$f":"IF(COUNTIF($G$10:$G129,G129)<2,$G129,\" \")","v":" "},1000,{"$f":"IF(COUNTIF($G$10:$G129,G129)<3,$G129,\" \")","v":" "},18,"",1000]
[19,null,{"$f":"IF(A130>0,(VLOOKUP($A130,'Engag Pre'!$A$10:$G$74,3,FALSE)),\" \")","v":{"$error":"#N/A"}},{"$f":"IF(B130>0,(VLOOKUP($B130,'Engag Min'!$A$10:$G$109,7,FALSE)),\" \")","v":" "},{"$f":"IF(B130>0,(VLOOKUP($B130,'Engag Min'!$A$10:$G$109,3,FALSE)),\" \")","v":" "},{"$f":"IF(B130>0,(VLOOKUP($B130,'Engag Min'!$A$10:$G$109,4,FALSE)),\" \")","v":" "},{"$f":"IF(B130>0,(VLOOKUP($B130,'Engag Min'!$A$10:$G$109,5,FALSE)),\" \")","v":" "},{"$f":"IF(B130>0,(VLOOKUP($B130,'Engag Min'!$A$10:$G$109,6,FALSE)),\" \")","v":" "},null,null," ",{"$f":"IF(COUNTIF($G$10:$G130,G130)<2,$G130,\" \")","v":" "},1000,{"$f":"IF(COUNTIF($G$10:$G130,G130)<3,$G130,\" \")","v":" "},19,"",1000]
[20,null,{"$f":"IF(A131>0,(VLOOKUP($A131,'Engag Pre'!$A$10:$G$74,3,FALSE)),\" \")","v":{"$error":"#N/A"}},{"$f":"IF(B131>0,(VLOOKUP($B131,'Engag Min'!$A$10:$G$109,7,FALSE)),\" \")","v":" "},{"$f":"IF(B131>0,(VLOOKUP($B131,'Engag Min'!$A$10:$G$109,3,FALSE)),\" \")","v":" "},{"$f":"IF(B131>0,(VLOOKUP($B131,'Engag Min'!$A$10:$G$109,4,FALSE)),\" \")","v":" "},{"$f":"IF(B131>0,(VLOOKUP($B131,'Engag Min'!$A$10:$G$109,5,FALSE)),\" \")","v":" "},{"$f":"IF(B131>0,(VLOOKUP($B131,'Engag Min'!$A$10:$G$109,6,FALSE)),\" \")","v":" "},null,null," ",{"$f":"IF(COUNTIF($G$10:$G131,G131)<2,$G131,\" \")","v":" "},1000,{"$f":"IF(COUNTIF($G$10:$G131,G131)<3,$G131,\" \")","v":" "},20,"",1000]
[21,null,{"$f":"IF(A132>0,(VLOOKUP($A132,'Engag Pre'!$A$10:$G$74,3,FALSE)),\" \")","v":{"$error":"#N/A"}},{"$f":"IF(B132>0,(VLOOKUP($B132,'Engag Min'!$A$10:$G$109,7,FALSE)),\" \")","v":" "},{"$f":"IF(B132>0,(VLOOKUP($B132,'Engag Min'!$A$10:$G$109,3,FALSE)),\" \")","v":" "},{"$f":"IF(B132>0,(VLOOKUP($B132,'Engag Min'!$A$10:$G$109,4,FALSE)),\" \")","v":" "},{"$f":"IF(B132>0,(VLOOKUP($B132,'Engag Min'!$A$10:$G$109,5,FALSE)),\" \")","v":" "},{"$f":"IF(B132>0,(VLOOKUP($B132,'Engag Min'!$A$10:$G$109,6,FALSE)),\" \")","v":" "},null,null," ",{"$f":"IF(COUNTIF($G$10:$G132,G132)<2,$G132,\" \")","v":" "},1000,{"$f":"IF(COUNTIF($G$10:$G132,G132)<3,$G132,\" \")","v":" "},21,"",1000]
[22,null,{"$f":"IF(A133>0,(VLOOKUP($A133,'Engag Pre'!$A$10:$G$74,3,FALSE)),\" \")","v":{"$error":"#N/A"}},{"$f":"IF(B133>0,(VLOOKUP($B133,'Engag Min'!$A$10:$G$109,7,FALSE)),\" \")","v":" "},{"$f":"IF(B133>0,(VLOOKUP($B133,'Engag Min'!$A$10:$G$109,3,FALSE)),\" \")","v":" "},{"$f":"IF(B133>0,(VLOOKUP($B133,'Engag Min'!$A$10:$G$109,4,FALSE)),\" \")","v":" "},{"$f":"IF(B133>0,(VLOOKUP($B133,'Engag Min'!$A$10:$G$109,5,FALSE)),\" \")","v":" "},{"$f":"IF(B133>0,(VLOOKUP($B133,'Engag Min'!$A$10:$G$109,6,FALSE)),\" \")","v":" "},null,null," ",{"$f":"IF(COUNTIF($G$10:$G133,G133)<2,$G133,\" \")","v":" "},1000,{"$f":"IF(COUNTIF($G$10:$G133,G133)<3,$G133,\" \")","v":" "},22,"",1000]
[23,null,{"$f":"IF(A134>0,(VLOOKUP($A134,'Engag Pre'!$A$10:$G$74,3,FALSE)),\" \")","v":{"$error":"#N/A"}},{"$f":"IF(B134>0,(VLOOKUP($B134,'Engag Min'!$A$10:$G$109,7,FALSE)),\" \")","v":" "},{"$f":"IF(B134>0,(VLOOKUP($B134,'Engag Min'!$A$10:$G$109,3,FALSE)),\" \")","v":" "},{"$f":"IF(B134>0,(VLOOKUP($B134,'Engag Min'!$A$10:$G$109,4,FALSE)),\" \")","v":" "},{"$f":"IF(B134>0,(VLOOKUP($B134,'Engag Min'!$A$10:$G$109,5,FALSE)),\" \")","v":" "},{"$f":"IF(B134>0,(VLOOKUP($B134,'Engag Min'!$A$10:$G$109,6,FALSE)),\" \")","v":" "},null,null," ",{"$f":"IF(COUNTIF($G$10:$G134,G134)<2,$G134,\" \")","v":" "},1000,{"$f":"IF(COUNTIF($G$10:$G134,G134)<3,$G134,\" \")","v":" "},23,"",1000]
[24,null,{"$f":"IF(A135>0,(VLOOKUP($A135,'Engag Pre'!$A$10:$G$74,3,FALSE)),\" \")","v":{"$error":"#N/A"}},{"$f":"IF(B135>0,(VLOOKUP($B135,'Engag Min'!$A$10:$G$109,7,FALSE)),\" \")","v":" "},{"$f":"IF(B135>0,(VLOOKUP($B135,'Engag Min'!$A$10:$G$109,3,FALSE)),\" \")","v":" "},{"$f":"IF(B135>0,(VLOOKUP($B135,'Engag Min'!$A$10:$G$109,4,FALSE)),\" \")","v":" "},{"$f":"IF(B135>0,(VLOOKUP($B135,'Engag Min'!$A$10:$G$109,5,FALSE)),\" \")","v":" "},{"$f":"IF(B135>0,(VLOOKUP($B135,'Engag Min'!$A$10:$G$109,6,FALSE)),\" \")","v":" "},null,null," ",{"$f":"IF(COUNTIF($G$10:$G135,G135)<2,$G135,\" \")","v":" "},1000,{"$f":"IF(COUNTIF($G$10:$G135,G135)<3,$G135,\" \")","v":" "},24,"",1000]
[25,null,{"$f":"IF(A136>0,(VLOOKUP($A136,'Engag Pre'!$A$10:$G$74,3,FALSE)),\" \")","v":{"$error":"#N/A"}},{"$f":"IF(B136>0,(VLOOKUP($B136,'Engag Min'!$A$10:$G$109,7,FALSE)),\" \")","v":" "},{"$f":"IF(B136>0,(VLOOKUP($B136,'Engag Min'!$A$10:$G$109,3,FALSE)),\" \")","v":" "},{"$f":"IF(B136>0,(VLOOKUP($B136,'Engag Min'!$A$10:$G$109,4,FALSE)),\" \")","v":" "},{"$f":"IF(B136>0,(VLOOKUP($B136,'Engag Min'!$A$10:$G$109,5,FALSE)),\" \")","v":" "},{"$f":"IF(B136>0,(VLOOKUP($B136,'Engag Min'!$A$10:$G$109,6,FALSE)),\" \")","v":" "},null,null," ",{"$f":"IF(COUNTIF($G$10:$G136,G136)<2,$G136,\" \")","v":" "},1000,{"$f":"IF(COUNTIF($G$10:$G136,G136)<3,$G136,\" \")","v":" "},25,"",1000]
[26,null,{"$f":"IF(A137>0,(VLOOKUP($A137,'Engag Pre'!$A$10:$G$74,3,FALSE)),\" \")","v":{"$error":"#N/A"}},{"$f":"IF(B137>0,(VLOOKUP($B137,'Engag Min'!$A$10:$G$109,7,FALSE)),\" \")","v":" "},{"$f":"IF(B137>0,(VLOOKUP($B137,'Engag Min'!$A$10:$G$109,3,FALSE)),\" \")","v":" "},{"$f":"IF(B137>0,(VLOOKUP($B137,'Engag Min'!$A$10:$G$109,4,FALSE)),\" \")","v":" "},{"$f":"IF(B137>0,(VLOOKUP($B137,'Engag Min'!$A$10:$G$109,5,FALSE)),\" \")","v":" "},{"$f":"IF(B137>0,(VLOOKUP($B137,'Engag Min'!$A$10:$G$109,6,FALSE)),\" \")","v":" "},null,null," ",{"$f":"IF(COUNTIF($G$10:$G137,G137)<2,$G137,\" \")","v":" "},1000,{"$f":"IF(COUNTIF($G$10:$G137,G137)<3,$G137,\" \")","v":" "},26,"",1000]
[27,null,{"$f":"IF(A138>0,(VLOOKUP($A138,'Engag Pre'!$A$10:$G$74,3,FALSE)),\" \")","v":{"$error":"#N/A"}},{"$f":"IF(B138>0,(VLOOKUP($B138,'Engag Min'!$A$10:$G$109,7,FALSE)),\" \")","v":" "},{"$f":"IF(B138>0,(VLOOKUP($B138,'Engag Min'!$A$10:$G$109,3,FALSE)),\" \")","v":" "},{"$f":"IF(B138>0,(VLOOKUP($B138,'Engag Min'!$A$10:$G$109,4,FALSE)),\" \")","v":" "},{"$f":"IF(B138>0,(VLOOKUP($B138,'Engag Min'!$A$10:$G$109,5,FALSE)),\" \")","v":" "},{"$f":"IF(B138>0,(VLOOKUP($B138,'Engag Min'!$A$10:$G$109,6,FALSE)),\" \")","v":" "},null,null," ",{"$f":"IF(COUNTIF($G$10:$G138,G138)<2,$G138,\" \")","v":" "},1000,{"$f":"IF(COUNTIF($G$10:$G138,G138)<3,$G138,\" \")","v":" "},27,"",1000]
[28,null,{"$f":"IF(A139>0,(VLOOKUP($A139,'Engag Pre'!$A$10:$G$74,3,FALSE)),\" \")","v":{"$error":"#N/A"}},{"$f":"IF(B139>0,(VLOOKUP($B139,'Engag Min'!$A$10:$G$109,7,FALSE)),\" \")","v":" "},{"$f":"IF(B139>0,(VLOOKUP($B139,'Engag Min'!$A$10:$G$109,3,FALSE)),\" \")","v":" "},{"$f":"IF(B139>0,(VLOOKUP($B139,'Engag Min'!$A$10:$G$109,4,FALSE)),\" \")","v":" "},{"$f":"IF(B139>0,(VLOOKUP($B139,'Engag Min'!$A$10:$G$109,5,FALSE)),\" \")","v":" "},{"$f":"IF(B139>0,(VLOOKUP($B139,'Engag Min'!$A$10:$G$109,6,FALSE)),\" \")","v":" "},null,null," ",{"$f":"IF(COUNTIF($G$10:$G139,G139)<2,$G139,\" \")","v":" "},1000,{"$f":"IF(COUNTIF($G$10:$G139,G139)<3,$G139,\" \")","v":" "},28,"",1000]
[29,null,{"$f":"IF(A140>0,(VLOOKUP($A140,'Engag Pre'!$A$10:$G$74,3,FALSE)),\" \")","v":{"$error":"#N/A"}},{"$f":"IF(B140>0,(VLOOKUP($B140,'Engag Min'!$A$10:$G$109,7,FALSE)),\" \")","v":" "},{"$f":"IF(B140>0,(VLOOKUP($B140,'Engag Min'!$A$10:$G$109,3,FALSE)),\" \")","v":" "},{"$f":"IF(B140>0,(VLOOKUP($B140,'Engag Min'!$A$10:$G$109,4,FALSE)),\" \")","v":" "},{"$f":"IF(B140>0,(VLOOKUP($B140,'Engag Min'!$A$10:$G$109,5,FALSE)),\" \")","v":" "},{"$f":"IF(B140>0,(VLOOKUP($B140,'Engag Min'!$A$10:$G$109,6,FALSE)),\" \")","v":" "},null,null," ",{"$f":"IF(COUNTIF($G$10:$G140,G140)<2,$G140,\" \")","v":" "},1000,{"$f":"IF(COUNTIF($G$10:$G140,G140)<3,$G140,\" \")","v":" "},29,"",1000]
[30,null,{"$f":"IF(A141>0,(VLOOKUP($A141,'Engag Pre'!$A$10:$G$74,3,FALSE)),\" \")","v":{"$error":"#N/A"}},{"$f":"IF(B141>0,(VLOOKUP($B141,'Engag Min'!$A$10:$G$109,7,FALSE)),\" \")","v":" "},{"$f":"IF(B141>0,(VLOOKUP($B141,'Engag Min'!$A$10:$G$109,3,FALSE)),\" \")","v":" "},{"$f":"IF(B141>0,(VLOOKUP($B141,'Engag Min'!$A$10:$G$109,4,FALSE)),\" \")","v":" "},{"$f":"IF(B141>0,(VLOOKUP($B141,'Engag Min'!$A$10:$G$109,5,FALSE)),\" \")","v":" "},{"$f":"IF(B141>0,(VLOOKUP($B141,'Engag Min'!$A$10:$G$109,6,FALSE)),\" \")","v":" "},null,null," ",{"$f":"IF(COUNTIF($G$10:$G141,G141)<2,$G141,\" \")","v":" "},1000,{"$f":"IF(COUNTIF($G$10:$G141,G141)<3,$G141,\" \")","v":" "},30,"",1000]
[31,null,{"$f":"IF(A142>0,(VLOOKUP($A142,'Engag Pre'!$A$10:$G$74,3,FALSE)),\" \")","v":{"$error":"#N/A"}},{"$f":"IF(B142>0,(VLOOKUP($B142,'Engag Min'!$A$10:$G$109,7,FALSE)),\" \")","v":" "},{"$f":"IF(B142>0,(VLOOKUP($B142,'Engag Min'!$A$10:$G$109,3,FALSE)),\" \")","v":" "},{"$f":"IF(B142>0,(VLOOKUP($B142,'Engag Min'!$A$10:$G$109,4,FALSE)),\" \")","v":" "},{"$f":"IF(B142>0,(VLOOKUP($B142,'Engag Min'!$A$10:$G$109,5,FALSE)),\" \")","v":" "},{"$f":"IF(B142>0,(VLOOKUP($B142,'Engag Min'!$A$10:$G$109,6,FALSE)),\" \")","v":" "},null,null," ",{"$f":"IF(COUNTIF($G$10:$G142,G142)<2,$G142,\" \")","v":" "},1000,{"$f":"IF(COUNTIF($G$10:$G142,G142)<3,$G142,\" \")","v":" "},31,"",1000]
[32,null,{"$f":"IF(A143>0,(VLOOKUP($A143,'Engag Pre'!$A$10:$G$74,3,FALSE)),\" \")","v":{"$error":"#N/A"}},{"$f":"IF(B143>0,(VLOOKUP($B143,'Engag Min'!$A$10:$G$109,7,FALSE)),\" \")","v":" "},{"$f":"IF(B143>0,(VLOOKUP($B143,'Engag Min'!$A$10:$G$109,3,FALSE)),\" \")","v":" "},{"$f":"IF(B143>0,(VLOOKUP($B143,'Engag Min'!$A$10:$G$109,4,FALSE)),\" \")","v":" "},{"$f":"IF(B143>0,(VLOOKUP($B143,'Engag Min'!$A$10:$G$109,5,FALSE)),\" \")","v":" "},{"$f":"IF(B143>0,(VLOOKUP($B143,'Engag Min'!$A$10:$G$109,6,FALSE)),\" \")","v":" "},null,null," ",{"$f":"IF(COUNTIF($G$10:$G143,G143)<2,$G143,\" \")","v":" "},1000,{"$f":"IF(COUNTIF($G$10:$G143,G143)<3,$G143,\" \")","v":" "},32,"",1000]
[33,null,{"$f":"IF(A144>0,(VLOOKUP($A144,'Engag Pre'!$A$10:$G$74,3,FALSE)),\" \")","v":{"$error":"#N/A"}},{"$f":"IF(B144>0,(VLOOKUP($B144,'Engag Min'!$A$10:$G$109,7,FALSE)),\" \")","v":" "},{"$f":"IF(B144>0,(VLOOKUP($B144,'Engag Min'!$A$10:$G$109,3,FALSE)),\" \")","v":" "},{"$f":"IF(B144>0,(VLOOKUP($B144,'Engag Min'!$A$10:$G$109,4,FALSE)),\" \")","v":" "},{"$f":"IF(B144>0,(VLOOKUP($B144,'Engag Min'!$A$10:$G$109,5,FALSE)),\" \")","v":" "},{"$f":"IF(B144>0,(VLOOKUP($B144,'Engag Min'!$A$10:$G$109,6,FALSE)),\" \")","v":" "},null,null," ",{"$f":"IF(COUNTIF($G$10:$G144,G144)<2,$G144,\" \")","v":" "},1000,{"$f":"IF(COUNTIF($G$10:$G144,G144)<3,$G144,\" \")","v":" "},33,"",1000]
[34,null,{"$f":"IF(A145>0,(VLOOKUP($A145,'Engag Pre'!$A$10:$G$74,3,FALSE)),\" \")","v":{"$error":"#N/A"}},{"$f":"IF(B145>0,(VLOOKUP($B145,'Engag Min'!$A$10:$G$109,7,FALSE)),\" \")","v":" "},{"$f":"IF(B145>0,(VLOOKUP($B145,'Engag Min'!$A$10:$G$109,3,FALSE)),\" \")","v":" "},{"$f":"IF(B145>0,(VLOOKUP($B145,'Engag Min'!$A$10:$G$109,4,FALSE)),\" \")","v":" "},{"$f":"IF(B145>0,(VLOOKUP($B145,'Engag Min'!$A$10:$G$109,5,FALSE)),\" \")","v":" "},{"$f":"IF(B145>0,(VLOOKUP($B145,'Engag Min'!$A$10:$G$109,6,FALSE)),\" \")","v":" "},null,null," ",{"$f":"IF(COUNTIF($G$10:$G145,G145)<2,$G145,\" \")","v":" "},1000,{"$f":"IF(COUNTIF($G$10:$G145,G145)<3,$G145,\" \")","v":" "},34,"",1000]
[35,null,{"$f":"IF(A146>0,(VLOOKUP($A146,'Engag Pre'!$A$10:$G$74,3,FALSE)),\" \")","v":{"$error":"#N/A"}},{"$f":"IF(B146>0,(VLOOKUP($B146,'Engag Min'!$A$10:$G$109,7,FALSE)),\" \")","v":" "},{"$f":"IF(B146>0,(VLOOKUP($B146,'Engag Min'!$A$10:$G$109,3,FALSE)),\" \")","v":" "},{"$f":"IF(B146>0,(VLOOKUP($B146,'Engag Min'!$A$10:$G$109,4,FALSE)),\" \")","v":" "},{"$f":"IF(B146>0,(VLOOKUP($B146,'Engag Min'!$A$10:$G$109,5,FALSE)),\" \")","v":" "},{"$f":"IF(B146>0,(VLOOKUP($B146,'Engag Min'!$A$10:$G$109,6,FALSE)),\" \")","v":" "},null,null," ",{"$f":"IF(COUNTIF($G$10:$G146,G146)<2,$G146,\" \")","v":" "},1000,{"$f":"IF(COUNTIF($G$10:$G146,G146)<3,$G146,\" \")","v":" "},35,"",1000]
[36,null,{"$f":"IF(A147>0,(VLOOKUP($A147,'Engag Pre'!$A$10:$G$74,3,FALSE)),\" \")","v":{"$error":"#N/A"}},{"$f":"IF(B147>0,(VLOOKUP($B147,'Engag Min'!$A$10:$G$109,7,FALSE)),\" \")","v":" "},{"$f":"IF(B147>0,(VLOOKUP($B147,'Engag Min'!$A$10:$G$109,3,FALSE)),\" \")","v":" "},{"$f":"IF(B147>0,(VLOOKUP($B147,'Engag Min'!$A$10:$G$109,4,FALSE)),\" \")","v":" "},{"$f":"IF(B147>0,(VLOOKUP($B147,'Engag Min'!$A$10:$G$109,5,FALSE)),\" \")","v":" "},{"$f":"IF(B147>0,(VLOOKUP($B147,'Engag Min'!$A$10:$G$109,6,FALSE)),\" \")","v":" "},null,null," ",{"$f":"IF(COUNTIF($G$10:$G147,G147)<2,$G147,\" \")","v":" "},1000,{"$f":"IF(COUNTIF($G$10:$G147,G147)<3,$G147,\" \")","v":" "},36,"",1000]
[37,null,{"$f":"IF(A148>0,(VLOOKUP($A148,'Engag Pre'!$A$10:$G$74,3,FALSE)),\" \")","v":{"$error":"#N/A"}},{"$f":"IF(B148>0,(VLOOKUP($B148,'Engag Min'!$A$10:$G$109,7,FALSE)),\" \")","v":" "},{"$f":"IF(B148>0,(VLOOKUP($B148,'Engag Min'!$A$10:$G$109,3,FALSE)),\" \")","v":" "},{"$f":"IF(B148>0,(VLOOKUP($B148,'Engag Min'!$A$10:$G$109,4,FALSE)),\" \")","v":" "},{"$f":"IF(B148>0,(VLOOKUP($B148,'Engag Min'!$A$10:$G$109,5,FALSE)),\" \")","v":" "},{"$f":"IF(B148>0,(VLOOKUP($B148,'Engag Min'!$A$10:$G$109,6,FALSE)),\" \")","v":" "},null,null," ",{"$f":"IF(COUNTIF($G$10:$G148,G148)<2,$G148,\" \")","v":" "},1000,{"$f":"IF(COUNTIF($G$10:$G148,G148)<3,$G148,\" \")","v":" "},37,"",1000]
[38,null,{"$f":"IF(A149>0,(VLOOKUP($A149,'Engag Pre'!$A$10:$G$74,3,FALSE)),\" \")","v":{"$error":"#N/A"}},{"$f":"IF(B149>0,(VLOOKUP($B149,'Engag Min'!$A$10:$G$109,7,FALSE)),\" \")","v":" "},{"$f":"IF(B149>0,(VLOOKUP($B149,'Engag Min'!$A$10:$G$109,3,FALSE)),\" \")","v":" "},{"$f":"IF(B149>0,(VLOOKUP($B149,'Engag Min'!$A$10:$G$109,4,FALSE)),\" \")","v":" "},{"$f":"IF(B149>0,(VLOOKUP($B149,'Engag Min'!$A$10:$G$109,5,FALSE)),\" \")","v":" "},{"$f":"IF(B149>0,(VLOOKUP($B149,'Engag Min'!$A$10:$G$109,6,FALSE)),\" \")","v":" "},null,null," ",{"$f":"IF(COUNTIF($G$10:$G149,G149)<2,$G149,\" \")","v":" "},1000,{"$f":"IF(COUNTIF($G$10:$G149,G149)<3,$G149,\" \")","v":" "},38,"",1000]
[39,null,{"$f":"IF(A150>0,(VLOOKUP($A150,'Engag Pre'!$A$10:$G$74,3,FALSE)),\" \")","v":{"$error":"#N/A"}},{"$f":"IF(B150>0,(VLOOKUP($B150,'Engag Min'!$A$10:$G$109,7,FALSE)),\" \")","v":" "},{"$f":"IF(B150>0,(VLOOKUP($B150,'Engag Min'!$A$10:$G$109,3,FALSE)),\" \")","v":" "},{"$f":"IF(B150>0,(VLOOKUP($B150,'Engag Min'!$A$10:$G$109,4,FALSE)),\" \")","v":" "},{"$f":"IF(B150>0,(VLOOKUP($B150,'Engag Min'!$A$10:$G$109,5,FALSE)),\" \")","v":" "},{"$f":"IF(B150>0,(VLOOKUP($B150,'Engag Min'!$A$10:$G$109,6,FALSE)),\" \")","v":" "},null,null," ",{"$f":"IF(COUNTIF($G$10:$G150,G150)<2,$G150,\" \")","v":" "},1000,{"$f":"IF(COUNTIF($G$10:$G150,G150)<3,$G150,\" \")","v":" "},39,"",1000]
[40,null,{"$f":"IF(A151>0,(VLOOKUP($A151,'Engag Pre'!$A$10:$G$74,3,FALSE)),\" \")","v":{"$error":"#N/A"}},{"$f":"IF(B151>0,(VLOOKUP($B151,'Engag Min'!$A$10:$G$109,7,FALSE)),\" \")","v":" "},{"$f":"IF(B151>0,(VLOOKUP($B151,'Engag Min'!$A$10:$G$109,3,FALSE)),\" \")","v":" "},{"$f":"IF(B151>0,(VLOOKUP($B151,'Engag Min'!$A$10:$G$109,4,FALSE)),\" \")","v":" "},{"$f":"IF(B151>0,(VLOOKUP($B151,'Engag Min'!$A$10:$G$109,5,FALSE)),\" \")","v":" "},{"$f":"IF(B151>0,(VLOOKUP($B151,'Engag Min'!$A$10:$G$109,6,FALSE)),\" \")","v":" "},null,null," ",{"$f":"IF(COUNTIF($G$10:$G151,G151)<2,$G151,\" \")","v":" "},1000,{"$f":"IF(COUNTIF($G$10:$G151,G151)<3,$G151,\" \")","v":" "},40,"",1000]
[41,null,{"$f":"IF(A152>0,(VLOOKUP($A152,'Engag Pre'!$A$10:$G$74,3,FALSE)),\" \")","v":{"$error":"#N/A"}},{"$f":"IF(B152>0,(VLOOKUP($B152,'Engag Min'!$A$10:$G$109,7,FALSE)),\" \")","v":" "},{"$f":"IF(B152>0,(VLOOKUP($B152,'Engag Min'!$A$10:$G$109,3,FALSE)),\" \")","v":" "},{"$f":"IF(B152>0,(VLOOKUP($B152,'Engag Min'!$A$10:$G$109,4,FALSE)),\" \")","v":" "},{"$f":"IF(B152>0,(VLOOKUP($B152,'Engag Min'!$A$10:$G$109,5,FALSE)),\" \")","v":" "},{"$f":"IF(B152>0,(VLOOKUP($B152,'Engag Min'!$A$10:$G$109,6,FALSE)),\" \")","v":" "},null,null," ",{"$f":"IF(COUNTIF($G$10:$G152,G152)<2,$G152,\" \")","v":" "},1000,{"$f":"IF(COUNTIF($G$10:$G152,G152)<3,$G152,\" \")","v":" "},41,"",1000]
[42,null,{"$f":"IF(A153>0,(VLOOKUP($A153,'Engag Pre'!$A$10:$G$74,3,FALSE)),\" \")","v":{"$error":"#N/A"}},{"$f":"IF(B153>0,(VLOOKUP($B153,'Engag Min'!$A$10:$G$109,7,FALSE)),\" \")","v":" "},{"$f":"IF(B153>0,(VLOOKUP($B153,'Engag Min'!$A$10:$G$109,3,FALSE)),\" \")","v":" "},{"$f":"IF(B153>0,(VLOOKUP($B153,'Engag Min'!$A$10:$G$109,4,FALSE)),\" \")","v":" "},{"$f":"IF(B153>0,(VLOOKUP($B153,'Engag Min'!$A$10:$G$109,5,FALSE)),\" \")","v":" "},{"$f":"IF(B153>0,(VLOOKUP($B153,'Engag Min'!$A$10:$G$109,6,FALSE)),\" \")","v":" "},null,null," ",{"$f":"IF(COUNTIF($G$10:$G153,G153)<2,$G153,\" \")","v":" "},1000,{"$f":"IF(COUNTIF($G$10:$G153,G153)<3,$G153,\" \")","v":" "},42,"",1000]
[43,null,{"$f":"IF(A154>0,(VLOOKUP($A154,'Engag Pre'!$A$10:$G$74,3,FALSE)),\" \")","v":{"$error":"#N/A"}},{"$f":"IF(B154>0,(VLOOKUP($B154,'Engag Min'!$A$10:$G$109,7,FALSE)),\" \")","v":" "},{"$f":"IF(B154>0,(VLOOKUP($B154,'Engag Min'!$A$10:$G$109,3,FALSE)),\" \")","v":" "},{"$f":"IF(B154>0,(VLOOKUP($B154,'Engag Min'!$A$10:$G$109,4,FALSE)),\" \")","v":" "},{"$f":"IF(B154>0,(VLOOKUP($B154,'Engag Min'!$A$10:$G$109,5,FALSE)),\" \")","v":" "},{"$f":"IF(B154>0,(VLOOKUP($B154,'Engag Min'!$A$10:$G$109,6,FALSE)),\" \")","v":" "},null,null," ",{"$f":"IF(COUNTIF($G$10:$G154,G154)<2,$G154,\" \")","v":" "},1000,{"$f":"IF(COUNTIF($G$10:$G154,G154)<3,$G154,\" \")","v":" "},43,"",1000]
[44,null,{"$f":"IF(A155>0,(VLOOKUP($A155,'Engag Pre'!$A$10:$G$74,3,FALSE)),\" \")","v":{"$error":"#N/A"}},{"$f":"IF(B155>0,(VLOOKUP($B155,'Engag Min'!$A$10:$G$109,7,FALSE)),\" \")","v":" "},{"$f":"IF(B155>0,(VLOOKUP($B155,'Engag Min'!$A$10:$G$109,3,FALSE)),\" \")","v":" "},{"$f":"IF(B155>0,(VLOOKUP($B155,'Engag Min'!$A$10:$G$109,4,FALSE)),\" \")","v":" "},{"$f":"IF(B155>0,(VLOOKUP($B155,'Engag Min'!$A$10:$G$109,5,FALSE)),\" \")","v":" "},{"$f":"IF(B155>0,(VLOOKUP($B155,'Engag Min'!$A$10:$G$109,6,FALSE)),\" \")","v":" "},null,null," ",{"$f":"IF(COUNTIF($G$10:$G155,G155)<2,$G155,\" \")","v":" "},1000,{"$f":"IF(COUNTIF($G$10:$G155,G155)<3,$G155,\" \")","v":" "},44,"",1000]
[45,null,{"$f":"IF(A156>0,(VLOOKUP($A156,'Engag Pre'!$A$10:$G$74,3,FALSE)),\" \")","v":{"$error":"#N/A"}},{"$f":"IF(B156>0,(VLOOKUP($B156,'Engag Min'!$A$10:$G$109,7,FALSE)),\" \")","v":" "},{"$f":"IF(B156>0,(VLOOKUP($B156,'Engag Min'!$A$10:$G$109,3,FALSE)),\" \")","v":" "},{"$f":"IF(B156>0,(VLOOKUP($B156,'Engag Min'!$A$10:$G$109,4,FALSE)),\" \")","v":" "},{"$f":"IF(B156>0,(VLOOKUP($B156,'Engag Min'!$A$10:$G$109,5,FALSE)),\" \")","v":" "},{"$f":"IF(B156>0,(VLOOKUP($B156,'Engag Min'!$A$10:$G$109,6,FALSE)),\" \")","v":" "},null,null," ",{"$f":"IF(COUNTIF($G$10:$G156,G156)<2,$G156,\" \")","v":" "},1000,{"$f":"IF(COUNTIF($G$10:$G156,G156)<3,$G156,\" \")","v":" "},45,"",1000]
[46,null,{"$f":"IF(A157>0,(VLOOKUP($A157,'Engag Pre'!$A$10:$G$74,3,FALSE)),\" \")","v":{"$error":"#N/A"}},{"$f":"IF(B157>0,(VLOOKUP($B157,'Engag Min'!$A$10:$G$109,7,FALSE)),\" \")","v":" "},{"$f":"IF(B157>0,(VLOOKUP($B157,'Engag Min'!$A$10:$G$109,3,FALSE)),\" \")","v":" "},{"$f":"IF(B157>0,(VLOOKUP($B157,'Engag Min'!$A$10:$G$109,4,FALSE)),\" \")","v":" "},{"$f":"IF(B157>0,(VLOOKUP($B157,'Engag Min'!$A$10:$G$109,5,FALSE)),\" \")","v":" "},{"$f":"IF(B157>0,(VLOOKUP($B157,'Engag Min'!$A$10:$G$109,6,FALSE)),\" \")","v":" "},null,null," ",{"$f":"IF(COUNTIF($G$10:$G157,G157)<2,$G157,\" \")","v":" "},1000,{"$f":"IF(COUNTIF($G$10:$G157,G157)<3,$G157,\" \")","v":" "},46,"",1000]
[47,null,{"$f":"IF(A158>0,(VLOOKUP($A158,'Engag Pre'!$A$10:$G$74,3,FALSE)),\" \")","v":{"$error":"#N/A"}},{"$f":"IF(B158>0,(VLOOKUP($B158,'Engag Min'!$A$10:$G$109,7,FALSE)),\" \")","v":" "},{"$f":"IF(B158>0,(VLOOKUP($B158,'Engag Min'!$A$10:$G$109,3,FALSE)),\" \")","v":" "},{"$f":"IF(B158>0,(VLOOKUP($B158,'Engag Min'!$A$10:$G$109,4,FALSE)),\" \")","v":" "},{"$f":"IF(B158>0,(VLOOKUP($B158,'Engag Min'!$A$10:$G$109,5,FALSE)),\" \")","v":" "},{"$f":"IF(B158>0,(VLOOKUP($B158,'Engag Min'!$A$10:$G$109,6,FALSE)),\" \")","v":" "},null,null," ",{"$f":"IF(COUNTIF($G$10:$G158,G158)<2,$G158,\" \")","v":" "},1000,{"$f":"IF(COUNTIF($G$10:$G158,G158)<3,$G158,\" \")","v":" "},47,"",1000]
[48,null,{"$f":"IF(A159>0,(VLOOKUP($A159,'Engag Pre'!$A$10:$G$74,3,FALSE)),\" \")","v":{"$error":"#N/A"}},{"$f":"IF(B159>0,(VLOOKUP($B159,'Engag Min'!$A$10:$G$109,7,FALSE)),\" \")","v":" "},{"$f":"IF(B159>0,(VLOOKUP($B159,'Engag Min'!$A$10:$G$109,3,FALSE)),\" \")","v":" "},{"$f":"IF(B159>0,(VLOOKUP($B159,'Engag Min'!$A$10:$G$109,4,FALSE)),\" \")","v":" "},{"$f":"IF(B159>0,(VLOOKUP($B159,'Engag Min'!$A$10:$G$109,5,FALSE)),\" \")","v":" "},{"$f":"IF(B159>0,(VLOOKUP($B159,'Engag Min'!$A$10:$G$109,6,FALSE)),\" \")","v":" "},null,null," ",{"$f":"IF(COUNTIF($G$10:$G159,G159)<2,$G159,\" \")","v":" "},1000,{"$f":"IF(COUNTIF($G$10:$G159,G159)<3,$G159,\" \")","v":" "},48,"",1000]
[49,null,{"$f":"IF(A160>0,(VLOOKUP($A160,'Engag Pre'!$A$10:$G$74,3,FALSE)),\" \")","v":{"$error":"#N/A"}},{"$f":"IF(B160>0,(VLOOKUP($B160,'Engag Min'!$A$10:$G$109,7,FALSE)),\" \")","v":" "},{"$f":"IF(B160>0,(VLOOKUP($B160,'Engag Min'!$A$10:$G$109,3,FALSE)),\" \")","v":" "},{"$f":"IF(B160>0,(VLOOKUP($B160,'Engag Min'!$A$10:$G$109,4,FALSE)),\" \")","v":" "},{"$f":"IF(B160>0,(VLOOKUP($B160,'Engag Min'!$A$10:$G$109,5,FALSE)),\" \")","v":" "},{"$f":"IF(B160>0,(VLOOKUP($B160,'Engag Min'!$A$10:$G$109,6,FALSE)),\" \")","v":" "},null,null," ",{"$f":"IF(COUNTIF($G$10:$G160,G160)<2,$G160,\" \")","v":" "},1000,{"$f":"IF(COUNTIF($G$10:$G160,G160)<3,$G160,\" \")","v":" "},49,"",1000]
[50,null,{"$f":"IF(A161>0,(VLOOKUP($A161,'Engag Pre'!$A$10:$G$74,3,FALSE)),\" \")","v":{"$error":"#N/A"}},{"$f":"IF(B161>0,(VLOOKUP($B161,'Engag Min'!$A$10:$G$109,7,FALSE)),\" \")","v":" "},{"$f":"IF(B161>0,(VLOOKUP($B161,'Engag Min'!$A$10:$G$109,3,FALSE)),\" \")","v":" "},{"$f":"IF(B161>0,(VLOOKUP($B161,'Engag Min'!$A$10:$G$109,4,FALSE)),\" \")","v":" "},{"$f":"IF(B161>0,(VLOOKUP($B161,'Engag Min'!$A$10:$G$109,5,FALSE)),\" \")","v":" "},{"$f":"IF(B161>0,(VLOOKUP($B161,'Engag Min'!$A$10:$G$109,6,FALSE)),\" \")","v":" "},null,null," ",{"$f":"IF(COUNTIF($G$10:$G161,G161)<2,$G161,\" \")","v":" "},1000,{"$f":"IF(COUNTIF($G$10:$G161,G161)<3,$G161,\" \")","v":" "},50,"",1000]
[51,null,{"$f":"IF(A162>0,(VLOOKUP($A162,'Engag Pre'!$A$10:$G$74,3,FALSE)),\" \")","v":{"$error":"#N/A"}},{"$f":"IF(B162>0,(VLOOKUP($B162,'Engag Min'!$A$10:$G$109,7,FALSE)),\" \")","v":" "},{"$f":"IF(B162>0,(VLOOKUP($B162,'Engag Min'!$A$10:$G$109,3,FALSE)),\" \")","v":" "},{"$f":"IF(B162>0,(VLOOKUP($B162,'Engag Min'!$A$10:$G$109,4,FALSE)),\" \")","v":" "},{"$f":"IF(B162>0,(VLOOKUP($B162,'Engag Min'!$A$10:$G$109,5,FALSE)),\" \")","v":" "},{"$f":"IF(B162>0,(VLOOKUP($B162,'Engag Min'!$A$10:$G$109,6,FALSE)),\" \")","v":" "},null,null," ",{"$f":"IF(COUNTIF($G$10:$G162,G162)<2,$G162,\" \")","v":" "},1000,{"$f":"IF(COUNTIF($G$10:$G162,G162)<3,$G162,\" \")","v":" "},51,"",1000]
[52,null,{"$f":"IF(A163>0,(VLOOKUP($A163,'Engag Pre'!$A$10:$G$74,3,FALSE)),\" \")","v":{"$error":"#N/A"}},{"$f":"IF(B163>0,(VLOOKUP($B163,'Engag Min'!$A$10:$G$109,7,FALSE)),\" \")","v":" "},{"$f":"IF(B163>0,(VLOOKUP($B163,'Engag Min'!$A$10:$G$109,3,FALSE)),\" \")","v":" "},{"$f":"IF(B163>0,(VLOOKUP($B163,'Engag Min'!$A$10:$G$109,4,FALSE)),\" \")","v":" "},{"$f":"IF(B163>0,(VLOOKUP($B163,'Engag Min'!$A$10:$G$109,5,FALSE)),\" \")","v":" "},{"$f":"IF(B163>0,(VLOOKUP($B163,'Engag Min'!$A$10:$G$109,6,FALSE)),\" \")","v":" "},null,null," ",{"$f":"IF(COUNTIF($G$10:$G163,G163)<2,$G163,\" \")","v":" "},1000,{"$f":"IF(COUNTIF($G$10:$G163,G163)<3,$G163,\" \")","v":" "},52,"",1000]
[53,null,{"$f":"IF(A164>0,(VLOOKUP($A164,'Engag Pre'!$A$10:$G$74,3,FALSE)),\" \")","v":{"$error":"#N/A"}},{"$f":"IF(B164>0,(VLOOKUP($B164,'Engag Min'!$A$10:$G$109,7,FALSE)),\" \")","v":" "},{"$f":"IF(B164>0,(VLOOKUP($B164,'Engag Min'!$A$10:$G$109,3,FALSE)),\" \")","v":" "},{"$f":"IF(B164>0,(VLOOKUP($B164,'Engag Min'!$A$10:$G$109,4,FALSE)),\" \")","v":" "},{"$f":"IF(B164>0,(VLOOKUP($B164,'Engag Min'!$A$10:$G$109,5,FALSE)),\" \")","v":" "},{"$f":"IF(B164>0,(VLOOKUP($B164,'Engag Min'!$A$10:$G$109,6,FALSE)),\" \")","v":" "},null,null," ",{"$f":"IF(COUNTIF($G$10:$G164,G164)<2,$G164,\" \")","v":" "},1000,{"$f":"IF(COUNTIF($G$10:$G164,G164)<3,$G164,\" \")","v":" "},53,"",1000]
[54,null,{"$f":"IF(A165>0,(VLOOKUP($A165,'Engag Pre'!$A$10:$G$74,3,FALSE)),\" \")","v":{"$error":"#N/A"}},{"$f":"IF(B165>0,(VLOOKUP($B165,'Engag Min'!$A$10:$G$109,7,FALSE)),\" \")","v":" "},{"$f":"IF(B165>0,(VLOOKUP($B165,'Engag Min'!$A$10:$G$109,3,FALSE)),\" \")","v":" "},{"$f":"IF(B165>0,(VLOOKUP($B165,'Engag Min'!$A$10:$G$109,4,FALSE)),\" \")","v":" "},{"$f":"IF(B165>0,(VLOOKUP($B165,'Engag Min'!$A$10:$G$109,5,FALSE)),\" \")","v":" "},{"$f":"IF(B165>0,(VLOOKUP($B165,'Engag Min'!$A$10:$G$109,6,FALSE)),\" \")","v":" "},null,null," ",{"$f":"IF(COUNTIF($G$10:$G165,G165)<2,$G165,\" \")","v":" "},1000,{"$f":"IF(COUNTIF($G$10:$G165,G165)<3,$G165,\" \")","v":" "},54,"",1000]
[55,null,{"$f":"IF(A166>0,(VLOOKUP($A166,'Engag Pre'!$A$10:$G$74,3,FALSE)),\" \")","v":{"$error":"#N/A"}},{"$f":"IF(B166>0,(VLOOKUP($B166,'Engag Min'!$A$10:$G$109,7,FALSE)),\" \")","v":" "},{"$f":"IF(B166>0,(VLOOKUP($B166,'Engag Min'!$A$10:$G$109,3,FALSE)),\" \")","v":" "},{"$f":"IF(B166>0,(VLOOKUP($B166,'Engag Min'!$A$10:$G$109,4,FALSE)),\" \")","v":" "},{"$f":"IF(B166>0,(VLOOKUP($B166,'Engag Min'!$A$10:$G$109,5,FALSE)),\" \")","v":" "},{"$f":"IF(B166>0,(VLOOKUP($B166,'Engag Min'!$A$10:$G$109,6,FALSE)),\" \")","v":" "},null,null," ",{"$f":"IF(COUNTIF($G$10:$G166,G166)<2,$G166,\" \")","v":" "},1000,{"$f":"IF(COUNTIF($G$10:$G166,G166)<3,$G166,\" \")","v":" "},55,"",1000]
[56,null,{"$f":"IF(A167>0,(VLOOKUP($A167,'Engag Pre'!$A$10:$G$74,3,FALSE)),\" \")","v":{"$error":"#N/A"}},{"$f":"IF(B167>0,(VLOOKUP($B167,'Engag Min'!$A$10:$G$109,7,FALSE)),\" \")","v":" "},{"$f":"IF(B167>0,(VLOOKUP($B167,'Engag Min'!$A$10:$G$109,3,FALSE)),\" \")","v":" "},{"$f":"IF(B167>0,(VLOOKUP($B167,'Engag Min'!$A$10:$G$109,4,FALSE)),\" \")","v":" "},{"$f":"IF(B167>0,(VLOOKUP($B167,'Engag Min'!$A$10:$G$109,5,FALSE)),\" \")","v":" "},{"$f":"IF(B167>0,(VLOOKUP($B167,'Engag Min'!$A$10:$G$109,6,FALSE)),\" \")","v":" "},null,null," ",{"$f":"IF(COUNTIF($G$10:$G167,G167)<2,$G167,\" \")","v":" "},1000,{"$f":"IF(COUNTIF($G$10:$G167,G167)<3,$G167,\" \")","v":" "},56,"",1000]
[57,null,{"$f":"IF(A168>0,(VLOOKUP($A168,'Engag Pre'!$A$10:$G$74,3,FALSE)),\" \")","v":{"$error":"#N/A"}},{"$f":"IF(B168>0,(VLOOKUP($B168,'Engag Min'!$A$10:$G$109,7,FALSE)),\" \")","v":" "},{"$f":"IF(B168>0,(VLOOKUP($B168,'Engag Min'!$A$10:$G$109,3,FALSE)),\" \")","v":" "},{"$f":"IF(B168>0,(VLOOKUP($B168,'Engag Min'!$A$10:$G$109,4,FALSE)),\" \")","v":" "},{"$f":"IF(B168>0,(VLOOKUP($B168,'Engag Min'!$A$10:$G$109,5,FALSE)),\" \")","v":" "},{"$f":"IF(B168>0,(VLOOKUP($B168,'Engag Min'!$A$10:$G$109,6,FALSE)),\" \")","v":" "},null,null," ",{"$f":"IF(COUNTIF($G$10:$G168,G168)<2,$G168,\" \")","v":" "},1000,{"$f":"IF(COUNTIF($G$10:$G168,G168)<3,$G168,\" \")","v":" "},57,"",1000]
[58,null,{"$f":"IF(A169>0,(VLOOKUP($A169,'Engag Pre'!$A$10:$G$74,3,FALSE)),\" \")","v":{"$error":"#N/A"}},{"$f":"IF(B169>0,(VLOOKUP($B169,'Engag Min'!$A$10:$G$109,7,FALSE)),\" \")","v":" "},{"$f":"IF(B169>0,(VLOOKUP($B169,'Engag Min'!$A$10:$G$109,3,FALSE)),\" \")","v":" "},{"$f":"IF(B169>0,(VLOOKUP($B169,'Engag Min'!$A$10:$G$109,4,FALSE)),\" \")","v":" "},{"$f":"IF(B169>0,(VLOOKUP($B169,'Engag Min'!$A$10:$G$109,5,FALSE)),\" \")","v":" "},{"$f":"IF(B169>0,(VLOOKUP($B169,'Engag Min'!$A$10:$G$109,6,FALSE)),\" \")","v":" "},null,null," ",{"$f":"IF(COUNTIF($G$10:$G169,G169)<2,$G169,\" \")","v":" "},1000,{"$f":"IF(COUNTIF($G$10:$G169,G169)<3,$G169,\" \")","v":" "},58,"",1000]
[59,null,{"$f":"IF(A170>0,(VLOOKUP($A170,'Engag Pre'!$A$10:$G$74,3,FALSE)),\" \")","v":{"$error":"#N/A"}},{"$f":"IF(B170>0,(VLOOKUP($B170,'Engag Min'!$A$10:$G$109,7,FALSE)),\" \")","v":" "},{"$f":"IF(B170>0,(VLOOKUP($B170,'Engag Min'!$A$10:$G$109,3,FALSE)),\" \")","v":" "},{"$f":"IF(B170>0,(VLOOKUP($B170,'Engag Min'!$A$10:$G$109,4,FALSE)),\" \")","v":" "},{"$f":"IF(B170>0,(VLOOKUP($B170,'Engag Min'!$A$10:$G$109,5,FALSE)),\" \")","v":" "},{"$f":"IF(B170>0,(VLOOKUP($B170,'Engag Min'!$A$10:$G$109,6,FALSE)),\" \")","v":" "},null,null," ",{"$f":"IF(COUNTIF($G$10:$G170,G170)<2,$G170,\" \")","v":" "},1000,{"$f":"IF(COUNTIF($G$10:$G170,G170)<3,$G170,\" \")","v":" "},59,"",1000]
[60,null,{"$f":"IF(A171>0,(VLOOKUP($A171,'Engag Pre'!$A$10:$G$74,3,FALSE)),\" \")","v":{"$error":"#N/A"}},{"$f":"IF(B171>0,(VLOOKUP($B171,'Engag Min'!$A$10:$G$109,7,FALSE)),\" \")","v":" "},{"$f":"IF(B171>0,(VLOOKUP($B171,'Engag Min'!$A$10:$G$109,3,FALSE)),\" \")","v":" "},{"$f":"IF(B171>0,(VLOOKUP($B171,'Engag Min'!$A$10:$G$109,4,FALSE)),\" \")","v":" "},{"$f":"IF(B171>0,(VLOOKUP($B171,'Engag Min'!$A$10:$G$109,5,FALSE)),\" \")","v":" "},{"$f":"IF(B171>0,(VLOOKUP($B171,'Engag Min'!$A$10:$G$109,6,FALSE)),\" \")","v":" "},null,null," ",{"$f":"IF(COUNTIF($G$10:$G171,G171)<2,$G171,\" \")","v":" "},1000,{"$f":"IF(COUNTIF($G$10:$G171,G171)<3,$G171,\" \")","v":" "},60,"",1000]
[61,null,{"$f":"IF(A172>0,(VLOOKUP($A172,'Engag Pre'!$A$10:$G$74,3,FALSE)),\" \")","v":{"$error":"#N/A"}},{"$f":"IF(B172>0,(VLOOKUP($B172,'Engag Min'!$A$10:$G$109,7,FALSE)),\" \")","v":" "},{"$f":"IF(B172>0,(VLOOKUP($B172,'Engag Min'!$A$10:$G$109,3,FALSE)),\" \")","v":" "},{"$f":"IF(B172>0,(VLOOKUP($B172,'Engag Min'!$A$10:$G$109,4,FALSE)),\" \")","v":" "},{"$f":"IF(B172>0,(VLOOKUP($B172,'Engag Min'!$A$10:$G$109,5,FALSE)),\" \")","v":" "},{"$f":"IF(B172>0,(VLOOKUP($B172,'Engag Min'!$A$10:$G$109,6,FALSE)),\" \")","v":" "},null,null," ",{"$f":"IF(COUNTIF($G$10:$G172,G172)<2,$G172,\" \")","v":" "},1000,{"$f":"IF(COUNTIF($G$10:$G172,G172)<3,$G172,\" \")","v":" "},61,"",1000]
[62,null,{"$f":"IF(A173>0,(VLOOKUP($A173,'Engag Pre'!$A$10:$G$74,3,FALSE)),\" \")","v":{"$error":"#N/A"}},{"$f":"IF(B173>0,(VLOOKUP($B173,'Engag Min'!$A$10:$G$109,7,FALSE)),\" \")","v":" "},{"$f":"IF(B173>0,(VLOOKUP($B173,'Engag Min'!$A$10:$G$109,3,FALSE)),\" \")","v":" "},{"$f":"IF(B173>0,(VLOOKUP($B173,'Engag Min'!$A$10:$G$109,4,FALSE)),\" \")","v":" "},{"$f":"IF(B173>0,(VLOOKUP($B173,'Engag Min'!$A$10:$G$109,5,FALSE)),\" \")","v":" "},{"$f":"IF(B173>0,(VLOOKUP($B173,'Engag Min'!$A$10:$G$109,6,FALSE)),\" \")","v":" "},null,null," ",{"$f":"IF(COUNTIF($G$10:$G173,G173)<2,$G173,\" \")","v":" "},1000,{"$f":"IF(COUNTIF($G$10:$G173,G173)<3,$G173,\" \")","v":" "},62,"",1000]
[63,null,{"$f":"IF(A174>0,(VLOOKUP($A174,'Engag Pre'!$A$10:$G$74,3,FALSE)),\" \")","v":{"$error":"#N/A"}},{"$f":"IF(B174>0,(VLOOKUP($B174,'Engag Min'!$A$10:$G$109,7,FALSE)),\" \")","v":" "},{"$f":"IF(B174>0,(VLOOKUP($B174,'Engag Min'!$A$10:$G$109,3,FALSE)),\" \")","v":" "},{"$f":"IF(B174>0,(VLOOKUP($B174,'Engag Min'!$A$10:$G$109,4,FALSE)),\" \")","v":" "},{"$f":"IF(B174>0,(VLOOKUP($B174,'Engag Min'!$A$10:$G$109,5,FALSE)),\" \")","v":" "},{"$f":"IF(B174>0,(VLOOKUP($B174,'Engag Min'!$A$10:$G$109,6,FALSE)),\" \")","v":" "},null,null," ",{"$f":"IF(COUNTIF($G$10:$G174,G174)<2,$G174,\" \")","v":" "},1000,{"$f":"IF(COUNTIF($G$10:$G174,G174)<3,$G174,\" \")","v":" "},63,"",1000]
[64,null,{"$f":"IF(A175>0,(VLOOKUP($A175,'Engag Pre'!$A$10:$G$74,3,FALSE)),\" \")","v":{"$error":"#N/A"}},{"$f":"IF(B175>0,(VLOOKUP($B175,'Engag Min'!$A$10:$G$109,7,FALSE)),\" \")","v":" "},{"$f":"IF(B175>0,(VLOOKUP($B175,'Engag Min'!$A$10:$G$109,3,FALSE)),\" \")","v":" "},{"$f":"IF(B175>0,(VLOOKUP($B175,'Engag Min'!$A$10:$G$109,4,FALSE)),\" \")","v":" "},{"$f":"IF(B175>0,(VLOOKUP($B175,'Engag Min'!$A$10:$G$109,5,FALSE)),\" \")","v":" "},{"$f":"IF(B175>0,(VLOOKUP($B175,'Engag Min'!$A$10:$G$109,6,FALSE)),\" \")","v":" "},null,null," ",{"$f":"IF(COUNTIF($G$10:$G175,G175)<2,$G175,\" \")","v":" "},1000,{"$f":"IF(COUNTIF($G$10:$G175,G175)<3,$G175,\" \")","v":" "},64,"",1000]
[65,null,{"$f":"IF(A176>0,(VLOOKUP($A176,'Engag Pre'!$A$10:$G$74,3,FALSE)),\" \")","v":{"$error":"#N/A"}},{"$f":"IF(B176>0,(VLOOKUP($B176,'Engag Min'!$A$10:$G$109,7,FALSE)),\" \")","v":" "},{"$f":"IF(B176>0,(VLOOKUP($B176,'Engag Min'!$A$10:$G$109,3,FALSE)),\" \")","v":" "},{"$f":"IF(B176>0,(VLOOKUP($B176,'Engag Min'!$A$10:$G$109,4,FALSE)),\" \")","v":" "},{"$f":"IF(B176>0,(VLOOKUP($B176,'Engag Min'!$A$10:$G$109,5,FALSE)),\" \")","v":" "},{"$f":"IF(B176>0,(VLOOKUP($B176,'Engag Min'!$A$10:$G$109,6,FALSE)),\" \")","v":" "},null,null," ",{"$f":"IF(COUNTIF($G$10:$G176,G176)<2,$G176,\" \")","v":" "},1000,{"$f":"IF(COUNTIF($G$10:$G176,G176)<3,$G176,\" \")","v":" "},65,"",1000]
[66,null,{"$f":"IF(A177>0,(VLOOKUP($A177,'Engag Pre'!$A$10:$G$74,3,FALSE)),\" \")","v":{"$error":"#N/A"}},{"$f":"IF(B177>0,(VLOOKUP($B177,'Engag Min'!$A$10:$G$109,7,FALSE)),\" \")","v":" "},{"$f":"IF(B177>0,(VLOOKUP($B177,'Engag Min'!$A$10:$G$109,3,FALSE)),\" \")","v":" "},{"$f":"IF(B177>0,(VLOOKUP($B177,'Engag Min'!$A$10:$G$109,4,FALSE)),\" \")","v":" "},{"$f":"IF(B177>0,(VLOOKUP($B177,'Engag Min'!$A$10:$G$109,5,FALSE)),\" \")","v":" "},{"$f":"IF(B177>0,(VLOOKUP($B177,'Engag Min'!$A$10:$G$109,6,FALSE)),\" \")","v":" "},null,null,{"$f":"IF(COUNTIF($B$10:$B$109,B177)>1,\"Déjà classé\",\" \")","v":" "},{"$f":"IF(COUNTIF($G$10:$G177,G177)<2,$G177,\" \")","v":" "},{"$f":"IF($G$6<5,1000,(IF(L177=G177,A177,\"\")))","v":1000},{"$f":"IF(COUNTIF($G$10:$G177,G177)<3,$G177,\" \")","v":" "},{"$f":"IF(N177=$G177,$A177,\"\")","v":66},{"$f":"IF(N177=L177,\"\",N177)","v":""},{"$f":"IF($G$6<5,1000,(IF(P177=$G177,$A177,1000)))","v":1000}]
[67,null,{"$f":"IF(A178>0,(VLOOKUP($A178,'Engag Pre'!$A$10:$G$74,3,FALSE)),\" \")","v":{"$error":"#N/A"}},{"$f":"IF(B178>0,(VLOOKUP($B178,'Engag Min'!$A$10:$G$109,7,FALSE)),\" \")","v":" "},{"$f":"IF(B178>0,(VLOOKUP($B178,'Engag Min'!$A$10:$G$109,3,FALSE)),\" \")","v":" "},{"$f":"IF(B178>0,(VLOOKUP($B178,'Engag Min'!$A$10:$G$109,4,FALSE)),\" \")","v":" "},{"$f":"IF(B178>0,(VLOOKUP($B178,'Engag Min'!$A$10:$G$109,5,FALSE)),\" \")","v":" "},{"$f":"IF(B178>0,(VLOOKUP($B178,'Engag Min'!$A$10:$G$109,6,FALSE)),\" \")","v":" "},null,null," ",{"$f":"IF(COUNTIF($G$10:$G178,G178)<2,$G178,\" \")","v":" "},1000,{"$f":"IF(COUNTIF($G$10:$G178,G178)<3,$G178,\" \")","v":" "},67,"",1000]
[68,null,{"$f":"IF(A179>0,(VLOOKUP($A179,'Engag Pre'!$A$10:$G$74,3,FALSE)),\" \")","v":{"$error":"#N/A"}},{"$f":"IF(B179>0,(VLOOKUP($B179,'Engag Min'!$A$10:$G$109,7,FALSE)),\" \")","v":" "},{"$f":"IF(B179>0,(VLOOKUP($B179,'Engag Min'!$A$10:$G$109,3,FALSE)),\" \")","v":" "},{"$f":"IF(B179>0,(VLOOKUP($B179,'Engag Min'!$A$10:$G$109,4,FALSE)),\" \")","v":" "},{"$f":"IF(B179>0,(VLOOKUP($B179,'Engag Min'!$A$10:$G$109,5,FALSE)),\" \")","v":" "},{"$f":"IF(B179>0,(VLOOKUP($B179,'Engag Min'!$A$10:$G$109,6,FALSE)),\" \")","v":" "},null,null," ",{"$f":"IF(COUNTIF($G$10:$G179,G179)<2,$G179,\" \")","v":" "},1000,{"$f":"IF(COUNTIF($G$10:$G179,G179)<3,$G179,\" \")","v":" "},68,"",1000]
[69,null,{"$f":"IF(A180>0,(VLOOKUP($A180,'Engag Pre'!$A$10:$G$74,3,FALSE)),\" \")","v":{"$error":"#N/A"}},{"$f":"IF(B180>0,(VLOOKUP($B180,'Engag Min'!$A$10:$G$109,7,FALSE)),\" \")","v":" "},{"$f":"IF(B180>0,(VLOOKUP($B180,'Engag Min'!$A$10:$G$109,3,FALSE)),\" \")","v":" "},{"$f":"IF(B180>0,(VLOOKUP($B180,'Engag Min'!$A$10:$G$109,4,FALSE)),\" \")","v":" "},{"$f":"IF(B180>0,(VLOOKUP($B180,'Engag Min'!$A$10:$G$109,5,FALSE)),\" \")","v":" "},{"$f":"IF(B180>0,(VLOOKUP($B180,'Engag Min'!$A$10:$G$109,6,FALSE)),\" \")","v":" "},null,null," ",{"$f":"IF(COUNTIF($G$10:$G180,G180)<2,$G180,\" \")","v":" "},1000,{"$f":"IF(COUNTIF($G$10:$G180,G180)<3,$G180,\" \")","v":" "},69,"",1000]
[70,null,{"$f":"IF(A181>0,(VLOOKUP($A181,'Engag Pre'!$A$10:$G$74,3,FALSE)),\" \")","v":{"$error":"#N/A"}},{"$f":"IF(B181>0,(VLOOKUP($B181,'Engag Min'!$A$10:$G$109,7,FALSE)),\" \")","v":" "},{"$f":"IF(B181>0,(VLOOKUP($B181,'Engag Min'!$A$10:$G$109,3,FALSE)),\" \")","v":" "},{"$f":"IF(B181>0,(VLOOKUP($B181,'Engag Min'!$A$10:$G$109,4,FALSE)),\" \")","v":" "},{"$f":"IF(B181>0,(VLOOKUP($B181,'Engag Min'!$A$10:$G$109,5,FALSE)),\" \")","v":" "},{"$f":"IF(B181>0,(VLOOKUP($B181,'Engag Min'!$A$10:$G$109,6,FALSE)),\" \")","v":" "},null,null," ",{"$f":"IF(COUNTIF($G$10:$G181,G181)<2,$G181,\" \")","v":" "},1000,{"$f":"IF(COUNTIF($G$10:$G181,G181)<3,$G181,\" \")","v":" "},70,"",1000]
[71,null,{"$f":"IF(A182>0,(VLOOKUP($A182,'Engag Pre'!$A$10:$G$74,3,FALSE)),\" \")","v":{"$error":"#N/A"}},{"$f":"IF(B182>0,(VLOOKUP($B182,'Engag Min'!$A$10:$G$109,7,FALSE)),\" \")","v":" "},{"$f":"IF(B182>0,(VLOOKUP($B182,'Engag Min'!$A$10:$G$109,3,FALSE)),\" \")","v":" "},{"$f":"IF(B182>0,(VLOOKUP($B182,'Engag Min'!$A$10:$G$109,4,FALSE)),\" \")","v":" "},{"$f":"IF(B182>0,(VLOOKUP($B182,'Engag Min'!$A$10:$G$109,5,FALSE)),\" \")","v":" "},{"$f":"IF(B182>0,(VLOOKUP($B182,'Engag Min'!$A$10:$G$109,6,FALSE)),\" \")","v":" "},null,null," ",{"$f":"IF(COUNTIF($G$10:$G182,G182)<2,$G182,\" \")","v":" "},1000,{"$f":"IF(COUNTIF($G$10:$G182,G182)<3,$G182,\" \")","v":" "},71,"",1000]
[72,null,{"$f":"IF(A183>0,(VLOOKUP($A183,'Engag Pre'!$A$10:$G$74,3,FALSE)),\" \")","v":{"$error":"#N/A"}},{"$f":"IF(B183>0,(VLOOKUP($B183,'Engag Min'!$A$10:$G$109,7,FALSE)),\" \")","v":" "},{"$f":"IF(B183>0,(VLOOKUP($B183,'Engag Min'!$A$10:$G$109,3,FALSE)),\" \")","v":" "},{"$f":"IF(B183>0,(VLOOKUP($B183,'Engag Min'!$A$10:$G$109,4,FALSE)),\" \")","v":" "},{"$f":"IF(B183>0,(VLOOKUP($B183,'Engag Min'!$A$10:$G$109,5,FALSE)),\" \")","v":" "},{"$f":"IF(B183>0,(VLOOKUP($B183,'Engag Min'!$A$10:$G$109,6,FALSE)),\" \")","v":" "},null,null," ",{"$f":"IF(COUNTIF($G$10:$G183,G183)<2,$G183,\" \")","v":" "},1000,{"$f":"IF(COUNTIF($G$10:$G183,G183)<3,$G183,\" \")","v":" "},72,"",1000]
[73,null,{"$f":"IF(A184>0,(VLOOKUP($A184,'Engag Pre'!$A$10:$G$74,3,FALSE)),\" \")","v":{"$error":"#N/A"}},{"$f":"IF(B184>0,(VLOOKUP($B184,'Engag Min'!$A$10:$G$109,7,FALSE)),\" \")","v":" "},{"$f":"IF(B184>0,(VLOOKUP($B184,'Engag Min'!$A$10:$G$109,3,FALSE)),\" \")","v":" "},{"$f":"IF(B184>0,(VLOOKUP($B184,'Engag Min'!$A$10:$G$109,4,FALSE)),\" \")","v":" "},{"$f":"IF(B184>0,(VLOOKUP($B184,'Engag Min'!$A$10:$G$109,5,FALSE)),\" \")","v":" "},{"$f":"IF(B184>0,(VLOOKUP($B184,'Engag Min'!$A$10:$G$109,6,FALSE)),\" \")","v":" "},null,null," ",{"$f":"IF(COUNTIF($G$10:$G184,G184)<2,$G184,\" \")","v":" "},1000,{"$f":"IF(COUNTIF($G$10:$G184,G184)<3,$G184,\" \")","v":" "},73,"",1000]
[74,null,{"$f":"IF(A185>0,(VLOOKUP($A185,'Engag Pre'!$A$10:$G$74,3,FALSE)),\" \")","v":{"$error":"#N/A"}},{"$f":"IF(B185>0,(VLOOKUP($B185,'Engag Min'!$A$10:$G$109,7,FALSE)),\" \")","v":" "},{"$f":"IF(B185>0,(VLOOKUP($B185,'Engag Min'!$A$10:$G$109,3,FALSE)),\" \")","v":" "},{"$f":"IF(B185>0,(VLOOKUP($B185,'Engag Min'!$A$10:$G$109,4,FALSE)),\" \")","v":" "},{"$f":"IF(B185>0,(VLOOKUP($B185,'Engag Min'!$A$10:$G$109,5,FALSE)),\" \")","v":" "},{"$f":"IF(B185>0,(VLOOKUP($B185,'Engag Min'!$A$10:$G$109,6,FALSE)),\" \")","v":" "},null,null," ",{"$f":"IF(COUNTIF($G$10:$G185,G185)<2,$G185,\" \")","v":" "},1000,{"$f":"IF(COUNTIF($G$10:$G185,G185)<3,$G185,\" \")","v":" "},74,"",1000]
[75,null,{"$f":"IF(A186>0,(VLOOKUP($A186,'Engag Pre'!$A$10:$G$74,3,FALSE)),\" \")","v":{"$error":"#N/A"}},{"$f":"IF(B186>0,(VLOOKUP($B186,'Engag Min'!$A$10:$G$109,7,FALSE)),\" \")","v":" "},{"$f":"IF(B186>0,(VLOOKUP($B186,'Engag Min'!$A$10:$G$109,3,FALSE)),\" \")","v":" "},{"$f":"IF(B186>0,(VLOOKUP($B186,'Engag Min'!$A$10:$G$109,4,FALSE)),\" \")","v":" "},{"$f":"IF(B186>0,(VLOOKUP($B186,'Engag Min'!$A$10:$G$109,5,FALSE)),\" \")","v":" "},{"$f":"IF(B186>0,(VLOOKUP($B186,'Engag Min'!$A$10:$G$109,6,FALSE)),\" \")","v":" "},null,null," ",{"$f":"IF(COUNTIF($G$10:$G186,G186)<2,$G186,\" \")","v":" "},1000,{"$f":"IF(COUNTIF($G$10:$G186,G186)<3,$G186,\" \")","v":" "},75,"",1000]
[76,null,{"$f":"IF(A187>0,(VLOOKUP($A187,'Engag Pre'!$A$10:$G$74,3,FALSE)),\" \")","v":{"$error":"#N/A"}},{"$f":"IF(B187>0,(VLOOKUP($B187,'Engag Min'!$A$10:$G$109,7,FALSE)),\" \")","v":" "},{"$f":"IF(B187>0,(VLOOKUP($B187,'Engag Min'!$A$10:$G$109,3,FALSE)),\" \")","v":" "},{"$f":"IF(B187>0,(VLOOKUP($B187,'Engag Min'!$A$10:$G$109,4,FALSE)),\" \")","v":" "},{"$f":"IF(B187>0,(VLOOKUP($B187,'Engag Min'!$A$10:$G$109,5,FALSE)),\" \")","v":" "},{"$f":"IF(B187>0,(VLOOKUP($B187,'Engag Min'!$A$10:$G$109,6,FALSE)),\" \")","v":" "},null,null," ",{"$f":"IF(COUNTIF($G$10:$G187,G187)<2,$G187,\" \")","v":" "},1000,{"$f":"IF(COUNTIF($G$10:$G187,G187)<3,$G187,\" \")","v":" "},76,"",1000]
[77,null,{"$f":"IF(A188>0,(VLOOKUP($A188,'Engag Pre'!$A$10:$G$74,3,FALSE)),\" \")","v":{"$error":"#N/A"}},{"$f":"IF(B188>0,(VLOOKUP($B188,'Engag Min'!$A$10:$G$109,7,FALSE)),\" \")","v":" "},{"$f":"IF(B188>0,(VLOOKUP($B188,'Engag Min'!$A$10:$G$109,3,FALSE)),\" \")","v":" "},{"$f":"IF(B188>0,(VLOOKUP($B188,'Engag Min'!$A$10:$G$109,4,FALSE)),\" \")","v":" "},{"$f":"IF(B188>0,(VLOOKUP($B188,'Engag Min'!$A$10:$G$109,5,FALSE)),\" \")","v":" "},{"$f":"IF(B188>0,(VLOOKUP($B188,'Engag Min'!$A$10:$G$109,6,FALSE)),\" \")","v":" "},null,null," ",{"$f":"IF(COUNTIF($G$10:$G188,G188)<2,$G188,\" \")","v":" "},1000,{"$f":"IF(COUNTIF($G$10:$G188,G188)<3,$G188,\" \")","v":" "},77,"",1000]
[78,null,{"$f":"IF(A189>0,(VLOOKUP($A189,'Engag Pre'!$A$10:$G$74,3,FALSE)),\" \")","v":{"$error":"#N/A"}},{"$f":"IF(B189>0,(VLOOKUP($B189,'Engag Min'!$A$10:$G$109,7,FALSE)),\" \")","v":" "},{"$f":"IF(B189>0,(VLOOKUP($B189,'Engag Min'!$A$10:$G$109,3,FALSE)),\" \")","v":" "},{"$f":"IF(B189>0,(VLOOKUP($B189,'Engag Min'!$A$10:$G$109,4,FALSE)),\" \")","v":" "},{"$f":"IF(B189>0,(VLOOKUP($B189,'Engag Min'!$A$10:$G$109,5,FALSE)),\" \")","v":" "},{"$f":"IF(B189>0,(VLOOKUP($B189,'Engag Min'!$A$10:$G$109,6,FALSE)),\" \")","v":" "},null,null," ",{"$f":"IF(COUNTIF($G$10:$G189,G189)<2,$G189,\" \")","v":" "},1000,{"$f":"IF(COUNTIF($G$10:$G189,G189)<3,$G189,\" \")","v":" "},78,"",1000]
[79,null,{"$f":"IF(A190>0,(VLOOKUP($A190,'Engag Pre'!$A$10:$G$74,3,FALSE)),\" \")","v":{"$error":"#N/A"}},{"$f":"IF(B190>0,(VLOOKUP($B190,'Engag Min'!$A$10:$G$109,7,FALSE)),\" \")","v":" "},{"$f":"IF(B190>0,(VLOOKUP($B190,'Engag Min'!$A$10:$G$109,3,FALSE)),\" \")","v":" "},{"$f":"IF(B190>0,(VLOOKUP($B190,'Engag Min'!$A$10:$G$109,4,FALSE)),\" \")","v":" "},{"$f":"IF(B190>0,(VLOOKUP($B190,'Engag Min'!$A$10:$G$109,5,FALSE)),\" \")","v":" "},{"$f":"IF(B190>0,(VLOOKUP($B190,'Engag Min'!$A$10:$G$109,6,FALSE)),\" \")","v":" "},null,null," ",{"$f":"IF(COUNTIF($G$10:$G190,G190)<2,$G190,\" \")","v":" "},1000,{"$f":"IF(COUNTIF($G$10:$G190,G190)<3,$G190,\" \")","v":" "},79,"",1000]
[80,null,{"$f":"IF(A191>0,(VLOOKUP($A191,'Engag Pre'!$A$10:$G$74,3,FALSE)),\" \")","v":{"$error":"#N/A"}},{"$f":"IF(B191>0,(VLOOKUP($B191,'Engag Min'!$A$10:$G$109,7,FALSE)),\" \")","v":" "},{"$f":"IF(B191>0,(VLOOKUP($B191,'Engag Min'!$A$10:$G$109,3,FALSE)),\" \")","v":" "},{"$f":"IF(B191>0,(VLOOKUP($B191,'Engag Min'!$A$10:$G$109,4,FALSE)),\" \")","v":" "},{"$f":"IF(B191>0,(VLOOKUP($B191,'Engag Min'!$A$10:$G$109,5,FALSE)),\" \")","v":" "},{"$f":"IF(B191>0,(VLOOKUP($B191,'Engag Min'!$A$10:$G$109,6,FALSE)),\" \")","v":" "},null,null," ",{"$f":"IF(COUNTIF($G$10:$G191,G191)<2,$G191,\" \")","v":" "},1000,{"$f":"IF(COUNTIF($G$10:$G191,G191)<3,$G191,\" \")","v":" "},80,"",1000]
[81,null,{"$f":"IF(A192>0,(VLOOKUP($A192,'Engag Pre'!$A$10:$G$74,3,FALSE)),\" \")","v":{"$error":"#N/A"}},{"$f":"IF(B192>0,(VLOOKUP($B192,'Engag Min'!$A$10:$G$109,7,FALSE)),\" \")","v":" "},{"$f":"IF(B192>0,(VLOOKUP($B192,'Engag Min'!$A$10:$G$109,3,FALSE)),\" \")","v":" "},{"$f":"IF(B192>0,(VLOOKUP($B192,'Engag Min'!$A$10:$G$109,4,FALSE)),\" \")","v":" "},{"$f":"IF(B192>0,(VLOOKUP($B192,'Engag Min'!$A$10:$G$109,5,FALSE)),\" \")","v":" "},{"$f":"IF(B192>0,(VLOOKUP($B192,'Engag Min'!$A$10:$G$109,6,FALSE)),\" \")","v":" "},null,null," ",{"$f":"IF(COUNTIF($G$10:$G192,G192)<2,$G192,\" \")","v":" "},1000,{"$f":"IF(COUNTIF($G$10:$G192,G192)<3,$G192,\" \")","v":" "},81,"",1000]
[82,null,{"$f":"IF(A193>0,(VLOOKUP($A193,'Engag Pre'!$A$10:$G$74,3,FALSE)),\" \")","v":{"$error":"#N/A"}},{"$f":"IF(B193>0,(VLOOKUP($B193,'Engag Min'!$A$10:$G$109,7,FALSE)),\" \")","v":" "},{"$f":"IF(B193>0,(VLOOKUP($B193,'Engag Min'!$A$10:$G$109,3,FALSE)),\" \")","v":" "},{"$f":"IF(B193>0,(VLOOKUP($B193,'Engag Min'!$A$10:$G$109,4,FALSE)),\" \")","v":" "},{"$f":"IF(B193>0,(VLOOKUP($B193,'Engag Min'!$A$10:$G$109,5,FALSE)),\" \")","v":" "},{"$f":"IF(B193>0,(VLOOKUP($B193,'Engag Min'!$A$10:$G$109,6,FALSE)),\" \")","v":" "},null,null," ",{"$f":"IF(COUNTIF($G$10:$G193,G193)<2,$G193,\" \")","v":" "},1000,{"$f":"IF(COUNTIF($G$10:$G193,G193)<3,$G193,\" \")","v":" "},82,"",1000]
[83,null,{"$f":"IF(A194>0,(VLOOKUP($A194,'Engag Pre'!$A$10:$G$74,3,FALSE)),\" \")","v":{"$error":"#N/A"}},{"$f":"IF(B194>0,(VLOOKUP($B194,'Engag Min'!$A$10:$G$109,7,FALSE)),\" \")","v":" "},{"$f":"IF(B194>0,(VLOOKUP($B194,'Engag Min'!$A$10:$G$109,3,FALSE)),\" \")","v":" "},{"$f":"IF(B194>0,(VLOOKUP($B194,'Engag Min'!$A$10:$G$109,4,FALSE)),\" \")","v":" "},{"$f":"IF(B194>0,(VLOOKUP($B194,'Engag Min'!$A$10:$G$109,5,FALSE)),\" \")","v":" "},{"$f":"IF(B194>0,(VLOOKUP($B194,'Engag Min'!$A$10:$G$109,6,FALSE)),\" \")","v":" "},null,null," ",{"$f":"IF(COUNTIF($G$10:$G194,G194)<2,$G194,\" \")","v":" "},1000,{"$f":"IF(COUNTIF($G$10:$G194,G194)<3,$G194,\" \")","v":" "},83,"",1000]
[84,null,{"$f":"IF(A195>0,(VLOOKUP($A195,'Engag Pre'!$A$10:$G$74,3,FALSE)),\" \")","v":{"$error":"#N/A"}},{"$f":"IF(B195>0,(VLOOKUP($B195,'Engag Min'!$A$10:$G$109,7,FALSE)),\" \")","v":" "},{"$f":"IF(B195>0,(VLOOKUP($B195,'Engag Min'!$A$10:$G$109,3,FALSE)),\" \")","v":" "},{"$f":"IF(B195>0,(VLOOKUP($B195,'Engag Min'!$A$10:$G$109,4,FALSE)),\" \")","v":" "},{"$f":"IF(B195>0,(VLOOKUP($B195,'Engag Min'!$A$10:$G$109,5,FALSE)),\" \")","v":" "},{"$f":"IF(B195>0,(VLOOKUP($B195,'Engag Min'!$A$10:$G$109,6,FALSE)),\" \")","v":" "},null,null," ",{"$f":"IF(COUNTIF($G$10:$G195,G195)<2,$G195,\" \")","v":" "},1000,{"$f":"IF(COUNTIF($G$10:$G195,G195)<3,$G195,\" \")","v":" "},84,"",1000]
[85,null,{"$f":"IF(A196>0,(VLOOKUP($A196,'Engag Pre'!$A$10:$G$74,3,FALSE)),\" \")","v":{"$error":"#N/A"}},{"$f":"IF(B196>0,(VLOOKUP($B196,'Engag Min'!$A$10:$G$109,7,FALSE)),\" \")","v":" "},{"$f":"IF(B196>0,(VLOOKUP($B196,'Engag Min'!$A$10:$G$109,3,FALSE)),\" \")","v":" "},{"$f":"IF(B196>0,(VLOOKUP($B196,'Engag Min'!$A$10:$G$109,4,FALSE)),\" \")","v":" "},{"$f":"IF(B196>0,(VLOOKUP($B196,'Engag Min'!$A$10:$G$109,5,FALSE)),\" \")","v":" "},{"$f":"IF(B196>0,(VLOOKUP($B196,'Engag Min'!$A$10:$G$109,6,FALSE)),\" \")","v":" "},null,null," ",{"$f":"IF(COUNTIF($G$10:$G196,G196)<2,$G196,\" \")","v":" "},1000,{"$f":"IF(COUNTIF($G$10:$G196,G196)<3,$G196,\" \")","v":" "},85,"",1000]
[86,null,{"$f":"IF(A197>0,(VLOOKUP($A197,'Engag Pre'!$A$10:$G$74,3,FALSE)),\" \")","v":{"$error":"#N/A"}},{"$f":"IF(B197>0,(VLOOKUP($B197,'Engag Min'!$A$10:$G$109,7,FALSE)),\" \")","v":" "},{"$f":"IF(B197>0,(VLOOKUP($B197,'Engag Min'!$A$10:$G$109,3,FALSE)),\" \")","v":" "},{"$f":"IF(B197>0,(VLOOKUP($B197,'Engag Min'!$A$10:$G$109,4,FALSE)),\" \")","v":" "},{"$f":"IF(B197>0,(VLOOKUP($B197,'Engag Min'!$A$10:$G$109,5,FALSE)),\" \")","v":" "},{"$f":"IF(B197>0,(VLOOKUP($B197,'Engag Min'!$A$10:$G$109,6,FALSE)),\" \")","v":" "},null,null," ",{"$f":"IF(COUNTIF($G$10:$G197,G197)<2,$G197,\" \")","v":" "},1000,{"$f":"IF(COUNTIF($G$10:$G197,G197)<3,$G197,\" \")","v":" "},86,"",1000]
[87,null,{"$f":"IF(A198>0,(VLOOKUP($A198,'Engag Pre'!$A$10:$G$74,3,FALSE)),\" \")","v":{"$error":"#N/A"}},{"$f":"IF(B198>0,(VLOOKUP($B198,'Engag Min'!$A$10:$G$109,7,FALSE)),\" \")","v":" "},{"$f":"IF(B198>0,(VLOOKUP($B198,'Engag Min'!$A$10:$G$109,3,FALSE)),\" \")","v":" "},{"$f":"IF(B198>0,(VLOOKUP($B198,'Engag Min'!$A$10:$G$109,4,FALSE)),\" \")","v":" "},{"$f":"IF(B198>0,(VLOOKUP($B198,'Engag Min'!$A$10:$G$109,5,FALSE)),\" \")","v":" "},{"$f":"IF(B198>0,(VLOOKUP($B198,'Engag Min'!$A$10:$G$109,6,FALSE)),\" \")","v":" "},null,null," ",{"$f":"IF(COUNTIF($G$10:$G198,G198)<2,$G198,\" \")","v":" "},1000,{"$f":"IF(COUNTIF($G$10:$G198,G198)<3,$G198,\" \")","v":" "},87,"",1000]
[88,null,{"$f":"IF(A199>0,(VLOOKUP($A199,'Engag Pre'!$A$10:$G$74,3,FALSE)),\" \")","v":{"$error":"#N/A"}},{"$f":"IF(B199>0,(VLOOKUP($B199,'Engag Min'!$A$10:$G$109,7,FALSE)),\" \")","v":" "},{"$f":"IF(B199>0,(VLOOKUP($B199,'Engag Min'!$A$10:$G$109,3,FALSE)),\" \")","v":" "},{"$f":"IF(B199>0,(VLOOKUP($B199,'Engag Min'!$A$10:$G$109,4,FALSE)),\" \")","v":" "},{"$f":"IF(B199>0,(VLOOKUP($B199,'Engag Min'!$A$10:$G$109,5,FALSE)),\" \")","v":" "},{"$f":"IF(B199>0,(VLOOKUP($B199,'Engag Min'!$A$10:$G$109,6,FALSE)),\" \")","v":" "},null,null," ",{"$f":"IF(COUNTIF($G$10:$G199,G199)<2,$G199,\" \")","v":" "},1000,{"$f":"IF(COUNTIF($G$10:$G199,G199)<3,$G199,\" \")","v":" "},88,"",1000]
[89,null,{"$f":"IF(A200>0,(VLOOKUP($A200,'Engag Pre'!$A$10:$G$74,3,FALSE)),\" \")","v":{"$error":"#N/A"}},{"$f":"IF(B200>0,(VLOOKUP($B200,'Engag Min'!$A$10:$G$109,7,FALSE)),\" \")","v":" "},{"$f":"IF(B200>0,(VLOOKUP($B200,'Engag Min'!$A$10:$G$109,3,FALSE)),\" \")","v":" "},{"$f":"IF(B200>0,(VLOOKUP($B200,'Engag Min'!$A$10:$G$109,4,FALSE)),\" \")","v":" "},{"$f":"IF(B200>0,(VLOOKUP($B200,'Engag Min'!$A$10:$G$109,5,FALSE)),\" \")","v":" "},{"$f":"IF(B200>0,(VLOOKUP($B200,'Engag Min'!$A$10:$G$109,6,FALSE)),\" \")","v":" "},null,null," ",{"$f":"IF(COUNTIF($G$10:$G200,G200)<2,$G200,\" \")","v":" "},1000,{"$f":"IF(COUNTIF($G$10:$G200,G200)<3,$G200,\" \")","v":" "},89,"",1000]
[90,null,{"$f":"IF(A201>0,(VLOOKUP($A201,'Engag Pre'!$A$10:$G$74,3,FALSE)),\" \")","v":{"$error":"#N/A"}},{"$f":"IF(B201>0,(VLOOKUP($B201,'Engag Min'!$A$10:$G$109,7,FALSE)),\" \")","v":" "},{"$f":"IF(B201>0,(VLOOKUP($B201,'Engag Min'!$A$10:$G$109,3,FALSE)),\" \")","v":" "},{"$f":"IF(B201>0,(VLOOKUP($B201,'Engag Min'!$A$10:$G$109,4,FALSE)),\" \")","v":" "},{"$f":"IF(B201>0,(VLOOKUP($B201,'Engag Min'!$A$10:$G$109,5,FALSE)),\" \")","v":" "},{"$f":"IF(B201>0,(VLOOKUP($B201,'Engag Min'!$A$10:$G$109,6,FALSE)),\" \")","v":" "},null,null," ",{"$f":"IF(COUNTIF($G$10:$G201,G201)<2,$G201,\" \")","v":" "},1000,{"$f":"IF(COUNTIF($G$10:$G201,G201)<3,$G201,\" \")","v":" "},90,"",1000]
[91,null,{"$f":"IF(A202>0,(VLOOKUP($A202,'Engag Pre'!$A$10:$G$74,3,FALSE)),\" \")","v":{"$error":"#N/A"}},{"$f":"IF(B202>0,(VLOOKUP($B202,'Engag Min'!$A$10:$G$109,7,FALSE)),\" \")","v":" "},{"$f":"IF(B202>0,(VLOOKUP($B202,'Engag Min'!$A$10:$G$109,3,FALSE)),\" \")","v":" "},{"$f":"IF(B202>0,(VLOOKUP($B202,'Engag Min'!$A$10:$G$109,4,FALSE)),\" \")","v":" "},{"$f":"IF(B202>0,(VLOOKUP($B202,'Engag Min'!$A$10:$G$109,5,FALSE)),\" \")","v":" "},{"$f":"IF(B202>0,(VLOOKUP($B202,'Engag Min'!$A$10:$G$109,6,FALSE)),\" \")","v":" "},null,null," ",{"$f":"IF(COUNTIF($G$10:$G202,G202)<2,$G202,\" \")","v":" "},1000,{"$f":"IF(COUNTIF($G$10:$G202,G202)<3,$G202,\" \")","v":" "},91,"",1000]
[92,null,{"$f":"IF(A203>0,(VLOOKUP($A203,'Engag Pre'!$A$10:$G$74,3,FALSE)),\" \")","v":{"$error":"#N/A"}},{"$f":"IF(B203>0,(VLOOKUP($B203,'Engag Min'!$A$10:$G$109,7,FALSE)),\" \")","v":" "},{"$f":"IF(B203>0,(VLOOKUP($B203,'Engag Min'!$A$10:$G$109,3,FALSE)),\" \")","v":" "},{"$f":"IF(B203>0,(VLOOKUP($B203,'Engag Min'!$A$10:$G$109,4,FALSE)),\" \")","v":" "},{"$f":"IF(B203>0,(VLOOKUP($B203,'Engag Min'!$A$10:$G$109,5,FALSE)),\" \")","v":" "},{"$f":"IF(B203>0,(VLOOKUP($B203,'Engag Min'!$A$10:$G$109,6,FALSE)),\" \")","v":" "},null,null," ",{"$f":"IF(COUNTIF($G$10:$G203,G203)<2,$G203,\" \")","v":" "},1000,{"$f":"IF(COUNTIF($G$10:$G203,G203)<3,$G203,\" \")","v":" "},92,"",1000]
[93,null,{"$f":"IF(A204>0,(VLOOKUP($A204,'Engag Pre'!$A$10:$G$74,3,FALSE)),\" \")","v":{"$error":"#N/A"}},{"$f":"IF(B204>0,(VLOOKUP($B204,'Engag Min'!$A$10:$G$109,7,FALSE)),\" \")","v":" "},{"$f":"IF(B204>0,(VLOOKUP($B204,'Engag Min'!$A$10:$G$109,3,FALSE)),\" \")","v":" "},{"$f":"IF(B204>0,(VLOOKUP($B204,'Engag Min'!$A$10:$G$109,4,FALSE)),\" \")","v":" "},{"$f":"IF(B204>0,(VLOOKUP($B204,'Engag Min'!$A$10:$G$109,5,FALSE)),\" \")","v":" "},{"$f":"IF(B204>0,(VLOOKUP($B204,'Engag Min'!$A$10:$G$109,6,FALSE)),\" \")","v":" "},null,null," ",{"$f":"IF(COUNTIF($G$10:$G204,G204)<2,$G204,\" \")","v":" "},1000,{"$f":"IF(COUNTIF($G$10:$G204,G204)<3,$G204,\" \")","v":" "},93,"",1000]
[94,null,{"$f":"IF(A205>0,(VLOOKUP($A205,'Engag Pre'!$A$10:$G$74,3,FALSE)),\" \")","v":{"$error":"#N/A"}},{"$f":"IF(B205>0,(VLOOKUP($B205,'Engag Min'!$A$10:$G$109,7,FALSE)),\" \")","v":" "},{"$f":"IF(B205>0,(VLOOKUP($B205,'Engag Min'!$A$10:$G$109,3,FALSE)),\" \")","v":" "},{"$f":"IF(B205>0,(VLOOKUP($B205,'Engag Min'!$A$10:$G$109,4,FALSE)),\" \")","v":" "},{"$f":"IF(B205>0,(VLOOKUP($B205,'Engag Min'!$A$10:$G$109,5,FALSE)),\" \")","v":" "},{"$f":"IF(B205>0,(VLOOKUP($B205,'Engag Min'!$A$10:$G$109,6,FALSE)),\" \")","v":" "},null,null," ",{"$f":"IF(COUNTIF($G$10:$G205,G205)<2,$G205,\" \")","v":" "},1000,{"$f":"IF(COUNTIF($G$10:$G205,G205)<3,$G205,\" \")","v":" "},94,"",1000]
[95,null,{"$f":"IF(A206>0,(VLOOKUP($A206,'Engag Pre'!$A$10:$G$74,3,FALSE)),\" \")","v":{"$error":"#N/A"}},{"$f":"IF(B206>0,(VLOOKUP($B206,'Engag Min'!$A$10:$G$109,7,FALSE)),\" \")","v":" "},{"$f":"IF(B206>0,(VLOOKUP($B206,'Engag Min'!$A$10:$G$109,3,FALSE)),\" \")","v":" "},{"$f":"IF(B206>0,(VLOOKUP($B206,'Engag Min'!$A$10:$G$109,4,FALSE)),\" \")","v":" "},{"$f":"IF(B206>0,(VLOOKUP($B206,'Engag Min'!$A$10:$G$109,5,FALSE)),\" \")","v":" "},{"$f":"IF(B206>0,(VLOOKUP($B206,'Engag Min'!$A$10:$G$109,6,FALSE)),\" \")","v":" "},null,null," ",{"$f":"IF(COUNTIF($G$10:$G206,G206)<2,$G206,\" \")","v":" "},1000,{"$f":"IF(COUNTIF($G$10:$G206,G206)<3,$G206,\" \")","v":" "},95,"",1000]
[96,null,{"$f":"IF(A207>0,(VLOOKUP($A207,'Engag Pre'!$A$10:$G$74,3,FALSE)),\" \")","v":{"$error":"#N/A"}},{"$f":"IF(B207>0,(VLOOKUP($B207,'Engag Min'!$A$10:$G$109,7,FALSE)),\" \")","v":" "},{"$f":"IF(B207>0,(VLOOKUP($B207,'Engag Min'!$A$10:$G$109,3,FALSE)),\" \")","v":" "},{"$f":"IF(B207>0,(VLOOKUP($B207,'Engag Min'!$A$10:$G$109,4,FALSE)),\" \")","v":" "},{"$f":"IF(B207>0,(VLOOKUP($B207,'Engag Min'!$A$10:$G$109,5,FALSE)),\" \")","v":" "},{"$f":"IF(B207>0,(VLOOKUP($B207,'Engag Min'!$A$10:$G$109,6,FALSE)),\" \")","v":" "},null,null," ",{"$f":"IF(COUNTIF($G$10:$G207,G207)<2,$G207,\" \")","v":" "},1000,{"$f":"IF(COUNTIF($G$10:$G207,G207)<3,$G207,\" \")","v":" "},96,"",1000]
[97,null,{"$f":"IF(A208>0,(VLOOKUP($A208,'Engag Pre'!$A$10:$G$74,3,FALSE)),\" \")","v":{"$error":"#N/A"}},{"$f":"IF(B208>0,(VLOOKUP($B208,'Engag Min'!$A$10:$G$109,7,FALSE)),\" \")","v":" "},{"$f":"IF(B208>0,(VLOOKUP($B208,'Engag Min'!$A$10:$G$109,3,FALSE)),\" \")","v":" "},{"$f":"IF(B208>0,(VLOOKUP($B208,'Engag Min'!$A$10:$G$109,4,FALSE)),\" \")","v":" "},{"$f":"IF(B208>0,(VLOOKUP($B208,'Engag Min'!$A$10:$G$109,5,FALSE)),\" \")","v":" "},{"$f":"IF(B208>0,(VLOOKUP($B208,'Engag Min'!$A$10:$G$109,6,FALSE)),\" \")","v":" "},null,null," ",{"$f":"IF(COUNTIF($G$10:$G208,G208)<2,$G208,\" \")","v":" "},1000,{"$f":"IF(COUNTIF($G$10:$G208,G208)<3,$G208,\" \")","v":" "},97,"",1000]
[98,null,{"$f":"IF(A209>0,(VLOOKUP($A209,'Engag Pre'!$A$10:$G$74,3,FALSE)),\" \")","v":{"$error":"#N/A"}},{"$f":"IF(B209>0,(VLOOKUP($B209,'Engag Min'!$A$10:$G$109,7,FALSE)),\" \")","v":" "},{"$f":"IF(B209>0,(VLOOKUP($B209,'Engag Min'!$A$10:$G$109,3,FALSE)),\" \")","v":" "},{"$f":"IF(B209>0,(VLOOKUP($B209,'Engag Min'!$A$10:$G$109,4,FALSE)),\" \")","v":" "},{"$f":"IF(B209>0,(VLOOKUP($B209,'Engag Min'!$A$10:$G$109,5,FALSE)),\" \")","v":" "},{"$f":"IF(B209>0,(VLOOKUP($B209,'Engag Min'!$A$10:$G$109,6,FALSE)),\" \")","v":" "},null,null," ",{"$f":"IF(COUNTIF($G$10:$G209,G209)<2,$G209,\" \")","v":" "},1000,{"$f":"IF(COUNTIF($G$10:$G209,G209)<3,$G209,\" \")","v":" "},98,"",1000]
[99,null,{"$f":"IF(A210>0,(VLOOKUP($A210,'Engag Pre'!$A$10:$G$74,3,FALSE)),\" \")","v":{"$error":"#N/A"}},{"$f":"IF(B210>0,(VLOOKUP($B210,'Engag Min'!$A$10:$G$109,7,FALSE)),\" \")","v":" "},{"$f":"IF(B210>0,(VLOOKUP($B210,'Engag Min'!$A$10:$G$109,3,FALSE)),\" \")","v":" "},{"$f":"IF(B210>0,(VLOOKUP($B210,'Engag Min'!$A$10:$G$109,4,FALSE)),\" \")","v":" "},{"$f":"IF(B210>0,(VLOOKUP($B210,'Engag Min'!$A$10:$G$109,5,FALSE)),\" \")","v":" "},{"$f":"IF(B210>0,(VLOOKUP($B210,'Engag Min'!$A$10:$G$109,6,FALSE)),\" \")","v":" "},null,null," ",{"$f":"IF(COUNTIF($G$10:$G210,G210)<2,$G210,\" \")","v":" "},1000,{"$f":"IF(COUNTIF($G$10:$G210,G210)<3,$G210,\" \")","v":" "},99,"",1000]
[100,null,{"$f":"IF(A211>0,(VLOOKUP($A211,'Engag Pre'!$A$10:$G$74,3,FALSE)),\" \")","v":{"$error":"#N/A"}},{"$f":"IF(B211>0,(VLOOKUP($B211,'Engag Min'!$A$10:$G$109,7,FALSE)),\" \")","v":" "},{"$f":"IF(B211>0,(VLOOKUP($B211,'Engag Min'!$A$10:$G$109,3,FALSE)),\" \")","v":" "},{"$f":"IF(B211>0,(VLOOKUP($B211,'Engag Min'!$A$10:$G$109,4,FALSE)),\" \")","v":" "},{"$f":"IF(B211>0,(VLOOKUP($B211,'Engag Min'!$A$10:$G$109,5,FALSE)),\" \")","v":" "},{"$f":"IF(B211>0,(VLOOKUP($B211,'Engag Min'!$A$10:$G$109,6,FALSE)),\" \")","v":" "},null,null," ",{"$f":"IF(COUNTIF($G$10:$G211,G211)<2,$G211,\" \")","v":" "},1000,{"$f":"IF(COUNTIF($G$10:$G211,G211)<3,$G211,\" \")","v":" "},100,"",1000]

{"sheet":"Calcul PE","index":12,"n_rows":27,"n_cols":47,"rows_kept":27,"merged":[[1,0,1,37],[2,1,2,37],[3,2,3,3],[3,4,3,5],[3,6,3,7],[3,8,3,9],[3,10,3,11],[3,12,3,13],[3,14,3,15],[3,16,3,17]]}
[]
["PRIX D EQUIPE"]
[null,"NE PAS MODIFIER LES CELLULES"]
[null,"PREL","POU 1",null,"POU 2",null,"PUP 1",null,"PUP 2",null,"BENJ 1",null,"BENJ 2",null,"MIN 1",null,"MIN 2",null,"1er Pré","1er Pou","2ème Pou","1er Pup","2ème Pup","1er Ben","2ème Ben","1er Min","2ème Min","1ère","2e","3e","4E","5E",{"$nulls":7},"TOTAL","PLACE","1E\nVALEUR","2E\nVALEUR","3E\nVALEUR","4E\nVALEUR","5E\nVALEUR","6E\nVALEUR"]
["A. SOISY ENGHIEN LA BARRE",{"$f":"IF($A5=\"\",1000,(IF(ISNA(VLOOKUP($A5,'Res Pre'!$L$10:$Q$109,2,FALSE)),1000,VLOOKUP($A5,'Res Pre'!$L$10:$Q$109,2,FALSE))))","v":1000},{"$f":"IF(ISNA(VLOOKUP($A5,'Res Pou'!$L$10:$Q$109,2,FALSE)),1000,VLOOKUP($A5,'Res Pou'!$L$10:$Q$109,2,FALSE))","v":11},{"$f":"IF(ISNA(VLOOKUP($A5,'Res Pou'!$P$10:$Q$109,2,FALSE)),1000,VLOOKUP($A5,'Res Pou'!$P$10:$Q$109,2,FALSE))","v":1000},{"$f":"IF(ISNA(VLOOKUP($A5,'Res Pou'!$L$112:$Q$211,2,FALSE)),1000,VLOOKUP($A5,'Res Pou'!$L$112:$Q$211,2,FALSE))","v":1000},{"$f":"IF(ISNA(VLOOKUP($A5,'Res Pou'!$P$112:$Q$211,2,FALSE)),1000,VLOOKUP($A5,'Res Pou'!$P$112:$Q$211,2,FALSE))","v":1},{"$f":"IF(ISNA(VLOOKUP($A5,'Res Pup'!$L$10:$Q$109,2,FALSE)),1000,VLOOKUP($A5,'Res Pup'!$L$10:$Q$109,2,FALSE))","v":10},{"$f":"IF(ISNA(VLOOKUP($A5,'Res Pup'!$P$10:$Q$109,2,FALSE)),1000,VLOOKUP($A5,'Res Pup'!$P$10:$Q$109,2,FALSE))","v":1000},{"$f":"IF(ISNA(VLOOKUP($A5,'Res Pup'!$L$112:$Q$211,2,FALSE)),1000,VLOOKUP($A5,'Res Pup'!$L$112:$Q$211,2,FALSE))","v":1000},{"$f":"IF(ISNA(VLOOKUP($A5,'Res Pup'!$P$112:$Q$211,2,FALSE)),1000,VLOOKUP($A5,'Res Pup'!$P$112:$Q$211,2,FALSE))","v":17},{"$f":"IF(ISNA(VLOOKUP($A5,'Res Ben'!$L$10:$Q$109,2,FALSE)),1000,VLOOKUP($A5,'Res Ben'!$L$10:$Q$109,2,FALSE))","v":20},{"$f":"IF(ISNA(VLOOKUP($A5,'Res Ben'!$P$10:$Q$109,2,FALSE)),1000,VLOOKUP($A5,'Res Ben'!$P$10:$Q$109,2,FALSE))","v":1000},{"$f":"IF(ISNA(VLOOKUP($A5,'Res Ben'!$L$112:$Q$211,2,FALSE)),1000,VLOOKUP($A5,'Res Ben'!$L$112:$Q$211,2,FALSE))","v":1000},{"$f":"IF(ISNA(VLOOKUP($A5,'Res Ben'!$P$112:$Q$211,2,FALSE)),1000,VLOOKUP($A5,'Res Ben'!$P$112:$Q$211,2,FALSE))","v":27},{"$f":"IF(ISNA(VLOOKUP($A5,'Res Min'!$L$10:$Q$109,2,FALSE)),1000,VLOOKUP($A5,'Res Min'!$L$10:$Q$109,2,FALSE))","v":1000},{"$f":"IF(ISNA(VLOOKUP($A5,'Res Min'!$P$10:$Q$109,2,FALSE)),1000,VLOOKUP($A5,'Res Min'!$P$10:$Q$109,2,FALSE))","v":1000},{"$f":"IF(ISNA(VLOOKUP($A5,'Res Min'!$L$112:$Q$211,2,FALSE)),1000,VLOOKUP($A5,'Res Min'!$L$112:$Q$211,2,FALSE))","v":1000},{"$f":"IF(ISNA(VLOOKUP($A5,'Res Min'!$P$112:$Q$211,2,FALSE)),1000,VLOOKUP($A5,'Res Min'!$P$112:$Q$211,2,FALSE))","v":1000},{"$f":"B5","v":1000},{"$f":"SMALL(C5:F5,1)","v":1},{"$f":"SMALL(C5:F5,2)","v":11},{"$f":"SMALL(G5:J5,1)","v":10},{"$f":"SMALL(G5:J5,2)","v":17},{"$f":"SMALL(K5:N5,1)","v":20},{"$f":"SMALL(K5:N5,2)","v":27},{"$f":"SMALL(O5:R5,1)","v":1000},{"$f":"SMALL(O5:R5,2)","v":1000},{"$f":"(SMALL((S5,$T5,$V5,$X5,$Z5),1))","v":1},{"$f":"(SMALL((S5,$T5,$V5,$X5,$Z5),2))","v":10},{"$f":"(SMALL(($S5,$T5,$V5,$X5,$Z5),3))","v":20},{"$f":"IF(AG5<AI5,AG5,AI5)","v":11},{"$f":"IF(AG5<AI5,SMALL(AI5:AJ5,1),SMALL(AG5:AH5,1))","v":17},{"$f":"(SMALL(($S5,$T5,$V5,$X5,$Z5),4))","v":1000},{"$f":"(SMALL(($U5,$W5,$Y5,$AA5),2))","v":17},{"$f":"(SMALL(($U5,$W5,$Y5,$AA5),1))","v":11},{"$f":"(SMALL(($S5,$T5,$V5,$X5,$Z5),5))","v":1000},{"$f":"(SMALL(($AB5,$AC5,$AD5,$AE5),1))","v":1},{"$f":"(SMALL(($AB5,$AC5,$AD5,$AE5),2))","v":10},{"$f":"(SMALL(($AB5,$AC5,$AD5,$AE5),3))","v":11},{"$f":"IF(SUM(AB5:AF5)>1000,\"\",(SUM(AB5:AF5)))","v":59},{"$f":"IF(AN5<2000,1,\"\")","v":1},{"$f":"AB5","v":1},{"$f":"AC5","v":10},{"$f":"AD5","v":20},{"$f":"AE5","v":11},{"$f":"(SMALL(($S5:$AA5),5))","v":20},{"$f":"(SMALL(($S5:$AA5),6))","v":27}]
["ES PERSANAISE",{"$f":"IF($A6=\"\",1000,(IF(ISNA(VLOOKUP($A6,'Res Pre'!$L$10:$Q$109,2,FALSE)),1000,VLOOKUP($A6,'Res Pre'!$L$10:$Q$109,2,FALSE))))","v":1000},{"$f":"IF(ISNA(VLOOKUP($A6,'Res Pou'!$L$10:$Q$109,2,FALSE)),1000,VLOOKUP($A6,'Res Pou'!$L$10:$Q$109,2,FALSE))","v":1},{"$f":"IF(ISNA(VLOOKUP($A6,'Res Pou'!$P$10:$Q$109,2,FALSE)),1000,VLOOKUP($A6,'Res Pou'!$P$10:$Q$109,2,FALSE))","v":9},{"$f":"IF(ISNA(VLOOKUP($A6,'Res Pou'!$L$112:$Q$211,2,FALSE)),1000,VLOOKUP($A6,'Res Pou'!$L$112:$Q$211,2,FALSE))","v":1000},{"$f":"IF(ISNA(VLOOKUP($A6,'Res Pou'!$P$112:$Q$211,2,FALSE)),1000,VLOOKUP($A6,'Res Pou'!$P$112:$Q$211,2,FALSE))","v":1000},{"$f":"IF(ISNA(VLOOKUP($A6,'Res Pup'!$L$10:$Q$109,2,FALSE)),1000,VLOOKUP($A6,'Res Pup'!$L$10:$Q$109,2,FALSE))","v":8},{"$f":"IF(ISNA(VLOOKUP($A6,'Res Pup'!$P$10:$Q$109,2,FALSE)),1000,VLOOKUP($A6,'Res Pup'!$P$10:$Q$109,2,FALSE))","v":1000},{"$f":"IF(ISNA(VLOOKUP($A6,'Res Pup'!$L$112:$Q$211,2,FALSE)),1000,VLOOKUP($A6,'Res Pup'!$L$112:$Q$211,2,FALSE))","v":1000},{"$f":"IF(ISNA(VLOOKUP($A6,'Res Pup'!$P$112:$Q$211,2,FALSE)),1000,VLOOKUP($A6,'Res Pup'!$P$112:$Q$211,2,FALSE))","v":1000},{"$f":"IF(ISNA(VLOOKUP($A6,'Res Ben'!$L$10:$Q$109,2,FALSE)),1000,VLOOKUP($A6,'Res Ben'!$L$10:$Q$109,2,FALSE))","v":1000},{"$f":"IF(ISNA(VLOOKUP($A6,'Res Ben'!$P$10:$Q$109,2,FALSE)),1000,VLOOKUP($A6,'Res Ben'!$P$10:$Q$109,2,FALSE))","v":1000},{"$f":"IF(ISNA(VLOOKUP($A6,'Res Ben'!$L$112:$Q$211,2,FALSE)),1000,VLOOKUP($A6,'Res Ben'!$L$112:$Q$211,2,FALSE))","v":1000},{"$f":"IF(ISNA(VLOOKUP($A6,'Res Ben'!$P$112:$Q$211,2,FALSE)),1000,VLOOKUP($A6,'Res Ben'!$P$112:$Q$211,2,FALSE))","v":1000},{"$f":"IF(ISNA(VLOOKUP($A6,'Res Min'!$L$10:$Q$109,2,FALSE)),1000,VLOOKUP($A6,'Res Min'!$L$10:$Q$109,2,FALSE))","v":1000},{"$f":"IF(ISNA(VLOOKUP($A6,'Res Min'!$P$10:$Q$109,2,FALSE)),1000,VLOOKUP($A6,'Res Min'!$P$10:$Q$109,2,FALSE))","v":1000},{"$f":"IF(ISNA(VLOOKUP($A6,'Res Min'!$L$112:$Q$211,2,FALSE)),1000,VLOOKUP($A6,'Res Min'!$L$112:$Q$211,2,FALSE))","v":1000},{"$f":"IF(ISNA(VLOOKUP($A6,'Res Min'!$P$112:$Q$211,2,FALSE)),1000,VLOOKUP($A6,'Res Min'!$P$112:$Q$211,2,FALSE))","v":1000},{"$f":"B6","v":1000},{"$f":"SMALL(C6:F6,1)","v":1},{"$f":"SMALL(C6:F6,2)","v":9},{"$f":"SMALL(G6:J6,1)","v":8},{"$f":"SMALL(G6:J6,2)","v":1000},{"$f":"SMALL(K6:N6,1)","v":1000},{"$f":"SMALL(K6:N6,2)","v":1000},{"$f":"SMALL(O6:R6,1)","v":1000},{"$f":"SMALL(O6:R6,2)","v":1000},{"$f":"(SMALL((S6,$T6,$V6,$X6,$Z6),1))","v":1},{"$f":"(SMALL((S6,$T6,$V6,$X6,$Z6),2))","v":8},{"$f":"(SMALL(($S6,$T6,$V6,$X6,$Z6),3))","v":1000},{"$f":"IF(AG6<AI6,AG6,AI6)","v":9},{"$f":"IF(AG6<AI6,SMALL(AI6:AJ6,1),SMALL(AG6:AH6,1))","v":1000},{"$f":"(SMALL(($S6,$T6,$V6,$X6,$Z6),4))","v":1000},{"$f":"(SMALL(($U6,$W6,$Y6,$AA6),2))","v":1000},{"$f":"(SMALL(($U6,$W6,$Y6,$AA6),1))","v":9},{"$f":"(SMALL(($S6,$T6,$V6,$X6,$Z6),5))","v":1000},{"$f":"(SMALL(($AB6,$AC6,$AD6,$AE6),1))","v":1},{"$f":"(SMALL(($AB6,$AC6,$AD6,$AE6),2))","v":8},{"$f":"(SMALL(($AB6,$AC6,$AD6,$AE6),3))","v":9},"",{"$f":"IF(AN6<2000,2,\"\")","v":""},{"$f":"AB6","v":1},8,1000,9,1000,1000]
["CSM PUTEAUX",{"$f":"IF($A7=\"\",1000,(IF(ISNA(VLOOKUP($A7,'Res Pre'!$L$10:$Q$109,2,FALSE)),1000,VLOOKUP($A7,'Res Pre'!$L$10:$Q$109,2,FALSE))))","v":1},{"$f":"IF(ISNA(VLOOKUP($A7,'Res Pou'!$L$10:$Q$109,2,FALSE)),1000,VLOOKUP($A7,'Res Pou'!$L$10:$Q$109,2,FALSE))","v":1000},{"$f":"IF(ISNA(VLOOKUP($A7,'Res Pou'!$P$10:$Q$109,2,FALSE)),1000,VLOOKUP($A7,'Res Pou'!$P$10:$Q$109,2,FALSE))","v":1000},{"$f":"IF(ISNA(VLOOKUP($A7,'Res Pou'!$L$112:$Q$211,2,FALSE)),1000,VLOOKUP($A7,'Res Pou'!$L$112:$Q$211,2,FALSE))","v":1000},{"$f":"IF(ISNA(VLOOKUP($A7,'Res Pou'!$P$112:$Q$211,2,FALSE)),1000,VLOOKUP($A7,'Res Pou'!$P$112:$Q$211,2,FALSE))","v":1000},{"$f":"IF(ISNA(VLOOKUP($A7,'Res Pup'!$L$10:$Q$109,2,FALSE)),1000,VLOOKUP($A7,'Res Pup'!$L$10:$Q$109,2,FALSE))","v":1000},{"$f":"IF(ISNA(VLOOKUP($A7,'Res Pup'!$P$10:$Q$109,2,FALSE)),1000,VLOOKUP($A7,'Res Pup'!$P$10:$Q$109,2,FALSE))","v":1000},{"$f":"IF(ISNA(VLOOKUP($A7,'Res Pup'!$L$112:$Q$211,2,FALSE)),1000,VLOOKUP($A7,'Res Pup'!$L$112:$Q$211,2,FALSE))","v":1000},{"$f":"IF(ISNA(VLOOKUP($A7,'Res Pup'!$P$112:$Q$211,2,FALSE)),1000,VLOOKUP($A7,'Res Pup'!$P$112:$Q$211,2,FALSE))","v":1000},{"$f":"IF(ISNA(VLOOKUP($A7,'Res Ben'!$L$10:$Q$109,2,FALSE)),1000,VLOOKUP($A7,'Res Ben'!$L$10:$Q$109,2,FALSE))","v":6},{"$f":"IF(ISNA(VLOOKUP($A7,'Res Ben'!$P$10:$Q$109,2,FALSE)),1000,VLOOKUP($A7,'Res Ben'!$P$10:$Q$109,2,FALSE))","v":10},{"$f":"IF(ISNA(VLOOKUP($A7,'Res Ben'!$L$112:$Q$211,2,FALSE)),1000,VLOOKUP($A7,'Res Ben'!$L$112:$Q$211,2,FALSE))","v":1000},{"$f":"IF(ISNA(VLOOKUP($A7,'Res Ben'!$P$112:$Q$211,2,FALSE)),1000,VLOOKUP($A7,'Res Ben'!$P$112:$Q$211,2,FALSE))","v":1000},{"$f":"IF(ISNA(VLOOKUP($A7,'Res Min'!$L$10:$Q$109,2,FALSE)),1000,VLOOKUP($A7,'Res Min'!$L$10:$Q$109,2,FALSE))","v":1000},{"$f":"IF(ISNA(VLOOKUP($A7,'Res Min'!$P$10:$Q$109,2,FALSE)),1000,VLOOKUP($A7,'Res Min'!$P$10:$Q$109,2,FALSE))","v":1000},{"$f":"IF(ISNA(VLOOKUP($A7,'Res Min'!$L$112:$Q$211,2,FALSE)),1000,VLOOKUP($A7,'Res Min'!$L$112:$Q$211,2,FALSE))","v":1000},{"$f":"IF(ISNA(VLOOKUP($A7,'Res Min'!$P$112:$Q$211,2,FALSE)),1000,VLOOKUP($A7,'Res Min'!$P$112:$Q$211,2,FALSE))","v":1000},{"$f":"B7","v":1},{"$f":"SMALL(C7:F7,1)","v":1000},{"$f":"SMALL(C7:F7,2)","v":1000},{"$f":"SMALL(G7:J7,1)","v":1000},{"$f":"SMALL(G7:J7,2)","v":1000},{"$f":"SMALL(K7:N7,1)","v":6},{"$f":"SMALL(K7:N7,2)","v":10},{"$f":"SMALL(O7:R7,1)","v":1000},{"$f":"SMALL(O7:R7,2)","v":1000},{"$f":"(SMALL((S7,$T7,$V7,$X7,$Z7),1))","v":1},{"$f":"(SMALL((S7,$T7,$V7,$X7,$Z7),2))","v":6},{"$f":"(SMALL(($S7,$T7,$V7,$X7,$Z7),3))","v":1000},{"$f":"IF(AG7<AI7,AG7,AI7)","v":10},{"$f":"IF(AG7<AI7,SMALL(AI7:AJ7,1),SMALL(AG7:AH7,1))","v":1000},{"$f":"(SMALL(($S7,$T7,$V7,$X7,$Z7),4))","v":1000},{"$f":"(SMALL(($U7,$W7,$Y7,$AA7),2))","v":1000},{"$f":"(SMALL(($U7,$W7,$Y7,$AA7),1))","v":10},{"$f":"(SMALL(($S7,$T7,$V7,$X7,$Z7),5))","v":1000},{"$f":"(SMALL(($AB7,$AC7,$AD7,$AE7),1))","v":1},{"$f":"(SMALL(($AB7,$AC7,$AD7,$AE7),2))","v":6},{"$f":"(SMALL(($AB7,$AC7,$AD7,$AE7),3))","v":10},"",{"$f":"IF(AN7<2000,3,\"\")","v":""},1,6,1000,10,1000,1000]
["PEDALE COMBS LA VILLAISE",{"$f":"IF($A8=\"\",1000,(IF(ISNA(VLOOKUP($A8,'Res Pre'!$L$10:$Q$109,2,FALSE)),1000,VLOOKUP($A8,'Res Pre'!$L$10:$Q$109,2,FALSE))))","v":4},{"$f":"IF(ISNA(VLOOKUP($A8,'Res Pou'!$L$10:$Q$109,2,FALSE)),1000,VLOOKUP($A8,'Res Pou'!$L$10:$Q$109,2,FALSE))","v":3},{"$f":"IF(ISNA(VLOOKUP($A8,'Res Pou'!$P$10:$Q$109,2,FALSE)),1000,VLOOKUP($A8,'Res Pou'!$P$10:$Q$109,2,FALSE))","v":16},{"$f":"IF(ISNA(VLOOKUP($A8,'Res Pou'!$L$112:$Q$211,2,FALSE)),1000,VLOOKUP($A8,'Res Pou'!$L$112:$Q$211,2,FALSE))","v":1000},{"$f":"IF(ISNA(VLOOKUP($A8,'Res Pou'!$P$112:$Q$211,2,FALSE)),1000,VLOOKUP($A8,'Res Pou'!$P$112:$Q$211,2,FALSE))","v":3},{"$f":"IF(ISNA(VLOOKUP($A8,'Res Pup'!$L$10:$Q$109,2,FALSE)),1000,VLOOKUP($A8,'Res Pup'!$L$10:$Q$109,2,FALSE))","v":2},{"$f":"IF(ISNA(VLOOKUP($A8,'Res Pup'!$P$10:$Q$109,2,FALSE)),1000,VLOOKUP($A8,'Res Pup'!$P$10:$Q$109,2,FALSE))","v":1000},{"$f":"IF(ISNA(VLOOKUP($A8,'Res Pup'!$L$112:$Q$211,2,FALSE)),1000,VLOOKUP($A8,'Res Pup'!$L$112:$Q$211,2,FALSE))","v":1000},{"$f":"IF(ISNA(VLOOKUP($A8,'Res Pup'!$P$112:$Q$211,2,FALSE)),1000,VLOOKUP($A8,'Res Pup'!$P$112:$Q$211,2,FALSE))","v":6},{"$f":"IF(ISNA(VLOOKUP($A8,'Res Ben'!$L$10:$Q$109,2,FALSE)),1000,VLOOKUP($A8,'Res Ben'!$L$10:$Q$109,2,FALSE))","v":1000},{"$f":"IF(ISNA(VLOOKUP($A8,'Res Ben'!$P$10:$Q$109,2,FALSE)),1000,VLOOKUP($A8,'Res Ben'!$P$10:$Q$109,2,FALSE))","v":1000},{"$f":"IF(ISNA(VLOOKUP($A8,'Res Ben'!$L$112:$Q$211,2,FALSE)),1000,VLOOKUP($A8,'Res Ben'!$L$112:$Q$211,2,FALSE))","v":2},{"$f":"IF(ISNA(VLOOKUP($A8,'Res Ben'!$P$112:$Q$211,2,FALSE)),1000,VLOOKUP($A8,'Res Ben'!$P$112:$Q$211,2,FALSE))","v":9},{"$f":"IF(ISNA(VLOOKUP($A8,'Res Min'!$L$10:$Q$109,2,FALSE)),1000,VLOOKUP($A8,'Res Min'!$L$10:$Q$109,2,FALSE))","v":1000},{"$f":"IF(ISNA(VLOOKUP($A8,'Res Min'!$P$10:$Q$109,2,FALSE)),1000,VLOOKUP($A8,'Res Min'!$P$10:$Q$109,2,FALSE))","v":1000},{"$f":"IF(ISNA(VLOOKUP($A8,'Res Min'!$L$112:$Q$211,2,FALSE)),1000,VLOOKUP($A8,'Res Min'!$L$112:$Q$211,2,FALSE))","v":1000},{"$f":"IF(ISNA(VLOOKUP($A8,'Res Min'!$P$112:$Q$211,2,FALSE)),1000,VLOOKUP($A8,'Res Min'!$P$112:$Q$211,2,FALSE))","v":1000},{"$f":"B8","v":4},{"$f":"SMALL(C8:F8,1)","v":3},{"$f":"SMALL(C8:F8,2)","v":3},{"$f":"SMALL(G8:J8,1)","v":2},{"$f":"SMALL(G8:J8,2)","v":6},{"$f":"SMALL(K8:N8,1)","v":2},{"$f":"SMALL(K8:N8,2)","v":9},{"$f":"SMALL(O8:R8,1)","v":1000},{"$f":"SMALL(O8:R8,2)","v":1000},{"$f":"(SMALL((S8,$T8,$V8,$X8,$Z8),1))","v":2},{"$f":"(SMALL((S8,$T8,$V8,$X8,$Z8),2))","v":2},{"$f":"(SMALL(($S8,$T8,$V8,$X8,$Z8),3))","v":3},{"$f":"IF(AG8<AI8,AG8,AI8)","v":3},{"$f":"IF(AG8<AI8,SMALL(AI8:AJ8,1),SMALL(AG8:AH8,1))","v":4},{"$f":"(SMALL(($S8,$T8,$V8,$X8,$Z8),4))","v":4},{"$f":"(SMALL(($U8,$W8,$Y8,$AA8),2))","v":6},{"$f":"(SMALL(($U8,$W8,$Y8,$AA8),1))","v":3},{"$f":"(SMALL(($S8,$T8,$V8,$X8,$Z8),5))","v":1000},{"$f":"(SMALL(($AB8,$AC8,$AD8,$AE8),1))","v":2},{"$f":"(SMALL(($AB8,$AC8,$AD8,$AE8),2))","v":2},{"$f":"(SMALL(($AB8,$AC8,$AD8,$AE8),3))","v":3},14,{"$f":"IF(AN8<2000,4,\"\")","v":4},2,2,3,3,4,6]
["CS VILLETANEUSE",{"$f":"IF($A9=\"\",1000,(IF(ISNA(VLOOKUP($A9,'Res Pre'!$L$10:$Q$109,2,FALSE)),1000,VLOOKUP($A9,'Res Pre'!$L$10:$Q$109,2,FALSE))))","v":8},{"$f":"IF(ISNA(VLOOKUP($A9,'Res Pou'!$L$10:$Q$109,2,FALSE)),1000,VLOOKUP($A9,'Res Pou'!$L$10:$Q$109,2,FALSE))","v":4},{"$f":"IF(ISNA(VLOOKUP($A9,'Res Pou'!$P$10:$Q$109,2,FALSE)),1000,VLOOKUP($A9,'Res Pou'!$P$10:$Q$109,2,FALSE))","v":8},{"$f":"IF(ISNA(VLOOKUP($A9,'Res Pou'!$L$112:$Q$211,2,FALSE)),1000,VLOOKUP($A9,'Res Pou'!$L$112:$Q$211,2,FALSE))","v":1000},{"$f":"IF(ISNA(VLOOKUP($A9,'Res Pou'!$P$112:$Q$211,2,FALSE)),1000,VLOOKUP($A9,'Res Pou'!$P$112:$Q$211,2,FALSE))","v":6},{"$f":"IF(ISNA(VLOOKUP($A9,'Res Pup'!$L$10:$Q$109,2,FALSE)),1000,VLOOKUP($A9,'Res Pup'!$L$10:$Q$109,2,FALSE))","v":3},{"$f":"IF(ISNA(VLOOKUP($A9,'Res Pup'!$P$10:$Q$109,2,FALSE)),1000,VLOOKUP($A9,'Res Pup'!$P$10:$Q$109,2,FALSE))","v":9},{"$f":"IF(ISNA(VLOOKUP($A9,'Res Pup'!$L$112:$Q$211,2,FALSE)),1000,VLOOKUP($A9,'Res Pup'!$L$112:$Q$211,2,FALSE))","v":1000},{"$f":"IF(ISNA(VLOOKUP($A9,'Res Pup'!$P$112:$Q$211,2,FALSE)),1000,VLOOKUP($A9,'Res Pup'!$P$112:$Q$211,2,FALSE))","v":18},{"$f":"IF(ISNA(VLOOKUP($A9,'Res Ben'!$L$10:$Q$109,2,FALSE)),1000,VLOOKUP($A9,'Res Ben'!$L$10:$Q$109,2,FALSE))","v":2},{"$f":"IF(ISNA(VLOOKUP($A9,'Res Ben'!$P$10:$Q$109,2,FALSE)),1000,VLOOKUP($A9,'Res Ben'!$P$10:$Q$109,2,FALSE))","v":7},{"$f":"IF(ISNA(VLOOKUP($A9,'Res Ben'!$L$112:$Q$211,2,FALSE)),1000,VLOOKUP($A9,'Res Ben'!$L$112:$Q$211,2,FALSE))","v":1000},{"$f":"IF(ISNA(VLOOKUP($A9,'Res Ben'!$P$112:$Q$211,2,FALSE)),1000,VLOOKUP($A9,'Res Ben'!$P$112:$Q$211,2,FALSE))","v":1000},{"$f":"IF(ISNA(VLOOKUP($A9,'Res Min'!$L$10:$Q$109,2,FALSE)),1000,VLOOKUP($A9,'Res Min'!$L$10:$Q$109,2,FALSE))","v":1000},{"$f":"IF(ISNA(VLOOKUP($A9,'Res Min'!$P$10:$Q$109,2,FALSE)),1000,VLOOKUP($A9,'Res Min'!$P$10:$Q$109,2,FALSE))","v":1000},{"$f":"IF(ISNA(VLOOKUP($A9,'Res Min'!$L$112:$Q$211,2,FALSE)),1000,VLOOKUP($A9,'Res Min'!$L$112:$Q$211,2,FALSE))","v":1000},{"$f":"IF(ISNA(VLOOKUP($A9,'Res Min'!$P$112:$Q$211,2,FALSE)),1000,VLOOKUP($A9,'Res Min'!$P$112:$Q$211,2,FALSE))","v":1000},{"$f":"B9","v":8},{"$f":"SMALL(C9:F9,1)","v":4},{"$f":"SMALL(C9:F9,2)","v":6},{"$f":"SMALL(G9:J9,1)","v":3},{"$f":"SMALL(G9:J9,2)","v":9},{"$f":"SMALL(K9:N9,1)","v":2},{"$f":"SMALL(K9:N9,2)","v":7},{"$f":"SMALL(O9:R9,1)","v":1000},{"$f":"SMALL(O9:R9,2)","v":1000},{"$f":"(SMALL((S9,$T9,$V9,$X9,$Z9),1))","v":2},{"$f":"(SMALL((S9,$T9,$V9,$X9,$Z9),2))","v":3},{"$f":"(SMALL(($S9,$T9,$V9,$X9,$Z9),3))","v":4},{"$f":"IF(AG9<AI9,AG9,AI9)","v":6},{"$f":"IF(AG9<AI9,SMALL(AI9:AJ9,1),SMALL(AG9:AH9,1))","v":7},{"$f":"(SMALL(($S9,$T9,$V9,$X9,$Z9),4))","v":8},{"$f":"(SMALL(($U9,$W9,$Y9,$AA9),2))","v":7},{"$f":"(SMALL(($U9,$W9,$Y9,$AA9),1))","v":6},{"$f":"(SMALL(($S9,$T9,$V9,$X9,$Z9),5))","v":1000},{"$f":"(SMALL(($AB9,$AC9,$AD9,$AE9),1))","v":2},{"$f":"(SMALL(($AB9,$AC9,$AD9,$AE9),2))","v":3},{"$f":"(SMALL(($AB9,$AC9,$AD9,$AE9),3))","v":4},22,{"$f":"IF(AN9<2000,5,\"\")","v":5},2,3,4,6,7,8]
["VC CLICHY SOUS BOIS",{"$f":"IF($A10=\"\",1000,(IF(ISNA(VLOOKUP($A10,'Res Pre'!$L$10:$Q$109,2,FALSE)),1000,VLOOKUP($A10,'Res Pre'!$L$10:$Q$109,2,FALSE))))","v":2},{"$f":"IF(ISNA(VLOOKUP($A10,'Res Pou'!$L$10:$Q$109,2,FALSE)),1000,VLOOKUP($A10,'Res Pou'!$L$10:$Q$109,2,FALSE))","v":10},{"$f":"IF(ISNA(VLOOKUP($A10,'Res Pou'!$P$10:$Q$109,2,FALSE)),1000,VLOOKUP($A10,'Res Pou'!$P$10:$Q$109,2,FALSE))","v":1000},{"$f":"IF(ISNA(VLOOKUP($A10,'Res Pou'!$L$112:$Q$211,2,FALSE)),1000,VLOOKUP($A10,'Res Pou'!$L$112:$Q$211,2,FALSE))","v":1000},{"$f":"IF(ISNA(VLOOKUP($A10,'Res Pou'!$P$112:$Q$211,2,FALSE)),1000,VLOOKUP($A10,'Res Pou'!$P$112:$Q$211,2,FALSE))","v":9},{"$f":"IF(ISNA(VLOOKUP($A10,'Res Pup'!$L$10:$Q$109,2,FALSE)),1000,VLOOKUP($A10,'Res Pup'!$L$10:$Q$109,2,FALSE))","v":11},{"$f":"IF(ISNA(VLOOKUP($A10,'Res Pup'!$P$10:$Q$109,2,FALSE)),1000,VLOOKUP($A10,'Res Pup'!$P$10:$Q$109,2,FALSE))","v":12},{"$f":"IF(ISNA(VLOOKUP($A10,'Res Pup'!$L$112:$Q$211,2,FALSE)),1000,VLOOKUP($A10,'Res Pup'!$L$112:$Q$211,2,FALSE))","v":1000},{"$f":"IF(ISNA(VLOOKUP($A10,'Res Pup'!$P$112:$Q$211,2,FALSE)),1000,VLOOKUP($A10,'Res Pup'!$P$112:$Q$211,2,FALSE))","v":5},{"$f":"IF(ISNA(VLOOKUP($A10,'Res Ben'!$L$10:$Q$109,2,FALSE)),1000,VLOOKUP($A10,'Res Ben'!$L$10:$Q$109,2,FALSE))","v":1000},{"$f":"IF(ISNA(VLOOKUP($A10,'Res Ben'!$P$10:$Q$109,2,FALSE)),1000,VLOOKUP($A10,'Res Ben'!$P$10:$Q$109,2,FALSE))","v":1000},{"$f":"IF(ISNA(VLOOKUP($A10,'Res Ben'!$L$112:$Q$211,2,FALSE)),1000,VLOOKUP($A10,'Res Ben'!$L$112:$Q$211,2,FALSE))","v":6},{"$f":"IF(ISNA(VLOOKUP($A10,'Res Ben'!$P$112:$Q$211,2,FALSE)),1000,VLOOKUP($A10,'Res Ben'!$P$112:$Q$211,2,FALSE))","v":7},{"$f":"IF(ISNA(VLOOKUP($A10,'Res Min'!$L$10:$Q$109,2,FALSE)),1000,VLOOKUP($A10,'Res Min'!$L$10:$Q$109,2,FALSE))","v":1000},{"$f":"IF(ISNA(VLOOKUP($A10,'Res Min'!$P$10:$Q$109,2,FALSE)),1000,VLOOKUP($A10,'Res Min'!$P$10:$Q$109,2,FALSE))","v":1000},{"$f":"IF(ISNA(VLOOKUP($A10,'Res Min'!$L$112:$Q$211,2,FALSE)),1000,VLOOKUP($A10,'Res Min'!$L$112:$Q$211,2,FALSE))","v":1000},{"$f":"IF(ISNA(VLOOKUP($A10,'Res Min'!$P$112:$Q$211,2,FALSE)),1000,VLOOKUP($A10,'Res Min'!$P$112:$Q$211,2,FALSE))","v":1000},{"$f":"B10","v":2},{"$f":"SMALL(C10:F10,1)","v":9},{"$f":"SMALL(C10:F10,2)","v":10},{"$f":"SMALL(G10:J10,1)","v":5},{"$f":"SMALL(G10:J10,2)","v":11},{"$f":"SMALL(K10:N10,1)","v":6},{"$f":"SMALL(K10:N10,2)","v":7},{"$f":"SMALL(O10:R10,1)","v":1000},{"$f":"SMALL(O10:R10,2)","v":1000},{"$f":"(SMALL((S10,$T10,$V10,$X10,$Z10),1))","v":2},{"$f":"(SMALL((S10,$T10,$V10,$X10,$Z10),2))","v":5},{"$f":"(SMALL(($S10,$T10,$V10,$X10,$Z10),3))","v":6},{"$f":"IF(AG10<AI10,AG10,AI10)","v":7},{"$f":"IF(AG10<AI10,SMALL(AI10:AJ10,1),SMALL(AG10:AH10,1))","v":9},{"$f":"(SMALL(($S10,$T10,$V10,$X10,$Z10),4))","v":9},{"$f":"(SMALL(($U10,$W10,$Y10,$AA10),2))","v":10},{"$f":"(SMALL(($U10,$W10,$Y10,$AA10),1))","v":7},{"$f":"(SMALL(($S10,$T10,$V10,$X10,$Z10),5))","v":1000},{"$f":"(SMALL(($AB10,$AC10,$AD10,$AE10),1))","v":2},{"$f":"(SMALL(($AB10,$AC10,$AD10,$AE10),2))","v":5},{"$f":"(SMALL(($AB10,$AC10,$AD10,$AE10),3))","v":6},29,{"$f":"IF(AN10<2000,6,\"\")","v":6},2,5,6,7,9,10]
["ES STAINS",{"$f":"IF($A11=\"\",1000,(IF(ISNA(VLOOKUP($A11,'Res Pre'!$L$10:$Q$109,2,FALSE)),1000,VLOOKUP($A11,'Res Pre'!$L$10:$Q$109,2,FALSE))))","v":1000},{"$f":"IF(ISNA(VLOOKUP($A11,'Res Pou'!$L$10:$Q$109,2,FALSE)),1000,VLOOKUP($A11,'Res Pou'!$L$10:$Q$109,2,FALSE))","v":6},{"$f":"IF(ISNA(VLOOKUP($A11,'Res Pou'!$P$10:$Q$109,2,FALSE)),1000,VLOOKUP($A11,'Res Pou'!$P$10:$Q$109,2,FALSE))","v":7},{"$f":"IF(ISNA(VLOOKUP($A11,'Res Pou'!$L$112:$Q$211,2,FALSE)),1000,VLOOKUP($A11,'Res Pou'!$L$112:$Q$211,2,FALSE))","v":1000},{"$f":"IF(ISNA(VLOOKUP($A11,'Res Pou'!$P$112:$Q$211,2,FALSE)),1000,VLOOKUP($A11,'Res Pou'!$P$112:$Q$211,2,FALSE))","v":7},{"$f":"IF(ISNA(VLOOKUP($A11,'Res Pup'!$L$10:$Q$109,2,FALSE)),1000,VLOOKUP($A11,'Res Pup'!$L$10:$Q$109,2,FALSE))","v":13},{"$f":"IF(ISNA(VLOOKUP($A11,'Res Pup'!$P$10:$Q$109,2,FALSE)),1000,VLOOKUP($A11,'Res Pup'!$P$10:$Q$109,2,FALSE))","v":1000},{"$f":"IF(ISNA(VLOOKUP($A11,'Res Pup'!$L$112:$Q$211,2,FALSE)),1000,VLOOKUP($A11,'Res Pup'!$L$112:$Q$211,2,FALSE))","v":1000},{"$f":"IF(ISNA(VLOOKUP($A11,'Res Pup'!$P$112:$Q$211,2,FALSE)),1000,VLOOKUP($A11,'Res Pup'!$P$112:$Q$211,2,FALSE))","v":2},{"$f":"IF(ISNA(VLOOKUP($A11,'Res Ben'!$L$10:$Q$109,2,FALSE)),1000,VLOOKUP($A11,'Res Ben'!$L$10:$Q$109,2,FALSE))","v":24},{"$f":"IF(ISNA(VLOOKUP($A11,'Res Ben'!$P$10:$Q$109,2,FALSE)),1000,VLOOKUP($A11,'Res Ben'!$P$10:$Q$109,2,FALSE))","v":1000},{"$f":"IF(ISNA(VLOOKUP($A11,'Res Ben'!$L$112:$Q$211,2,FALSE)),1000,VLOOKUP($A11,'Res Ben'!$L$112:$Q$211,2,FALSE))","v":1000},{"$f":"IF(ISNA(VLOOKUP($A11,'Res Ben'!$P$112:$Q$211,2,FALSE)),1000,VLOOKUP($A11,'Res Ben'!$P$112:$Q$211,2,FALSE))","v":12},{"$f":"IF(ISNA(VLOOKUP($A11,'Res Min'!$L$10:$Q$109,2,FALSE)),1000,VLOOKUP($A11,'Res Min'!$L$10:$Q$109,2,FALSE))","v":1000},{"$f":"IF(ISNA(VLOOKUP($A11,'Res Min'!$P$10:$Q$109,2,FALSE)),1000,VLOOKUP($A11,'Res Min'!$P$10:$Q$109,2,FALSE))","v":1000},{"$f":"IF(ISNA(VLOOKUP($A11,'Res Min'!$L$112:$Q$211,2,FALSE)),1000,VLOOKUP($A11,'Res Min'!$L$112:$Q$211,2,FALSE))","v":1000},{"$f":"IF(ISNA(VLOOKUP($A11,'Res Min'!$P$112:$Q$211,2,FALSE)),1000,VLOOKUP($A11,'Res Min'!$P$112:$Q$211,2,FALSE))","v":1000},{"$f":"B11","v":1000},{"$f":"SMALL(C11:F11,1)","v":6},{"$f":"SMALL(C11:F11,2)","v":7},{"$f":"SMALL(G11:J11,1)","v":2},{"$f":"SMALL(G11:J11,2)","v":13},{"$f":"SMALL(K11:N11,1)","v":12},{"$f":"SMALL(K11:N11,2)","v":24},{"$f":"SMALL(O11:R11,1)","v":1000},{"$f":"SMALL(O11:R11,2)","v":1000},{"$f":"(SMALL((S11,$T11,$V11,$X11,$Z11),1))","v":2},{"$f":"(SMALL((S11,$T11,$V11,$X11,$Z11),2))","v":6},{"$f":"(SMALL(($S11,$T11,$V11,$X11,$Z11),3))","v":12},{"$f":"IF(AG11<AI11,AG11,AI11)","v":7},{"$f":"IF(AG11<AI11,SMALL(AI11:AJ11,1),SMALL(AG11:AH11,1))","v":13},{"$f":"(SMALL(($S11,$T11,$V11,$X11,$Z11),4))","v":1000},{"$f":"(SMALL(($U11,$W11,$Y11,$AA11),2))","v":13},{"$f":"(SMALL(($U11,$W11,$Y11,$AA11),1))","v":7},{"$f":"(SMALL(($S11,$T11,$V11,$X11,$Z11),5))","v":1000},{"$f":"(SMALL(($AB11,$AC11,$AD11,$AE11),1))","v":2},{"$f":"(SMALL(($AB11,$AC11,$AD11,$AE11),2))","v":6},{"$f":"(SMALL(($AB11,$AC11,$AD11,$AE11),3))","v":7},40,{"$f":"IF(AN11<2000,7,\"\")","v":7},2,6,12,7,13,24]
["EC AULNAY",{"$f":"IF($A12=\"\",1000,(IF(ISNA(VLOOKUP($A12,'Res Pre'!$L$10:$Q$109,2,FALSE)),1000,VLOOKUP($A12,'Res Pre'!$L$10:$Q$109,2,FALSE))))","v":1000},{"$f":"IF(ISNA(VLOOKUP($A12,'Res Pou'!$L$10:$Q$109,2,FALSE)),1000,VLOOKUP($A12,'Res Pou'!$L$10:$Q$109,2,FALSE))","v":12},{"$f":"IF(ISNA(VLOOKUP($A12,'Res Pou'!$P$10:$Q$109,2,FALSE)),1000,VLOOKUP($A12,'Res Pou'!$P$10:$Q$109,2,FALSE))","v":17},{"$f":"IF(ISNA(VLOOKUP($A12,'Res Pou'!$L$112:$Q$211,2,FALSE)),1000,VLOOKUP($A12,'Res Pou'!$L$112:$Q$211,2,FALSE))","v":1000},{"$f":"IF(ISNA(VLOOKUP($A12,'Res Pou'!$P$112:$Q$211,2,FALSE)),1000,VLOOKUP($A12,'Res Pou'!$P$112:$Q$211,2,FALSE))","v":2},{"$f":"IF(ISNA(VLOOKUP($A12,'Res Pup'!$L$10:$Q$109,2,FALSE)),1000,VLOOKUP($A12,'Res Pup'!$L$10:$Q$109,2,FALSE))","v":14},{"$f":"IF(ISNA(VLOOKUP($A12,'Res Pup'!$P$10:$Q$109,2,FALSE)),1000,VLOOKUP($A12,'Res Pup'!$P$10:$Q$109,2,FALSE))","v":1000},{"$f":"IF(ISNA(VLOOKUP($A12,'Res Pup'!$L$112:$Q$211,2,FALSE)),1000,VLOOKUP($A12,'Res Pup'!$L$112:$Q$211,2,FALSE))","v":1000},{"$f":"IF(ISNA(VLOOKUP($A12,'Res Pup'!$P$112:$Q$211,2,FALSE)),1000,VLOOKUP($A12,'Res Pup'!$P$112:$Q$211,2,FALSE))","v":11},{"$f":"IF(ISNA(VLOOKUP($A12,'Res Ben'!$L$10:$Q$109,2,FALSE)),1000,VLOOKUP($A12,'Res Ben'!$L$10:$Q$109,2,FALSE))","v":11},{"$f":"IF(ISNA(VLOOKUP($A12,'Res Ben'!$P$10:$Q$109,2,FALSE)),1000,VLOOKUP($A12,'Res Ben'!$P$10:$Q$109,2,FALSE))","v":23},{"$f":"IF(ISNA(VLOOKUP($A12,'Res Ben'!$L$112:$Q$211,2,FALSE)),1000,VLOOKUP($A12,'Res Ben'!$L$112:$Q$211,2,FALSE))","v":1000},{"$f":"IF(ISNA(VLOOKUP($A12,'Res Ben'!$P$112:$Q$211,2,FALSE)),1000,VLOOKUP($A12,'Res Ben'!$P$112:$Q$211,2,FALSE))","v":1000},{"$f":"IF(ISNA(VLOOKUP($A12,'Res Min'!$L$10:$Q$109,2,FALSE)),1000,VLOOKUP($A12,'Res Min'!$L$10:$Q$109,2,FALSE))","v":1000},{"$f":"IF(ISNA(VLOOKUP($A12,'Res Min'!$P$10:$Q$109,2,FALSE)),1000,VLOOKUP($A12,'Res Min'!$P$10:$Q$109,2,FALSE))","v":1000},{"$f":"IF(ISNA(VLOOKUP($A12,'Res Min'!$L$112:$Q$211,2,FALSE)),1000,VLOOKUP($A12,'Res Min'!$L$112:$Q$211,2,FALSE))","v":1000},{"$f":"IF(ISNA(VLOOKUP($A12,'Res Min'!$P$112:$Q$211,2,FALSE)),1000,VLOOKUP($A12,'Res Min'!$P$112:$Q$211,2,FALSE))","v":1000},{"$f":"B12","v":1000},{"$f":"SMALL(C12:F12,1)","v":2},{"$f":"SMALL(C12:F12,2)","v":12},{"$f":"SMALL(G12:J12,1)","v":11},{"$f":"SMALL(G12:J12,2)","v":14},{"$f":"SMALL(K12:N12,1)","v":11},{"$f":"SMALL(K12:N12,2)","v":23},{"$f":"SMALL(O12:R12,1)","v":1000},{"$f":"SMALL(O12:R12,2)","v":1000},{"$f":"(SMALL((S12,$T12,$V12,$X12,$Z12),1))","v":2},{"$f":"(SMALL((S12,$T12,$V12,$X12,$Z12),2))","v":11},{"$f":"(SMALL(($S12,$T12,$V12,$X12,$Z12),3))","v":11},{"$f":"IF(AG12<AI12,AG12,AI12)","v":12},{"$f":"IF(AG12<AI12,SMALL(AI12:AJ12,1),SMALL(AG12:AH12,1))","v":14},{"$f":"(SMALL(($S12,$T12,$V12,$X12,$Z12),4))","v":1000},{"$f":"(SMALL(($U12,$W12,$Y12,$AA12),2))","v":14},{"$f":"(SMALL(($U12,$W12,$Y12,$AA12),1))","v":12},{"$f":"(SMALL(($S12,$T12,$V12,$X12,$Z12),5))","v":1000},{"$f":"(SMALL(($AB12,$AC12,$AD12,$AE12),1))","v":2},{"$f":"(SMALL(($AB12,$AC12,$AD12,$AE12),2))","v":11},{"$f":"(SMALL(($AB12,$AC12,$AD12,$AE12),3))","v":11},50,{"$f":"IF(AN12<2000,8,\"\")","v":8},2,11,11,12,14,23]
["CSM EPINAY SUR SEINE",{"$f":"IF($A13=\"\",1000,(IF(ISNA(VLOOKUP($A13,'Res Pre'!$L$10:$Q$109,2,FALSE)),1000,VLOOKUP($A13,'Res Pre'!$L$10:$Q$109,2,FALSE))))","v":7},{"$f":"IF(ISNA(VLOOKUP($A13,'Res Pou'!$L$10:$Q$109,2,FALSE)),1000,VLOOKUP($A13,'Res Pou'!$L$10:$Q$109,2,FALSE))","v":2},{"$f":"IF(ISNA(VLOOKUP($A13,'Res Pou'!$P$10:$Q$109,2,FALSE)),1000,VLOOKUP($A13,'Res Pou'!$P$10:$Q$109,2,FALSE))","v":1000},{"$f":"IF(ISNA(VLOOKUP($A13,'Res Pou'!$L$112:$Q$211,2,FALSE)),1000,VLOOKUP($A13,'Res Pou'!$L$112:$Q$211,2,FALSE))","v":1000},{"$f":"IF(ISNA(VLOOKUP($A13,'Res Pou'!$P$112:$Q$211,2,FALSE)),1000,VLOOKUP($A13,'Res Pou'!$P$112:$Q$211,2,FALSE))","v":1000},{"$f":"IF(ISNA(VLOOKUP($A13,'Res Pup'!$L$10:$Q$109,2,FALSE)),1000,VLOOKUP($A13,'Res Pup'!$L$10:$Q$109,2,FALSE))","v":6},{"$f":"IF(ISNA(VLOOKUP($A13,'Res Pup'!$P$10:$Q$109,2,FALSE)),1000,VLOOKUP($A13,'Res Pup'!$P$10:$Q$109,2,FALSE))","v":7},{"$f":"IF(ISNA(VLOOKUP($A13,'Res Pup'!$L$112:$Q$211,2,FALSE)),1000,VLOOKUP($A13,'Res Pup'!$L$112:$Q$211,2,FALSE))","v":1000},{"$f":"IF(ISNA(VLOOKUP($A13,'Res Pup'!$P$112:$Q$211,2,FALSE)),1000,VLOOKUP($A13,'Res Pup'!$P$112:$Q$211,2,FALSE))","v":24},{"$f":"IF(ISNA(VLOOKUP($A13,'Res Ben'!$L$10:$Q$109,2,FALSE)),1000,VLOOKUP($A13,'Res Ben'!$L$10:$Q$109,2,FALSE))","v":14},{"$f":"IF(ISNA(VLOOKUP($A13,'Res Ben'!$P$10:$Q$109,2,FALSE)),1000,VLOOKUP($A13,'Res Ben'!$P$10:$Q$109,2,FALSE))","v":18},{"$f":"IF(ISNA(VLOOKUP($A13,'Res Ben'!$L$112:$Q$211,2,FALSE)),1000,VLOOKUP($A13,'Res Ben'!$L$112:$Q$211,2,FALSE))","v":1000},{"$f":"IF(ISNA(VLOOKUP($A13,'Res Ben'!$P$112:$Q$211,2,FALSE)),1000,VLOOKUP($A13,'Res Ben'!$P$112:$Q$211,2,FALSE))","v":1000},{"$f":"IF(ISNA(VLOOKUP($A13,'Res Min'!$L$10:$Q$109,2,FALSE)),1000,VLOOKUP($A13,'Res Min'!$L$10:$Q$109,2,FALSE))","v":1000},{"$f":"IF(ISNA(VLOOKUP($A13,'Res Min'!$P$10:$Q$109,2,FALSE)),1000,VLOOKUP($A13,'Res Min'!$P$10:$Q$109,2,FALSE))","v":1000},{"$f":"IF(ISNA(VLOOKUP($A13,'Res Min'!$L$112:$Q$211,2,FALSE)),1000,VLOOKUP($A13,'Res Min'!$L$112:$Q$211,2,FALSE))","v":1000},{"$f":"IF(ISNA(VLOOKUP($A13,'Res Min'!$P$112:$Q$211,2,FALSE)),1000,VLOOKUP($A13,'Res Min'!$P$112:$Q$211,2,FALSE))","v":1000},{"$f":"B13","v":7},{"$f":"SMALL(C13:F13,1)","v":2},{"$f":"SMALL(C13:F13,2)","v":1000},{"$f":"SMALL(G13:J13,1)","v":6},{"$f":"SMALL(G13:J13,2)","v":7},{"$f":"SMALL(K13:N13,1)","v":14},{"$f":"SMALL(K13:N13,2)","v":18},{"$f":"SMALL(O13:R13,1)","v":1000},{"$f":"SMALL(O13:R13,2)","v":1000},{"$f":"(SMALL((S13,$T13,$V13,$X13,$Z13),1))","v":2},{"$f":"(SMALL((S13,$T13,$V13,$X13,$Z13),2))","v":6},{"$f":"(SMALL(($S13,$T13,$V13,$X13,$Z13),3))","v":7},{"$f":"IF(AG13<AI13,AG13,AI13)","v":7},{"$f":"IF(AG13<AI13,SMALL(AI13:AJ13,1),SMALL(AG13:AH13,1))","v":14},{"$f":"(SMALL(($S13,$T13,$V13,$X13,$Z13),4))","v":14},{"$f":"(SMALL(($U13,$W13,$Y13,$AA13),2))","v":18},{"$f":"(SMALL(($U13,$W13,$Y13,$AA13),1))","v":7},{"$f":"(SMALL(($S13,$T13,$V13,$X13,$Z13),5))","v":1000},{"$f":"(SMALL(($AB13,$AC13,$AD13,$AE13),1))","v":2},{"$f":"(SMALL(($AB13,$AC13,$AD13,$AE13),2))","v":6},{"$f":"(SMALL(($AB13,$AC13,$AD13,$AE13),3))","v":7},36,{"$f":"IF(AN13<2000,9,\"\")","v":9},2,6,7,7,14,18]
["VC MERUVIEN",{"$f":"IF($A14=\"\",1000,(IF(ISNA(VLOOKUP($A14,'Res Pre'!$L$10:$Q$109,2,FALSE)),1000,VLOOKUP($A14,'Res Pre'!$L$10:$Q$109,2,FALSE))))","v":1000},{"$f":"IF(ISNA(VLOOKUP($A14,'Res Pou'!$L$10:$Q$109,2,FALSE)),1000,VLOOKUP($A14,'Res Pou'!$L$10:$Q$109,2,FALSE))","v":1000},{"$f":"IF(ISNA(VLOOKUP($A14,'Res Pou'!$P$10:$Q$109,2,FALSE)),1000,VLOOKUP($A14,'Res Pou'!$P$10:$Q$109,2,FALSE))","v":1000},{"$f":"IF(ISNA(VLOOKUP($A14,'Res Pou'!$L$112:$Q$211,2,FALSE)),1000,VLOOKUP($A14,'Res Pou'!$L$112:$Q$211,2,FALSE))","v":17},{"$f":"IF(ISNA(VLOOKUP($A14,'Res Pou'!$P$112:$Q$211,2,FALSE)),1000,VLOOKUP($A14,'Res Pou'!$P$112:$Q$211,2,FALSE))","v":1000},{"$f":"IF(ISNA(VLOOKUP($A14,'Res Pup'!$L$10:$Q$109,2,FALSE)),1000,VLOOKUP($A14,'Res Pup'!$L$10:$Q$109,2,FALSE))","v":1000},{"$f":"IF(ISNA(VLOOKUP($A14,'Res Pup'!$P$10:$Q$109,2,FALSE)),1000,VLOOKUP($A14,'Res Pup'!$P$10:$Q$109,2,FALSE))","v":1000},{"$f":"IF(ISNA(VLOOKUP($A14,'Res Pup'!$L$112:$Q$211,2,FALSE)),1000,VLOOKUP($A14,'Res Pup'!$L$112:$Q$211,2,FALSE))","v":1000},{"$f":"IF(ISNA(VLOOKUP($A14,'Res Pup'!$P$112:$Q$211,2,FALSE)),1000,VLOOKUP($A14,'Res Pup'!$P$112:$Q$211,2,FALSE))","v":1000},{"$f":"IF(ISNA(VLOOKUP($A14,'Res Ben'!$L$10:$Q$109,2,FALSE)),1000,VLOOKUP($A14,'Res Ben'!$L$10:$Q$109,2,FALSE))","v":3},{"$f":"IF(ISNA(VLOOKUP($A14,'Res Ben'!$P$10:$Q$109,2,FALSE)),1000,VLOOKUP($A14,'Res Ben'!$P$10:$Q$109,2,FALSE))","v":4},{"$f":"IF(ISNA(VLOOKUP($A14,'Res Ben'!$L$112:$Q$211,2,FALSE)),1000,VLOOKUP($A14,'Res Ben'!$L$112:$Q$211,2,FALSE))","v":1000},{"$f":"IF(ISNA(VLOOKUP($A14,'Res Ben'!$P$112:$Q$211,2,FALSE)),1000,VLOOKUP($A14,'Res Ben'!$P$112:$Q$211,2,FALSE))","v":1000},{"$f":"IF(ISNA(VLOOKUP($A14,'Res Min'!$L$10:$Q$109,2,FALSE)),1000,VLOOKUP($A14,'Res Min'!$L$10:$Q$109,2,FALSE))","v":1000},{"$f":"IF(ISNA(VLOOKUP($A14,'Res Min'!$P$10:$Q$109,2,FALSE)),1000,VLOOKUP($A14,'Res Min'!$P$10:$Q$109,2,FALSE))","v":1000},{"$f":"IF(ISNA(VLOOKUP($A14,'Res Min'!$L$112:$Q$211,2,FALSE)),1000,VLOOKUP($A14,'Res Min'!$L$112:$Q$211,2,FALSE))","v":1000},{"$f":"IF(ISNA(VLOOKUP($A14,'Res Min'!$P$112:$Q$211,2,FALSE)),1000,VLOOKUP($A14,'Res Min'!$P$112:$Q$211,2,FALSE))","v":1000},{"$f":"B14","v":1000},{"$f":"SMALL(C14:F14,1)","v":17},{"$f":"SMALL(C14:F14,2)","v":1000},{"$f":"SMALL(G14:J14,1)","v":1000},{"$f":"SMALL(G14:J14,2)","v":1000},{"$f":"SMALL(K14:N14,1)","v":3},{"$f":"SMALL(K14:N14,2)","v":4},{"$f":"SMALL(O14:R14,1)","v":1000},{"$f":"SMALL(O14:R14,2)","v":1000},{"$f":"(SMALL((S14,$T14,$V14,$X14,$Z14),1))","v":3},{"$f":"(SMALL((S14,$T14,$V14,$X14,$Z14),2))","v":17},{"$f":"(SMALL(($S14,$T14,$V14,$X14,$Z14),3))","v":1000},{"$f":"IF(AG14<AI14,AG14,AI14)","v":4},{"$f":"IF(AG14<AI14,SMALL(AI14:AJ14,1),SMALL(AG14:AH14,1))","v":1000},{"$f":"(SMALL(($S14,$T14,$V14,$X14,$Z14),4))","v":1000},{"$f":"(SMALL(($U14,$W14,$Y14,$AA14),2))","v":1000},{"$f":"(SMALL(($U14,$W14,$Y14,$AA14),1))","v":4},{"$f":"(SMALL(($S14,$T14,$V14,$X14,$Z14),5))","v":1000},{"$f":"(SMALL(($AB14,$AC14,$AD14,$AE14),1))","v":3},{"$f":"(SMALL(($AB14,$AC14,$AD14,$AE14),2))","v":4},{"$f":"(SMALL(($AB14,$AC14,$AD14,$AE14),3))","v":17},"",{"$f":"IF(AN14<2000,10,\"\")","v":""},3,17,1000,4,1000,1000]
["TEAM 94 VILLENEUVOISE",{"$f":"IF($A15=\"\",1000,(IF(ISNA(VLOOKUP($A15,'Res Pre'!$L$10:$Q$109,2,FALSE)),1000,VLOOKUP($A15,'Res Pre'!$L$10:$Q$109,2,FALSE))))","v":3},{"$f":"IF(ISNA(VLOOKUP($A15,'Res Pou'!$L$10:$Q$109,2,FALSE)),1000,VLOOKUP($A15,'Res Pou'!$L$10:$Q$109,2,FALSE))","v":1000},{"$f":"IF(ISNA(VLOOKUP($A15,'Res Pou'!$P$10:$Q$109,2,FALSE)),1000,VLOOKUP($A15,'Res Pou'!$P$10:$Q$109,2,FALSE))","v":1000},{"$f":"IF(ISNA(VLOOKUP($A15,'Res Pou'!$L$112:$Q$211,2,FALSE)),1000,VLOOKUP($A15,'Res Pou'!$L$112:$Q$211,2,FALSE))","v":1000},{"$f":"IF(ISNA(VLOOKUP($A15,'Res Pou'!$P$112:$Q$211,2,FALSE)),1000,VLOOKUP($A15,'Res Pou'!$P$112:$Q$211,2,FALSE))","v":1000},{"$f":"IF(ISNA(VLOOKUP($A15,'Res Pup'!$L$10:$Q$109,2,FALSE)),1000,VLOOKUP($A15,'Res Pup'!$L$10:$Q$109,2,FALSE))","v":1000},{"$f":"IF(ISNA(VLOOKUP($A15,'Res Pup'!$P$10:$Q$109,2,FALSE)),1000,VLOOKUP($A15,'Res Pup'!$P$10:$Q$109,2,FALSE))","v":1000},{"$f":"IF(ISNA(VLOOKUP($A15,'Res Pup'!$L$112:$Q$211,2,FALSE)),1000,VLOOKUP($A15,'Res Pup'!$L$112:$Q$211,2,FALSE))","v":14},{"$f":"IF(ISNA(VLOOKUP($A15,'Res Pup'!$P$112:$Q$211,2,FALSE)),1000,VLOOKUP($A15,'Res Pup'!$P$112:$Q$211,2,FALSE))","v":1000},{"$f":"IF(ISNA(VLOOKUP($A15,'Res Ben'!$L$10:$Q$109,2,FALSE)),1000,VLOOKUP($A15,'Res Ben'!$L$10:$Q$109,2,FALSE))","v":5},{"$f":"IF(ISNA(VLOOKUP($A15,'Res Ben'!$P$10:$Q$109,2,FALSE)),1000,VLOOKUP($A15,'Res Ben'!$P$10:$Q$109,2,FALSE))","v":22},{"$f":"IF(ISNA(VLOOKUP($A15,'Res Ben'!$L$112:$Q$211,2,FALSE)),1000,VLOOKUP($A15,'Res Ben'!$L$112:$Q$211,2,FALSE))","v":1000},{"$f":"IF(ISNA(VLOOKUP($A15,'Res Ben'!$P$112:$Q$211,2,FALSE)),1000,VLOOKUP($A15,'Res Ben'!$P$112:$Q$211,2,FALSE))","v":1000},{"$f":"IF(ISNA(VLOOKUP($A15,'Res Min'!$L$10:$Q$109,2,FALSE)),1000,VLOOKUP($A15,'Res Min'!$L$10:$Q$109,2,FALSE))","v":1000},{"$f":"IF(ISNA(VLOOKUP($A15,'Res Min'!$P$10:$Q$109,2,FALSE)),1000,VLOOKUP($A15,'Res Min'!$P$10:$Q$109,2,FALSE))","v":1000},{"$f":"IF(ISNA(VLOOKUP($A15,'Res Min'!$L$112:$Q$211,2,FALSE)),1000,VLOOKUP($A15,'Res Min'!$L$112:$Q$211,2,FALSE))","v":1000},{"$f":"IF(ISNA(VLOOKUP($A15,'Res Min'!$P$112:$Q$211,2,FALSE)),1000,VLOOKUP($A15,'Res Min'!$P$112:$Q$211,2,FALSE))","v":1000},{"$f":"B15","v":3},{"$f":"SMALL(C15:F15,1)","v":1000},{"$f":"SMALL(C15:F15,2)","v":1000},{"$f":"SMALL(G15:J15,1)","v":14},{"$f":"SMALL(G15:J15,2)","v":1000},{"$f":"SMALL(K15:N15,1)","v":5},{"$f":"SMALL(K15:N15,2)","v":22},{"$f":"SMALL(O15:R15,1)","v":1000},{"$f":"SMALL(O15:R15,2)","v":1000},{"$f":"(SMALL((S15,$T15,$V15,$X15,$Z15),1))","v":3},{"$f":"(SMALL((S15,$T15,$V15,$X15,$Z15),2))","v":5},{"$f":"(SMALL(($S15,$T15,$V15,$X15,$Z15),3))","v":14},{"$f":"IF(AG15<AI15,AG15,AI15)","v":22},{"$f":"IF(AG15<AI15,SMALL(AI15:AJ15,1),SMALL(AG15:AH15,1))","v":1000},{"$f":"(SMALL(($S15,$T15,$V15,$X15,$Z15),4))","v":1000},{"$f":"(SMALL(($U15,$W15,$Y15,$AA15),2))","v":1000},{"$f":"(SMALL(($U15,$W15,$Y15,$AA15),1))","v":22},{"$f":"(SMALL(($S15,$T15,$V15,$X15,$Z15),5))","v":1000},{"$f":"(SMALL(($AB15,$AC15,$AD15,$AE15),1))","v":3},{"$f":"(SMALL(($AB15,$AC15,$AD15,$AE15),2))","v":5},{"$f":"(SMALL(($AB15,$AC15,$AD15,$AE15),3))","v":14},"",{"$f":"IF(AN15<2000,11,\"\")","v":""},3,5,14,22,1000,1000]
["ARGENTEUIL VAL DE SEINE 95",{"$f":"IF($A16=\"\",1000,(IF(ISNA(VLOOKUP($A16,'Res Pre'!$L$10:$Q$109,2,FALSE)),1000,VLOOKUP($A16,'Res Pre'!$L$10:$Q$109,2,FALSE))))","v":1000},{"$f":"IF(ISNA(VLOOKUP($A16,'Res Pou'!$L$10:$Q$109,2,FALSE)),1000,VLOOKUP($A16,'Res Pou'!$L$10:$Q$109,2,FALSE))","v":13},{"$f":"IF(ISNA(VLOOKUP($A16,'Res Pou'!$P$10:$Q$109,2,FALSE)),1000,VLOOKUP($A16,'Res Pou'!$P$10:$Q$109,2,FALSE))","v":1000},{"$f":"IF(ISNA(VLOOKUP($A16,'Res Pou'!$L$112:$Q$211,2,FALSE)),1000,VLOOKUP($A16,'Res Pou'!$L$112:$Q$211,2,FALSE))","v":1000},{"$f":"IF(ISNA(VLOOKUP($A16,'Res Pou'!$P$112:$Q$211,2,FALSE)),1000,VLOOKUP($A16,'Res Pou'!$P$112:$Q$211,2,FALSE))","v":10},{"$f":"IF(ISNA(VLOOKUP($A16,'Res Pup'!$L$10:$Q$109,2,FALSE)),1000,VLOOKUP($A16,'Res Pup'!$L$10:$Q$109,2,FALSE))","v":4},{"$f":"IF(ISNA(VLOOKUP($A16,'Res Pup'!$P$10:$Q$109,2,FALSE)),1000,VLOOKUP($A16,'Res Pup'!$P$10:$Q$109,2,FALSE))","v":1000},{"$f":"IF(ISNA(VLOOKUP($A16,'Res Pup'!$L$112:$Q$211,2,FALSE)),1000,VLOOKUP($A16,'Res Pup'!$L$112:$Q$211,2,FALSE))","v":1000},{"$f":"IF(ISNA(VLOOKUP($A16,'Res Pup'!$P$112:$Q$211,2,FALSE)),1000,VLOOKUP($A16,'Res Pup'!$P$112:$Q$211,2,FALSE))","v":7},{"$f":"IF(ISNA(VLOOKUP($A16,'Res Ben'!$L$10:$Q$109,2,FALSE)),1000,VLOOKUP($A16,'Res Ben'!$L$10:$Q$109,2,FALSE))","v":13},{"$f":"IF(ISNA(VLOOKUP($A16,'Res Ben'!$P$10:$Q$109,2,FALSE)),1000,VLOOKUP($A16,'Res Ben'!$P$10:$Q$109,2,FALSE))","v":1000},{"$f":"IF(ISNA(VLOOKUP($A16,'Res Ben'!$L$112:$Q$211,2,FALSE)),1000,VLOOKUP($A16,'Res Ben'!$L$112:$Q$211,2,FALSE))","v":1000},{"$f":"IF(ISNA(VLOOKUP($A16,'Res Ben'!$P$112:$Q$211,2,FALSE)),1000,VLOOKUP($A16,'Res Ben'!$P$112:$Q$211,2,FALSE))","v":4},{"$f":"IF(ISNA(VLOOKUP($A16,'Res Min'!$L$10:$Q$109,2,FALSE)),1000,VLOOKUP($A16,'Res Min'!$L$10:$Q$109,2,FALSE))","v":1000},{"$f":"IF(ISNA(VLOOKUP($A16,'Res Min'!$P$10:$Q$109,2,FALSE)),1000,VLOOKUP($A16,'Res Min'!$P$10:$Q$109,2,FALSE))","v":1000},{"$f":"IF(ISNA(VLOOKUP($A16,'Res Min'!$L$112:$Q$211,2,FALSE)),1000,VLOOKUP($A16,'Res Min'!$L$112:$Q$211,2,FALSE))","v":1000},{"$f":"IF(ISNA(VLOOKUP($A16,'Res Min'!$P$112:$Q$211,2,FALSE)),1000,VLOOKUP($A16,'Res Min'!$P$112:$Q$211,2,FALSE))","v":1000},{"$f":"B16","v":1000},{"$f":"SMALL(C16:F16,1)","v":10},{"$f":"SMALL(C16:F16,2)","v":13},{"$f":"SMALL(G16:J16,1)","v":4},{"$f":"SMALL(G16:J16,2)","v":7},{"$f":"SMALL(K16:N16,1)","v":4},{"$f":"SMALL(K16:N16,2)","v":13},{"$f":"SMALL(O16:R16,1)","v":1000},{"$f":"SMALL(O16:R16,2)","v":1000},{"$f":"(SMALL((S16,$T16,$V16,$X16,$Z16),1))","v":4},{"$f":"(SMALL((S16,$T16,$V16,$X16,$Z16),2))","v":4},{"$f":"(SMALL(($S16,$T16,$V16,$X16,$Z16),3))","v":10},{"$f":"IF(AG16<AI16,AG16,AI16)","v":7},{"$f":"IF(AG16<AI16,SMALL(AI16:AJ16,1),SMALL(AG16:AH16,1))","v":13},{"$f":"(SMALL(($S16,$T16,$V16,$X16,$Z16),4))","v":1000},{"$f":"(SMALL(($U16,$W16,$Y16,$AA16),2))","v":13},{"$f":"(SMALL(($U16,$W16,$Y16,$AA16),1))","v":7},{"$f":"(SMALL(($S16,$T16,$V16,$X16,$Z16),5))","v":1000},{"$f":"(SMALL(($AB16,$AC16,$AD16,$AE16),1))","v":4},{"$f":"(SMALL(($AB16,$AC16,$AD16,$AE16),2))","v":4},{"$f":"(SMALL(($AB16,$AC16,$AD16,$AE16),3))","v":7},38,{"$f":"IF(AN16<2000,12,\"\")","v":12},4,4,10,7,13,13]
["US CRETEIL",{"$f":"IF($A17=\"\",1000,(IF(ISNA(VLOOKUP($A17,'Res Pre'!$L$10:$Q$109,2,FALSE)),1000,VLOOKUP($A17,'Res Pre'!$L$10:$Q$109,2,FALSE))))","v":1000},{"$f":"IF(ISNA(VLOOKUP($A17,'Res Pou'!$L$10:$Q$109,2,FALSE)),1000,VLOOKUP($A17,'Res Pou'!$L$10:$Q$109,2,FALSE))","v":1000},{"$f":"IF(ISNA(VLOOKUP($A17,'Res Pou'!$P$10:$Q$109,2,FALSE)),1000,VLOOKUP($A17,'Res Pou'!$P$10:$Q$109,2,FALSE))","v":1000},{"$f":"IF(ISNA(VLOOKUP($A17,'Res Pou'!$L$112:$Q$211,2,FALSE)),1000,VLOOKUP($A17,'Res Pou'!$L$112:$Q$211,2,FALSE))","v":1000},{"$f":"IF(ISNA(VLOOKUP($A17,'Res Pou'!$P$112:$Q$211,2,FALSE)),1000,VLOOKUP($A17,'Res Pou'!$P$112:$Q$211,2,FALSE))","v":1000},{"$f":"IF(ISNA(VLOOKUP($A17,'Res Pup'!$L$10:$Q$109,2,FALSE)),1000,VLOOKUP($A17,'Res Pup'!$L$10:$Q$109,2,FALSE))","v":1000},{"$f":"IF(ISNA(VLOOKUP($A17,'Res Pup'!$P$10:$Q$109,2,FALSE)),1000,VLOOKUP($A17,'Res Pup'!$P$10:$Q$109,2,FALSE))","v":1000},{"$f":"IF(ISNA(VLOOKUP($A17,'Res Pup'!$L$112:$Q$211,2,FALSE)),1000,VLOOKUP($A17,'Res Pup'!$L$112:$Q$211,2,FALSE))","v":1000},{"$f":"IF(ISNA(VLOOKUP($A17,'Res Pup'!$P$112:$Q$211,2,FALSE)),1000,VLOOKUP($A17,'Res Pup'!$P$112:$Q$211,2,FALSE))","v":1000},{"$f":"IF(ISNA(VLOOKUP($A17,'Res Ben'!$L$10:$Q$109,2,FALSE)),1000,VLOOKUP($A17,'Res Ben'!$L$10:$Q$109,2,FALSE))","v":8},{"$f":"IF(ISNA(VLOOKUP($A17,'Res Ben'!$P$10:$Q$109,2,FALSE)),1000,VLOOKUP($A17,'Res Ben'!$P$10:$Q$109,2,FALSE))","v":1000},{"$f":"IF(ISNA(VLOOKUP($A17,'Res Ben'!$L$112:$Q$211,2,FALSE)),1000,VLOOKUP($A17,'Res Ben'!$L$112:$Q$211,2,FALSE))","v":1000},{"$f":"IF(ISNA(VLOOKUP($A17,'Res Ben'!$P$112:$Q$211,2,FALSE)),1000,VLOOKUP($A17,'Res Ben'!$P$112:$Q$211,2,FALSE))","v":1000},{"$f":"IF(ISNA(VLOOKUP($A17,'Res Min'!$L$10:$Q$109,2,FALSE)),1000,VLOOKUP($A17,'Res Min'!$L$10:$Q$109,2,FALSE))","v":1000},{"$f":"IF(ISNA(VLOOKUP($A17,'Res Min'!$P$10:$Q$109,2,FALSE)),1000,VLOOKUP($A17,'Res Min'!$P$10:$Q$109,2,FALSE))","v":1000},{"$f":"IF(ISNA(VLOOKUP($A17,'Res Min'!$L$112:$Q$211,2,FALSE)),1000,VLOOKUP($A17,'Res Min'!$L$112:$Q$211,2,FALSE))","v":1000},{"$f":"IF(ISNA(VLOOKUP($A17,'Res Min'!$P$112:$Q$211,2,FALSE)),1000,VLOOKUP($A17,'Res Min'!$P$112:$Q$211,2,FALSE))","v":1000},{"$f":"B17","v":1000},{"$f":"SMALL(C17:F17,1)","v":1000},{"$f":"SMALL(C17:F17,2)","v":1000},{"$f":"SMALL(G17:J17,1)","v":1000},{"$f":"SMALL(G17:J17,2)","v":1000},{"$f":"SMALL(K17:N17,1)","v":8},{"$f":"SMALL(K17:N17,2)","v":1000},{"$f":"SMALL(O17:R17,1)","v":1000},{"$f":"SMALL(O17:R17,2)","v":1000},{"$f":"(SMALL((S17,$T17,$V17,$X17,$Z17),1))","v":8},{"$f":"(SMALL((S17,$T17,$V17,$X17,$Z17),2))","v":1000},{"$f":"(SMALL(($S17,$T17,$V17,$X17,$Z17),3))","v":1000},{"$f":"IF(AG17<AI17,AG17,AI17)","v":1000},{"$f":"IF(AG17<AI17,SMALL(AI17:AJ17,1),SMALL(AG17:AH17,1))","v":1000},{"$f":"(SMALL(($S17,$T17,$V17,$X17,$Z17),4))","v":1000},{"$f":"(SMALL(($U17,$W17,$Y17,$AA17),2))","v":1000},{"$f":"(SMALL(($U17,$W17,$Y17,$AA17),1))","v":1000},{"$f":"(SMALL(($S17,$T17,$V17,$X17,$Z17),5))","v":1000},{"$f":"(SMALL(($AB17,$AC17,$AD17,$AE17),1))","v":8},{"$f":"(SMALL(($AB17,$AC17,$AD17,$AE17),2))","v":1000},{"$f":"(SMALL(($AB17,$AC17,$AD17,$AE17),3))","v":1000},"",{"$f":"IF(AN17<2000,13,\"\")","v":""},8,1000,1000,1000,1000,1000]
["CSM VILLENEUVE GARENNE",{"$f":"IF($A18=\"\",1000,(IF(ISNA(VLOOKUP($A18,'Res Pre'!$L$10:$Q$109,2,FALSE)),1000,VLOOKUP($A18,'Res Pre'!$L$10:$Q$109,2,FALSE))))","v":1000},{"$f":"IF(ISNA(VLOOKUP($A18,'Res Pou'!$L$10:$Q$109,2,FALSE)),1000,VLOOKUP($A18,'Res Pou'!$L$10:$Q$109,2,FALSE))","v":1000},{"$f":"IF(ISNA(VLOOKUP($A18,'Res Pou'!$P$10:$Q$109,2,FALSE)),1000,VLOOKUP($A18,'Res Pou'!$P$10:$Q$109,2,FALSE))","v":1000},{"$f":"IF(ISNA(VLOOKUP($A18,'Res Pou'!$L$112:$Q$211,2,FALSE)),1000,VLOOKUP($A18,'Res Pou'!$L$112:$Q$211,2,FALSE))","v":14},{"$f":"IF(ISNA(VLOOKUP($A18,'Res Pou'!$P$112:$Q$211,2,FALSE)),1000,VLOOKUP($A18,'Res Pou'!$P$112:$Q$211,2,FALSE))","v":1000},{"$f":"IF(ISNA(VLOOKUP($A18,'Res Pup'!$L$10:$Q$109,2,FALSE)),1000,VLOOKUP($A18,'Res Pup'!$L$10:$Q$109,2,FALSE))","v":1000},{"$f":"IF(ISNA(VLOOKUP($A18,'Res Pup'!$P$10:$Q$109,2,FALSE)),1000,VLOOKUP($A18,'Res Pup'!$P$10:$Q$109,2,FALSE))","v":1000},{"$f":"IF(ISNA(VLOOKUP($A18,'Res Pup'!$L$112:$Q$211,2,FALSE)),1000,VLOOKUP($A18,'Res Pup'!$L$112:$Q$211,2,FALSE))","v":15},{"$f":"IF(ISNA(VLOOKUP($A18,'Res Pup'!$P$112:$Q$211,2,FALSE)),1000,VLOOKUP($A18,'Res Pup'!$P$112:$Q$211,2,FALSE))","v":16},{"$f":"IF(ISNA(VLOOKUP($A18,'Res Ben'!$L$10:$Q$109,2,FALSE)),1000,VLOOKUP($A18,'Res Ben'!$L$10:$Q$109,2,FALSE))","v":16},{"$f":"IF(ISNA(VLOOKUP($A18,'Res Ben'!$P$10:$Q$109,2,FALSE)),1000,VLOOKUP($A18,'Res Ben'!$P$10:$Q$109,2,FALSE))","v":1000},{"$f":"IF(ISNA(VLOOKUP($A18,'Res Ben'!$L$112:$Q$211,2,FALSE)),1000,VLOOKUP($A18,'Res Ben'!$L$112:$Q$211,2,FALSE))","v":1000},{"$f":"IF(ISNA(VLOOKUP($A18,'Res Ben'!$P$112:$Q$211,2,FALSE)),1000,VLOOKUP($A18,'Res Ben'!$P$112:$Q$211,2,FALSE))","v":1000},{"$f":"IF(ISNA(VLOOKUP($A18,'Res Min'!$L$10:$Q$109,2,FALSE)),1000,VLOOKUP($A18,'Res Min'!$L$10:$Q$109,2,FALSE))","v":1000},{"$f":"IF(ISNA(VLOOKUP($A18,'Res Min'!$P$10:$Q$109,2,FALSE)),1000,VLOOKUP($A18,'Res Min'!$P$10:$Q$109,2,FALSE))","v":1000},{"$f":"IF(ISNA(VLOOKUP($A18,'Res Min'!$L$112:$Q$211,2,FALSE)),1000,VLOOKUP($A18,'Res Min'!$L$112:$Q$211,2,FALSE))","v":1000},{"$f":"IF(ISNA(VLOOKUP($A18,'Res Min'!$P$112:$Q$211,2,FALSE)),1000,VLOOKUP($A18,'Res Min'!$P$112:$Q$211,2,FALSE))","v":1000},{"$f":"B18","v":1000},{"$f":"SMALL(C18:F18,1)","v":14},{"$f":"SMALL(C18:F18,2)","v":1000},{"$f":"SMALL(G18:J18,1)","v":15},{"$f":"SMALL(G18:J18,2)","v":16},{"$f":"SMALL(K18:N18,1)","v":16},{"$f":"SMALL(K18:N18,2)","v":1000},{"$f":"SMALL(O18:R18,1)","v":1000},{"$f":"SMALL(O18:R18,2)","v":1000},{"$f":"(SMALL((S18,$T18,$V18,$X18,$Z18),1))","v":14},{"$f":"(SMALL((S18,$T18,$V18,$X18,$Z18),2))","v":15},{"$f":"(SMALL(($S18,$T18,$V18,$X18,$Z18),3))","v":16},{"$f":"IF(AG18<AI18,AG18,AI18)","v":16},{"$f":"IF(AG18<AI18,SMALL(AI18:AJ18,1),SMALL(AG18:AH18,1))","v":1000},{"$f":"(SMALL(($S18,$T18,$V18,$X18,$Z18),4))","v":1000},{"$f":"(SMALL(($U18,$W18,$Y18,$AA18),2))","v":1000},{"$f":"(SMALL(($U18,$W18,$Y18,$AA18),1))","v":16},{"$f":"(SMALL(($S18,$T18,$V18,$X18,$Z18),5))","v":1000},{"$f":"(SMALL(($AB18,$AC18,$AD18,$AE18),1))","v":14},{"$f":"(SMALL(($AB18,$AC18,$AD18,$AE18),2))","v":15},{"$f":"(SMALL(($AB18,$AC18,$AD18,$AE18),3))","v":16},"",{"$f":"IF(AN18<2000,14,\"\")","v":""},14,15,16,16,1000,1000]
["USM GAGNY",{"$f":"IF($A19=\"\",1000,(IF(ISNA(VLOOKUP($A19,'Res Pre'!$L$10:$Q$109,2,FALSE)),1000,VLOOKUP($A19,'Res Pre'!$L$10:$Q$109,2,FALSE))))","v":1000},{"$f":"IF(ISNA(VLOOKUP($A19,'Res Pou'!$L$10:$Q$109,2,FALSE)),1000,VLOOKUP($A19,'Res Pou'!$L$10:$Q$109,2,FALSE))","v":1000},{"$f":"IF(ISNA(VLOOKUP($A19,'Res Pou'!$P$10:$Q$109,2,FALSE)),1000,VLOOKUP($A19,'Res Pou'!$P$10:$Q$109,2,FALSE))","v":1000},{"$f":"IF(ISNA(VLOOKUP($A19,'Res Pou'!$L$112:$Q$211,2,FALSE)),1000,VLOOKUP($A19,'Res Pou'!$L$112:$Q$211,2,FALSE))","v":1000},{"$f":"IF(ISNA(VLOOKUP($A19,'Res Pou'!$P$112:$Q$211,2,FALSE)),1000,VLOOKUP($A19,'Res Pou'!$P$112:$Q$211,2,FALSE))","v":1000},{"$f":"IF(ISNA(VLOOKUP($A19,'Res Pup'!$L$10:$Q$109,2,FALSE)),1000,VLOOKUP($A19,'Res Pup'!$L$10:$Q$109,2,FALSE))","v":1000},{"$f":"IF(ISNA(VLOOKUP($A19,'Res Pup'!$P$10:$Q$109,2,FALSE)),1000,VLOOKUP($A19,'Res Pup'!$P$10:$Q$109,2,FALSE))","v":1000},{"$f":"IF(ISNA(VLOOKUP($A19,'Res Pup'!$L$112:$Q$211,2,FALSE)),1000,VLOOKUP($A19,'Res Pup'!$L$112:$Q$211,2,FALSE))","v":1000},{"$f":"IF(ISNA(VLOOKUP($A19,'Res Pup'!$P$112:$Q$211,2,FALSE)),1000,VLOOKUP($A19,'Res Pup'!$P$112:$Q$211,2,FALSE))","v":1000},{"$f":"IF(ISNA(VLOOKUP($A19,'Res Ben'!$L$10:$Q$109,2,FALSE)),1000,VLOOKUP($A19,'Res Ben'!$L$10:$Q$109,2,FALSE))","v":15},{"$f":"IF(ISNA(VLOOKUP($A19,'Res Ben'!$P$10:$Q$109,2,FALSE)),1000,VLOOKUP($A19,'Res Ben'!$P$10:$Q$109,2,FALSE))","v":1000},{"$f":"IF(ISNA(VLOOKUP($A19,'Res Ben'!$L$112:$Q$211,2,FALSE)),1000,VLOOKUP($A19,'Res Ben'!$L$112:$Q$211,2,FALSE))","v":1000},{"$f":"IF(ISNA(VLOOKUP($A19,'Res Ben'!$P$112:$Q$211,2,FALSE)),1000,VLOOKUP($A19,'Res Ben'!$P$112:$Q$211,2,FALSE))","v":22},{"$f":"IF(ISNA(VLOOKUP($A19,'Res Min'!$L$10:$Q$109,2,FALSE)),1000,VLOOKUP($A19,'Res Min'!$L$10:$Q$109,2,FALSE))","v":1000},{"$f":"IF(ISNA(VLOOKUP($A19,'Res Min'!$P$10:$Q$109,2,FALSE)),1000,VLOOKUP($A19,'Res Min'!$P$10:$Q$109,2,FALSE))","v":1000},{"$f":"IF(ISNA(VLOOKUP($A19,'Res Min'!$L$112:$Q$211,2,FALSE)),1000,VLOOKUP($A19,'Res Min'!$L$112:$Q$211,2,FALSE))","v":1000},{"$f":"IF(ISNA(VLOOKUP($A19,'Res Min'!$P$112:$Q$211,2,FALSE)),1000,VLOOKUP($A19,'Res Min'!$P$112:$Q$211,2,FALSE))","v":1000},{"$f":"B19","v":1000},{"$f":"SMALL(C19:F19,1)","v":1000},{"$f":"SMALL(C19:F19,2)","v":1000},{"$f":"SMALL(G19:J19,1)","v":1000},{"$f":"SMALL(G19:J19,2)","v":1000},{"$f":"SMALL(K19:N19,1)","v":15},{"$f":"SMALL(K19:N19,2)","v":22},{"$f":"SMALL(O19:R19,1)","v":1000},{"$f":"SMALL(O19:R19,2)","v":1000},{"$f":"(SMALL((S19,$T19,$V19,$X19,$Z19),1))","v":15},{"$f":"(SMALL((S19,$T19,$V19,$X19,$Z19),2))","v":1000},{"$f":"(SMALL(($S19,$T19,$V19,$X19,$Z19),3))","v":1000},{"$f":"IF(AG19<AI19,AG19,AI19)","v":22},{"$f":"IF(AG19<AI19,SMALL(AI19:AJ19,1),SMALL(AG19:AH19,1))","v":1000},{"$f":"(SMALL(($S19,$T19,$V19,$X19,$Z19),4))","v":1000},{"$f":"(SMALL(($U19,$W19,$Y19,$AA19),2))","v":1000},{"$f":"(SMALL(($U19,$W19,$Y19,$AA19),1))","v":22},{"$f":"(SMALL(($S19,$T19,$V19,$X19,$Z19),5))","v":1000},{"$f":"(SMALL(($AB19,$AC19,$AD19,$AE19),1))","v":15},{"$f":"(SMALL(($AB19,$AC19,$AD19,$AE19),2))","v":22},{"$f":"(SMALL(($AB19,$AC19,$AD19,$AE19),3))","v":1000},"",{"$f":"IF(AN19<2000,15,\"\")","v":""},15,1000,1000,22,1000,1000]
[null,{"$f":"IF($A20=\"\",1000,(IF(ISNA(VLOOKUP($A20,'Res Pre'!$L$10:$Q$109,2,FALSE)),1000,VLOOKUP($A20,'Res Pre'!$L$10:$Q$109,2,FALSE))))","v":1000},{"$f":"IF(ISNA(VLOOKUP($A20,'Res Pou'!$L$10:$Q$109,2,FALSE)),1000,VLOOKUP($A20,'Res Pou'!$L$10:$Q$109,2,FALSE))","v":1000},{"$f":"IF(ISNA(VLOOKUP($A20,'Res Pou'!$P$10:$Q$109,2,FALSE)),1000,VLOOKUP($A20,'Res Pou'!$P$10:$Q$109,2,FALSE))","v":1000},{"$f":"IF(ISNA(VLOOKUP($A20,'Res Pou'!$L$112:$Q$211,2,FALSE)),1000,VLOOKUP($A20,'Res Pou'!$L$112:$Q$211,2,FALSE))","v":1000},{"$f":"IF(ISNA(VLOOKUP($A20,'Res Pou'!$P$112:$Q$211,2,FALSE)),1000,VLOOKUP($A20,'Res Pou'!$P$112:$Q$211,2,FALSE))","v":1000},{"$f":"IF(ISNA(VLOOKUP($A20,'Res Pup'!$L$10:$Q$109,2,FALSE)),1000,VLOOKUP($A20,'Res Pup'!$L$10:$Q$109,2,FALSE))","v":1000},{"$f":"IF(ISNA(VLOOKUP($A20,'Res Pup'!$P$10:$Q$109,2,FALSE)),1000,VLOOKUP($A20,'Res Pup'!$P$10:$Q$109,2,FALSE))","v":1000},{"$f":"IF(ISNA(VLOOKUP($A20,'Res Pup'!$L$112:$Q$211,2,FALSE)),1000,VLOOKUP($A20,'Res Pup'!$L$112:$Q$211,2,FALSE))","v":1000},{"$f":"IF(ISNA(VLOOKUP($A20,'Res Pup'!$P$112:$Q$211,2,FALSE)),1000,VLOOKUP($A20,'Res Pup'!$P$112:$Q$211,2,FALSE))","v":1000},{"$f":"IF(ISNA(VLOOKUP($A20,'Res Ben'!$L$10:$Q$109,2,FALSE)),1000,VLOOKUP($A20,'Res Ben'!$L$10:$Q$109,2,FALSE))","v":1000},{"$f":"IF(ISNA(VLOOKUP($A20,'Res Ben'!$P$10:$Q$109,2,FALSE)),1000,VLOOKUP($A20,'Res Ben'!$P$10:$Q$109,2,FALSE))","v":1000},{"$f":"IF(ISNA(VLOOKUP($A20,'Res Ben'!$L$112:$Q$211,2,FALSE)),1000,VLOOKUP($A20,'Res Ben'!$L$112:$Q$211,2,FALSE))","v":1000},{"$f":"IF(ISNA(VLOOKUP($A20,'Res Ben'!$P$112:$Q$211,2,FALSE)),1000,VLOOKUP($A20,'Res Ben'!$P$112:$Q$211,2,FALSE))","v":1000},{"$f":"IF(ISNA(VLOOKUP($A20,'Res Min'!$L$10:$Q$109,2,FALSE)),1000,VLOOKUP($A20,'Res Min'!$L$10:$Q$109,2,FALSE))","v":1000},{"$f":"IF(ISNA(VLOOKUP($A20,'Res Min'!$P$10:$Q$109,2,FALSE)),1000,VLOOKUP($A20,'Res Min'!$P$10:$Q$109,2,FALSE))","v":1000},{"$f":"IF(ISNA(VLOOKUP($A20,'Res Min'!$L$112:$Q$211,2,FALSE)),1000,VLOOKUP($A20,'Res Min'!$L$112:$Q$211,2,FALSE))","v":1000},{"$f":"IF(ISNA(VLOOKUP($A20,'Res Min'!$P$112:$Q$211,2,FALSE)),1000,VLOOKUP($A20,'Res Min'!$P$112:$Q$211,2,FALSE))","v":1000},{"$f":"B20","v":1000},{"$f":"SMALL(C20:F20,1)","v":1000},{"$f":"SMALL(C20:F20,2)","v":1000},{"$f":"SMALL(G20:J20,1)","v":1000},{"$f":"SMALL(G20:J20,2)","v":1000},{"$f":"SMALL(K20:N20,1)","v":1000},{"$f":"SMALL(K20:N20,2)","v":1000},{"$f":"SMALL(O20:R20,1)","v":1000},{"$f":"SMALL(O20:R20,2)","v":1000},{"$f":"(SMALL((S20,$T20,$V20,$X20,$Z20),1))","v":1000},{"$f":"(SMALL((S20,$T20,$V20,$X20,$Z20),2))","v":1000},{"$f":"(SMALL(($S20,$T20,$V20,$X20,$Z20),3))","v":1000},{"$f":"IF(AG20<AI20,AG20,AI20)","v":1000},{"$f":"IF(AG20<AI20,SMALL(AI20:AJ20,1),SMALL(AG20:AH20,1))","v":1000},{"$f":"(SMALL(($S20,$T20,$V20,$X20,$Z20),4))","v":1000},{"$f":"(SMALL(($U20,$W20,$Y20,$AA20),2))","v":1000},{"$f":"(SMALL(($U20,$W20,$Y20,$AA20),1))","v":1000},{"$f":"(SMALL(($S20,$T20,$V20,$X20,$Z20),5))","v":1000},{"$f":"(SMALL(($AB20,$AC20,$AD20,$AE20),1))","v":1000},{"$f":"(SMALL(($AB20,$AC20,$AD20,$AE20),2))","v":1000},{"$f":"(SMALL(($AB20,$AC20,$AD20,$AE20),3))","v":1000},"",{"$f":"IF(AN20<2000,16,\"\")","v":""},1000,1000,1000,1000,1000,1000]
[null,{"$f":"IF($A21=\"\",1000,(IF(ISNA(VLOOKUP($A21,'Res Pre'!$L$10:$Q$109,2,FALSE)),1000,VLOOKUP($A21,'Res Pre'!$L$10:$Q$109,2,FALSE))))","v":1000},{"$f":"IF(ISNA(VLOOKUP($A21,'Res Pou'!$L$10:$Q$109,2,FALSE)),1000,VLOOKUP($A21,'Res Pou'!$L$10:$Q$109,2,FALSE))","v":1000},{"$f":"IF(ISNA(VLOOKUP($A21,'Res Pou'!$P$10:$Q$109,2,FALSE)),1000,VLOOKUP($A21,'Res Pou'!$P$10:$Q$109,2,FALSE))","v":1000},{"$f":"IF(ISNA(VLOOKUP($A21,'Res Pou'!$L$112:$Q$211,2,FALSE)),1000,VLOOKUP($A21,'Res Pou'!$L$112:$Q$211,2,FALSE))","v":1000},{"$f":"IF(ISNA(VLOOKUP($A21,'Res Pou'!$P$112:$Q$211,2,FALSE)),1000,VLOOKUP($A21,'Res Pou'!$P$112:$Q$211,2,FALSE))","v":1000},{"$f":"IF(ISNA(VLOOKUP($A21,'Res Pup'!$L$10:$Q$109,2,FALSE)),1000,VLOOKUP($A21,'Res Pup'!$L$10:$Q$109,2,FALSE))","v":1000},{"$f":"IF(ISNA(VLOOKUP($A21,'Res Pup'!$P$10:$Q$109,2,FALSE)),1000,VLOOKUP($A21,'Res Pup'!$P$10:$Q$109,2,FALSE))","v":1000},{"$f":"IF(ISNA(VLOOKUP($A21,'Res Pup'!$L$112:$Q$211,2,FALSE)),1000,VLOOKUP($A21,'Res Pup'!$L$112:$Q$211,2,FALSE))","v":1000},{"$f":"IF(ISNA(VLOOKUP($A21,'Res Pup'!$P$112:$Q$211,2,FALSE)),1000,VLOOKUP($A21,'Res Pup'!$P$112:$Q$211,2,FALSE))","v":1000},{"$f":"IF(ISNA(VLOOKUP($A21,'Res Ben'!$L$10:$Q$109,2,FALSE)),1000,VLOOKUP($A21,'Res Ben'!$L$10:$Q$109,2,FALSE))","v":1000},{"$f":"IF(ISNA(VLOOKUP($A21,'Res Ben'!$P$10:$Q$109,2,FALSE)),1000,VLOOKUP($A21,'Res Ben'!$P$10:$Q$109,2,FALSE))","v":1000},{"$f":"IF(ISNA(VLOOKUP($A21,'Res Ben'!$L$112:$Q$211,2,FALSE)),1000,VLOOKUP($A21,'Res Ben'!$L$112:$Q$211,2,FALSE))","v":1000},{"$f":"IF(ISNA(VLOOKUP($A21,'Res Ben'!$P$112:$Q$211,2,FALSE)),1000,VLOOKUP($A21,'Res Ben'!$P$112:$Q$211,2,FALSE))","v":1000},{"$f":"IF(ISNA(VLOOKUP($A21,'Res Min'!$L$10:$Q$109,2,FALSE)),1000,VLOOKUP($A21,'Res Min'!$L$10:$Q$109,2,FALSE))","v":1000},{"$f":"IF(ISNA(VLOOKUP($A21,'Res Min'!$P$10:$Q$109,2,FALSE)),1000,VLOOKUP($A21,'Res Min'!$P$10:$Q$109,2,FALSE))","v":1000},{"$f":"IF(ISNA(VLOOKUP($A21,'Res Min'!$L$112:$Q$211,2,FALSE)),1000,VLOOKUP($A21,'Res Min'!$L$112:$Q$211,2,FALSE))","v":1000},{"$f":"IF(ISNA(VLOOKUP($A21,'Res Min'!$P$112:$Q$211,2,FALSE)),1000,VLOOKUP($A21,'Res Min'!$P$112:$Q$211,2,FALSE))","v":1000},{"$f":"B21","v":1000},{"$f":"SMALL(C21:F21,1)","v":1000},{"$f":"SMALL(C21:F21,2)","v":1000},{"$f":"SMALL(G21:J21,1)","v":1000},{"$f":"SMALL(G21:J21,2)","v":1000},{"$f":"SMALL(K21:N21,1)","v":1000},{"$f":"SMALL(K21:N21,2)","v":1000},{"$f":"SMALL(O21:R21,1)","v":1000},{"$f":"SMALL(O21:R21,2)","v":1000},{"$f":"(SMALL((S21,$T21,$V21,$X21,$Z21),1))","v":1000},{"$f":"(SMALL((S21,$T21,$V21,$X21,$Z21),2))","v":1000},{"$f":"(SMALL(($S21,$T21,$V21,$X21,$Z21),3))","v":1000},{"$f":"IF(AG21<AI21,AG21,AI21)","v":1000},{"$f":"IF(AG21<AI21,SMALL(AI21:AJ21,1),SMALL(AG21:AH21,1))","v":1000},{"$f":"(SMALL(($S21,$T21,$V21,$X21,$Z21),4))","v":1000},{"$f":"(SMALL(($U21,$W21,$Y21,$AA21),2))","v":1000},{"$f":"(SMALL(($U21,$W21,$Y21,$AA21),1))","v":1000},{"$f":"(SMALL(($S21,$T21,$V21,$X21,$Z21),5))","v":1000},{"$f":"(SMALL(($AB21,$AC21,$AD21,$AE21),1))","v":1000},{"$f":"(SMALL(($AB21,$AC21,$AD21,$AE21),2))","v":1000},{"$f":"(SMALL(($AB21,$AC21,$AD21,$AE21),3))","v":1000},"",{"$f":"IF(AN21<2000,17,\"\")","v":""},1000,1000,1000,1000,1000,1000]
[null,{"$f":"IF($A22=\"\",1000,(IF(ISNA(VLOOKUP($A22,'Res Pre'!$L$10:$Q$109,2,FALSE)),1000,VLOOKUP($A22,'Res Pre'!$L$10:$Q$109,2,FALSE))))","v":1000},{"$f":"IF(ISNA(VLOOKUP($A22,'Res Pou'!$L$10:$Q$109,2,FALSE)),1000,VLOOKUP($A22,'Res Pou'!$L$10:$Q$109,2,FALSE))","v":1000},{"$f":"IF(ISNA(VLOOKUP($A22,'Res Pou'!$P$10:$Q$109,2,FALSE)),1000,VLOOKUP($A22,'Res Pou'!$P$10:$Q$109,2,FALSE))","v":1000},{"$f":"IF(ISNA(VLOOKUP($A22,'Res Pou'!$L$112:$Q$211,2,FALSE)),1000,VLOOKUP($A22,'Res Pou'!$L$112:$Q$211,2,FALSE))","v":1000},{"$f":"IF(ISNA(VLOOKUP($A22,'Res Pou'!$P$112:$Q$211,2,FALSE)),1000,VLOOKUP($A22,'Res Pou'!$P$112:$Q$211,2,FALSE))","v":1000},{"$f":"IF(ISNA(VLOOKUP($A22,'Res Pup'!$L$10:$Q$109,2,FALSE)),1000,VLOOKUP($A22,'Res Pup'!$L$10:$Q$109,2,FALSE))","v":1000},{"$f":"IF(ISNA(VLOOKUP($A22,'Res Pup'!$P$10:$Q$109,2,FALSE)),1000,VLOOKUP($A22,'Res Pup'!$P$10:$Q$109,2,FALSE))","v":1000},{"$f":"IF(ISNA(VLOOKUP($A22,'Res Pup'!$L$112:$Q$211,2,FALSE)),1000,VLOOKUP($A22,'Res Pup'!$L$112:$Q$211,2,FALSE))","v":1000},{"$f":"IF(ISNA(VLOOKUP($A22,'Res Pup'!$P$112:$Q$211,2,FALSE)),1000,VLOOKUP($A22,'Res Pup'!$P$112:$Q$211,2,FALSE))","v":1000},{"$f":"IF(ISNA(VLOOKUP($A22,'Res Ben'!$L$10:$Q$109,2,FALSE)),1000,VLOOKUP($A22,'Res Ben'!$L$10:$Q$109,2,FALSE))","v":1000},{"$f":"IF(ISNA(VLOOKUP($A22,'Res Ben'!$P$10:$Q$109,2,FALSE)),1000,VLOOKUP($A22,'Res Ben'!$P$10:$Q$109,2,FALSE))","v":1000},{"$f":"IF(ISNA(VLOOKUP($A22,'Res Ben'!$L$112:$Q$211,2,FALSE)),1000,VLOOKUP($A22,'Res Ben'!$L$112:$Q$211,2,FALSE))","v":1000},{"$f":"IF(ISNA(VLOOKUP($A22,'Res Ben'!$P$112:$Q$211,2,FALSE)),1000,VLOOKUP($A22,'Res Ben'!$P$112:$Q$211,2,FALSE))","v":1000},{"$f":"IF(ISNA(VLOOKUP($A22,'Res Min'!$L$10:$Q$109,2,FALSE)),1000,VLOOKUP($A22,'Res Min'!$L$10:$Q$109,2,FALSE))","v":1000},{"$f":"IF(ISNA(VLOOKUP($A22,'Res Min'!$P$10:$Q$109,2,FALSE)),1000,VLOOKUP($A22,'Res Min'!$P$10:$Q$109,2,FALSE))","v":1000},{"$f":"IF(ISNA(VLOOKUP($A22,'Res Min'!$L$112:$Q$211,2,FALSE)),1000,VLOOKUP($A22,'Res Min'!$L$112:$Q$211,2,FALSE))","v":1000},{"$f":"IF(ISNA(VLOOKUP($A22,'Res Min'!$P$112:$Q$211,2,FALSE)),1000,VLOOKUP($A22,'Res Min'!$P$112:$Q$211,2,FALSE))","v":1000},{"$f":"B22","v":1000},{"$f":"SMALL(C22:F22,1)","v":1000},{"$f":"SMALL(C22:F22,2)","v":1000},{"$f":"SMALL(G22:J22,1)","v":1000},{"$f":"SMALL(G22:J22,2)","v":1000},{"$f":"SMALL(K22:N22,1)","v":1000},{"$f":"SMALL(K22:N22,2)","v":1000},{"$f":"SMALL(O22:R22,1)","v":1000},{"$f":"SMALL(O22:R22,2)","v":1000},{"$f":"(SMALL((S22,$T22,$V22,$X22,$Z22),1))","v":1000},{"$f":"(SMALL((S22,$T22,$V22,$X22,$Z22),2))","v":1000},{"$f":"(SMALL(($S22,$T22,$V22,$X22,$Z22),3))","v":1000},{"$f":"IF(AG22<AI22,AG22,AI22)","v":1000},{"$f":"IF(AG22<AI22,SMALL(AI22:AJ22,1),SMALL(AG22:AH22,1))","v":1000},{"$f":"(SMALL(($S22,$T22,$V22,$X22,$Z22),4))","v":1000},{"$f":"(SMALL(($U22,$W22,$Y22,$AA22),2))","v":1000},{"$f":"(SMALL(($U22,$W22,$Y22,$AA22),1))","v":1000},{"$f":"(SMALL(($S22,$T22,$V22,$X22,$Z22),5))","v":1000},{"$f":"(SMALL(($AB22,$AC22,$AD22,$AE22),1))","v":1000},{"$f":"(SMALL(($AB22,$AC22,$AD22,$AE22),2))","v":1000},{"$f":"(SMALL(($AB22,$AC22,$AD22,$AE22),3))","v":1000},"",{"$f":"IF(AN22<2000,19,\"\")","v":""},1000,1000,1000,1000,1000,1000]
[null,{"$f":"IF($A23=\"\",1000,(IF(ISNA(VLOOKUP($A23,'Res Pre'!$L$10:$Q$109,2,FALSE)),1000,VLOOKUP($A23,'Res Pre'!$L$10:$Q$109,2,FALSE))))","v":1000},{"$f":"IF(ISNA(VLOOKUP($A23,'Res Pou'!$L$10:$Q$109,2,FALSE)),1000,VLOOKUP($A23,'Res Pou'!$L$10:$Q$109,2,FALSE))","v":1000},{"$f":"IF(ISNA(VLOOKUP($A23,'Res Pou'!$P$10:$Q$109,2,FALSE)),1000,VLOOKUP($A23,'Res Pou'!$P$10:$Q$109,2,FALSE))","v":1000},{"$f":"IF(ISNA(VLOOKUP($A23,'Res Pou'!$L$112:$Q$211,2,FALSE)),1000,VLOOKUP($A23,'Res Pou'!$L$112:$Q$211,2,FALSE))","v":1000},{"$f":"IF(ISNA(VLOOKUP($A23,'Res Pou'!$P$112:$Q$211,2,FALSE)),1000,VLOOKUP($A23,'Res Pou'!$P$112:$Q$211,2,FALSE))","v":1000},{"$f":"IF(ISNA(VLOOKUP($A23,'Res Pup'!$L$10:$Q$109,2,FALSE)),1000,VLOOKUP($A23,'Res Pup'!$L$10:$Q$109,2,FALSE))","v":1000},{"$f":"IF(ISNA(VLOOKUP($A23,'Res Pup'!$P$10:$Q$109,2,FALSE)),1000,VLOOKUP($A23,'Res Pup'!$P$10:$Q$109,2,FALSE))","v":1000},{"$f":"IF(ISNA(VLOOKUP($A23,'Res Pup'!$L$112:$Q$211,2,FALSE)),1000,VLOOKUP($A23,'Res Pup'!$L$112:$Q$211,2,FALSE))","v":1000},{"$f":"IF(ISNA(VLOOKUP($A23,'Res Pup'!$P$112:$Q$211,2,FALSE)),1000,VLOOKUP($A23,'Res Pup'!$P$112:$Q$211,2,FALSE))","v":1000},{"$f":"IF(ISNA(VLOOKUP($A23,'Res Ben'!$L$10:$Q$109,2,FALSE)),1000,VLOOKUP($A23,'Res Ben'!$L$10:$Q$109,2,FALSE))","v":1000},{"$f":"IF(ISNA(VLOOKUP($A23,'Res Ben'!$P$10:$Q$109,2,FALSE)),1000,VLOOKUP($A23,'Res Ben'!$P$10:$Q$109,2,FALSE))","v":1000},{"$f":"IF(ISNA(VLOOKUP($A23,'Res Ben'!$L$112:$Q$211,2,FALSE)),1000,VLOOKUP($A23,'Res Ben'!$L$112:$Q$211,2,FALSE))","v":1000},{"$f":"IF(ISNA(VLOOKUP($A23,'Res Ben'!$P$112:$Q$211,2,FALSE)),1000,VLOOKUP($A23,'Res Ben'!$P$112:$Q$211,2,FALSE))","v":1000},{"$f":"IF(ISNA(VLOOKUP($A23,'Res Min'!$L$10:$Q$109,2,FALSE)),1000,VLOOKUP($A23,'Res Min'!$L$10:$Q$109,2,FALSE))","v":1000},{"$f":"IF(ISNA(VLOOKUP($A23,'Res Min'!$P$10:$Q$109,2,FALSE)),1000,VLOOKUP($A23,'Res Min'!$P$10:$Q$109,2,FALSE))","v":1000},{"$f":"IF(ISNA(VLOOKUP($A23,'Res Min'!$L$112:$Q$211,2,FALSE)),1000,VLOOKUP($A23,'Res Min'!$L$112:$Q$211,2,FALSE))","v":1000},{"$f":"IF(ISNA(VLOOKUP($A23,'Res Min'!$P$112:$Q$211,2,FALSE)),1000,VLOOKUP($A23,'Res Min'!$P$112:$Q$211,2,FALSE))","v":1000},{"$f":"B23","v":1000},{"$f":"SMALL(C23:F23,1)","v":1000},{"$f":"SMALL(C23:F23,2)","v":1000},{"$f":"SMALL(G23:J23,1)","v":1000},{"$f":"SMALL(G23:J23,2)","v":1000},{"$f":"SMALL(K23:N23,1)","v":1000},{"$f":"SMALL(K23:N23,2)","v":1000},{"$f":"SMALL(O23:R23,1)","v":1000},{"$f":"SMALL(O23:R23,2)","v":1000},{"$f":"(SMALL((S23,$T23,$V23,$X23,$Z23),1))","v":1000},{"$f":"(SMALL((S23,$T23,$V23,$X23,$Z23),2))","v":1000},{"$f":"(SMALL(($S23,$T23,$V23,$X23,$Z23),3))","v":1000},{"$f":"IF(AG23<AI23,AG23,AI23)","v":1000},{"$f":"IF(AG23<AI23,SMALL(AI23:AJ23,1),SMALL(AG23:AH23,1))","v":1000},{"$f":"(SMALL(($S23,$T23,$V23,$X23,$Z23),4))","v":1000},{"$f":"(SMALL(($U23,$W23,$Y23,$AA23),2))","v":1000},{"$f":"(SMALL(($U23,$W23,$Y23,$AA23),1))","v":1000},{"$f":"(SMALL(($S23,$T23,$V23,$X23,$Z23),5))","v":1000},{"$f":"(SMALL(($AB23,$AC23,$AD23,$AE23),1))","v":1000},{"$f":"(SMALL(($AB23,$AC23,$AD23,$AE23),2))","v":1000},{"$f":"(SMALL(($AB23,$AC23,$AD23,$AE23),3))","v":1000},"",{"$f":"IF(AN23<2000,18,\"\")","v":""},1000,1000,1000,1000,1000,1000]
[null,{"$f":"IF($A24=\"\",1000,(IF(ISNA(VLOOKUP($A24,'Res Pre'!$L$10:$Q$109,2,FALSE)),1000,VLOOKUP($A24,'Res Pre'!$L$10:$Q$109,2,FALSE))))","v":1000},{"$f":"IF(ISNA(VLOOKUP($A24,'Res Pou'!$L$10:$Q$109,2,FALSE)),1000,VLOOKUP($A24,'Res Pou'!$L$10:$Q$109,2,FALSE))","v":1000},{"$f":"IF(ISNA(VLOOKUP($A24,'Res Pou'!$P$10:$Q$109,2,FALSE)),1000,VLOOKUP($A24,'Res Pou'!$P$10:$Q$109,2,FALSE))","v":1000},{"$f":"IF(ISNA(VLOOKUP($A24,'Res Pou'!$L$112:$Q$211,2,FALSE)),1000,VLOOKUP($A24,'Res Pou'!$L$112:$Q$211,2,FALSE))","v":1000},{"$f":"IF(ISNA(VLOOKUP($A24,'Res Pou'!$P$112:$Q$211,2,FALSE)),1000,VLOOKUP($A24,'Res Pou'!$P$112:$Q$211,2,FALSE))","v":1000},{"$f":"IF(ISNA(VLOOKUP($A24,'Res Pup'!$L$10:$Q$109,2,FALSE)),1000,VLOOKUP($A24,'Res Pup'!$L$10:$Q$109,2,FALSE))","v":1000},{"$f":"IF(ISNA(VLOOKUP($A24,'Res Pup'!$P$10:$Q$109,2,FALSE)),1000,VLOOKUP($A24,'Res Pup'!$P$10:$Q$109,2,FALSE))","v":1000},{"$f":"IF(ISNA(VLOOKUP($A24,'Res Pup'!$L$112:$Q$211,2,FALSE)),1000,VLOOKUP($A24,'Res Pup'!$L$112:$Q$211,2,FALSE))","v":1000},{"$f":"IF(ISNA(VLOOKUP($A24,'Res Pup'!$P$112:$Q$211,2,FALSE)),1000,VLOOKUP($A24,'Res Pup'!$P$112:$Q$211,2,FALSE))","v":1000},{"$f":"IF(ISNA(VLOOKUP($A24,'Res Ben'!$L$10:$Q$109,2,FALSE)),1000,VLOOKUP($A24,'Res Ben'!$L$10:$Q$109,2,FALSE))","v":1000},{"$f":"IF(ISNA(VLOOKUP($A24,'Res Ben'!$P$10:$Q$109,2,FALSE)),1000,VLOOKUP($A24,'Res Ben'!$P$10:$Q$109,2,FALSE))","v":1000},{"$f":"IF(ISNA(VLOOKUP($A24,'Res Ben'!$L$112:$Q$211,2,FALSE)),1000,VLOOKUP($A24,'Res Ben'!$L$112:$Q$211,2,FALSE))","v":1000},{"$f":"IF(ISNA(VLOOKUP($A24,'Res Ben'!$P$112:$Q$211,2,FALSE)),1000,VLOOKUP($A24,'Res Ben'!$P$112:$Q$211,2,FALSE))","v":1000},{"$f":"IF(ISNA(VLOOKUP($A24,'Res Min'!$L$10:$Q$109,2,FALSE)),1000,VLOOKUP($A24,'Res Min'!$L$10:$Q$109,2,FALSE))","v":1000},{"$f":"IF(ISNA(VLOOKUP($A24,'Res Min'!$P$10:$Q$109,2,FALSE)),1000,VLOOKUP($A24,'Res Min'!$P$10:$Q$109,2,FALSE))","v":1000},{"$f":"IF(ISNA(VLOOKUP($A24,'Res Min'!$L$112:$Q$211,2,FALSE)),1000,VLOOKUP($A24,'Res Min'!$L$112:$Q$211,2,FALSE))","v":1000},{"$f":"IF(ISNA(VLOOKUP($A24,'Res Min'!$P$112:$Q$211,2,FALSE)),1000,VLOOKUP($A24,'Res Min'!$P$112:$Q$211,2,FALSE))","v":1000},{"$f":"B24","v":1000},{"$f":"SMALL(C24:F24,1)","v":1000},{"$f":"SMALL(C24:F24,2)","v":1000},{"$f":"SMALL(G24:J24,1)","v":1000},{"$f":"SMALL(G24:J24,2)","v":1000},{"$f":"SMALL(K24:N24,1)","v":1000},{"$f":"SMALL(K24:N24,2)","v":1000},{"$f":"SMALL(O24:R24,1)","v":1000},{"$f":"SMALL(O24:R24,2)","v":1000},{"$f":"(SMALL((S24,$T24,$V24,$X24,$Z24),1))","v":1000},{"$f":"(SMALL((S24,$T24,$V24,$X24,$Z24),2))","v":1000},{"$f":"(SMALL(($S24,$T24,$V24,$X24,$Z24),3))","v":1000},{"$f":"IF(AG24<AI24,AG24,AI24)","v":1000},{"$f":"IF(AG24<AI24,SMALL(AI24:AJ24,1),SMALL(AG24:AH24,1))","v":1000},{"$f":"(SMALL(($S24,$T24,$V24,$X24,$Z24),4))","v":1000},{"$f":"(SMALL(($U24,$W24,$Y24,$AA24),2))","v":1000},{"$f":"(SMALL(($U24,$W24,$Y24,$AA24),1))","v":1000},{"$f":"(SMALL(($S24,$T24,$V24,$X24,$Z24),5))","v":1000},{"$f":"(SMALL(($AB24,$AC24,$AD24,$AE24),1))","v":1000},{"$f":"(SMALL(($AB24,$AC24,$AD24,$AE24),2))","v":1000},{"$f":"(SMALL(($AB24,$AC24,$AD24,$AE24),3))","v":1000},"",{"$f":"IF(AN24<2000,20,\"\")","v":""},1000,1000,1000,1000,1000,1000]
[null,{"$f":"IF($A25=\"\",1000,(IF(ISNA(VLOOKUP($A25,'Res Pre'!$L$10:$Q$109,2,FALSE)),1000,VLOOKUP($A25,'Res Pre'!$L$10:$Q$109,2,FALSE))))","v":1000},{"$f":"IF(ISNA(VLOOKUP($A25,'Res Pou'!$L$10:$Q$109,2,FALSE)),1000,VLOOKUP($A25,'Res Pou'!$L$10:$Q$109,2,FALSE))","v":1000},{"$f":"IF(ISNA(VLOOKUP($A25,'Res Pou'!$P$10:$Q$109,2,FALSE)),1000,VLOOKUP($A25,'Res Pou'!$P$10:$Q$109,2,FALSE))","v":1000},{"$f":"IF(ISNA(VLOOKUP($A25,'Res Pou'!$L$112:$Q$211,2,FALSE)),1000,VLOOKUP($A25,'Res Pou'!$L$112:$Q$211,2,FALSE))","v":1000},{"$f":"IF(ISNA(VLOOKUP($A25,'Res Pou'!$P$112:$Q$211,2,FALSE)),1000,VLOOKUP($A25,'Res Pou'!$P$112:$Q$211,2,FALSE))","v":1000},{"$f":"IF(ISNA(VLOOKUP($A25,'Res Pup'!$L$10:$Q$109,2,FALSE)),1000,VLOOKUP($A25,'Res Pup'!$L$10:$Q$109,2,FALSE))","v":1000},{"$f":"IF(ISNA(VLOOKUP($A25,'Res Pup'!$P$10:$Q$109,2,FALSE)),1000,VLOOKUP($A25,'Res Pup'!$P$10:$Q$109,2,FALSE))","v":1000},{"$f":"IF(ISNA(VLOOKUP($A25,'Res Pup'!$L$112:$Q$211,2,FALSE)),1000,VLOOKUP($A25,'Res Pup'!$L$112:$Q$211,2,FALSE))","v":1000},{"$f":"IF(ISNA(VLOOKUP($A25,'Res Pup'!$P$112:$Q$211,2,FALSE)),1000,VLOOKUP($A25,'Res Pup'!$P$112:$Q$211,2,FALSE))","v":1000},{"$f":"IF(ISNA(VLOOKUP($A25,'Res Ben'!$L$10:$Q$109,2,FALSE)),1000,VLOOKUP($A25,'Res Ben'!$L$10:$Q$109,2,FALSE))","v":1000},{"$f":"IF(ISNA(VLOOKUP($A25,'Res Ben'!$P$10:$Q$109,2,FALSE)),1000,VLOOKUP($A25,'Res Ben'!$P$10:$Q$109,2,FALSE))","v":1000},{"$f":"IF(ISNA(VLOOKUP($A25,'Res Ben'!$L$112:$Q$211,2,FALSE)),1000,VLOOKUP($A25,'Res Ben'!$L$112:$Q$211,2,FALSE))","v":1000},{"$f":"IF(ISNA(VLOOKUP($A25,'Res Ben'!$P$112:$Q$211,2,FALSE)),1000,VLOOKUP($A25,'Res Ben'!$P$112:$Q$211,2,FALSE))","v":1000},{"$f":"IF(ISNA(VLOOKUP($A25,'Res Min'!$L$10:$Q$109,2,FALSE)),1000,VLOOKUP($A25,'Res Min'!$L$10:$Q$109,2,FALSE))","v":1000},{"$f":"IF(ISNA(VLOOKUP($A25,'Res Min'!$P$10:$Q$109,2,FALSE)),1000,VLOOKUP($A25,'Res Min'!$P$10:$Q$109,2,FALSE))","v":1000},{"$f":"IF(ISNA(VLOOKUP($A25,'Res Min'!$L$112:$Q$211,2,FALSE)),1000,VLOOKUP($A25,'Res Min'!$L$112:$Q$211,2,FALSE))","v":1000},{"$f":"IF(ISNA(VLOOKUP($A25,'Res Min'!$P$112:$Q$211,2,FALSE)),1000,VLOOKUP($A25,'Res Min'!$P$112:$Q$211,2,FALSE))","v":1000},{"$f":"B25","v":1000},{"$f":"SMALL(C25:F25,1)","v":1000},{"$f":"SMALL(C25:F25,2)","v":1000},{"$f":"SMALL(G25:J25,1)","v":1000},{"$f":"SMALL(G25:J25,2)","v":1000},{"$f":"SMALL(K25:N25,1)","v":1000},{"$f":"SMALL(K25:N25,2)","v":1000},{"$f":"SMALL(O25:R25,1)","v":1000},{"$f":"SMALL(O25:R25,2)","v":1000},{"$f":"(SMALL((S25,$T25,$V25,$X25,$Z25),1))","v":1000},{"$f":"(SMALL((S25,$T25,$V25,$X25,$Z25),2))","v":1000},{"$f":"(SMALL(($S25,$T25,$V25,$X25,$Z25),3))","v":1000},{"$f":"IF(AG25<AI25,AG25,AI25)","v":1000},{"$f":"IF(AG25<AI25,SMALL(AI25:AJ25,1),SMALL(AG25:AH25,1))","v":1000},{"$f":"(SMALL(($S25,$T25,$V25,$X25,$Z25),4))","v":1000},{"$f":"(SMALL(($U25,$W25,$Y25,$AA25),2))","v":1000},{"$f":"(SMALL(($U25,$W25,$Y25,$AA25),1))","v":1000},{"$f":"(SMALL(($S25,$T25,$V25,$X25,$Z25),5))","v":1000},{"$f":"(SMALL(($AB25,$AC25,$AD25,$AE25),1))","v":1000},{"$f":"(SMALL(($AB25,$AC25,$AD25,$AE25),2))","v":1000},{"$f":"(SMALL(($AB25,$AC25,$AD25,$AE25),3))","v":1000},"",{"$f":"IF(AN25<2000,21,\"\")","v":""},1000,1000,1000,1000,1000,1000]
[null,{"$f":"IF($A26=\"\",1000,(IF(ISNA(VLOOKUP($A26,'Res Pre'!$L$10:$Q$109,2,FALSE)),1000,VLOOKUP($A26,'Res Pre'!$L$10:$Q$109,2,FALSE))))","v":1000},{"$f":"IF(ISNA(VLOOKUP($A26,'Res Pou'!$L$10:$Q$109,2,FALSE)),1000,VLOOKUP($A26,'Res Pou'!$L$10:$Q$109,2,FALSE))","v":1000},{"$f":"IF(ISNA(VLOOKUP($A26,'Res Pou'!$P$10:$Q$109,2,FALSE)),1000,VLOOKUP($A26,'Res Pou'!$P$10:$Q$109,2,FALSE))","v":1000},{"$f":"IF(ISNA(VLOOKUP($A26,'Res Pou'!$L$112:$Q$211,2,FALSE)),1000,VLOOKUP($A26,'Res Pou'!$L$112:$Q$211,2,FALSE))","v":1000},{"$f":"IF(ISNA(VLOOKUP($A26,'Res Pou'!$P$112:$Q$211,2,FALSE)),1000,VLOOKUP($A26,'Res Pou'!$P$112:$Q$211,2,FALSE))","v":1000},{"$f":"IF(ISNA(VLOOKUP($A26,'Res Pup'!$L$10:$Q$109,2,FALSE)),1000,VLOOKUP($A26,'Res Pup'!$L$10:$Q$109,2,FALSE))","v":1000},{"$f":"IF(ISNA(VLOOKUP($A26,'Res Pup'!$P$10:$Q$109,2,FALSE)),1000,VLOOKUP($A26,'Res Pup'!$P$10:$Q$109,2,FALSE))","v":1000},{"$f":"IF(ISNA(VLOOKUP($A26,'Res Pup'!$L$112:$Q$211,2,FALSE)),1000,VLOOKUP($A26,'Res Pup'!$L$112:$Q$211,2,FALSE))","v":1000},{"$f":"IF(ISNA(VLOOKUP($A26,'Res Pup'!$P$112:$Q$211,2,FALSE)),1000,VLOOKUP($A26,'Res Pup'!$P$112:$Q$211,2,FALSE))","v":1000},{"$f":"IF(ISNA(VLOOKUP($A26,'Res Ben'!$L$10:$Q$109,2,FALSE)),1000,VLOOKUP($A26,'Res Ben'!$L$10:$Q$109,2,FALSE))","v":1000},{"$f":"IF(ISNA(VLOOKUP($A26,'Res Ben'!$P$10:$Q$109,2,FALSE)),1000,VLOOKUP($A26,'Res Ben'!$P$10:$Q$109,2,FALSE))","v":1000},{"$f":"IF(ISNA(VLOOKUP($A26,'Res Ben'!$L$112:$Q$211,2,FALSE)),1000,VLOOKUP($A26,'Res Ben'!$L$112:$Q$211,2,FALSE))","v":1000},{"$f":"IF(ISNA(VLOOKUP($A26,'Res Ben'!$P$112:$Q$211,2,FALSE)),1000,VLOOKUP($A26,'Res Ben'!$P$112:$Q$211,2,FALSE))","v":1000},{"$f":"IF(ISNA(VLOOKUP($A26,'Res Min'!$L$10:$Q$109,2,FALSE)),1000,VLOOKUP($A26,'Res Min'!$L$10:$Q$109,2,FALSE))","v":1000},{"$f":"IF(ISNA(VLOOKUP($A26,'Res Min'!$P$10:$Q$109,2,FALSE)),1000,VLOOKUP($A26,'Res Min'!$P$10:$Q$109,2,FALSE))","v":1000},{"$f":"IF(ISNA(VLOOKUP($A26,'Res Min'!$L$112:$Q$211,2,FALSE)),1000,VLOOKUP($A26,'Res Min'!$L$112:$Q$211,2,FALSE))","v":1000},{"$f":"IF(ISNA(VLOOKUP($A26,'Res Min'!$P$112:$Q$211,2,FALSE)),1000,VLOOKUP($A26,'Res Min'!$P$112:$Q$211,2,FALSE))","v":1000},{"$f":"B26","v":1000},{"$f":"SMALL(C26:F26,1)","v":1000},{"$f":"SMALL(C26:F26,2)","v":1000},{"$f":"SMALL(G26:J26,1)","v":1000},{"$f":"SMALL(G26:J26,2)","v":1000},{"$f":"SMALL(K26:N26,1)","v":1000},{"$f":"SMALL(K26:N26,2)","v":1000},{"$f":"SMALL(O26:R26,1)","v":1000},{"$f":"SMALL(O26:R26,2)","v":1000},{"$f":"(SMALL((S26,$T26,$V26,$X26,$Z26),1))","v":1000},{"$f":"(SMALL((S26,$T26,$V26,$X26,$Z26),2))","v":1000},{"$f":"(SMALL(($S26,$T26,$V26,$X26,$Z26),3))","v":1000},{"$f":"IF(AG26<AI26,AG26,AI26)","v":1000},{"$f":"IF(AG26<AI26,SMALL(AI26:AJ26,1),SMALL(AG26:AH26,1))","v":1000},{"$f":"(SMALL(($S26,$T26,$V26,$X26,$Z26),4))","v":1000},{"$f":"(SMALL(($U26,$W26,$Y26,$AA26),2))","v":1000},{"$f":"(SMALL(($U26,$W26,$Y26,$AA26),1))","v":1000},{"$f":"(SMALL(($S26,$T26,$V26,$X26,$Z26),5))","v":1000},{"$f":"(SMALL(($AB26,$AC26,$AD26,$AE26),1))","v":1000},{"$f":"(SMALL(($AB26,$AC26,$AD26,$AE26),2))","v":1000},{"$f":"(SMALL(($AB26,$AC26,$AD26,$AE26),3))","v":1000},"",{"$f":"IF(AN26<2000,22,\"\")","v":""},1000,1000,1000,1000,1000,1000]
[null,{"$f":"IF($A27=\"\",1000,(IF(ISNA(VLOOKUP($A27,'Res Pre'!$L$10:$Q$109,2,FALSE)),1000,VLOOKUP($A27,'Res Pre'!$L$10:$Q$109,2,FALSE))))","v":1000},{"$f":"IF(ISNA(VLOOKUP($A27,'Res Pou'!$L$10:$Q$109,2,FALSE)),1000,VLOOKUP($A27,'Res Pou'!$L$10:$Q$109,2,FALSE))","v":1000},{"$f":"IF(ISNA(VLOOKUP($A27,'Res Pou'!$P$10:$Q$109,2,FALSE)),1000,VLOOKUP($A27,'Res Pou'!$P$10:$Q$109,2,FALSE))","v":1000},{"$f":"IF(ISNA(VLOOKUP($A27,'Res Pou'!$L$112:$Q$211,2,FALSE)),1000,VLOOKUP($A27,'Res Pou'!$L$112:$Q$211,2,FALSE))","v":1000},{"$f":"IF(ISNA(VLOOKUP($A27,'Res Pou'!$P$112:$Q$211,2,FALSE)),1000,VLOOKUP($A27,'Res Pou'!$P$112:$Q$211,2,FALSE))","v":1000},{"$f":"IF(ISNA(VLOOKUP($A27,'Res Pup'!$L$10:$Q$109,2,FALSE)),1000,VLOOKUP($A27,'Res Pup'!$L$10:$Q$109,2,FALSE))","v":1000},{"$f":"IF(ISNA(VLOOKUP($A27,'Res Pup'!$P$10:$Q$109,2,FALSE)),1000,VLOOKUP($A27,'Res Pup'!$P$10:$Q$109,2,FALSE))","v":1000},{"$f":"IF(ISNA(VLOOKUP($A27,'Res Pup'!$L$112:$Q$211,2,FALSE)),1000,VLOOKUP($A27,'Res Pup'!$L$112:$Q$211,2,FALSE))","v":1000},{"$f":"IF(ISNA(VLOOKUP($A27,'Res Pup'!$P$112:$Q$211,2,FALSE)),1000,VLOOKUP($A27,'Res Pup'!$P$112:$Q$211,2,FALSE))","v":1000},{"$f":"IF(ISNA(VLOOKUP($A27,'Res Ben'!$L$10:$Q$109,2,FALSE)),1000,VLOOKUP($A27,'Res Ben'!$L$10:$Q$109,2,FALSE))","v":1000},{"$f":"IF(ISNA(VLOOKUP($A27,'Res Ben'!$P$10:$Q$109,2,FALSE)),1000,VLOOKUP($A27,'Res Ben'!$P$10:$Q$109,2,FALSE))","v":1000},{"$f":"IF(ISNA(VLOOKUP($A27,'Res Ben'!$L$112:$Q$211,2,FALSE)),1000,VLOOKUP($A27,'Res Ben'!$L$112:$Q$211,2,FALSE))","v":1000},{"$f":"IF(ISNA(VLOOKUP($A27,'Res Ben'!$P$112:$Q$211,2,FALSE)),1000,VLOOKUP($A27,'Res Ben'!$P$112:$Q$211,2,FALSE))","v":1000},{"$f":"IF(ISNA(VLOOKUP($A27,'Res Min'!$L$10:$Q$109,2,FALSE)),1000,VLOOKUP($A27,'Res Min'!$L$10:$Q$109,2,FALSE))","v":1000},{"$f":"IF(ISNA(VLOOKUP($A27,'Res Min'!$P$10:$Q$109,2,FALSE)),1000,VLOOKUP($A27,'Res Min'!$P$10:$Q$109,2,FALSE))","v":1000},{"$f":"IF(ISNA(VLOOKUP($A27,'Res Min'!$L$112:$Q$211,2,FALSE)),1000,VLOOKUP($A27,'Res Min'!$L$112:$Q$211,2,FALSE))","v":1000},{"$f":"IF(ISNA(VLOOKUP($A27,'Res Min'!$P$112:$Q$211,2,FALSE)),1000,VLOOKUP($A27,'Res Min'!$P$112:$Q$211,2,FALSE))","v":1000},{"$f":"B27","v":1000},{"$f":"SMALL(C27:F27,1)","v":1000},{"$f":"SMALL(C27:F27,2)","v":1000},{"$f":"SMALL(G27:J27,1)","v":1000},{"$f":"SMALL(G27:J27,2)","v":1000},{"$f":"SMALL(K27:N27,1)","v":1000},{"$f":"SMALL(K27:N27,2)","v":1000},{"$f":"SMALL(O27:R27,1)","v":1000},{"$f":"SMALL(O27:R27,2)","v":1000},{"$f":"(SMALL((S27,$T27,$V27,$X27,$Z27),1))","v":1000},{"$f":"(SMALL((S27,$T27,$V27,$X27,$Z27),2))","v":1000},{"$f":"(SMALL(($S27,$T27,$V27,$X27,$Z27),3))","v":1000},{"$f":"IF(AG27<AI27,AG27,AI27)","v":1000},{"$f":"IF(AG27<AI27,SMALL(AI27:AJ27,1),SMALL(AG27:AH27,1))","v":1000},{"$f":"(SMALL(($S27,$T27,$V27,$X27,$Z27),4))","v":1000},{"$f":"(SMALL(($U27,$W27,$Y27,$AA27),2))","v":1000},{"$f":"(SMALL(($U27,$W27,$Y27,$AA27),1))","v":1000},{"$f":"(SMALL(($S27,$T27,$V27,$X27,$Z27),5))","v":1000},{"$f":"(SMALL(($AB27,$AC27,$AD27,$AE27),1))","v":1000},{"$f":"(SMALL(($AB27,$AC27,$AD27,$AE27),2))","v":1000},{"$f":"(SMALL(($AB27,$AC27,$AD27,$AE27),3))","v":1000},"",{"$f":"IF(AN27<2000,23,\"\")","v":""},1000,1000,1000,1000,1000,1000]

{"sheet":"Résultat PE","index":13,"n_rows":28,"n_cols":14,"rows_kept":28,"merged":[[2,4,2,12]]}
["PRIX  D'EQUIPE"]
[]
[null,"CLUB",null,null,"DETAIL POINTS",{"$nulls":8},"TOTAL POINTS"]
[1,{"$f":"IF(SUM('Calcul PE'!AB8:'Calcul PE'!AF8)>1000,\"\",'Calcul PE'!A8)","v":"PEDALE COMBS LA VILLAISE"},null,{"$f":"IF(SUM('Calcul PE'!$AB8:'Calcul PE'!$AF8)>1000,\"\",'Calcul PE'!AB8)","v":2},"+",{"$f":"IF(SUM('Calcul PE'!$AB8:'Calcul PE'!$AF8)>1000,\"\",'Calcul PE'!AC8)","v":2},"+",{"$f":"IF(SUM('Calcul PE'!$AB8:'Calcul PE'!$AF8)>1000,\"\",'Calcul PE'!AD8)","v":3},"+",{"$f":"IF(SUM('Calcul PE'!$AB8:'Calcul PE'!$AF8)>1000,\"\",'Calcul PE'!AE8)","v":3},"+",{"$f":"IF(SUM('Calcul PE'!$AB8:'Calcul PE'!$AF8)>1000,\"\",'Calcul PE'!AF8)","v":4},"=",{"$f":"IF(SUM('Calcul PE'!$AB8:'Calcul PE'!$AF8)>1000,\"\",'Calcul PE'!AN8)","v":14}]
[2,{"$f":"IF(SUM('Calcul PE'!AB9:'Calcul PE'!AF9)>1000,\"\",'Calcul PE'!A9)","v":"CS VILLETANEUSE"},null,{"$f":"IF(SUM('Calcul PE'!$AB9:'Calcul PE'!$AF9)>1000,\"\",'Calcul PE'!AB9)","v":2},"+",{"$f":"IF(SUM('Calcul PE'!$AB9:'Calcul PE'!$AF9)>1000,\"\",'Calcul PE'!AC9)","v":3},"+",{"$f":"IF(SUM('Calcul PE'!$AB9:'Calcul PE'!$AF9)>1000,\"\",'Calcul PE'!AD9)","v":4},"+",{"$f":"IF(SUM('Calcul PE'!$AB9:'Calcul PE'!$AF9)>1000,\"\",'Calcul PE'!AE9)","v":6},"+",{"$f":"IF(SUM('Calcul PE'!$AB9:'Calcul PE'!$AF9)>1000,\"\",'Calcul PE'!AF9)","v":7},"=",{"$f":"IF(SUM('Calcul PE'!$AB9:'Calcul PE'!$AF9)>1000,\"\",'Calcul PE'!AN9)","v":22}]
[3,{"$f":"IF(SUM('Calcul PE'!AB10:'Calcul PE'!AF10)>1000,\"\",'Calcul PE'!A10)","v":"VC CLICHY SOUS BOIS"},null,{"$f":"IF(SUM('Calcul PE'!$AB10:'Calcul PE'!$AF10)>1000,\"\",'Calcul PE'!AB10)","v":2},"+",{"$f":"IF(SUM('Calcul PE'!$AB10:'Calcul PE'!$AF10)>1000,\"\",'Calcul PE'!AC10)","v":5},"+",{"$f":"IF(SUM('Calcul PE'!$AB10:'Calcul PE'!$AF10)>1000,\"\",'Calcul PE'!AD10)","v":6},"+",{"$f":"IF(SUM('Calcul PE'!$AB10:'Calcul PE'!$AF10)>1000,\"\",'Calcul PE'!AE10)","v":7},"+",{"$f":"IF(SUM('Calcul PE'!$AB10:'Calcul PE'!$AF10)>1000,\"\",'Calcul PE'!AF10)","v":9},"=",{"$f":"IF(SUM('Calcul PE'!$AB10:'Calcul PE'!$AF10)>1000,\"\",'Calcul PE'!AN10)","v":29}]
[4,{"$f":"IF(SUM('Calcul PE'!AB13:'Calcul PE'!AF13)>1000,\"\",'Calcul PE'!A13)","v":"CSM EPINAY SUR SEINE"},null,{"$f":"IF(SUM('Calcul PE'!$AB13:'Calcul PE'!$AF13)>1000,\"\",'Calcul PE'!AB13)","v":2},"+",{"$f":"IF(SUM('Calcul PE'!$AB13:'Calcul PE'!$AF13)>1000,\"\",'Calcul PE'!AC13)","v":6},"+",{"$f":"IF(SUM('Calcul PE'!$AB13:'Calcul PE'!$AF13)>1000,\"\",'Calcul PE'!AD13)","v":7},"+",{"$f":"IF(SUM('Calcul PE'!$AB13:'Calcul PE'!$AF13)>1000,\"\",'Calcul PE'!AE13)","v":7},"+",{"$f":"IF(SUM('Calcul PE'!$AB13:'Calcul PE'!$AF13)>1000,\"\",'Calcul PE'!AF13)","v":14},"=",{"$f":"IF(SUM('Calcul PE'!$AB13:'Calcul PE'!$AF13)>1000,\"\",'Calcul PE'!AN13)","v":36}]
[5,{"$f":"IF(SUM('Calcul PE'!AB16:'Calcul PE'!AF16)>1000,\"\",'Calcul PE'!A16)","v":"ARGENTEUIL VAL DE SEINE 95"},null,{"$f":"IF(SUM('Calcul PE'!$AB16:'Calcul PE'!$AF16)>1000,\"\",'Calcul PE'!AB16)","v":4},"+",{"$f":"IF(SUM('Calcul PE'!$AB16:'Calcul PE'!$AF16)>1000,\"\",'Calcul PE'!AC16)","v":4},"+",{"$f":"IF(SUM('Calcul PE'!$AB16:'Calcul PE'!$AF16)>1000,\"\",'Calcul PE'!AD16)","v":10},"+",{"$f":"IF(SUM('Calcul PE'!$AB16:'Calcul PE'!$AF16)>1000,\"\",'Calcul PE'!AE16)","v":7},"+",{"$f":"IF(SUM('Calcul PE'!$AB16:'Calcul PE'!$AF16)>1000,\"\",'Calcul PE'!AF16)","v":13},"=",{"$f":"IF(SUM('Calcul PE'!$AB16:'Calcul PE'!$AF16)>1000,\"\",'Calcul PE'!AN16)","v":38}]
[6,{"$f":"IF(SUM('Calcul PE'!AB11:'Calcul PE'!AF11)>1000,\"\",'Calcul PE'!A11)","v":"ES STAINS"},null,{"$f":"IF(SUM('Calcul PE'!$AB11:'Calcul PE'!$AF11)>1000,\"\",'Calcul PE'!AB11)","v":2},"+",{"$f":"IF(SUM('Calcul PE'!$AB11:'Calcul PE'!$AF11)>1000,\"\",'Calcul PE'!AC11)","v":6},"+",{"$f":"IF(SUM('Calcul PE'!$AB11:'Calcul PE'!$AF11)>1000,\"\",'Calcul PE'!AD11)","v":12},"+",{"$f":"IF(SUM('Calcul PE'!$AB11:'Calcul PE'!$AF11)>1000,\"\",'Calcul PE'!AE11)","v":7},"+",{"$f":"IF(SUM('Calcul PE'!$AB11:'Calcul PE'!$AF11)>1000,\"\",'Calcul PE'!AF11)","v":13},"=",{"$f":"IF(SUM('Calcul PE'!$AB11:'Calcul PE'!$AF11)>1000,\"\",'Calcul PE'!AN11)","v":40}]
[7,{"$f":"IF(SUM('Calcul PE'!AB12:'Calcul PE'!AF12)>1000,\"\",'Calcul PE'!A12)","v":"EC AULNAY"},null,{"$f":"IF(SUM('Calcul PE'!$AB12:'Calcul PE'!$AF12)>1000,\"\",'Calcul PE'!AB12)","v":2},"+",{"$f":"IF(SUM('Calcul PE'!$AB12:'Calcul PE'!$AF12)>1000,\"\",'Calcul PE'!AC12)","v":11},"+",{"$f":"IF(SUM('Calcul PE'!$AB12:'Calcul PE'!$AF12)>1000,\"\",'Calcul PE'!AD12)","v":11},"+",{"$f":"IF(SUM('Calcul PE'!$AB12:'Calcul PE'!$AF12)>1000,\"\",'Calcul PE'!AE12)","v":12},"+",{"$f":"IF(SUM('Calcul PE'!$AB12:'Calcul PE'!$AF12)>1000,\"\",'Calcul PE'!AF12)","v":14},"=",{"$f":"IF(SUM('Calcul PE'!$AB12:'Calcul PE'!$AF12)>1000,\"\",'Calcul PE'!AN12)","v":50}]
[8,{"$f":"IF(SUM('Calcul PE'!AB5:'Calcul PE'!AF5)>1000,\"\",'Calcul PE'!A5)","v":"A. SOISY ENGHIEN LA BARRE"},null,{"$f":"IF(SUM('Calcul PE'!$AB5:'Calcul PE'!$AF5)>1000,\"\",'Calcul PE'!AB5)","v":1},"+",{"$f":"IF(SUM('Calcul PE'!$AB5:'Calcul PE'!$AF5)>1000,\"\",'Calcul PE'!AC5)","v":10},"+",{"$f":"IF(SUM('Calcul PE'!$AB5:'Calcul PE'!$AF5)>1000,\"\",'Calcul PE'!AD5)","v":20},"+",{"$f":"IF(SUM('Calcul PE'!$AB5:'Calcul PE'!$AF5)>1000,\"\",'Calcul PE'!AE5)","v":11},"+",{"$f":"IF(SUM('Calcul PE'!$AB5:'Calcul PE'!$AF5)>1000,\"\",'Calcul PE'!AF5)","v":17},"=",{"$f":"IF(SUM('Calcul PE'!$AB5:'Calcul PE'!$AF5)>1000,\"\",'Calcul PE'!AN5)","v":59}]
[9,{"$f":"IF(SUM('Calcul PE'!AB14:'Calcul PE'!AF14)>1000,\"\",'Calcul PE'!A14)","v":""},null,{"$f":"IF(SUM('Calcul PE'!$AB14:'Calcul PE'!$AF14)>1000,\"\",'Calcul PE'!AB14)","v":""},"+",{"$f":"IF(SUM('Calcul PE'!$AB14:'Calcul PE'!$AF14)>1000,\"\",'Calcul PE'!AC14)","v":""},"+",{"$f":"IF(SUM('Calcul PE'!$AB14:'Calcul PE'!$AF14)>1000,\"\",'Calcul PE'!AD14)","v":""},"+",{"$f":"IF(SUM('Calcul PE'!$AB14:'Calcul PE'!$AF14)>1000,\"\",'Calcul PE'!AE14)","v":""},"+",{"$f":"IF(SUM('Calcul PE'!$AB14:'Calcul PE'!$AF14)>1000,\"\",'Calcul PE'!AF14)","v":""},"=",{"$f":"IF(SUM('Calcul PE'!$AB14:'Calcul PE'!$AF14)>1000,\"\",'Calcul PE'!AN14)","v":""}]
[10,{"$f":"IF(SUM('Calcul PE'!AB7:'Calcul PE'!AF7)>1000,\"\",'Calcul PE'!A7)","v":""},null,{"$f":"IF(SUM('Calcul PE'!$AB7:'Calcul PE'!$AF7)>1000,\"\",'Calcul PE'!AB7)","v":""},"+",{"$f":"IF(SUM('Calcul PE'!$AB7:'Calcul PE'!$AF7)>1000,\"\",'Calcul PE'!AC7)","v":""},"+",{"$f":"IF(SUM('Calcul PE'!$AB7:'Calcul PE'!$AF7)>1000,\"\",'Calcul PE'!AD7)","v":""},"+",{"$f":"IF(SUM('Calcul PE'!$AB7:'Calcul PE'!$AF7)>1000,\"\",'Calcul PE'!AE7)","v":""},"+",{"$f":"IF(SUM('Calcul PE'!$AB7:'Calcul PE'!$AF7)>1000,\"\",'Calcul PE'!AF7)","v":""},"=",{"$f":"IF(SUM('Calcul PE'!$AB7:'Calcul PE'!$AF7)>1000,\"\",'Calcul PE'!AN7)","v":""}]
[11,{"$f":"IF(SUM('Calcul PE'!AB18:'Calcul PE'!AF18)>1000,\"\",'Calcul PE'!A18)","v":""},null,{"$f":"IF(SUM('Calcul PE'!$AB18:'Calcul PE'!$AF18)>1000,\"\",'Calcul PE'!AB18)","v":""},"+",{"$f":"IF(SUM('Calcul PE'!$AB18:'Calcul PE'!$AF18)>1000,\"\",'Calcul PE'!AC18)","v":""},"+",{"$f":"IF(SUM('Calcul PE'!$AB18:'Calcul PE'!$AF18)>1000,\"\",'Calcul PE'!AD18)","v":""},"+",{"$f":"IF(SUM('Calcul PE'!$AB18:'Calcul PE'!$AF18)>1000,\"\",'Calcul PE'!AE18)","v":""},"+",{"$f":"IF(SUM('Calcul PE'!$AB18:'Calcul PE'!$AF18)>1000,\"\",'Calcul PE'!AF18)","v":""},"=",{"$f":"IF(SUM('Calcul PE'!$AB18:'Calcul PE'!$AF18)>1000,\"\",'Calcul PE'!AN18)","v":""}]
[12,{"$f":"IF(SUM('Calcul PE'!AB6:'Calcul PE'!AF6)>1000,\"\",'Calcul PE'!A6)","v":""},null,{"$f":"IF(SUM('Calcul PE'!$AB6:'Calcul PE'!$AF6)>1000,\"\",'Calcul PE'!AB6)","v":""},"+",{"$f":"IF(SUM('Calcul PE'!$AB6:'Calcul PE'!$AF6)>1000,\"\",'Calcul PE'!AC6)","v":""},"+",{"$f":"IF(SUM('Calcul PE'!$AB6:'Calcul PE'!$AF6)>1000,\"\",'Calcul PE'!AD6)","v":""},"+",{"$f":"IF(SUM('Calcul PE'!$AB6:'Calcul PE'!$AF6)>1000,\"\",'Calcul PE'!AE6)","v":""},"+",{"$f":"IF(SUM('Calcul PE'!$AB6:'Calcul PE'!$AF6)>1000,\"\",'Calcul PE'!AF6)","v":""},"=",{"$f":"IF(SUM('Calcul PE'!$AB6:'Calcul PE'!$AF6)>1000,\"\",'Calcul PE'!AN6)","v":""}]
[13,{"$f":"IF(SUM('Calcul PE'!AB15:'Calcul PE'!AF15)>1000,\"\",'Calcul PE'!A15)","v":""},null,{"$f":"IF(SUM('Calcul PE'!$AB15:'Calcul PE'!$AF15)>1000,\"\",'Calcul PE'!AB15)","v":""},"+",{"$f":"IF(SUM('Calcul PE'!$AB15:'Calcul PE'!$AF15)>1000,\"\",'Calcul PE'!AC15)","v":""},"+",{"$f":"IF(SUM('Calcul PE'!$AB15:'Calcul PE'!$AF15)>1000,\"\",'Calcul PE'!AD15)","v":""},"+",{"$f":"IF(SUM('Calcul PE'!$AB15:'Calcul PE'!$AF15)>1000,\"\",'Calcul PE'!AE15)","v":""},"+",{"$f":"IF(SUM('Calcul PE'!$AB15:'Calcul PE'!$AF15)>1000,\"\",'Calcul PE'!AF15)","v":""},"=",{"$f":"IF(SUM('Calcul PE'!$AB15:'Calcul PE'!$AF15)>1000,\"\",'Calcul PE'!AN15)","v":""}]
[14,{"$f":"IF(SUM('Calcul PE'!AB17:'Calcul PE'!AF17)>1000,\"\",'Calcul PE'!A17)","v":""},null,{"$f":"IF(SUM('Calcul PE'!$AB17:'Calcul PE'!$AF17)>1000,\"\",'Calcul PE'!AB17)","v":""},"+",{"$f":"IF(SUM('Calcul PE'!$AB17:'Calcul PE'!$AF17)>1000,\"\",'Calcul PE'!AC17)","v":""},"+",{"$f":"IF(SUM('Calcul PE'!$AB17:'Calcul PE'!$AF17)>1000,\"\",'Calcul PE'!AD17)","v":""},"+",{"$f":"IF(SUM('Calcul PE'!$AB17:'Calcul PE'!$AF17)>1000,\"\",'Calcul PE'!AE17)","v":""},"+",{"$f":"IF(SUM('Calcul PE'!$AB17:'Calcul PE'!$AF17)>1000,\"\",'Calcul PE'!AF17)","v":""},"=",{"$f":"IF(SUM('Calcul PE'!$AB17:'Calcul PE'!$AF17)>1000,\"\",'Calcul PE'!AN17)","v":""}]
[15,{"$f":"IF(SUM('Calcul PE'!AB19:'Calcul PE'!AF19)>1000,\"\",'Calcul PE'!A19)","v":""},null,{"$f":"IF(SUM('Calcul PE'!$AB19:'Calcul PE'!$AF19)>1000,\"\",'Calcul PE'!AB19)","v":""},"+",{"$f":"IF(SUM('Calcul PE'!$AB19:'Calcul PE'!$AF19)>1000,\"\",'Calcul PE'!AC19)","v":""},"+",{"$f":"IF(SUM('Calcul PE'!$AB19:'Calcul PE'!$AF19)>1000,\"\",'Calcul PE'!AD19)","v":""},"+",{"$f":"IF(SUM('Calcul PE'!$AB19:'Calcul PE'!$AF19)>1000,\"\",'Calcul PE'!AE19)","v":""},"+",{"$f":"IF(SUM('Calcul PE'!$AB19:'Calcul PE'!$AF19)>1000,\"\",'Calcul PE'!AF19)","v":""},"=",{"$f":"IF(SUM('Calcul PE'!$AB19:'Calcul PE'!$AF19)>1000,\"\",'Calcul PE'!AN19)","v":""}]
[16,{"$f":"IF(SUM('Calcul PE'!AB20:'Calcul PE'!AF20)>1000,\"\",'Calcul PE'!A20)","v":""},null,{"$f":"IF(SUM('Calcul PE'!$AB20:'Calcul PE'!$AF20)>1000,\"\",'Calcul PE'!AB20)","v":""},"+",{"$f":"IF(SUM('Calcul PE'!$AB20:'Calcul PE'!$AF20)>1000,\"\",'Calcul PE'!AC20)","v":""},"+",{"$f":"IF(SUM('Calcul PE'!$AB20:'Calcul PE'!$AF20)>1000,\"\",'Calcul PE'!AD20)","v":""},"+",{"$f":"IF(SUM('Calcul PE'!$AB20:'Calcul PE'!$AF20)>1000,\"\",'Calcul PE'!AE20)","v":""},"+",{"$f":"IF(SUM('Calcul PE'!$AB20:'Calcul PE'!$AF20)>1000,\"\",'Calcul PE'!AF20)","v":""},"=",{"$f":"IF(SUM('Calcul PE'!$AB20:'Calcul PE'!$AF20)>1000,\"\",'Calcul PE'!AN20)","v":""}]
[17,{"$f":"IF(SUM('Calcul PE'!AB21:'Calcul PE'!AF21)>1000,\"\",'Calcul PE'!A21)","v":""},null,{"$f":"IF(SUM('Calcul PE'!$AB21:'Calcul PE'!$AF21)>1000,\"\",'Calcul PE'!AB21)","v":""},"+",{"$f":"IF(SUM('Calcul PE'!$AB21:'Calcul PE'!$AF21)>1000,\"\",'Calcul PE'!AC21)","v":""},"+",{"$f":"IF(SUM('Calcul PE'!$AB21:'Calcul PE'!$AF21)>1000,\"\",'Calcul PE'!AD21)","v":""},"+",{"$f":"IF(SUM('Calcul PE'!$AB21:'Calcul PE'!$AF21)>1000,\"\",'Calcul PE'!AE21)","v":""},"+",{"$f":"IF(SUM('Calcul PE'!$AB21:'Calcul PE'!$AF21)>1000,\"\",'Calcul PE'!AF21)","v":""},"=",{"$f":"IF(SUM('Calcul PE'!$AB21:'Calcul PE'!$AF21)>1000,\"\",'Calcul PE'!AN21)","v":""}]
[18,{"$f":"IF(SUM('Calcul PE'!AB22:'Calcul PE'!AF22)>1000,\"\",'Calcul PE'!A22)","v":""},null,{"$f":"IF(SUM('Calcul PE'!$AB22:'Calcul PE'!$AF22)>1000,\"\",'Calcul PE'!AB22)","v":""},"+",{"$f":"IF(SUM('Calcul PE'!$AB22:'Calcul PE'!$AF22)>1000,\"\",'Calcul PE'!AC22)","v":""},"+",{"$f":"IF(SUM('Calcul PE'!$AB22:'Calcul PE'!$AF22)>1000,\"\",'Calcul PE'!AD22)","v":""},"+",{"$f":"IF(SUM('Calcul PE'!$AB22:'Calcul PE'!$AF22)>1000,\"\",'Calcul PE'!AE22)","v":""},"+",{"$f":"IF(SUM('Calcul PE'!$AB22:'Calcul PE'!$AF22)>1000,\"\",'Calcul PE'!AF22)","v":""},"=",{"$f":"IF(SUM('Calcul PE'!$AB22:'Calcul PE'!$AF22)>1000,\"\",'Calcul PE'!AN22)","v":""}]
[19,{"$f":"IF(SUM('Calcul PE'!AB23:'Calcul PE'!AF23)>1000,\"\",'Calcul PE'!A23)","v":""},null,{"$f":"IF(SUM('Calcul PE'!$AB23:'Calcul PE'!$AF23)>1000,\"\",'Calcul PE'!AB23)","v":""},"+",{"$f":"IF(SUM('Calcul PE'!$AB23:'Calcul PE'!$AF23)>1000,\"\",'Calcul PE'!AC23)","v":""},"+",{"$f":"IF(SUM('Calcul PE'!$AB23:'Calcul PE'!$AF23)>1000,\"\",'Calcul PE'!AD23)","v":""},"+",{"$f":"IF(SUM('Calcul PE'!$AB23:'Calcul PE'!$AF23)>1000,\"\",'Calcul PE'!AE23)","v":""},"+",{"$f":"IF(SUM('Calcul PE'!$AB23:'Calcul PE'!$AF23)>1000,\"\",'Calcul PE'!AF23)","v":""},"=",{"$f":"IF(SUM('Calcul PE'!$AB23:'Calcul PE'!$AF23)>1000,\"\",'Calcul PE'!AN23)","v":""}]
[20,{"$f":"IF(SUM('Calcul PE'!AB24:'Calcul PE'!AF24)>1000,\"\",'Calcul PE'!A24)","v":""},null,{"$f":"IF(SUM('Calcul PE'!$AB24:'Calcul PE'!$AF24)>1000,\"\",'Calcul PE'!AB24)","v":""},"+",{"$f":"IF(SUM('Calcul PE'!$AB24:'Calcul PE'!$AF24)>1000,\"\",'Calcul PE'!AC24)","v":""},"+",{"$f":"IF(SUM('Calcul PE'!$AB24:'Calcul PE'!$AF24)>1000,\"\",'Calcul PE'!AD24)","v":""},"+",{"$f":"IF(SUM('Calcul PE'!$AB24:'Calcul PE'!$AF24)>1000,\"\",'Calcul PE'!AE24)","v":""},"+",{"$f":"IF(SUM('Calcul PE'!$AB24:'Calcul PE'!$AF24)>1000,\"\",'Calcul PE'!AF24)","v":""},"=",{"$f":"IF(SUM('Calcul PE'!$AB24:'Calcul PE'!$AF24)>1000,\"\",'Calcul PE'!AN24)","v":""}]
[21,{"$f":"IF(SUM('Calcul PE'!AB25:'Calcul PE'!AF25)>1000,\"\",'Calcul PE'!A25)","v":""},null,{"$f":"IF(SUM('Calcul PE'!$AB25:'Calcul PE'!$AF25)>1000,\"\",'Calcul PE'!AB25)","v":""},"+",{"$f":"IF(SUM('Calcul PE'!$AB25:'Calcul PE'!$AF25)>1000,\"\",'Calcul PE'!AC25)","v":""},"+",{"$f":"IF(SUM('Calcul PE'!$AB25:'Calcul PE'!$AF25)>1000,\"\",'Calcul PE'!AD25)","v":""},"+",{"$f":"IF(SUM('Calcul PE'!$AB25:'Calcul PE'!$AF25)>1000,\"\",'Calcul PE'!AE25)","v":""},"+",{"$f":"IF(SUM('Calcul PE'!$AB25:'Calcul PE'!$AF25)>1000,\"\",'Calcul PE'!AF25)","v":""},"=",{"$f":"IF(SUM('Calcul PE'!$AB25:'Calcul PE'!$AF25)>1000,\"\",'Calcul PE'!AN25)","v":""}]
[22,{"$f":"IF(SUM('Calcul PE'!AB26:'Calcul PE'!AF26)>1000,\"\",'Calcul PE'!A26)","v":""},null,{"$f":"IF(SUM('Calcul PE'!$AB26:'Calcul PE'!$AF26)>1000,\"\",'Calcul PE'!AB26)","v":""},"+",{"$f":"IF(SUM('Calcul PE'!$AB26:'Calcul PE'!$AF26)>1000,\"\",'Calcul PE'!AC26)","v":""},"+",{"$f":"IF(SUM('Calcul PE'!$AB26:'Calcul PE'!$AF26)>1000,\"\",'Calcul PE'!AD26)","v":""},"+",{"$f":"IF(SUM('Calcul PE'!$AB26:'Calcul PE'!$AF26)>1000,\"\",'Calcul PE'!AE26)","v":""},"+",{"$f":"IF(SUM('Calcul PE'!$AB26:'Calcul PE'!$AF26)>1000,\"\",'Calcul PE'!AF26)","v":""},"=",{"$f":"IF(SUM('Calcul PE'!$AB26:'Calcul PE'!$AF26)>1000,\"\",'Calcul PE'!AN26)","v":""}]
[23,{"$f":"IF(SUM('Calcul PE'!AB27:'Calcul PE'!AF27)>1000,\"\",'Calcul PE'!A27)","v":""},null,{"$f":"IF(SUM('Calcul PE'!$AB27:'Calcul PE'!$AF27)>1000,\"\",'Calcul PE'!AB27)","v":""},"+",{"$f":"IF(SUM('Calcul PE'!$AB27:'Calcul PE'!$AF27)>1000,\"\",'Calcul PE'!AC27)","v":""},"+",{"$f":"IF(SUM('Calcul PE'!$AB27:'Calcul PE'!$AF27)>1000,\"\",'Calcul PE'!AD27)","v":""},"+",{"$f":"IF(SUM('Calcul PE'!$AB27:'Calcul PE'!$AF27)>1000,\"\",'Calcul PE'!AE27)","v":""},"+",{"$f":"IF(SUM('Calcul PE'!$AB27:'Calcul PE'!$AF27)>1000,\"\",'Calcul PE'!AF27)","v":""},"=",{"$f":"IF(SUM('Calcul PE'!$AB27:'Calcul PE'!$AF27)>1000,\"\",'Calcul PE'!AN27)","v":""}]
[24,{"$f":"IF(SUM('Calcul PE'!AB28:'Calcul PE'!AF28)>1000,\"\",'Calcul PE'!A28)","v":0},null,{"$f":"IF(SUM('Calcul PE'!$AB28:'Calcul PE'!$AF28)>1000,\"\",'Calcul PE'!AB28)","v":0},"+",{"$f":"IF(SUM('Calcul PE'!$AB28:'Calcul PE'!$AF28)>1000,\"\",'Calcul PE'!AC28)","v":0},"+",{"$f":"IF(SUM('Calcul PE'!$AB28:'Calcul PE'!$AF28)>1000,\"\",'Calcul PE'!AD28)","v":0},"+",{"$f":"IF(SUM('Calcul PE'!$AB28:'Calcul PE'!$AF28)>1000,\"\",'Calcul PE'!AE28)","v":0},"+",{"$f":"IF(SUM('Calcul PE'!$AB28:'Calcul PE'!$AF28)>1000,\"\",'Calcul PE'!AF28)","v":0},"=",{"$f":"IF(SUM('Calcul PE'!$AB28:'Calcul PE'!$AF28)>1000,\"\",'Calcul PE'!AN28)","v":0}]
[25,{"$f":"IF(SUM('Calcul PE'!AB29:'Calcul PE'!AF29)>1000,\"\",'Calcul PE'!A29)","v":0},null,{"$f":"IF(SUM('Calcul PE'!$AB29:'Calcul PE'!$AF29)>1000,\"\",'Calcul PE'!AB29)","v":0},"+",{"$f":"IF(SUM('Calcul PE'!$AB29:'Calcul PE'!$AF29)>1000,\"\",'Calcul PE'!AC29)","v":0},"+",{"$f":"IF(SUM('Calcul PE'!$AB29:'Calcul PE'!$AF29)>1000,\"\",'Calcul PE'!AD29)","v":0},"+",{"$f":"IF(SUM('Calcul PE'!$AB29:'Calcul PE'!$AF29)>1000,\"\",'Calcul PE'!AE29)","v":0},"+",{"$f":"IF(SUM('Calcul PE'!$AB29:'Calcul PE'!$AF29)>1000,\"\",'Calcul PE'!AF29)","v":0},"=",{"$f":"IF(SUM('Calcul PE'!$AB29:'Calcul PE'!$AF29)>1000,\"\",'Calcul PE'!AN29)","v":0}]

{"sheet":"Observations","index":14,"n_rows":51,"n_cols":3,"rows_kept":51}
["OBSERVATIONS"]
[]
["à formuler obligatoirement par un membre licencié du club du coureur concerné"]
["Toute observation doit être signée"]
{"$rows_empty":19}
["Faire  mention de la réponse faite par les commissaires  sur  place."]
{"$rows_empty":26}
[null,null,"NOMS - SIGNATURES"]